{"text_format":"1","workbook":"xlsx","n_sheets":222,"sheets":["Presentación","Instructivo ","Portada","Comp.Anual-N","GCMxAño-N","Nac. Invertida 2020","Nac. Invertida 2021","Nac. Invertida 2022","Comp.xEnt.Fed","GCMxSexo-N","2020","2021","2022","Comp.Anual-E","GCMxAño-E","T-1GE-D","1D-GCM","T-2GE-D","2D-GCM","T-3GE-D","3D-GCM","T-4GE-D","4DGCM","T-5GE-D","5D-GCM","T-6GE-D","6D-GCM","T-7GE-D","7D-GCM","T-8GE-D","8D-GCM","T-9GE-D ","9D-GCM ","T-10GE-D ","10D-GCM","T-11GE-D ","11D-GCM","T-12GE-D ","12D-GCM","T-13GE-D ","13D-GCM","T-14GE-D ","14D-GCM","T-15GE-D ","15D-GCM","T-16GE-D ","16D-GCM","T-17GE-D ","17D-GCM","T-18GE-D ","18D-GCM","T-19GE-D ","19D-GCM","T-20GE-D ","20D-GCM ","GCMxSexo-E","1T-GCM-R_Edad2020","1T-GCM-R_Edad2021","1T-GCM-R_Edad2022","1GCM-G_Edad","2T-GCM-R_Edad2020","2T-GCM-R_Edad2021","2T-GCM-R_Edad2022","2GCM-G_Edad","3T-GCM-R_Edad2020","3T-GCM-R_Edad2021","3T-GCM-R_Edad2022","3GCM-G_Edad","4T-GCM-R_Edad2020","4T-GCM-R_Edad2021","4T-GCM-R_Edad2022","4GCM-G_Edad","5T-GCM-R_Edad2020","5T-GCM-R_Edad2021","5T-GCM-R_Edad2022","5GCM-G_Edad","6T-GCM-R_Edad2020","6T-GCM-R_Edad2021","6T-GCM-R_Edad2022","6GCM-G_Edad","7T-GCM-R_Edad2020","7T-GCM-R_Edad2021","7T-GCM-R_Edad2022","7GCM-G_Edad","8T-GCM-R_Edad2020","8T-GCM-R_Edad2021","8T-GCM-R_Edad2022","2T-GCM-G_Edad_EntFed2020","2T-GCM-G_Edad_EntFed2021","2T-GCM-G_Edad_EntFed2022","1T-GCM-G_Edad_EntFed2020","1T-GCM-G_Edad_EntFed2021","1T-GCM-G_Edad_EntFed2022","8GCM-G_Edad ","9T-GCM-R_Edad2020 ","9T-GCM-R_Edad2021","9T-GCM-R_Edad2022 ","9GCM-G_Edad","10 T-GCM-R_Edad2020  ","10 T-GCM-R_Edad2021","10 T-GCM-R_Edad2022","10 GCM-G_Edad","11T-GCM-R_Edad2020 ","11T-GCM-R_Edad2021","11T-GCM-R_Edad2022","11 GCM-G_Edad","12T-GCM-R_Edad2020  ","12T-GCM-R_Edad2021 ","12T-GCM-R_Edad2022","12 GCM-G_Edad","13T-GCM-R_Edad2020  ","13T-GCM-R_Edad2021","13T-GCM-R_Edad2022","13 GCM-G_Edad","14T-GCM-R_Edad2020 ","14T-GCM-R_Edad2021","14T-GCM-R_Edad2022","14 GCM-G_Edad","15T-GCM-R_Edad2020 ","15T-GCM-R_Edad2021","15T-GCM-R_Edad2022","15 GCM-G_Edad","16T-GCM-R_Edad2020  ","16T-GCM-R_Edad2021","16T-GCM-R_Edad2022","16 GCM-G_Edad","17T-GCM-R_Edad2020  ","17T-GCM-R_Edad2021","17T-GCM-R_Edad2022 ","17 GCM-G_Edad","18T-GCM-R_Edad2020   ","18T-GCM-R_Edad2021","18T-GCM-R_Edad2022 ","18 GCM-G_Edad","19T-GCM-R_Edad2020  ","19T-GCM-R_Edad2021 ","19T-GCM-R_Edad2022 ","19 GCM-G_Edad","20T-GCM-R_Edad2020  ","20T-GCM-R_Edad2021 ","20T-GCM-R_Edad2022 ","20 GCM-G_Edad","1GCM-G-Edad_Ent.Fed","2GCM-G-Edad_Ent.Fed","3T-GCM-G_Edad_EntFed2020","3T-GCM-G_Edad_EntFed2021","3T-GCM-G_Edad_EntFed2022","3GCM-G-Edad_Ent.Fed","4T-GCM-G_Edad_EntFed2020","4T-GCM-G_Edad_EntFed2021","4T-GCM-G_Edad_EntFed2022","4GCM-G-Edad_Ent.Fed","5T-GCM-G_Edad_EntFed2020","5T-GCM-G_Edad_EntFed2021","5T-GCM-G_Edad_EntFed2022","5GCM-G-Edad_Ent.Fed","6T-GCM-G_Edad_EntFed2020","6T-GCM-G_Edad_EntFed2021","6T-GCM-G_Edad_EntFed2022","6GCM-G-Edad_Ent.Fed","7T-GCM-G_Edad_EntFed2020","7T-GCM-G_Edad_EntFed2021","7T-GCM-G_Edad_EntFed2022","7GCM-G-Edad_Ent.Fed","8T-GCM-G_Edad_EntFed2020 ","8T-GCM-G_Edad_EntFed2021","8T-GCM-G_Edad_EntFed2022","8GCM-G-Edad_Ent.Fed","9T-GCM-G_Edad_EntFed2020","9T-GCM-G_Edad_EntFed2021","9T-GCM-G_Edad_EntFed2022","9GCM-G-Edad_Ent.Fed","10T-GCM-G_Edad_EntFed2020","10T-GCM-G_Edad_EntFed2021","10T-GCM-G_Edad_EntFed2022","10GCM-G-Edad_Ent.Fed","11T-GCM-G_Edad_EntFed2020","11T-GCM-G_Edad_EntFed2021","11T-GCM-G_Edad_EntFed2022","11GCM-G-Edad_Ent.Fed","12T-GCM-G_Edad_EntFed2020","12T-GCM-G_Edad_EntFed2021","12T-GCM-G_Edad_EntFed2022","12GCM-G-Edad_Ent.Fed","13T-GCM-G_Edad_EntFed2020","13T-GCM-G_Edad_EntFed2021","13T-GCM-G_Edad_EntFed2022","13GCM-G-Edad_Ent.Fed","14T-GCM-G_Edad_EntFed2020","14T-GCM-G_Edad_EntFed2021","14T-GCM-G_Edad_EntFed2022","14GCM-G-Edad_Ent.Fed","15T-GCM-G_Edad_EntFed2020","15T-GCM-G_Edad_EntFed2021","15T-GCM-G_Edad_EntFed2022","15GCM-G-Edad_Ent.Fed","16T-GCM-G_Edad_EntFed2020","16T-GCM-G_Edad_EntFed2021","16T-GCM-G_Edad_EntFed2022","16GCM-G-Edad_Ent.Fed","17T-GCM-G_Edad_EntFed2020","17T-GCM-G_Edad_EntFed2021","17T-GCM-G_Edad_EntFed2022","17GCM-G-Edad_Ent.Fed","18T-GCM-G_Edad_EntFed2020","18T-GCM-G_Edad_EntFed2021","18T-GCM-G_Edad_EntFed2022","18GCM-G-Edad_Ent.Fed","19T-GCM-G_Edad_EntFed2020","19T-GCM-G_Edad_EntFed2021","19T-GCM-G_Edad_EntFed2022","19GCM-G-Edad_Ent.Fed","20T-GCM-G_Edad_EntFed2020","20T-GCM-G_Edad_EntFed2021","20T-GCM-G_Edad_EntFed2022","20GCM-G-Edad_Ent.Fed","Mpal. 20","Mpal. 21","Mpal. 22","Comp.Anual-M","GCMxAño-M","Mpal.GGxSexo"],"not_rendered":{"charts":403,"images":28,"macros":1,"external_links":2,"defined_names":1457,"comments":64,"pivot_tables":0},"unopened":[],"bounds":{"document_bytes":16777216,"sheet_cells":100000,"rows_first":2000,"rows_last":500,"rows_between":2000,"halvings":0,"cell_chars":16384,"cell_head_chars":4096},"cells_cut":0,"cells_raw":0,"read":"whole","date_system":"1900"}

{"sheet":"Presentación","index":0,"n_rows":121,"n_cols":12,"rows_kept":121,"cut":false,"hidden":false,"merged":[]}
[]
[]
[]
[]
[]
[]
[]
[]
[]
[]
[]
[]
[]
[]
[]
[]
[]
[]
[]
[]
[]
[]
[]
[]
[]
[]
[]
[]
[]
[]
[]
[]
[]
[]
[]
[]
[]
[]
[]
[]
[]
[]
[]
[]
[]
[]
[]
[]
[]
[]
[]
[]
[]
[]
[]
[]
[]
[]
[]
[]
[]
[]
[]
[]
[]
[]
[]
[]
[]
[]
[]
[]
[]
[]
[]
[]
[]
[]
[]
[]
[]
[]
[]
[]
[]
[]
[]
[]
[]
[]
[]
[]
[]
[]
[]
[]
[]
[]
[]
[]
[]
[]
[]
[]
[]
[]
[]
[]
[]
[]
[]
[]
[]
[]
[]
[]
[]
[]
[]
[]
[null,null,null,null,null,null,null,null,null,null,null,0]

{"sheet":"Instructivo ","index":1,"n_rows":31,"n_cols":1,"rows_kept":31,"cut":false,"hidden":false,"merged":[[30,0,30,10],[26,0,26,10],[27,0,27,10],[28,0,28,10],[29,0,29,10],[25,0,25,10],[22,0,22,10],[23,0,23,10],[21,0,21,10],[12,0,12,10],[13,0,13,10],[14,0,14,10],[24,0,24,10],[19,0,19,10],[20,0,20,10],[17,0,17,10],[18,0,18,10],[6,0,6,10],[15,0,15,10],[5,0,5,10],[7,0,7,10],[11,0,11,10],[8,0,8,10],[9,0,9,10],[10,0,10,10]]}
[]
[]
[]
[]
[]
["Instrucciones de uso"]
["Este apartado tiene como finalidad brindar al usuario una guia práctica sobre la navegación y consulta al interior de los diferentes apartados que integran el presente producto."]
["Apartado Nacional: (mapa de los Estados Unidos Mexicanos sin división política)"]
["Comparativo Anual: (Comp.Anual-N)                                                                                                                                                                                                                                                                                                                                                                                                                                                                                                     En este apartado se muestra un tabulado con las cifras de las 20 grandes causas de Mortalidad,  a nivel Nacional para los años 2020, 2021 y 2022; además de las respectivas gráficas con el total de defunciones registradas por año."]
["Grandes Causas de Mortalidad: (GCMxAño-N)                                                                                                                                                                                                                                                                                                                                                                                                                                                                           En esta sección, al igual que en la anterior, encontrará el tabulado con los datos de las 20 grandes causas de Mortalidad a nivel Nacional para los años 2020, 2021 y 2022 con la diferencia que incluye las gráficas con los totales desagregados por gran causa para los años considerados."]
["Comparativo Grandes Causas de Mortalidad por Entidad Federativa: (Comp.xEnt.Fed)                                                                                                                                                                                                                                                                                                                                                                                                     Se muestra un tabulado con los datos de cada una de las grandes causas de Mortalidad correspondientes a cada entidad federativa para los años 2020, 2021 y 2022; la celda que muestra el nombre de las grandes causas de mortalidad funciona como filtro para seleccionar una de estas; al momento de hacer la selección de alguna de las grandes causas se visualizará la gráfica correspondiente."]
["Grandes Causas de Mortalidad por sexo: (GCMxSexo-N)                                                                                                                                                                                                                                                                                                                                                                                                                                     Se representa el tabulado con las cifras para cada una de las grandes causas de mortalidad, a nivel nacional desagregada por sexo de los fallecidos; para los años 2020, 2021 y 2022. Así como cada una de las gráficas correspondientes."]
["Apartado Estatal (mapa de los Estados Unidos Mexicanos con división política)"]
["Comparativo Anual: (Comp.Anual-E)                                                                                                                                                                                                                                                                                                                                                                                                                                                                                          Esta sección permite visualizar a través de un cuadro las cifras correspondientes a las grandes causas de Mortalidad desagregadas por entidad federativa; además, la celda con el nombre de la entidad federativa funciona como filtro, permitiéndonos seleccionar la entidad de interés para mostrar la información para los años 2020, 2021 y 2022; al tiempo que se visualiza la gráfica correspondiente a la elección de la entidad con el total de defunciones registradas por año."]
["Grandes Causas de Mortalidad: (GCMxAño-E)                                                                                                                                                                                                                                                                                                                                                                                                                                                                  En este apartado se muestra el tabulado con los datos de las grandes casusas de mortalidad por entidad federativa para los años 2020, 2021 y 2022; la celda que muestra el nombre de la entidad federativa funciona como filtro para realizar la elección de interés.                                                                                                                                                                                                                                              Ahí mismo se presentan las gráficas de los años ya mencionados, en cada una de ellas se grafican los totales de las grandes causas de mortalidad del estado previamente seleccionado."]
["Desagregado por Grandes Causas de Mortalidad: (1D-GCM, 2D-GCM, 3D-GCM, etc)\nEn este grupo de hojas se muestra el total de defunciones por causa especifica que integran cada una de las grandes causas de mortalidad para cada entidad federativa desagregadas por sexo; cada hoja muestra la desagregación de un grupo de grandes causas respectivamente; además de que cada hoja cuenta con la celda donde se encuentra el nombre de la entidad federativa, dicha celda sirve como filtro para hacer la elección deseada."]
[]
["Cabe señalar que al interior de las hojas que integran la sección de \"Grandes Causas de Mortalidad\" se encuentra el botón \"Siguiente D-GCM\", el cual, al darle clic \"avanzará\" a la hoja de la siguiente desagregación; de la misma manera se encuentra el botón \"Anterior D-GCM\" el cual nos permite \"regresar\" a la hoja inmediata anterior."]
["Así mismo encontrará dos tipos de graficas; la primera corresponde a los totales de cada una de las enfermedades que integran la Gran Causa para los años 2020, 2021 y 2022; y la segunda enlista las enfermedades que integran la Gran Causa por sexo y por año."]
["Grandes Causas de Mortalidad por sexo: (GCMxSexo-E)                                                                                                                                                                                                                                                                                                                                                                                                                                           Este espacio muestra el tabulado y las gráficas con los totales para cada una de las grandes causas de mortalidad por entidad federativa, desagregadas por sexo; para los años 2020, 2021 y 2022; además presenta una celda con el nombre de la entidad federativa que, a la vez, funciona como filtro para seleccionar la entidad de interes."]
["Grandes Causas de Mortalidad por grupo de edad: (1GCM-G_Edad)\nEste apartado presenta el tabulado y las gráficas con la desagregación de cada gran causa de mortalidad por grupo quinquenal de edad por entidad federativa, desagregadas por sexo; al igual que el apartado anterior cuenta con la celda con el nombre de la entidad federativa, que, además, funciona como filtro para seleccionar la entidad de interes."]
["Cabe señalar que al interior de las hojas que integran la sección de \"Grandes Causas de Mortalidad por grupo de edad\" se encuentra el botón \"Siguiente GCM-G_Edad\", el cual, al darle clic \"avanzará\" a la hoja de la siguiente desagregación; de la misma manera se encuentra el botón \"Anterior GCM-G_Edad\" el cual nos permite \"regresar\" a la hoja inmediata anterior."]
["Así mismo encontrará dos tipos de gráficas; la primera corresponde a los totales de cada gran causa para los años 2020, 2021 y 2022; y la segunda enlista los valores por grupo de edad y sexo de la gran causa, para los años mencionados."]
["Grandes Causas de Mortalidad por grupo de edad por Entidad Federativa: (1GCM-G-Edad_Ent.Fed)\nEste gran apartado nos permite conocer los datos sobre las grandes causas de mortalidad por entidad federativa desagregados por grupos quinquenales de edad; para cada una de ellas se considera una hoja de cálculo enumerada; cada hoja cuenta con la celda donde se presenta el grupo quinquenal de edad, la cual funciona como filtro para poder seleccionar uno de los 20 grupos de edad considerados."]
["Cabe señalar que al interior de las hojas que integran la sección de \"Grandes Causas de Mortalidad por grupo de edad por Entidad Federativa\" se encuentra el botón \"Siguiente GCM-G_Edad_ Ent.Fed\", el cual, al darle clic \"avanzará\" a la hoja de la siguiente desagregación; de la misma manera se encuentra el botón \"Anterior GCM-G_Edad_ Ent.Fed\" el cual nos permite \"regresar\" a la hoja inmediata anterior."]
["Muestra las graficas de las grandes causas de mortalidad por grupo de edad, por entidad federativa, para los años 2020, 2021 y 2022. "]
["Apartado Chiapas"]
["Comparativo Anual: (Comp.Anual-M)                                                                                                                                                                                                             \nEsta sección permite visualizar las cifras totales de mortalidad de las grandes causas a nivel municipal para los años 2020, 2021 y 2022, así como las graficas con los totales anuales correspondientes; la celda donde se presenta el nombre del municipio funciona como filtro que permite seleccionar alguno de los municipios que integran el Estado de Chiapas."]
["Grandes Causas de Mortalidad: (GCMxAño-M) \nEste apartado muestra los datos y gráficas de mortalidad para cada una de las grandes causas a nivel Municipal, con información correspondiente a los años 2020, 2021 y 2022; al igual que la sección anterior, cuenta con la celda donde se presenta el nombre del municipio la cual funciona como filtro para seleccionar alguno de los municipios que integran el Estado de Chiapas.\n"]
["Grandes Causas de Mortalidad por tipo de sexo:                                                                                                                                                                    En este último apartado se encuentran los datos y gráficas de cada una de las grandes causas de mortalidad desagregados por sexo para los años 2020, 2021 y 2022; para cada municipio de la entidad; de la misma manera que las hojas anteriores, la celda donde se presenta el nombre del municipio funciona como filtro para seleccionar alguno de los municipios que integran el Estado de Chiapas.\n"]
["En cada una de las hojas consideradas encontrará el botón de \"Inicio\", el cual tiene la función de \"regresar\" a la hoja portada y poder seleccionar algún apartado de interes."]

{"sheet":"Portada","index":2,"n_rows":0,"n_cols":0,"rows_kept":0,"cut":false,"hidden":false,"merged":[]}

{"sheet":"Comp.Anual-N","index":3,"n_rows":24,"n_cols":4,"rows_kept":24,"cut":false,"hidden":false,"merged":[[0,0,0,3]]}
["Mortalidad Nacional"]
[]
["Enfermedades","2020","2021","2022"]
["Enfermedades del sistema circulatorio",259921,266789,240883]
["Asignación provisoria de nuevas afecciones de etiología incierta o de uso emergente, sin especificación",200265,238781,36877]
["Enfermedades endocrinas, nutricionales y metabólicas",170580,160604,133558]
["Tumores (neoplasias)",97274,97338,98049]
["Enfermedades del sistema respiratorio",96714,88455,63055]
["Causas externas de morbilidad y de mortalidad",82075,84149,83217]
["Ciertas enfermedades infecciosas y parasitarias",17956,21849,19174]
["Enfermedades de la sangre y de los órganos hematopoyéticos, y ciertos trastornos que afectan el mecanismo de la inmunidad",5310,5637,5381]
["Trastornos mentales y del comportamiento",5195,5340,5143]
["Enfermedades del sistema nervioso",13019,12927,13907]
["Enfermedades del ojo y sus anexos",10,20,25]
["Enfermedades del oído y de la apófisis mastoides",47,34,49]
["Enfermedades del sistema digestivo",71480,74702,75253]
["Enfermedades de la piel y del tejido subcutáneo",3228,3791,4693]
["Enfermedades del sistema osteomuscular y del tejido conjuntivo",5497,5585,5621]
["Enfermedades del sistema genitourinario",26948,26647,28598]
["Embarazo, parto y puerperio",1171,1259,872]
["Ciertas afecciones originadas en el periodo perinatal",10089,10359,7944]
["Malformaciones congénitas, deformidades y anomalías cromosómicas",8049,7827,7364]
["Síntomas, signos y hallazgos anormales clínicos y de laboratorio, no clasificados en otra parte",11158,12512,11573]
["Total",{"$f":"SUM(B4:B23)","v":1085986},{"$f":"SUM(C4:C23)","v":1124605},{"$f":"SUM(D4:D23)","v":841236}]

{"sheet":"GCMxAño-N","index":4,"n_rows":24,"n_cols":5,"rows_kept":24,"cut":false,"hidden":false,"merged":[[0,0,0,4],[2,0,2,1]]}
["Grandes Causas de Mortalidad"]
[]
["Enfermedades",null,"2020","2021","2022"]
[1,"Enfermedades del sistema circulatorio",259921,266789,240883]
[2,"Asignación provisoria de nuevas afecciones de etiología incierta o de uso emergente, sin especificación",200265,238781,36877]
[3,"Enfermedades endocrinas, nutricionales y metabólicas",170580,160604,133558]
[4,"Tumores (neoplasias)",97274,97338,98049]
[5,"Enfermedades del sistema respiratorio",96714,88455,63055]
[6,"Causas externas de morbilidad y de mortalidad",82075,84149,83217]
[7,"Ciertas enfermedades infecciosas y parasitarias",17956,21849,19174]
[8,"Enfermedades de la sangre y de los órganos hematopoyéticos, y ciertos trastornos que afectan el mecanismo de la inmunidad",5310,5637,5381]
[9,"Trastornos mentales y del comportamiento",5195,5340,5143]
[10,"Enfermedades del sistema nervioso",13019,12927,13907]
[11,"Enfermedades del ojo y sus anexos",10,20,25]
[12,"Enfermedades del oído y de la apófisis mastoides",47,34,49]
[13,"Enfermedades del sistema digestivo",71480,74702,75253]
[14,"Enfermedades de la piel y del tejido subcutáneo",3228,3791,4693]
[15,"Enfermedades del sistema osteomuscular y del tejido conjuntivo",5497,5585,5621]
[16,"Enfermedades del sistema genitourinario",26948,26647,28598]
[17,"Embarazo, parto y puerperio",1171,1259,872]
[18,"Ciertas afecciones originadas en el periodo perinatal",10089,10359,7944]
[19,"Malformaciones congénitas, deformidades y anomalías cromosómicas",8049,7827,7364]
[20,"Síntomas, signos y hallazgos anormales clínicos y de laboratorio, no clasificados en otra parte",11158,12512,11573]
[null,"Total",{"$f":"SUM(C4:C23)","v":1085986},{"$f":"SUM(D4:D23)","v":1124605},{"$f":"SUM(E4:E23)","v":841236}]

{"sheet":"Nac. Invertida 2020","index":5,"n_rows":22,"n_cols":33,"rows_kept":22,"cut":false,"hidden":true,"merged":[]}
[]
["CONCEPTO","Aguascalientes","Baja California","Baja California Sur","Campeche","Coahuila","Colima","Chiapas","Chihuahua","Ciudad de México","Durango","Guanajuato","Guerrero","Hidalgo","Jalisco","México","Michoacán","Morelos","Nayarit","Nuevo León","Oaxaca","Puebla","Querétaro","Quintana Roo","San Luis Potosí","Sinaloa","Sonora","Tabasco","Tamaulipas","Tlaxcala","Veracruz","Yucatán","Zacatecas"]
["Enfermedades del sistema circulatorio",1787,6821,1101,1752,6731,1333,9952,9407,28616,4187,12721,5891,5925,15584,29761,8909,4409,2018,11033,8642,14708,3485,1675,6311,6094,6978,5262,7018,2629,20867,5179,3135]
["Asignación provisoria de nuevas afecciones de etiología incierta o de uso emergente, sin especificación",2445,8248,943,1452,6397,956,2704,7370,37978,2787,7256,4459,4258,8834,28613,3813,2796,1286,9227,3344,8371,2812,2700,4039,5505,6242,4201,4888,1504,9343,3165,2329]
["Enfermedades endocrinas, nutricionales y metabólicas",1141,4004,582,1158,4423,838,7048,4541,19083,1647,8431,4634,3398,8471,25957,6437,3046,1197,4772,6151,11278,2224,1439,3736,2403,2667,4608,4485,2366,14332,2153,1930]
["Tumores (neoplasias)",1018,2972,619,646,2520,642,3746,3350,12532,1194,4101,1956,2182,7108,9305,3539,1700,970,4787,2961,4566,1602,862,2098,2439,2782,1688,2757,821,6897,1644,1270]
["Enfermedades del sistema respiratorio",1037,3198,471,698,2425,557,3257,3592,11483,1260,4390,1909,1546,7220,11164,3053,1594,718,4499,2132,4951,1243,911,2382,2538,2679,1846,3122,1996,5467,1962,1414]
["Causas externas de morbilidad y de mortalidad",742,4820,369,415,1339,1040,1745,5625,4295,915,7750,2525,1449,5996,7888,4526,1706,828,2428,2244,3261,1025,1340,2033,2371,3018,1341,2055,594,3536,789,2067]
["Ciertas enfermedades infecciosas y parasitarias",162,1104,151,134,377,150,1173,719,2020,162,524,394,279,1259,1305,514,255,197,732,578,662,291,365,390,408,627,320,495,91,1486,456,176]
["Enfermedades de la sangre y de los órganos hematopoyéticos, y ciertos trastornos que afectan el mecanismo de la inmunidad",42,150,19,28,103,14,386,121,560,55,193,262,110,287,324,185,139,36,112,346,376,55,52,111,81,110,102,108,43,632,87,81]
["Trastornos mentales y del comportamiento",104,246,30,25,81,33,182,287,407,30,200,121,75,471,489,182,117,49,193,360,253,69,72,151,76,144,40,80,52,401,61,114]
["Enfermedades del sistema nervioso",188,388,82,81,361,101,554,570,1349,150,558,257,258,988,1051,471,240,171,668,446,578,222,121,348,375,446,221,331,138,879,217,211]
["Enfermedades del ojo y sus anexos",0,0,0,0,0,0,0,0,2,1,1,0,1,0,0,0,0,0,1,1,0,0,0,0,1,0,1,0,0,1,0,0]
["Enfermedades del oído y de la apófisis mastoides",1,1,1,0,1,1,4,3,7,3,0,2,1,0,1,0,2,0,3,0,3,0,1,1,2,1,3,3,0,0,1,1]
["Enfermedades del sistema digestivo",636,1816,286,425,1591,421,3451,2208,8085,797,3305,1505,1656,4475,8814,2636,1586,567,2481,2634,4799,1475,735,1522,853,1320,1057,1639,684,5721,1442,858]
["Enfermedades de la piel y del tejido subcutáneo",24,63,10,31,54,26,40,87,639,38,153,33,38,379,408,69,69,28,246,60,68,67,45,67,33,107,25,99,9,95,83,35]
["Enfermedades del sistema osteomuscular y del tejido conjuntivo",57,158,22,19,111,25,175,153,693,64,220,126,123,405,685,185,85,45,293,205,386,88,35,116,152,123,79,114,54,311,86,104]
["Enfermedades del sistema genitourinario",273,625,123,186,757,174,1474,738,2970,267,1152,628,562,2133,2830,920,569,215,1166,834,1357,459,236,599,490,646,513,806,309,1987,629,321]
["Embarazo, parto y puerperio",17,30,3,9,34,3,74,50,102,13,46,45,14,74,126,50,14,14,41,52,62,12,22,30,34,28,32,38,13,45,22,22]
["Ciertas afecciones originadas en el periodo perinatal",117,250,66,86,307,49,450,405,854,142,477,214,183,743,1288,264,123,56,394,280,725,185,131,182,159,173,326,320,130,707,171,132]
["Malformaciones congénitas, deformidades y anomalías cromosómicas",93,227,41,55,200,21,375,214,996,77,434,154,139,594,909,245,111,43,404,240,614,150,85,148,106,133,205,168,110,544,141,73]
["Síntomas, signos y hallazgos anormales clínicos y de laboratorio, no clasificados en otra parte",36,218,21,288,661,116,1864,285,76,152,219,508,166,523,179,420,143,116,188,1094,591,187,188,300,188,204,515,347,147,727,340,151]

{"sheet":"Nac. Invertida 2021","index":6,"n_rows":22,"n_cols":33,"rows_kept":22,"cut":false,"hidden":true,"merged":[]}
[]
["CONCEPTO","Aguascalientes","Baja California","Baja California Sur","Campeche","Coahuila","Colima","Chiapas","Chihuahua","Ciudad de México","Durango","Guanajuato","Guerrero","Hidalgo","Jalisco","México","Michoacán","Morelos","Nayarit","Nuevo León","Oaxaca","Puebla","Querétaro","Quintana Roo","San Luis Potosí","Sinaloa","Sonora","Tabasco","Tamaulipas","Tlaxcala","Veracruz","Yucatán","Zacatecas"]
["Enfermedades del sistema circulatorio",1978,6447,1126,1746,6060,1448,10307,7980,26261,4117,14343,6101,6247,16821,28546,10581,5156,2169,11559,9987,17623,3946,1996,6571,6007,6345,4919,7087,2762,21853,5322,3378]
["Asignación provisoria de nuevas afecciones de etiología incierta o de uso emergente, sin especificación",2200,5586,2057,1533,4608,1685,3119,4012,42272,2189,10111,6694,6034,16673,30583,9246,5947,2333,11182,6731,13179,4919,2597,4554,5583,4780,3185,5042,2204,11823,4062,2058]
["Enfermedades endocrinas, nutricionales y metabólicas",1175,3109,492,989,3624,916,6665,3415,15515,1610,8745,4398,3388,8437,24291,7237,3067,1268,4859,6830,11717,2225,1285,3584,2065,2135,3607,3901,2146,14264,1740,1905]
["Tumores (neoplasias)",1048,3026,613,640,2475,700,3844,3310,12192,1227,4130,1899,2110,7090,9372,3551,1645,1033,4791,3191,4293,1635,894,2218,2530,2628,1730,2731,698,6944,1839,1311]
["Enfermedades del sistema respiratorio",969,2345,347,488,1618,604,3208,2423,8543,1154,4376,1722,1543,7445,10539,3751,1419,862,4211,2502,5801,1285,731,2215,2251,2313,1344,2113,1790,5739,1604,1200]
["Causas externas de morbilidad y de mortalidad",746,5440,381,525,1403,986,1896,4966,3979,999,6798,2527,1480,6192,7970,4940,2238,949,2876,2258,2986,1170,1513,2134,2293,3625,1310,2049,594,3317,982,2627]
["Ciertas enfermedades infecciosas y parasitarias",197,1185,170,175,464,146,1265,882,2127,233,709,499,357,1693,1624,664,327,243,963,673,754,402,440,452,673,870,398,671,114,1723,554,202]
["Enfermedades de la sangre y de los órganos hematopoyéticos, y ciertos trastornos que afectan el mecanismo de la inmunidad",57,96,18,33,83,30,423,159,578,50,195,244,127,276,401,250,151,39,103,407,383,60,55,117,104,122,97,110,47,654,79,89]
["Trastornos mentales y del comportamiento",132,229,30,27,72,37,158,279,412,33,177,111,88,485,494,202,105,65,188,379,250,68,91,139,81,161,38,85,38,518,59,109]
["Enfermedades del sistema nervioso",168,409,80,82,309,98,509,457,1313,144,583,262,237,1112,1116,475,219,185,676,478,587,195,140,310,344,437,240,319,107,914,218,204]
["Enfermedades del ojo y sus anexos",0,0,0,0,3,0,1,0,0,0,0,2,0,0,1,0,0,0,1,2,1,0,0,0,0,0,1,4,1,2,0,1]
["Enfermedades del oído y de la apófisis mastoides",0,0,1,0,0,1,2,0,0,0,2,2,1,2,3,2,1,1,1,1,1,0,0,4,1,1,0,4,0,3,0,0]
["Enfermedades del sistema digestivo",807,1904,371,484,1490,454,3582,2318,8255,829,3609,1603,1785,4781,8805,2899,1578,602,2699,2815,4803,1526,785,1613,989,1294,1042,1735,744,5958,1568,975]
["Enfermedades de la piel y del tejido subcutáneo",30,101,20,24,84,31,62,109,724,46,162,37,42,359,442,102,85,45,263,70,87,101,54,63,38,84,32,134,15,187,112,46]
["Enfermedades del sistema osteomuscular y del tejido conjuntivo",56,118,26,35,114,24,162,106,806,71,203,105,108,390,713,242,89,53,240,255,403,120,49,125,127,89,68,96,45,336,95,116]
["Enfermedades del sistema genitourinario",274,673,147,199,618,207,1437,722,2835,286,1220,655,479,2120,2642,1012,503,231,1023,918,1423,469,254,592,497,644,502,783,285,2044,634,319]
["Embarazo, parto y puerperio",14,35,7,11,27,5,69,43,89,18,41,44,34,80,135,51,14,21,57,48,91,19,19,21,40,25,28,44,7,79,30,13]
["Ciertas afecciones originadas en el periodo perinatal",137,228,62,76,356,44,639,424,763,223,449,295,257,649,1172,393,135,91,398,315,639,188,124,207,224,179,264,380,98,665,170,115]
["Malformaciones congénitas, deformidades y anomalías cromosómicas",86,199,32,48,190,36,453,224,868,91,408,166,104,601,772,283,87,46,406,260,571,148,90,186,121,151,219,165,107,489,135,85]
["Síntomas, signos y hallazgos anormales clínicos y de laboratorio, no clasificados en otra parte",58,210,14,299,562,192,1924,228,320,237,238,493,193,700,147,573,77,151,165,1393,654,188,170,284,202,230,702,376,153,815,408,156]

{"sheet":"Nac. Invertida 2022","index":7,"n_rows":22,"n_cols":33,"rows_kept":22,"cut":false,"hidden":true,"merged":[]}
[]
["CONCEPTO","Aguascalientes","Baja California","Baja California Sur","Campeche","Coahuila","Colima","Chiapas","Chihuahua","Ciudad de México","Durango","Guanajuato","Guerrero","Hidalgo","Jalisco","México","Michoacán","Morelos","Nayarit","Nuevo León","Oaxaca","Puebla","Querétaro","Quintana Roo","San Luis Potosí","Sinaloa","Sonora","Tabasco","Tamaulipas","Tlaxcala","Veracruz","Yucatán","Zacatecas"]
["Enfermedades del sistema circulatorio",1926,6654,1181,1512,6275,1275,8861,7923,22757,3836,12383,5438,5693,15297,24797,9087,4475,1929,12241,8672,13854,3644,1919,6208,5316,6326,4646,6878,2359,19350,5040,3131]
["Asignación provisoria de nuevas afecciones de etiología incierta o de uso emergente, sin especificación",646,1413,399,197,1441,256,336,1656,5428,608,1777,740,591,2955,3336,956,770,361,2002,911,1178,864,312,900,844,1295,395,1169,200,1623,756,562]
["Enfermedades endocrinas, nutricionales y metabólicas",1219,3023,479,847,3549,754,5249,3507,11711,1399,7275,3852,2901,7273,18992,5376,2632,1044,4675,5577,8657,1760,1264,3171,2004,2022,3124,3536,1503,11889,1614,1680]
["Tumores (neoplasias)",1012,3027,630,695,2539,655,3506,3305,12367,1287,4092,1994,2157,6933,9988,3505,1620,975,5291,2990,4315,1687,971,2173,2478,2772,1699,2756,778,6840,1826,1186]
["Enfermedades del sistema respiratorio",744,2039,359,314,1464,412,2058,2172,6750,1026,2719,1094,1194,6112,6726,2323,1039,725,3485,1836,2766,1150,515,1541,1394,1922,849,1544,483,4001,1279,1020]
["Causas externas de morbilidad y de mortalidad",744,4888,425,522,1571,1290,1895,4400,4105,975,6903,2508,1597,5728,8447,4611,2028,929,3300,2194,3458,1206,1476,2104,2134,3290,1399,1917,648,3100,1084,2341]
["Ciertas enfermedades infecciosas y parasitarias",161,1119,136,170,409,153,914,805,2054,198,586,407,302,1462,1531,459,313,256,966,537,668,317,349,424,459,920,396,514,108,1459,453,169]
["Enfermedades de la sangre y de los órganos hematopoyéticos, y ciertos trastornos que afectan el mecanismo de la inmunidad",72,146,19,32,70,21,440,148,535,44,212,220,119,252,405,201,137,33,128,374,293,55,66,121,82,118,84,130,46,625,80,73]
["Trastornos mentales y del comportamiento",120,310,21,25,95,30,148,272,400,45,155,102,57,504,500,150,90,39,231,336,191,62,84,124,70,167,43,66,35,489,65,117]
["Enfermedades del sistema nervioso",198,424,81,88,391,110,507,523,1398,146,571,259,286,1120,1350,473,224,174,820,455,639,271,154,374,333,465,230,366,125,938,216,198]
["Enfermedades del ojo y sus anexos",2,1,0,0,0,0,0,0,4,0,1,0,2,2,4,1,0,0,0,1,1,0,1,0,0,1,1,1,0,2,0,0]
["Enfermedades del oído y de la apófisis mastoides",0,2,0,1,1,0,1,1,7,3,2,2,0,3,5,1,0,2,6,1,0,1,1,2,0,0,0,2,0,5,0,0]
["Enfermedades del sistema digestivo",741,1927,343,475,1676,519,3213,2319,8424,849,3452,1603,1734,4893,9240,2710,1521,590,3259,2717,4729,1511,941,1714,985,1391,1024,1709,772,5714,1640,918]
["Enfermedades de la piel y del tejido subcutáneo",46,144,27,30,129,47,76,118,907,43,155,50,35,425,597,119,93,53,377,69,65,90,53,74,82,134,40,130,14,292,115,64]
["Enfermedades del sistema osteomuscular y del tejido conjuntivo",56,131,20,29,148,31,140,144,866,64,215,110,113,376,671,214,83,73,266,233,361,165,55,99,139,129,58,100,40,304,81,107]
["Enfermedades del sistema genitourinario",318,827,139,180,667,191,1217,917,3142,311,1362,631,549,2373,2972,921,626,257,1334,843,1372,569,267,673,534,701,500,858,281,2110,596,360]
["Embarazo, parto y puerperio",6,29,2,3,22,4,42,36,60,42,35,36,16,57,87,38,6,17,45,41,39,13,10,18,13,19,26,21,15,55,11,8]
["Ciertas afecciones originadas en el periodo perinatal",68,241,56,72,164,46,275,357,805,20,441,37,168,632,1155,153,100,38,351,202,583,188,111,173,58,172,217,123,91,629,142,76]
["Malformaciones congénitas, deformidades y anomalías cromosómicas",68,210,36,63,153,35,310,202,884,32,413,100,127,593,799,205,107,42,363,224,620,154,81,185,70,122,190,119,115,513,157,72]
["Síntomas, signos y hallazgos anormales clínicos y de laboratorio, no clasificados en otra parte",64,316,30,209,400,213,1569,313,302,175,269,509,242,642,152,462,55,219,169,1095,545,208,179,254,233,271,485,433,128,743,523,166]

{"sheet":"Comp.xEnt.Fed","index":8,"n_rows":36,"n_cols":4,"rows_kept":36,"cut":false,"hidden":false,"merged":[[0,0,0,3]]}
["Comparativo por \nEntidad Federativa"]
["SELECCIONE UNA CAUSA"]
["Ciertas afecciones originadas en el periodo perinatal","2020","2021","2022"]
["Aguascalientes",{"$f":"VLOOKUP($A$3,Tabla10[],MATCH(TablaA1[[#This Row],[Ciertas afecciones originadas en el periodo perinatal]],Tabla10[#Headers],0),0)","v":117},{"$f":"VLOOKUP($A$3,Tabla11[],MATCH(TablaA1[[#This Row],[Ciertas afecciones originadas en el periodo perinatal]],Tabla11[#Headers],0),0)","v":137},{"$f":"VLOOKUP($A$3,Tabla12[],MATCH(TablaA1[[#This Row],[Ciertas afecciones originadas en el periodo perinatal]],Tabla12[#Headers],0),0)","v":68}]
["Baja California",{"$f":"VLOOKUP($A$3,Tabla10[],MATCH(TablaA1[[#This Row],[Ciertas afecciones originadas en el periodo perinatal]],Tabla10[#Headers],0),0)","v":250},{"$f":"VLOOKUP($A$3,Tabla11[],MATCH(TablaA1[[#This Row],[Ciertas afecciones originadas en el periodo perinatal]],Tabla11[#Headers],0),0)","v":228},{"$f":"VLOOKUP($A$3,Tabla12[],MATCH(TablaA1[[#This Row],[Ciertas afecciones originadas en el periodo perinatal]],Tabla12[#Headers],0),0)","v":241}]
["Baja California Sur",{"$f":"VLOOKUP($A$3,Tabla10[],MATCH(TablaA1[[#This Row],[Ciertas afecciones originadas en el periodo perinatal]],Tabla10[#Headers],0),0)","v":66},{"$f":"VLOOKUP($A$3,Tabla11[],MATCH(TablaA1[[#This Row],[Ciertas afecciones originadas en el periodo perinatal]],Tabla11[#Headers],0),0)","v":62},{"$f":"VLOOKUP($A$3,Tabla12[],MATCH(TablaA1[[#This Row],[Ciertas afecciones originadas en el periodo perinatal]],Tabla12[#Headers],0),0)","v":56}]
["Campeche",{"$f":"VLOOKUP($A$3,Tabla10[],MATCH(TablaA1[[#This Row],[Ciertas afecciones originadas en el periodo perinatal]],Tabla10[#Headers],0),0)","v":86},{"$f":"VLOOKUP($A$3,Tabla11[],MATCH(TablaA1[[#This Row],[Ciertas afecciones originadas en el periodo perinatal]],Tabla11[#Headers],0),0)","v":76},{"$f":"VLOOKUP($A$3,Tabla12[],MATCH(TablaA1[[#This Row],[Ciertas afecciones originadas en el periodo perinatal]],Tabla12[#Headers],0),0)","v":72}]
["Chiapas",{"$f":"VLOOKUP($A$3,Tabla10[],MATCH(TablaA1[[#This Row],[Ciertas afecciones originadas en el periodo perinatal]],Tabla10[#Headers],0),0)","v":450},{"$f":"VLOOKUP($A$3,Tabla11[],MATCH(TablaA1[[#This Row],[Ciertas afecciones originadas en el periodo perinatal]],Tabla11[#Headers],0),0)","v":639},{"$f":"VLOOKUP($A$3,Tabla12[],MATCH(TablaA1[[#This Row],[Ciertas afecciones originadas en el periodo perinatal]],Tabla12[#Headers],0),0)","v":275}]
["Chihuahua",{"$f":"VLOOKUP($A$3,Tabla10[],MATCH(TablaA1[[#This Row],[Ciertas afecciones originadas en el periodo perinatal]],Tabla10[#Headers],0),0)","v":405},{"$f":"VLOOKUP($A$3,Tabla11[],MATCH(TablaA1[[#This Row],[Ciertas afecciones originadas en el periodo perinatal]],Tabla11[#Headers],0),0)","v":424},{"$f":"VLOOKUP($A$3,Tabla12[],MATCH(TablaA1[[#This Row],[Ciertas afecciones originadas en el periodo perinatal]],Tabla12[#Headers],0),0)","v":357}]
["Ciudad de México",{"$f":"VLOOKUP($A$3,Tabla10[],MATCH(TablaA1[[#This Row],[Ciertas afecciones originadas en el periodo perinatal]],Tabla10[#Headers],0),0)","v":854},{"$f":"VLOOKUP($A$3,Tabla11[],MATCH(TablaA1[[#This Row],[Ciertas afecciones originadas en el periodo perinatal]],Tabla11[#Headers],0),0)","v":763},{"$f":"VLOOKUP($A$3,Tabla12[],MATCH(TablaA1[[#This Row],[Ciertas afecciones originadas en el periodo perinatal]],Tabla12[#Headers],0),0)","v":805}]
["Coahuila",{"$f":"VLOOKUP($A$3,Tabla10[],MATCH(TablaA1[[#This Row],[Ciertas afecciones originadas en el periodo perinatal]],Tabla10[#Headers],0),0)","v":307},{"$f":"VLOOKUP($A$3,Tabla11[],MATCH(TablaA1[[#This Row],[Ciertas afecciones originadas en el periodo perinatal]],Tabla11[#Headers],0),0)","v":356},{"$f":"VLOOKUP($A$3,Tabla12[],MATCH(TablaA1[[#This Row],[Ciertas afecciones originadas en el periodo perinatal]],Tabla12[#Headers],0),0)","v":164}]
["Colima",{"$f":"VLOOKUP($A$3,Tabla10[],MATCH(TablaA1[[#This Row],[Ciertas afecciones originadas en el periodo perinatal]],Tabla10[#Headers],0),0)","v":49},{"$f":"VLOOKUP($A$3,Tabla11[],MATCH(TablaA1[[#This Row],[Ciertas afecciones originadas en el periodo perinatal]],Tabla11[#Headers],0),0)","v":44},{"$f":"VLOOKUP($A$3,Tabla12[],MATCH(TablaA1[[#This Row],[Ciertas afecciones originadas en el periodo perinatal]],Tabla12[#Headers],0),0)","v":46}]
["Durango",{"$f":"VLOOKUP($A$3,Tabla10[],MATCH(TablaA1[[#This Row],[Ciertas afecciones originadas en el periodo perinatal]],Tabla10[#Headers],0),0)","v":142},{"$f":"VLOOKUP($A$3,Tabla11[],MATCH(TablaA1[[#This Row],[Ciertas afecciones originadas en el periodo perinatal]],Tabla11[#Headers],0),0)","v":223},{"$f":"VLOOKUP($A$3,Tabla12[],MATCH(TablaA1[[#This Row],[Ciertas afecciones originadas en el periodo perinatal]],Tabla12[#Headers],0),0)","v":20}]
["Guanajuato",{"$f":"VLOOKUP($A$3,Tabla10[],MATCH(TablaA1[[#This Row],[Ciertas afecciones originadas en el periodo perinatal]],Tabla10[#Headers],0),0)","v":477},{"$f":"VLOOKUP($A$3,Tabla11[],MATCH(TablaA1[[#This Row],[Ciertas afecciones originadas en el periodo perinatal]],Tabla11[#Headers],0),0)","v":449},{"$f":"VLOOKUP($A$3,Tabla12[],MATCH(TablaA1[[#This Row],[Ciertas afecciones originadas en el periodo perinatal]],Tabla12[#Headers],0),0)","v":441}]
["Guerrero",{"$f":"VLOOKUP($A$3,Tabla10[],MATCH(TablaA1[[#This Row],[Ciertas afecciones originadas en el periodo perinatal]],Tabla10[#Headers],0),0)","v":214},{"$f":"VLOOKUP($A$3,Tabla11[],MATCH(TablaA1[[#This Row],[Ciertas afecciones originadas en el periodo perinatal]],Tabla11[#Headers],0),0)","v":295},{"$f":"VLOOKUP($A$3,Tabla12[],MATCH(TablaA1[[#This Row],[Ciertas afecciones originadas en el periodo perinatal]],Tabla12[#Headers],0),0)","v":37}]
["Hidalgo",{"$f":"VLOOKUP($A$3,Tabla10[],MATCH(TablaA1[[#This Row],[Ciertas afecciones originadas en el periodo perinatal]],Tabla10[#Headers],0),0)","v":183},{"$f":"VLOOKUP($A$3,Tabla11[],MATCH(TablaA1[[#This Row],[Ciertas afecciones originadas en el periodo perinatal]],Tabla11[#Headers],0),0)","v":257},{"$f":"VLOOKUP($A$3,Tabla12[],MATCH(TablaA1[[#This Row],[Ciertas afecciones originadas en el periodo perinatal]],Tabla12[#Headers],0),0)","v":168}]
["Jalisco",{"$f":"VLOOKUP($A$3,Tabla10[],MATCH(TablaA1[[#This Row],[Ciertas afecciones originadas en el periodo perinatal]],Tabla10[#Headers],0),0)","v":743},{"$f":"VLOOKUP($A$3,Tabla11[],MATCH(TablaA1[[#This Row],[Ciertas afecciones originadas en el periodo perinatal]],Tabla11[#Headers],0),0)","v":649},{"$f":"VLOOKUP($A$3,Tabla12[],MATCH(TablaA1[[#This Row],[Ciertas afecciones originadas en el periodo perinatal]],Tabla12[#Headers],0),0)","v":632}]
["México",{"$f":"VLOOKUP($A$3,Tabla10[],MATCH(TablaA1[[#This Row],[Ciertas afecciones originadas en el periodo perinatal]],Tabla10[#Headers],0),0)","v":1288},{"$f":"VLOOKUP($A$3,Tabla11[],MATCH(TablaA1[[#This Row],[Ciertas afecciones originadas en el periodo perinatal]],Tabla11[#Headers],0),0)","v":1172},{"$f":"VLOOKUP($A$3,Tabla12[],MATCH(TablaA1[[#This Row],[Ciertas afecciones originadas en el periodo perinatal]],Tabla12[#Headers],0),0)","v":1155}]
["Michoacán",{"$f":"VLOOKUP($A$3,Tabla10[],MATCH(TablaA1[[#This Row],[Ciertas afecciones originadas en el periodo perinatal]],Tabla10[#Headers],0),0)","v":264},{"$f":"VLOOKUP($A$3,Tabla11[],MATCH(TablaA1[[#This Row],[Ciertas afecciones originadas en el periodo perinatal]],Tabla11[#Headers],0),0)","v":393},{"$f":"VLOOKUP($A$3,Tabla12[],MATCH(TablaA1[[#This Row],[Ciertas afecciones originadas en el periodo perinatal]],Tabla12[#Headers],0),0)","v":153}]
["Morelos",{"$f":"VLOOKUP($A$3,Tabla10[],MATCH(TablaA1[[#This Row],[Ciertas afecciones originadas en el periodo perinatal]],Tabla10[#Headers],0),0)","v":123},{"$f":"VLOOKUP($A$3,Tabla11[],MATCH(TablaA1[[#This Row],[Ciertas afecciones originadas en el periodo perinatal]],Tabla11[#Headers],0),0)","v":135},{"$f":"VLOOKUP($A$3,Tabla12[],MATCH(TablaA1[[#This Row],[Ciertas afecciones originadas en el periodo perinatal]],Tabla12[#Headers],0),0)","v":100}]
["Nayarit",{"$f":"VLOOKUP($A$3,Tabla10[],MATCH(TablaA1[[#This Row],[Ciertas afecciones originadas en el periodo perinatal]],Tabla10[#Headers],0),0)","v":56},{"$f":"VLOOKUP($A$3,Tabla11[],MATCH(TablaA1[[#This Row],[Ciertas afecciones originadas en el periodo perinatal]],Tabla11[#Headers],0),0)","v":91},{"$f":"VLOOKUP($A$3,Tabla12[],MATCH(TablaA1[[#This Row],[Ciertas afecciones originadas en el periodo perinatal]],Tabla12[#Headers],0),0)","v":38}]
["Nuevo León",{"$f":"VLOOKUP($A$3,Tabla10[],MATCH(TablaA1[[#This Row],[Ciertas afecciones originadas en el periodo perinatal]],Tabla10[#Headers],0),0)","v":394},{"$f":"VLOOKUP($A$3,Tabla11[],MATCH(TablaA1[[#This Row],[Ciertas afecciones originadas en el periodo perinatal]],Tabla11[#Headers],0),0)","v":398},{"$f":"VLOOKUP($A$3,Tabla12[],MATCH(TablaA1[[#This Row],[Ciertas afecciones originadas en el periodo perinatal]],Tabla12[#Headers],0),0)","v":351}]
["Oaxaca",{"$f":"VLOOKUP($A$3,Tabla10[],MATCH(TablaA1[[#This Row],[Ciertas afecciones originadas en el periodo perinatal]],Tabla10[#Headers],0),0)","v":280},{"$f":"VLOOKUP($A$3,Tabla11[],MATCH(TablaA1[[#This Row],[Ciertas afecciones originadas en el periodo perinatal]],Tabla11[#Headers],0),0)","v":315},{"$f":"VLOOKUP($A$3,Tabla12[],MATCH(TablaA1[[#This Row],[Ciertas afecciones originadas en el periodo perinatal]],Tabla12[#Headers],0),0)","v":202}]
["Puebla",{"$f":"VLOOKUP($A$3,Tabla10[],MATCH(TablaA1[[#This Row],[Ciertas afecciones originadas en el periodo perinatal]],Tabla10[#Headers],0),0)","v":725},{"$f":"VLOOKUP($A$3,Tabla11[],MATCH(TablaA1[[#This Row],[Ciertas afecciones originadas en el periodo perinatal]],Tabla11[#Headers],0),0)","v":639},{"$f":"VLOOKUP($A$3,Tabla12[],MATCH(TablaA1[[#This Row],[Ciertas afecciones originadas en el periodo perinatal]],Tabla12[#Headers],0),0)","v":583}]
["Querétaro",{"$f":"VLOOKUP($A$3,Tabla10[],MATCH(TablaA1[[#This Row],[Ciertas afecciones originadas en el periodo perinatal]],Tabla10[#Headers],0),0)","v":185},{"$f":"VLOOKUP($A$3,Tabla11[],MATCH(TablaA1[[#This Row],[Ciertas afecciones originadas en el periodo perinatal]],Tabla11[#Headers],0),0)","v":188},{"$f":"VLOOKUP($A$3,Tabla12[],MATCH(TablaA1[[#This Row],[Ciertas afecciones originadas en el periodo perinatal]],Tabla12[#Headers],0),0)","v":188}]
["Quintana Roo",{"$f":"VLOOKUP($A$3,Tabla10[],MATCH(TablaA1[[#This Row],[Ciertas afecciones originadas en el periodo perinatal]],Tabla10[#Headers],0),0)","v":131},{"$f":"VLOOKUP($A$3,Tabla11[],MATCH(TablaA1[[#This Row],[Ciertas afecciones originadas en el periodo perinatal]],Tabla11[#Headers],0),0)","v":124},{"$f":"VLOOKUP($A$3,Tabla12[],MATCH(TablaA1[[#This Row],[Ciertas afecciones originadas en el periodo perinatal]],Tabla12[#Headers],0),0)","v":111}]
["San Luis Potosí",{"$f":"VLOOKUP($A$3,Tabla10[],MATCH(TablaA1[[#This Row],[Ciertas afecciones originadas en el periodo perinatal]],Tabla10[#Headers],0),0)","v":182},{"$f":"VLOOKUP($A$3,Tabla11[],MATCH(TablaA1[[#This Row],[Ciertas afecciones originadas en el periodo perinatal]],Tabla11[#Headers],0),0)","v":207},{"$f":"VLOOKUP($A$3,Tabla12[],MATCH(TablaA1[[#This Row],[Ciertas afecciones originadas en el periodo perinatal]],Tabla12[#Headers],0),0)","v":173}]
["Sinaloa",{"$f":"VLOOKUP($A$3,Tabla10[],MATCH(TablaA1[[#This Row],[Ciertas afecciones originadas en el periodo perinatal]],Tabla10[#Headers],0),0)","v":159},{"$f":"VLOOKUP($A$3,Tabla11[],MATCH(TablaA1[[#This Row],[Ciertas afecciones originadas en el periodo perinatal]],Tabla11[#Headers],0),0)","v":224},{"$f":"VLOOKUP($A$3,Tabla12[],MATCH(TablaA1[[#This Row],[Ciertas afecciones originadas en el periodo perinatal]],Tabla12[#Headers],0),0)","v":58}]
["Sonora",{"$f":"VLOOKUP($A$3,Tabla10[],MATCH(TablaA1[[#This Row],[Ciertas afecciones originadas en el periodo perinatal]],Tabla10[#Headers],0),0)","v":173},{"$f":"VLOOKUP($A$3,Tabla11[],MATCH(TablaA1[[#This Row],[Ciertas afecciones originadas en el periodo perinatal]],Tabla11[#Headers],0),0)","v":179},{"$f":"VLOOKUP($A$3,Tabla12[],MATCH(TablaA1[[#This Row],[Ciertas afecciones originadas en el periodo perinatal]],Tabla12[#Headers],0),0)","v":172}]
["Tabasco",{"$f":"VLOOKUP($A$3,Tabla10[],MATCH(TablaA1[[#This Row],[Ciertas afecciones originadas en el periodo perinatal]],Tabla10[#Headers],0),0)","v":326},{"$f":"VLOOKUP($A$3,Tabla11[],MATCH(TablaA1[[#This Row],[Ciertas afecciones originadas en el periodo perinatal]],Tabla11[#Headers],0),0)","v":264},{"$f":"VLOOKUP($A$3,Tabla12[],MATCH(TablaA1[[#This Row],[Ciertas afecciones originadas en el periodo perinatal]],Tabla12[#Headers],0),0)","v":217}]
["Tamaulipas",{"$f":"VLOOKUP($A$3,Tabla10[],MATCH(TablaA1[[#This Row],[Ciertas afecciones originadas en el periodo perinatal]],Tabla10[#Headers],0),0)","v":320},{"$f":"VLOOKUP($A$3,Tabla11[],MATCH(TablaA1[[#This Row],[Ciertas afecciones originadas en el periodo perinatal]],Tabla11[#Headers],0),0)","v":380},{"$f":"VLOOKUP($A$3,Tabla12[],MATCH(TablaA1[[#This Row],[Ciertas afecciones originadas en el periodo perinatal]],Tabla12[#Headers],0),0)","v":123}]
["Tlaxcala",{"$f":"VLOOKUP($A$3,Tabla10[],MATCH(TablaA1[[#This Row],[Ciertas afecciones originadas en el periodo perinatal]],Tabla10[#Headers],0),0)","v":130},{"$f":"VLOOKUP($A$3,Tabla11[],MATCH(TablaA1[[#This Row],[Ciertas afecciones originadas en el periodo perinatal]],Tabla11[#Headers],0),0)","v":98},{"$f":"VLOOKUP($A$3,Tabla12[],MATCH(TablaA1[[#This Row],[Ciertas afecciones originadas en el periodo perinatal]],Tabla12[#Headers],0),0)","v":91}]
["Veracruz",{"$f":"VLOOKUP($A$3,Tabla10[],MATCH(TablaA1[[#This Row],[Ciertas afecciones originadas en el periodo perinatal]],Tabla10[#Headers],0),0)","v":707},{"$f":"VLOOKUP($A$3,Tabla11[],MATCH(TablaA1[[#This Row],[Ciertas afecciones originadas en el periodo perinatal]],Tabla11[#Headers],0),0)","v":665},{"$f":"VLOOKUP($A$3,Tabla12[],MATCH(TablaA1[[#This Row],[Ciertas afecciones originadas en el periodo perinatal]],Tabla12[#Headers],0),0)","v":629}]
["Yucatán",{"$f":"VLOOKUP($A$3,Tabla10[],MATCH(TablaA1[[#This Row],[Ciertas afecciones originadas en el periodo perinatal]],Tabla10[#Headers],0),0)","v":171},{"$f":"VLOOKUP($A$3,Tabla11[],MATCH(TablaA1[[#This Row],[Ciertas afecciones originadas en el periodo perinatal]],Tabla11[#Headers],0),0)","v":170},{"$f":"VLOOKUP($A$3,Tabla12[],MATCH(TablaA1[[#This Row],[Ciertas afecciones originadas en el periodo perinatal]],Tabla12[#Headers],0),0)","v":142}]
["Zacatecas",{"$f":"VLOOKUP($A$3,Tabla10[],MATCH(TablaA1[[#This Row],[Ciertas afecciones originadas en el periodo perinatal]],Tabla10[#Headers],0),0)","v":132},{"$f":"VLOOKUP($A$3,Tabla11[],MATCH(TablaA1[[#This Row],[Ciertas afecciones originadas en el periodo perinatal]],Tabla11[#Headers],0),0)","v":115},{"$f":"VLOOKUP($A$3,Tabla12[],MATCH(TablaA1[[#This Row],[Ciertas afecciones originadas en el periodo perinatal]],Tabla12[#Headers],0),0)","v":76}]
["Total",{"$f":"SUBTOTAL(109,TablaA1[2020])","v":10089},{"$f":"SUBTOTAL(109,TablaA1[2021])","v":10359},{"$f":"SUBTOTAL(109,TablaA1[2022])","v":7944}]

{"sheet":"GCMxSexo-N","index":9,"n_rows":25,"n_cols":8,"rows_kept":25,"cut":false,"hidden":false,"merged":[[2,2,2,3],[2,4,2,5],[2,6,2,7],[0,0,0,7],[2,0,3,1]]}
["Grandes Causas de Mortalidad por Sexo"]
[]
["Enfermedades",null,2020,null,2021,null,2022]
[null,null,"Hombres","Mujeres","Hombres","Mujeres","Hombres","Mujeres"]
[1,"Enfermedades del sistema circulatorio",142726,117195,144513,122276,127358,113525]
[2,"Asignación provisoria de nuevas afecciones de etiología incierta o de uso emergente, sin especificación",128802,71463,145123,93653,22394,14483]
[3,"Enfermedades endocrinas, nutricionales y metabólicas",89195,81385,81559,79045,66646,66912]
[4,"Tumores (neoplasias)",47897,49377,47087,50251,47145,50904]
[5,"Enfermedades del sistema respiratorio",57507,39207,52045,36410,35098,27957]
[6,"Causas externas de morbilidad y de mortalidad",68781,13294,69745,14404,68179,15038]
[7,"Ciertas enfermedades infecciosas y parasitarias",11037,6919,11554,10295,11535,7639]
[8,"Enfermedades de la sangre y de los órganos hematopoyéticos, y ciertos trastornos que afectan el mecanismo de la inmunidad",2566,2744,2744,2893,2660,2721]
[9,"Trastornos mentales y del comportamiento",3707,1488,3791,1549,3594,1549]
[10,"Enfermedades del sistema nervioso",1161,5786,7067,5860,7618,6289]
[11,"Enfermedades del ojo y sus anexos",6,4,13,7,14,11]
[12,"Enfermedades del oído y de la apófisis mastoides",28,19,21,13,26,23]
[13,"Enfermedades del sistema digestivo",45787,25693,47261,27441,47234,28019]
[14,"Enfermedades de la piel y del tejido subcutáneo",1429,1799,1696,2095,2052,2641]
[15,"Enfermedades del sistema osteomuscular y del tejido conjuntivo",1804,3693,1928,3657,1916,3705]
[16,"Enfermedades del sistema genitourinario",14597,12351,13916,12731,14640,13958]
[17,"Embarazo, parto y puerperio",null,1171,null,1259,null,872]
[18,"Ciertas afecciones originadas en el periodo perinatal",5768,4321,5901,4458,4471,3473]
[19,"Malformaciones congénitas, deformidades y anomalías cromosómicas",4434,3615,4252,3575,3918,3446]
[20,"Síntomas, signos y hallazgos anormales clínicos y de laboratorio, no clasificados en otra parte",5973,5185,6609,5903,5823,5750]
[null,"Total",{"$f":"SUM(C5:C24)","v":633205},{"$f":"SUM(D5:D11)","v":378840},551626,406334,378355,296458]

{"sheet":"2020","index":10,"n_rows":35,"n_cols":61,"rows_kept":35,"cut":false,"hidden":true,"merged":[]}
[1,2,3,4,5,6,7,8,9,10,11,12,13,14,15,16,17,18,19,20,21,22,23,24,25,26,27,28,29,30,31,32,33,34,35,36,37,38,39,40,41,42,43,44,45,46,47,48,49,50,51,52,53,54,55,56,57,58,59,60,61]
["ESTADO","Enfermedades del sistema circulatorio","Hombres 1","Mujeres 1","Asignación provisoria de nuevas afecciones de etiología incierta o de uso emergente, sin especificación","Hombres 2","Mujeres  2","Enfermedades endocrinas, nutricionales y metabólicas","Hombres  3","Mujeres 3","Tumores (neoplasias)","Hombres 4","Mujeres 4","Enfermedades del sistema respiratorio","Hombres  5","Mujeres  5","Causas externas de morbilidad y de mortalidad","Hombres  6","Mujeres 6","Ciertas enfermedades infecciosas y parasitarias","Hombres  7","Mujeres  7","Enfermedades de la sangre y de los órganos hematopoyéticos, y ciertos trastornos que afectan el mecanismo de la inmunidad","Hombres 8","Mujeres 8","Trastornos mentales y del comportamiento","Hombres 9","Mujeres 9","Enfermedades del sistema nervioso","Hombres 10","Mujeres 10","Enfermedades del ojo y sus anexos","Hombres 11","Mujeres 11","Enfermedades del oído y de la apófisis mastoides","Hombres 12","Mujeres 12","Enfermedades del sistema digestivo","Hombres 13","Mujeres 13","Enfermedades de la piel y del tejido subcutáneo","Hombres 14","Mujeres 14","Enfermedades del sistema osteomuscular y del tejido conjuntivo","Hombres 15","Mujeres 15","Enfermedades del sistema genitourinario","Hombres 16","Mujeres 16","Embarazo, parto y puerperio","Hombres 17","Mujeres 17","Ciertas afecciones originadas en el periodo perinatal","Hombres 18","Mujeres 18","Malformaciones congénitas, deformidades y anomalías cromosómicas","Hombres 19","Mujeres 19","Síntomas, signos y hallazgos anormales clínicos y de laboratorio, no clasificados en otra parte","Hombres 20","Mujeres 20"]
["Aguascalientes",1787,968,819,2445,1525,920,1141,587,554,1018,533,485,1037,588,449,742,580,162,162,98,64,42,18,24,104,71,33,188,110,78,0,0,0,1,1,0,636,389,247,24,11,13,57,18,39,273,152,121,17,null,17,117,78,39,93,48,45,36,10,26]
["Baja California",6821,4205,2616,8248,5020,3228,4004,2201,1803,2972,1458,1514,3198,2120,1078,4820,4172,648,1104,772,332,150,77,73,246,175,71,388,37,207,0,0,0,1,0,1,1816,1252,564,63,29,34,158,47,111,625,365,260,30,null,30,250,136,114,227,137,90,218,149,69]
["Baja California Sur",1101,678,423,943,577,366,582,306,276,619,322,297,471,276,195,369,307,62,151,114,37,19,6,13,30,16,14,82,7,37,0,0,0,1,1,0,286,188,98,10,5,5,22,10,12,123,57,66,3,null,3,66,43,23,41,23,18,21,11,10]
["Campeche",1752,1020,732,1452,947,505,1158,577,581,646,340,306,698,416,282,415,326,89,134,95,39,28,11,17,25,16,9,81,9,35,0,0,0,0,0,0,425,251,174,31,18,13,19,3,16,186,103,83,9,null,9,86,47,39,55,37,18,288,167,121]
["Coahuila",6731,3778,2953,6397,3838,2559,4423,2243,2180,2520,1275,1245,2425,1451,974,1339,1088,251,377,237,140,103,52,51,81,57,24,361,33,163,0,0,0,1,1,0,1591,984,607,54,22,32,111,30,81,757,411,346,34,null,34,307,172,135,200,105,95,661,316,345]
["Colima",1333,748,585,956,592,364,838,452,386,642,305,337,557,335,222,1040,866,174,150,113,37,14,8,6,33,26,7,101,12,38,0,0,0,1,1,0,421,274,147,26,14,12,25,11,14,174,93,81,3,null,3,49,31,18,21,14,7,116,61,55]
["Chiapas",9952,5682,4270,2704,1871,833,7048,3458,3590,3746,1834,1912,3257,2009,1248,1745,1442,303,1173,710,463,386,201,185,182,141,41,554,26,224,0,0,0,4,3,1,3451,2144,1307,40,16,24,175,62,113,1474,867,607,74,null,74,450,267,183,375,216,159,1864,1040,824]
["Chihuahua",9407,5242,4165,7370,4532,2838,4541,2307,2234,3350,1672,1678,3592,2158,1434,5625,4783,842,719,401,318,121,60,61,287,213,74,570,59,266,0,0,0,3,3,0,2208,1436,772,87,41,46,153,47,106,738,381,357,50,null,50,405,245,160,214,119,95,285,150,135]
["Ciudad de México",28616,14788,13828,37978,25342,12636,19083,10407,8676,12532,5936,6596,11483,6819,4664,4295,3517,778,2020,1210,810,560,250,310,407,293,114,1349,71,608,2,2,0,7,2,5,8085,5051,3034,639,295,344,693,188,505,2970,1560,1410,102,null,102,854,489,365,996,529,467,76,41,35]
["Durango",4187,2329,1858,2787,1696,1091,1647,845,802,1194,592,602,1260,746,514,915,731,184,162,101,61,55,31,24,30,26,4,150,10,63,1,1,0,3,2,1,797,462,335,38,14,24,64,22,42,267,138,129,13,null,13,142,80,62,77,43,34,152,79,73]
["Guanajuato",12721,6750,5971,7256,4581,2675,8431,4322,4109,4101,2002,2099,4390,2544,1846,7750,6644,1106,524,290,234,193,85,108,200,152,48,558,33,250,1,1,0,0,0,0,3305,2144,1161,153,59,94,220,81,139,1152,611,541,46,null,46,477,276,201,434,239,195,219,110,109]
["Guerrero",5891,3234,2657,4459,2989,1470,4634,2395,2239,1956,972,984,1909,1182,727,2525,2120,405,394,240,154,262,138,124,121,96,25,257,19,110,0,0,0,2,1,1,1505,916,589,33,17,16,126,47,79,628,370,258,45,null,45,214,109,105,154,86,68,508,281,227]
["Hidalgo",5925,3153,2772,4258,2823,1435,3398,1756,1642,2182,1090,1092,1546,838,708,1449,1182,267,279,146,133,110,62,48,75,49,26,258,17,118,1,0,1,1,1,0,1656,1027,629,38,12,26,123,42,81,562,311,251,14,null,14,183,109,74,139,75,64,166,85,81]
["Jalisco",15584,8533,7051,8834,5669,3165,8471,4511,3960,7108,3550,3558,7220,4012,3208,5996,4985,1011,1259,760,499,287,136,151,471,293,178,988,111,458,0,0,0,0,0,0,4475,2794,1681,379,176,203,405,137,268,2133,1122,1011,74,null,74,743,415,328,594,327,267,523,274,249]
["México",29761,16507,13254,28613,19059,9554,25957,14316,11641,9305,4429,4876,11164,6753,4411,7888,6420,1468,1305,754,551,324,143,181,489,370,119,1051,55,458,0,0,0,1,0,1,8814,6051,2763,408,187,221,685,237,448,2830,1553,1277,126,null,126,1288,750,538,909,531,378,179,87,92]
["Michoacán",8909,4689,4220,3813,2432,1381,6437,3279,3158,3539,1770,1769,3053,1772,1281,4526,3864,662,514,290,224,185,89,96,182,140,42,471,37,213,0,0,0,0,0,0,2636,1685,951,69,35,34,185,55,130,920,516,404,50,null,50,264,147,117,245,134,111,420,194,226]
["Morelos",4409,2386,2023,2796,1900,896,3046,1613,1433,1700,834,866,1594,959,635,1706,1445,261,255,170,85,139,59,80,117,71,46,240,15,107,0,0,0,2,1,1,1586,992,594,69,37,32,85,30,55,569,305,264,14,null,14,123,76,47,111,69,42,143,79,64]
["Nayarit",2018,1171,847,1286,835,451,1197,612,585,970,521,449,718,416,302,828,661,167,197,124,73,36,17,19,49,25,24,171,19,80,0,0,0,0,0,0,567,349,218,28,8,20,45,14,31,215,117,98,14,null,14,56,34,22,43,26,17,116,51,65]
["Nuevo León",11033,6332,4701,9227,5729,3498,4772,2542,2230,4787,2431,2356,4499,2674,1825,2428,2017,411,732,501,231,112,58,54,193,90,103,668,88,323,1,1,0,3,3,0,2481,1506,975,246,102,144,293,98,195,1166,567,599,41,null,41,394,218,176,404,208,196,188,93,95]
["Oaxaca",8642,4435,4207,3344,2258,1086,6151,3067,3084,2961,1420,1541,2132,1235,897,2244,1860,384,578,338,240,346,181,165,360,297,63,446,33,184,1,0,1,0,0,0,2634,1759,875,60,31,29,205,74,131,834,459,375,52,null,52,280,161,119,240,139,101,1094,577,517]
["Puebla",14708,7758,6950,8371,5487,2884,11278,5782,5496,4566,2096,2470,4951,2908,2043,3261,2683,578,662,402,260,376,174,202,253,214,39,578,29,247,0,0,0,3,0,3,4799,3136,1663,68,24,44,386,116,270,1357,737,620,62,null,62,725,409,316,614,338,276,591,317,274]
["Querétaro",3485,1878,1607,2812,1805,1007,2224,1208,1016,1602,780,822,1243,728,515,1025,864,161,291,171,120,55,27,28,69,44,25,222,11,93,0,0,0,0,0,0,1475,959,516,67,23,44,88,25,63,459,229,230,12,null,12,185,100,85,150,79,71,187,87,100]
["Quintana Roo",1675,1012,663,2700,1803,897,1439,756,683,862,411,451,911,580,331,1340,1136,204,365,257,108,52,30,22,72,33,39,121,12,43,0,0,0,1,1,0,735,468,267,45,27,18,35,12,23,236,131,105,22,null,22,131,80,51,85,42,43,188,118,70]
["San Luis Potosí",6311,3408,2903,4039,2478,1561,3736,1892,1844,2098,1024,1074,2382,1369,1013,2033,1700,333,390,232,158,111,51,60,151,115,36,348,34,140,0,0,0,1,1,0,1522,967,555,67,27,40,116,30,86,599,344,255,30,null,30,182,103,79,148,70,78,300,167,133]
["Sinaloa",6094,3565,2529,5505,3279,2226,2403,1245,1158,2439,1329,1110,2538,1543,995,2371,2098,273,408,255,153,81,41,40,76,46,30,375,50,176,1,0,1,2,2,0,853,527,326,33,11,22,152,59,93,490,269,221,34,null,34,159,95,64,106,60,46,188,115,73]
["Sonora",6978,4122,2856,6242,3679,2563,2667,1363,1304,2782,1475,1307,2679,1647,1032,3018,2678,340,627,421,206,110,58,52,144,100,44,446,56,198,0,0,0,1,0,1,1320,801,519,107,56,51,123,39,84,646,343,303,28,null,28,173,98,75,133,67,66,204,137,67]
["Tabasco",5262,3005,2257,4201,2621,1580,4608,2335,2273,1688,873,815,1846,1140,706,1341,1153,188,320,198,122,102,58,44,40,31,9,221,12,83,1,0,1,3,2,1,1057,654,403,25,10,15,79,23,56,513,300,213,32,null,32,326,181,145,205,102,103,515,282,233]
["Tamaulipas",7018,4102,2916,4888,2951,1937,4485,2307,2178,2757,1400,1357,3122,1902,1220,2055,1715,340,495,294,201,108,50,58,80,45,35,331,29,156,0,0,0,3,1,2,1639,1036,603,99,40,59,114,44,70,806,416,390,38,null,38,320,176,144,168,84,84,347,196,151]
["Tlaxcala",2629,1430,1199,1504,991,513,2366,1308,1058,821,380,441,1996,1264,732,594,462,132,91,50,41,43,27,16,52,38,14,138,10,50,0,0,0,0,0,0,684,439,245,9,4,5,54,17,37,309,161,148,13,null,13,130,71,59,110,66,44,147,69,78]
["Veracruz",20867,11322,9545,9343,6058,3285,14332,7193,7139,6897,3336,3561,5467,3154,2313,3536,2930,606,1486,921,565,632,277,355,401,301,100,879,77,394,1,1,0,0,0,0,5721,3756,1965,95,33,62,311,121,190,1987,1109,878,45,null,45,707,395,312,544,305,239,727,353,374]
["Yucatán",5179,2850,2329,3165,2016,1149,2153,1026,1127,1644,821,823,1962,1146,816,789,603,186,456,277,179,87,46,41,61,40,21,217,24,90,0,0,0,1,0,1,1442,854,588,83,35,48,86,31,55,629,312,317,22,null,22,171,108,63,141,76,65,340,195,145]
["Zacatecas",3135,1646,1489,2329,1419,910,1930,984,946,1270,686,584,1414,823,591,2067,1749,318,176,95,81,81,45,36,114,83,31,211,16,96,0,0,0,1,1,0,858,536,322,35,10,25,104,34,70,321,188,133,22,null,22,132,69,63,73,40,33,151,82,69]
[null,{"$f":"SUBTOTAL(109,B3:B34)","v":259921},142726,117195,200265,128802,71463,170580,89195,81385,{"$f":"SUBTOTAL(109,K3:K34)","v":97274},{"$f":"SUBTOTAL(109,L3:L34)","v":47897},49377,96714,57507,39207,82075,68781,13294,17956,11037,6919,5310,2566,2744,5195,3707,1488,13019,1161,5786,10,6,4,47,28,19,71480,45787,25693,3228,1429,1799,5497,1804,3693,26948,14597,12351,1171,0,1171,10089,5768,4321,8049,4434,3615,11158,5973,5185]

{"sheet":"2021","index":11,"n_rows":33,"n_cols":61,"rows_kept":33,"cut":false,"hidden":true,"merged":[]}
["ESTADO","Enfermedades del sistema circulatorio","Hombres 1","Mujeres  1","Asignación provisoria de nuevas afecciones de etiología incierta o de uso emergente, sin especificación","Hombres 2","Mujeres 2","Enfermedades endocrinas, nutricionales y metabólicas","Hombres 3","Mujeres 3","Tumores (neoplasias)","Hombres 4","Mujeres 4","Enfermedades del sistema respiratorio","Hombres 5","Mujeres 5","Causas externas de morbilidad y de mortalidad","Hombres 6","Mujeres 6","Ciertas enfermedades infecciosas y parasitarias","Hombres 7","Mujeres 7","Enfermedades de la sangre y de los órganos hematopoyéticos, y ciertos trastornos que afectan el mecanismo de la inmunidad","Hombres 8","Mujeres 8","Trastornos mentales y del comportamiento","Hombres 9","Mujeres 9","Enfermedades del sistema nervioso","Hombres 10","Mujeres 10","Enfermedades del ojo y sus anexos","Hombres 11","Mujeres 11","Enfermedades del oído y de la apófisis mastoides","Hombres 12","Mujeres 12","Enfermedades del sistema digestivo","Hombres 13","Mujeres 13","Enfermedades de la piel y del tejido subcutáneo","Hombres 14","Mujeres 14","Enfermedades del sistema osteomuscular y del tejido conjuntivo","Hombres 15","Mujeres 15","Enfermedades del sistema genitourinario","Hombres 16","Mujeres 16","Embarazo, parto y puerperio","Hombres 17","Mujeres 17","Ciertas afecciones originadas en el periodo perinatal","Hombres 18","Mujeres 18","Malformaciones congénitas, deformidades y anomalías cromosómicas","Hombres 19","Mujeres 19","Síntomas, signos y hallazgos anormales clínicos y de laboratorio, no clasificados en otra parte","Hombres 20","Mujeres 20"]
["Aguascalientes",1978,1088,890,2200,1281,919,1175,624,551,1048,473,575,969,540,429,746,586,160,197,100,97,57,19,38,132,97,35,168,80,88,0,0,0,0,0,0,807,478,329,30,16,14,56,23,33,274,146,128,14,null,14,137,69,68,86,40,46,58,31,27]
["Baja California",6447,3977,2470,5586,3442,2143,3109,1745,1364,3026,1515,1511,2345,1533,812,5440,4670,770,1185,767,418,96,50,46,229,154,75,409,230,179,0,0,0,0,0,0,1904,1353,551,101,48,53,118,42,76,673,350,323,35,null,35,228,132,96,199,113,86,210,162,48]
["Baja California Sur",1126,677,449,2057,1263,794,492,261,231,613,333,280,347,225,122,381,300,81,170,109,61,18,9,9,30,19,11,80,46,34,0,0,0,1,0,1,371,254,117,20,7,13,26,7,19,147,78,69,7,null,7,62,31,31,32,20,12,14,6,8]
["Campeche",1746,1015,731,1533,911,622,989,458,531,640,319,321,488,291,197,525,425,100,175,105,70,33,19,14,27,14,13,82,47,35,0,0,0,0,0,0,484,280,204,24,8,16,35,12,23,199,104,95,11,null,11,76,45,31,48,23,25,299,163,136]
["Coahuila",6060,3468,2592,4608,2670,1938,3624,1743,1881,2475,1230,1245,1618,964,654,1403,1095,308,464,234,230,83,42,41,72,52,20,309,172,137,3,2,1,0,0,0,1490,903,587,84,33,51,114,35,79,618,308,310,27,null,27,356,197,159,190,109,81,562,279,283]
["Colima",1448,831,617,1685,1031,654,916,490,426,700,346,354,604,369,235,986,835,151,146,72,74,30,11,19,37,27,10,98,67,31,0,0,0,1,1,0,454,288,166,31,11,20,24,4,20,207,86,121,5,null,5,44,31,13,36,22,14,192,84,108]
["Chiapas",10307,5821,4486,3119,1892,1227,6665,3087,3578,3844,1884,1960,3208,1883,1325,1896,1524,372,1265,737,528,423,221,202,158,132,26,509,293,216,1,1,0,2,0,2,3582,2243,1339,62,32,30,162,55,107,1437,790,647,69,null,69,639,352,287,453,245,208,1924,1053,871]
["Chihuahua",7980,4458,3522,4012,2239,1773,3415,1669,1746,3310,1615,1695,2423,1397,1026,4966,4107,859,882,431,451,159,65,94,279,222,57,457,257,200,0,0,0,0,0,0,2318,1428,890,109,51,58,106,34,72,722,353,369,43,null,43,424,235,189,224,127,97,228,137,91]
["Ciudad de México",26261,13105,13156,42272,26146,16126,15515,8335,7180,12192,5668,6524,8543,4968,3575,3979,3220,759,2127,1052,1075,578,281,297,412,293,119,1313,704,609,0,0,0,0,0,0,8255,4945,3310,724,310,414,806,269,537,2835,1334,1501,89,null,89,763,412,351,868,431,437,320,209,111]
["Durango",4117,2222,1895,2189,1206,983,1610,803,807,1227,610,617,1154,668,486,999,819,180,233,116,117,50,27,23,33,23,10,144,79,65,0,0,0,0,0,0,829,482,347,46,20,26,71,28,43,286,146,140,18,null,18,223,135,88,91,54,37,237,132,105]
["Guanajuato",14343,7665,6678,10111,5965,4146,8745,4314,4431,4130,2019,2111,4376,2567,1809,6798,5697,1101,709,311,398,195,89,106,177,139,38,583,327,256,0,0,0,2,1,1,3609,2332,1277,162,74,88,203,72,131,1220,619,601,41,null,41,449,258,191,408,235,173,238,103,135]
["Guerrero",6101,3314,2787,6694,4123,2571,4398,2250,2148,1899,919,980,1722,1059,663,2527,2084,443,499,262,237,244,119,125,111,85,26,262,133,129,2,1,1,2,1,1,1603,980,623,37,18,19,105,29,76,655,357,298,44,null,44,295,165,130,166,98,68,493,278,215]
["Hidalgo",6247,3354,2893,6034,3759,2275,3388,1765,1623,2110,1070,1040,1543,909,634,1480,1163,317,357,180,177,127,71,56,88,63,25,237,129,108,0,0,0,1,1,0,1785,1130,655,42,25,17,108,35,73,479,286,193,34,null,34,257,146,111,104,58,46,193,84,109]
["Jalisco",16821,9168,7653,16673,10112,6560,8437,4392,4045,7090,3536,3554,7445,4177,3268,6192,5118,1074,1693,883,810,276,129,147,485,357,128,1112,582,530,0,0,0,2,2,0,4781,2987,1794,359,165,194,390,139,251,2120,1148,972,80,null,80,649,349,300,601,307,294,700,338,362]
["México",28546,15068,13478,30583,19209,11372,24291,12824,11467,9372,4298,5074,10539,6256,4283,7970,6426,1544,1624,815,809,401,198,203,494,370,124,1116,613,503,1,0,1,3,2,1,8805,5822,2983,442,199,243,713,248,465,2642,1400,1242,135,null,135,1172,667,505,772,458,314,147,76,71]
["Michoacán",10581,5678,4903,9246,5597,3649,7237,3629,3608,3551,1819,1732,3751,2185,1566,4940,4181,759,664,329,335,250,105,145,202,157,45,475,254,221,0,0,0,2,1,1,2899,1868,1031,102,51,51,242,81,161,1012,564,448,51,null,51,393,240,153,283,165,118,573,276,297]
["Morelos",5156,2793,2363,5947,3788,2159,3067,1581,1486,1645,794,851,1419,819,600,2238,1948,290,327,171,156,151,71,80,105,63,42,219,110,109,0,0,0,1,1,0,1578,1000,578,85,35,50,89,27,62,503,248,255,14,null,14,135,76,59,87,50,37,77,55,22]
["Nayarit",2169,1208,961,2333,1413,920,1268,665,603,1033,569,464,862,539,323,949,770,179,243,143,100,39,18,21,65,43,22,185,106,79,0,0,0,1,0,1,602,379,223,45,13,32,53,17,36,231,117,114,21,null,21,91,51,40,46,27,19,151,86,65]
["Nuevo León",11559,6586,4973,11182,6713,4469,4859,2497,2362,4791,2386,2405,4211,2522,1689,2876,2398,478,963,548,415,103,50,53,188,86,102,676,365,311,1,1,0,1,1,0,2699,1581,1118,263,132,131,240,86,154,1023,495,528,57,null,57,398,237,161,406,226,180,165,92,73]
["Oaxaca",9987,5172,4815,6731,4202,2529,6830,3227,3603,3191,1503,1688,2502,1487,1015,2258,1851,407,673,365,308,407,185,222,379,298,81,478,274,204,2,1,1,1,0,1,2815,1863,952,70,34,36,255,94,161,918,526,392,48,null,48,315,187,128,260,122,138,1393,720,673]
["Puebla",17623,9058,8565,13179,8174,5004,11717,5952,5765,4293,1992,2301,5801,3408,2393,2986,2377,609,754,365,389,383,182,201,250,194,56,587,321,266,1,1,0,1,0,1,4803,3120,1683,87,35,52,403,154,249,1423,769,654,91,null,91,639,380,259,571,303,268,654,317,337]
["Querétaro",3946,2087,1859,4919,3085,1834,2225,1161,1064,1635,771,864,1285,736,549,1170,944,226,402,189,213,60,30,30,68,53,15,195,117,78,0,0,0,0,0,0,1526,987,539,101,38,63,120,40,80,469,242,227,19,null,19,188,104,84,148,71,77,188,91,97]
["Quintana Roo",1996,1214,782,2597,1639,958,1285,674,611,894,434,460,731,456,275,1513,1256,257,440,271,169,55,29,26,91,39,52,140,82,58,0,0,0,0,0,0,785,522,263,54,25,29,49,14,35,254,115,139,19,null,19,124,64,60,90,47,43,170,98,72]
["San Luis Potosí",6571,3598,2973,4554,2714,1840,3584,1770,1814,2218,1099,1119,2215,1342,873,2134,1786,348,452,218,234,117,52,65,139,103,36,310,181,129,0,0,0,4,2,2,1613,1009,604,63,33,30,125,40,85,592,303,289,21,null,21,207,118,89,186,105,81,284,151,133]
["Sinaloa",6007,3354,2653,5583,3179,2404,2065,1107,958,2530,1326,1204,2251,1385,866,2293,1957,336,673,338,335,104,55,49,81,50,31,344,187,157,0,0,0,1,1,0,989,568,421,38,18,20,127,38,89,497,273,224,40,null,40,224,140,84,121,64,57,202,110,92]
["Sonora",6345,3720,2625,4780,2711,2069,2135,1091,1044,2628,1306,1322,2313,1379,934,3625,3138,487,870,467,403,122,72,50,161,105,56,437,229,208,0,0,0,1,1,0,1294,787,507,84,43,41,89,31,58,644,326,318,25,null,25,179,111,68,151,85,66,230,141,89]
["Tabasco",4919,2790,2129,3185,1876,1309,3607,1705,1902,1730,877,853,1344,772,572,1310,1119,191,398,216,182,97,47,50,38,29,9,240,130,110,1,1,0,0,0,0,1042,643,399,32,13,19,68,19,49,502,272,230,28,null,28,264,161,103,219,129,90,702,356,346]
["Tamaulipas",7087,4073,3014,5042,2956,2086,3901,1946,1955,2731,1288,1443,2113,1248,865,2049,1699,350,671,337,334,110,58,52,85,50,35,319,157,162,4,3,1,4,3,1,1735,1081,654,134,46,88,96,36,60,783,419,364,44,null,44,380,215,165,165,79,86,376,200,176]
["Tlaxcala",2762,1496,1266,2204,1322,882,2146,1121,1025,698,309,389,1790,1103,687,594,450,144,114,54,60,47,27,20,38,31,7,107,65,42,1,0,1,0,0,0,744,477,267,15,10,5,45,15,30,285,161,124,7,null,7,98,64,34,107,56,51,153,68,85]
["Veracruz",21853,11765,10088,11823,6870,4953,14264,6914,7350,6944,3247,3697,5739,3214,2525,3317,2767,550,1723,996,727,654,329,325,518,328,190,914,499,415,2,1,1,3,3,0,5958,3900,2058,187,82,105,336,122,214,2044,1088,956,79,null,79,665,354,311,489,265,224,815,419,396]
["Yucatán",5322,2918,2404,4062,2438,1624,1740,777,963,1839,892,947,1604,940,664,982,782,200,554,285,269,79,39,40,59,36,23,218,119,99,0,0,0,0,0,0,1568,975,593,112,55,57,95,37,58,634,325,309,30,null,30,170,102,68,135,70,65,408,203,205]
["Zacatecas",3378,1772,1606,2058,1197,861,1905,982,923,1311,640,671,1200,704,496,2627,2253,374,202,88,114,89,45,44,109,79,30,204,112,92,1,1,0,0,0,0,975,596,379,46,16,30,116,45,71,319,168,151,13,null,13,115,73,42,85,48,37,156,91,65]

{"sheet":"2022","index":12,"n_rows":33,"n_cols":61,"rows_kept":33,"cut":false,"hidden":true,"merged":[]}
["ESTADO","Enfermedades del sistema circulatorio","Enfermedades del sistema circulatorio. Hombres","Enfermedades del sistema circulatorio. Mujeres ","Asignación provisoria de nuevas afecciones de etiología incierta o de uso emergente, sin especificación","Asignación provisoria de nuevas afecciones de etiología incierta o de uso emergente, sin especificación. Hombres","Asignación provisoria de nuevas afecciones de etiología incierta o de uso emergente, sin especificación. Mujeres ","Enfermedades endocrinas, nutricionales y metabólicas","Enfermedades endocrinas, nutricionales y metabólicas. Hombres ","Enfermedades endocrinas, nutricionales y metabólicas. Mujeres","Tumores (neoplasias)","Tumores (neoplasias) Hombres","Tumores (neoplasias) Mujeres","Enfermedades del sistema respiratorio","Enfermedades del sistema respiratorio. Hombres ","Enfermedades del sistema respiratorio. Mujeres ","Causas externas de morbilidad y de mortalidad","Causas externas de morbilidad y de mortalidad. Hombres ","Causas externas de morbilidad y de mortalidad. Mujeres","Ciertas enfermedades infecciosas y parasitarias","Ciertas enfermedades infecciosas y parasitarias. Hombres ","Ciertas enfermedades infecciosas y parasitarias. Mujeres  ","Enfermedades de la sangre y de los órganos hematopoyéticos, y ciertos trastornos que afectan el mecanismo de la inmunidad","Hombres 8","Mujeres 8","Trastornos mentales y del comportamiento","Hombres 9","Mujeres 9","Enfermedades del sistema nervioso","Hombres 10","Mujeres 10","Enfermedades del ojo y sus anexos","Hombres 11","Mujeres 11","Enfermedades del oído y de la apófisis mastoides","Hombres 12","Mujeres 12","Enfermedades del sistema digestivo","Hombres 13","Mujeres 13","Enfermedades de la piel y del tejido subcutáneo","Hombres 14","Mujeres 14","Enfermedades del sistema osteomuscular y del tejido conjuntivo","Hombres 15","Mujeres 15","Enfermedades del sistema genitourinario","Hombres 16","Mujeres 16","Embarazo, parto y puerperio","Hombres 17","Mujeres 17","Ciertas afecciones originadas en el periodo perinatal","Hombres 18","Mujeres 18","Malformaciones congénitas, deformidades y anomalías cromosómicas","Hombres 19","Mujeres 19","Síntomas, signos y hallazgos anormales clínicos y de laboratorio, no clasificados en otra parte","Hombres 20","Mujeres 20"]
["Aguascalientes",1926,1042,884,646,412,234,1219,611,608,1012,482,530,744,403,341,744,580,164,161,68,93,72,33,39,120,80,40,198,92,106,2,2,0,0,0,0,741,440,301,46,17,29,56,18,38,318,160,158,6,null,6,68,42,26,68,35,33,64,32,32]
["Baja California",6654,4099,2555,1414,832,581,3023,1656,1367,3027,1446,1581,2039,1332,707,4888,4138,750,1119,785,334,146,66,80,310,234,76,424,246,178,1,1,0,2,0,2,1927,1337,590,144,77,67,131,48,83,827,418,409,29,null,29,241,136,105,210,102,108,316,232,84]
["Baja California Sur",1181,701,480,399,253,146,479,253,226,630,348,282,359,210,149,425,341,84,136,85,51,19,10,9,21,11,10,81,47,34,0,0,0,0,0,0,343,236,107,27,15,12,20,5,15,139,85,54,2,null,2,56,31,25,36,19,17,30,18,12]
["Campeche",1512,820,692,197,118,79,847,389,458,695,347,348,314,190,124,522,427,95,170,129,41,32,18,14,25,18,7,88,49,39,0,0,0,1,1,0,475,281,194,30,16,14,29,9,20,180,91,89,3,null,3,72,37,35,63,40,23,209,94,115]
["Chiapas",8861,4801,4060,336,213,123,5249,2352,2897,2539,1217,1322,1464,819,645,1571,1215,356,409,235,174,70,33,37,95,63,32,391,210,181,0,0,0,1,0,1,1676,965,711,129,58,71,148,47,101,667,328,339,22,null,22,164,82,82,153,80,73,400,213,187]
["Chihuahua",7923,4487,3436,1656,953,703,3507,1807,1700,655,333,322,412,229,183,1290,1087,203,153,91,62,21,11,10,30,19,11,110,73,37,0,0,0,0,0,0,519,332,187,47,23,24,31,15,16,191,100,91,4,null,4,46,24,22,35,15,20,213,98,115]
["Ciudad de México",22757,10903,11854,5428,3273,2155,11711,6040,5671,3506,1668,1838,2058,1193,865,1895,1561,334,914,557,357,440,220,220,148,117,31,507,286,221,0,0,0,1,1,0,3213,2056,1157,76,36,40,140,60,80,1217,648,569,42,null,42,275,158,117,310,161,149,1569,816,753]
["Coahuila",6275,3500,2775,1441,841,600,3549,1779,1770,3305,1618,1687,2172,1255,917,4400,3589,811,805,481,324,148,84,64,272,198,74,523,296,227,0,0,0,1,1,0,2319,1448,871,118,52,66,144,60,84,917,470,447,36,null,36,357,203,154,202,122,80,313,145,168]
["Colima",1275,730,545,256,167,89,754,380,374,12367,5627,6740,6750,3612,3138,4105,3210,895,2054,1188,866,535,245,290,400,246,154,1398,725,673,4,3,1,7,4,3,8424,4892,3532,907,381,526,866,257,609,3142,1536,1606,60,null,60,805,438,367,884,463,421,302,188,114]
["Durango",3836,2092,1744,608,361,247,1399,698,701,1287,645,642,1026,615,411,975,764,211,198,106,92,44,22,22,45,36,9,146,83,63,0,0,0,3,2,1,849,485,364,43,20,23,64,19,45,311,157,154,42,null,42,20,13,7,32,21,11,175,92,83]
["Guanajuato",12383,6470,5913,1777,1067,710,7275,3585,3690,4092,1927,2165,2719,1489,1230,6903,5717,1186,586,334,252,212,110,102,155,123,32,571,320,251,1,0,1,2,1,1,3452,2215,1237,155,69,86,215,66,149,1362,692,670,35,null,35,441,235,206,413,231,182,269,127,142]
["Guerrero",5438,2912,2526,740,470,270,3852,1932,1920,1994,953,1041,1094,648,446,2508,2081,427,407,235,172,220,125,95,102,81,21,259,142,117,0,0,0,2,0,2,1603,1023,580,50,26,24,110,39,71,631,358,273,36,null,36,37,23,14,100,53,47,509,264,245]
["Hidalgo",5693,2950,2743,591,362,229,2901,1436,1465,2157,1051,1106,1194,662,532,1597,1251,346,302,171,131,119,59,60,57,43,14,286,157,129,2,0,2,0,0,0,1734,1058,676,35,10,25,113,43,70,549,284,265,16,null,16,168,96,72,127,74,53,242,120,122]
["Jalisco",15297,8252,7045,2955,1821,1134,7273,3758,3515,6933,3471,3462,6112,3310,2802,5728,4652,1076,1462,867,595,252,126,126,504,357,147,1120,608,512,2,1,1,3,1,2,4893,3070,1823,425,177,248,376,129,247,2373,1279,1094,57,null,57,632,369,263,593,286,307,642,293,349]
["México",24797,12562,12235,3336,2078,1258,18992,9723,9269,9988,4534,5454,6726,3573,3153,8447,6809,1638,1531,882,649,405,191,214,500,388,112,1350,735,615,4,2,2,5,2,3,9240,6051,3189,597,279,318,671,209,462,2972,1496,1476,87,null,87,1155,657,498,799,430,369,152,57,95]
["Michoacán",9087,4810,4277,957,600,356,5376,2755,2621,3505,1768,1737,2323,1305,1018,4611,3877,734,459,254,205,201,101,100,150,106,44,473,256,217,1,1,0,1,1,0,2710,1779,931,119,55,64,214,77,137,921,497,424,38,null,38,153,86,67,205,92,113,462,239,223]
["Morelos",4475,2370,2105,770,496,274,2632,1245,1387,1620,754,866,1039,567,472,2028,1715,313,313,178,135,137,74,63,90,58,32,224,130,94,0,0,0,0,0,0,1521,978,543,93,45,48,83,28,55,626,326,300,6,null,6,100,59,41,107,64,43,55,24,31]
["Nayarit",1929,1088,841,361,227,134,1044,538,506,975,521,454,725,444,281,929,758,171,256,162,94,33,20,13,39,27,12,174,96,78,0,0,0,2,1,1,590,352,238,53,29,24,73,28,45,257,135,122,17,null,17,38,19,19,42,22,20,219,104,115]
["Nuevo León",12241,6719,5522,2002,1184,818,4675,2419,2256,5291,2652,2639,3485,1977,1508,3300,2679,621,966,623,343,128,66,62,231,107,124,820,421,399,0,0,0,6,4,2,3259,1917,1342,377,156,221,266,89,177,1334,652,682,45,null,45,351,198,153,363,198,165,169,64,105]
["Oaxaca",8672,4251,4421,911,588,323,5577,2630,2947,2990,1345,1645,1836,1003,833,2194,1781,413,537,292,245,374,173,201,336,273,63,455,248,207,1,1,0,1,0,1,2717,1784,933,69,31,38,233,90,143,843,444,399,41,null,41,202,112,90,224,120,104,1095,514,581]
["Puebla",13854,6923,6931,1179,702,476,8657,4188,4469,4315,1970,2345,2766,1423,1343,3458,2793,665,668,382,286,293,151,142,191,150,41,639,368,271,1,0,1,0,0,0,4729,3088,1641,65,22,43,361,124,237,1372,713,659,39,null,39,583,315,268,620,340,280,545,272,273]
["Querétaro",3644,1934,1710,864,555,309,1760,866,894,1687,825,862,1150,646,504,1206,963,243,317,188,129,55,28,27,62,44,18,271,139,132,0,0,0,1,1,0,1511,971,540,90,36,54,165,74,91,569,289,280,13,null,13,188,103,85,154,86,68,208,96,112]
["Quintana Roo",1919,1135,784,312,203,109,1264,664,600,971,478,493,515,316,199,1476,1247,229,349,255,94,66,33,33,84,42,42,154,87,67,1,0,1,1,0,1,941,630,311,53,25,28,55,23,32,267,133,134,10,null,10,111,58,53,81,48,33,179,99,80]
["San Luis Potosí",6208,3279,2929,900,565,335,3171,1580,1591,2173,1107,1066,1541,860,681,2104,1771,333,424,239,185,121,48,73,124,89,35,374,217,157,0,0,0,2,2,0,1714,1025,689,74,32,42,99,34,65,673,340,333,18,null,18,173,110,63,185,104,81,254,136,118]
["Sinaloa",5316,2946,2370,844,500,344,2004,1067,937,2478,1354,1124,1394,796,598,2134,1830,304,459,276,183,82,38,44,70,42,28,333,163,170,0,0,0,0,0,0,985,583,402,82,37,45,139,51,88,534,254,280,13,null,13,58,41,17,70,42,28,233,132,101]
["Sonora",6326,3669,2657,1295,763,532,2022,1019,1003,2772,1436,1336,1922,1160,762,3290,2788,502,920,577,343,118,69,49,167,106,61,465,272,193,1,0,1,0,0,0,1391,843,548,134,60,74,129,51,78,701,335,366,19,null,19,172,93,79,122,67,55,271,143,128]
["Tabasco",4646,2578,2068,395,214,181,3124,1523,1601,1699,835,864,849,463,386,1399,1162,237,396,275,121,84,50,34,43,27,16,230,136,94,1,1,0,0,0,0,1024,631,393,40,18,22,58,18,40,500,256,244,26,null,26,217,124,93,190,96,94,485,252,233]
["Tamaulipas",6878,3878,3000,1169,705,464,3536,1825,1711,2756,1400,1356,1544,898,646,1917,1524,393,514,300,214,130,61,69,66,31,35,366,188,178,1,0,1,2,2,0,1709,1052,657,130,59,71,100,33,67,858,402,456,21,null,21,123,72,51,119,66,53,433,213,220]
["Tlaxcala",2359,1174,1185,200,141,59,1503,725,778,778,370,408,483,270,213,648,502,146,108,59,49,46,23,23,35,26,9,125,79,46,0,0,0,0,0,0,772,479,293,14,7,7,40,9,31,281,156,125,15,null,15,91,49,42,115,65,50,128,57,71]
["Veracruz",19350,9951,9399,1623,961,662,11889,5671,6218,6840,3237,3603,4001,2153,1848,3100,2541,559,1459,897,562,625,293,332,489,318,171,938,524,414,2,2,0,5,2,3,5714,3690,2024,292,110,182,304,108,196,2110,1119,991,55,null,55,629,359,270,513,262,251,743,355,388]
["Yucatán",5040,2708,2332,756,445,311,1614,717,897,1826,846,980,1279,689,590,1084,872,212,453,279,174,80,41,39,65,43,22,216,114,102,0,0,0,0,0,0,1640,995,645,115,49,66,81,24,57,596,300,296,11,null,11,142,84,58,157,77,80,523,240,283]
["Zacatecas",3131,1624,1507,562,324,238,1680,815,865,1186,580,606,1020,588,432,2341,1954,387,169,85,84,73,38,35,117,91,26,198,111,87,0,0,0,0,0,0,918,548,370,64,25,39,107,31,76,360,187,173,8,null,8,76,45,31,72,37,35,166,94,72]

{"sheet":"Comp.Anual-E","index":13,"n_rows":24,"n_cols":4,"rows_kept":24,"cut":false,"hidden":false,"merged":[[0,0,0,3]]}
["Mortalidad Estatal"]
["SELECCIONE UNA ENTIDAD"]
["Guanajuato","2020","2021","2022"]
["Enfermedades del sistema circulatorio",{"$f":"VLOOKUP($A$3,Tabla1[],MATCH(A4,Tabla1[#Headers],0),FALSE)","v":12721},{"$f":"VLOOKUP($A$3,Tabla2[],MATCH(A4,Tabla2[#Headers],0),FALSE)","v":14343},{"$f":"VLOOKUP($A$3,Tabla3[],MATCH(A4,Tabla3[#Headers],0),FALSE)","v":12383}]
["Asignación provisoria de nuevas afecciones de etiología incierta o de uso emergente, sin especificación",{"$f":"VLOOKUP($A$3,Tabla1[],MATCH(A5,Tabla1[#Headers],0),FALSE)","v":7256},{"$f":"VLOOKUP($A$3,Tabla2[],MATCH(A5,Tabla2[#Headers],0),FALSE)","v":10111},{"$f":"VLOOKUP($A$3,Tabla3[],MATCH(A5,Tabla3[#Headers],0),FALSE)","v":1777}]
["Enfermedades endocrinas, nutricionales y metabólicas",{"$f":"VLOOKUP($A$3,Tabla1[],MATCH(A6,Tabla1[#Headers],0),FALSE)","v":8431},{"$f":"VLOOKUP($A$3,Tabla2[],MATCH(A6,Tabla2[#Headers],0),FALSE)","v":8745},{"$f":"VLOOKUP($A$3,Tabla3[],MATCH(A6,Tabla3[#Headers],0),FALSE)","v":7275}]
["Tumores (neoplasias)",{"$f":"VLOOKUP($A$3,Tabla1[],MATCH(A7,Tabla1[#Headers],0),FALSE)","v":4101},{"$f":"VLOOKUP($A$3,Tabla2[],MATCH(A7,Tabla2[#Headers],0),FALSE)","v":4130},{"$f":"VLOOKUP($A$3,Tabla3[],MATCH(A7,Tabla3[#Headers],0),FALSE)","v":4092}]
["Enfermedades del sistema respiratorio",{"$f":"VLOOKUP($A$3,Tabla1[],MATCH(A8,Tabla1[#Headers],0),FALSE)","v":4390},{"$f":"VLOOKUP($A$3,Tabla2[],MATCH(A8,Tabla2[#Headers],0),FALSE)","v":4376},{"$f":"VLOOKUP($A$3,Tabla3[],MATCH(A8,Tabla3[#Headers],0),FALSE)","v":2719}]
["Causas externas de morbilidad y de mortalidad",{"$f":"VLOOKUP($A$3,Tabla1[],MATCH(A9,Tabla1[#Headers],0),FALSE)","v":7750},{"$f":"VLOOKUP($A$3,Tabla2[],MATCH(A9,Tabla2[#Headers],0),FALSE)","v":6798},{"$f":"VLOOKUP($A$3,Tabla3[],MATCH(A9,Tabla3[#Headers],0),FALSE)","v":6903}]
["Ciertas enfermedades infecciosas y parasitarias",{"$f":"VLOOKUP($A$3,Tabla1[],MATCH(A10,Tabla1[#Headers],0),FALSE)","v":524},{"$f":"VLOOKUP($A$3,Tabla2[],MATCH(A10,Tabla2[#Headers],0),FALSE)","v":709},{"$f":"VLOOKUP($A$3,Tabla3[],MATCH(A10,Tabla3[#Headers],0),FALSE)","v":586}]
["Enfermedades de la sangre y de los órganos hematopoyéticos, y ciertos trastornos que afectan el mecanismo de la inmunidad",{"$f":"VLOOKUP($A$3,Tabla1[],MATCH(A11,Tabla1[#Headers],0),FALSE)","v":193},{"$f":"VLOOKUP($A$3,Tabla2[],MATCH(A11,Tabla2[#Headers],0),FALSE)","v":195},{"$f":"VLOOKUP($A$3,Tabla3[],MATCH(A11,Tabla3[#Headers],0),FALSE)","v":212}]
["Trastornos mentales y del comportamiento",{"$f":"VLOOKUP($A$3,Tabla1[],MATCH(A12,Tabla1[#Headers],0),FALSE)","v":200},{"$f":"VLOOKUP($A$3,Tabla2[],MATCH(A12,Tabla2[#Headers],0),FALSE)","v":177},{"$f":"VLOOKUP($A$3,Tabla3[],MATCH(A12,Tabla3[#Headers],0),FALSE)","v":155}]
["Enfermedades del sistema nervioso",{"$f":"VLOOKUP($A$3,Tabla1[],MATCH(A13,Tabla1[#Headers],0),FALSE)","v":558},{"$f":"VLOOKUP($A$3,Tabla2[],MATCH(A13,Tabla2[#Headers],0),FALSE)","v":583},{"$f":"VLOOKUP($A$3,Tabla3[],MATCH(A13,Tabla3[#Headers],0),FALSE)","v":571}]
["Enfermedades del ojo y sus anexos",{"$f":"VLOOKUP($A$3,Tabla1[],MATCH(A14,Tabla1[#Headers],0),FALSE)","v":1},{"$f":"VLOOKUP($A$3,Tabla2[],MATCH(A14,Tabla2[#Headers],0),FALSE)","v":0},{"$f":"VLOOKUP($A$3,Tabla3[],MATCH(A14,Tabla3[#Headers],0),FALSE)","v":1}]
["Enfermedades del oído y de la apófisis mastoides",{"$f":"VLOOKUP($A$3,Tabla1[],MATCH(A15,Tabla1[#Headers],0),FALSE)","v":0},{"$f":"VLOOKUP($A$3,Tabla2[],MATCH(A15,Tabla2[#Headers],0),FALSE)","v":2},{"$f":"VLOOKUP($A$3,Tabla3[],MATCH(A15,Tabla3[#Headers],0),FALSE)","v":2}]
["Enfermedades del sistema digestivo",{"$f":"VLOOKUP($A$3,Tabla1[],MATCH(A16,Tabla1[#Headers],0),FALSE)","v":3305},{"$f":"VLOOKUP($A$3,Tabla2[],MATCH(A16,Tabla2[#Headers],0),FALSE)","v":3609},{"$f":"VLOOKUP($A$3,Tabla3[],MATCH(A16,Tabla3[#Headers],0),FALSE)","v":3452}]
["Enfermedades de la piel y del tejido subcutáneo",{"$f":"VLOOKUP($A$3,Tabla1[],MATCH(A17,Tabla1[#Headers],0),FALSE)","v":153},{"$f":"VLOOKUP($A$3,Tabla2[],MATCH(A17,Tabla2[#Headers],0),FALSE)","v":162},{"$f":"VLOOKUP($A$3,Tabla3[],MATCH(A17,Tabla3[#Headers],0),FALSE)","v":155}]
["Enfermedades del sistema osteomuscular y del tejido conjuntivo",{"$f":"VLOOKUP($A$3,Tabla1[],MATCH(A18,Tabla1[#Headers],0),FALSE)","v":220},{"$f":"VLOOKUP($A$3,Tabla2[],MATCH(A18,Tabla2[#Headers],0),FALSE)","v":203},{"$f":"VLOOKUP($A$3,Tabla3[],MATCH(A18,Tabla3[#Headers],0),FALSE)","v":215}]
["Enfermedades del sistema genitourinario",{"$f":"VLOOKUP($A$3,Tabla1[],MATCH(A19,Tabla1[#Headers],0),FALSE)","v":1152},{"$f":"VLOOKUP($A$3,Tabla2[],MATCH(A19,Tabla2[#Headers],0),FALSE)","v":1220},{"$f":"VLOOKUP($A$3,Tabla3[],MATCH(A19,Tabla3[#Headers],0),FALSE)","v":1362}]
["Embarazo, parto y puerperio",{"$f":"VLOOKUP($A$3,Tabla1[],MATCH(A20,Tabla1[#Headers],0),FALSE)","v":46},{"$f":"VLOOKUP($A$3,Tabla2[],MATCH(A20,Tabla2[#Headers],0),FALSE)","v":41},{"$f":"VLOOKUP($A$3,Tabla3[],MATCH(A20,Tabla3[#Headers],0),FALSE)","v":35}]
["Ciertas afecciones originadas en el periodo perinatal",{"$f":"VLOOKUP($A$3,Tabla1[],MATCH(A21,Tabla1[#Headers],0),FALSE)","v":477},{"$f":"VLOOKUP($A$3,Tabla2[],MATCH(A21,Tabla2[#Headers],0),FALSE)","v":449},{"$f":"VLOOKUP($A$3,Tabla3[],MATCH(A21,Tabla3[#Headers],0),FALSE)","v":441}]
["Malformaciones congénitas, deformidades y anomalías cromosómicas",{"$f":"VLOOKUP($A$3,Tabla1[],MATCH(A22,Tabla1[#Headers],0),FALSE)","v":434},{"$f":"VLOOKUP($A$3,Tabla2[],MATCH(A22,Tabla2[#Headers],0),FALSE)","v":408},{"$f":"VLOOKUP($A$3,Tabla3[],MATCH(A22,Tabla3[#Headers],0),FALSE)","v":413}]
["Síntomas, signos y hallazgos anormales clínicos y de laboratorio, no clasificados en otra parte",{"$f":"VLOOKUP($A$3,Tabla1[],MATCH(A23,Tabla1[#Headers],0),FALSE)","v":219},{"$f":"VLOOKUP($A$3,Tabla2[],MATCH(A23,Tabla2[#Headers],0),FALSE)","v":238},{"$f":"VLOOKUP($A$3,Tabla3[],MATCH(A23,Tabla3[#Headers],0),FALSE)","v":269}]
["Total",{"$f":"SUBTOTAL(109,TablaA2[2020])","v":52131},{"$f":"SUBTOTAL(109,TablaA2[2021])","v":56499},{"$f":"SUBTOTAL(109,TablaA2[2022])","v":43018}]

{"sheet":"GCMxAño-E","index":14,"n_rows":24,"n_cols":5,"rows_kept":24,"cut":false,"hidden":false,"merged":[[0,0,0,4]]}
["Grandes Causas de Mortalidad"]
[null,"SELECCIONE UNA ENTIDAD"]
["ID","Sinaloa","2020","2021","2022"]
[1,"Enfermedades del sistema circulatorio",{"$f":"VLOOKUP($B$3,Tabla1[],MATCH(B4,Tabla1[#Headers],0),FALSE)","v":6094},{"$f":"VLOOKUP($B$3,Tabla2[],MATCH(B4,Tabla2[#Headers],0),FALSE)","v":6007},{"$f":"VLOOKUP($B$3,Tabla3[],MATCH(B4,Tabla3[#Headers],0),FALSE)","v":5316}]
[2,"Asignación provisoria de nuevas afecciones de etiología incierta o de uso emergente, sin especificación",{"$f":"VLOOKUP($B$3,Tabla1[],MATCH(B5,Tabla1[#Headers],0),FALSE)","v":5505},{"$f":"VLOOKUP($B$3,Tabla2[],MATCH(B5,Tabla2[#Headers],0),FALSE)","v":5583},{"$f":"VLOOKUP($B$3,Tabla3[],MATCH(B5,Tabla3[#Headers],0),FALSE)","v":844}]
[3,"Enfermedades endocrinas, nutricionales y metabólicas",{"$f":"VLOOKUP($B$3,Tabla1[],MATCH(B6,Tabla1[#Headers],0),FALSE)","v":2403},{"$f":"VLOOKUP($B$3,Tabla2[],MATCH(B6,Tabla2[#Headers],0),FALSE)","v":2065},{"$f":"VLOOKUP($B$3,Tabla3[],MATCH(B6,Tabla3[#Headers],0),FALSE)","v":2004}]
[4,"Tumores (neoplasias)",{"$f":"VLOOKUP($B$3,Tabla1[],MATCH(B7,Tabla1[#Headers],0),FALSE)","v":2439},{"$f":"VLOOKUP($B$3,Tabla2[],MATCH(B7,Tabla2[#Headers],0),FALSE)","v":2530},{"$f":"VLOOKUP($B$3,Tabla3[],MATCH(B7,Tabla3[#Headers],0),FALSE)","v":2478}]
[5,"Enfermedades del sistema respiratorio",{"$f":"VLOOKUP($B$3,Tabla1[],MATCH(B8,Tabla1[#Headers],0),FALSE)","v":2538},{"$f":"VLOOKUP($B$3,Tabla2[],MATCH(B8,Tabla2[#Headers],0),FALSE)","v":2251},{"$f":"VLOOKUP($B$3,Tabla3[],MATCH(B8,Tabla3[#Headers],0),FALSE)","v":1394}]
[6,"Causas externas de morbilidad y de mortalidad",{"$f":"VLOOKUP($B$3,Tabla1[],MATCH(B9,Tabla1[#Headers],0),FALSE)","v":2371},{"$f":"VLOOKUP($B$3,Tabla2[],MATCH(B9,Tabla2[#Headers],0),FALSE)","v":2293},{"$f":"VLOOKUP($B$3,Tabla3[],MATCH(B9,Tabla3[#Headers],0),FALSE)","v":2134}]
[7,"Ciertas enfermedades infecciosas y parasitarias",{"$f":"VLOOKUP($B$3,Tabla1[],MATCH(B10,Tabla1[#Headers],0),FALSE)","v":408},{"$f":"VLOOKUP($B$3,Tabla2[],MATCH(B10,Tabla2[#Headers],0),FALSE)","v":673},{"$f":"VLOOKUP($B$3,Tabla3[],MATCH(B10,Tabla3[#Headers],0),FALSE)","v":459}]
[8,"Enfermedades de la sangre y de los órganos hematopoyéticos, y ciertos trastornos que afectan el mecanismo de la inmunidad",{"$f":"VLOOKUP($B$3,Tabla1[],MATCH(B11,Tabla1[#Headers],0),FALSE)","v":81},{"$f":"VLOOKUP($B$3,Tabla2[],MATCH(B11,Tabla2[#Headers],0),FALSE)","v":104},{"$f":"VLOOKUP($B$3,Tabla3[],MATCH(B11,Tabla3[#Headers],0),FALSE)","v":82}]
[9,"Trastornos mentales y del comportamiento",{"$f":"VLOOKUP($B$3,Tabla1[],MATCH(B12,Tabla1[#Headers],0),FALSE)","v":76},{"$f":"VLOOKUP($B$3,Tabla2[],MATCH(B12,Tabla2[#Headers],0),FALSE)","v":81},{"$f":"VLOOKUP($B$3,Tabla3[],MATCH(B12,Tabla3[#Headers],0),FALSE)","v":70}]
[10,"Enfermedades del sistema nervioso",{"$f":"VLOOKUP($B$3,Tabla1[],MATCH(B13,Tabla1[#Headers],0),FALSE)","v":375},{"$f":"VLOOKUP($B$3,Tabla2[],MATCH(B13,Tabla2[#Headers],0),FALSE)","v":344},{"$f":"VLOOKUP($B$3,Tabla3[],MATCH(B13,Tabla3[#Headers],0),FALSE)","v":333}]
[11,"Enfermedades del ojo y sus anexos",{"$f":"VLOOKUP($B$3,Tabla1[],MATCH(B14,Tabla1[#Headers],0),FALSE)","v":1},{"$f":"VLOOKUP($B$3,Tabla2[],MATCH(B14,Tabla2[#Headers],0),FALSE)","v":0},{"$f":"VLOOKUP($B$3,Tabla3[],MATCH(B14,Tabla3[#Headers],0),FALSE)","v":0}]
[12,"Enfermedades del oído y de la apófisis mastoides",{"$f":"VLOOKUP($B$3,Tabla1[],MATCH(B15,Tabla1[#Headers],0),FALSE)","v":2},{"$f":"VLOOKUP($B$3,Tabla2[],MATCH(B15,Tabla2[#Headers],0),FALSE)","v":1},{"$f":"VLOOKUP($B$3,Tabla3[],MATCH(B15,Tabla3[#Headers],0),FALSE)","v":0}]
[13,"Enfermedades del sistema digestivo",{"$f":"VLOOKUP($B$3,Tabla1[],MATCH(B16,Tabla1[#Headers],0),FALSE)","v":853},{"$f":"VLOOKUP($B$3,Tabla2[],MATCH(B16,Tabla2[#Headers],0),FALSE)","v":989},{"$f":"VLOOKUP($B$3,Tabla3[],MATCH(B16,Tabla3[#Headers],0),FALSE)","v":985}]
[14,"Enfermedades de la piel y del tejido subcutáneo",{"$f":"VLOOKUP($B$3,Tabla1[],MATCH(B17,Tabla1[#Headers],0),FALSE)","v":33},{"$f":"VLOOKUP($B$3,Tabla2[],MATCH(B17,Tabla2[#Headers],0),FALSE)","v":38},{"$f":"VLOOKUP($B$3,Tabla3[],MATCH(B17,Tabla3[#Headers],0),FALSE)","v":82}]
[15,"Enfermedades del sistema osteomuscular y del tejido conjuntivo",{"$f":"VLOOKUP($B$3,Tabla1[],MATCH(B18,Tabla1[#Headers],0),FALSE)","v":152},{"$f":"VLOOKUP($B$3,Tabla2[],MATCH(B18,Tabla2[#Headers],0),FALSE)","v":127},{"$f":"VLOOKUP($B$3,Tabla3[],MATCH(B18,Tabla3[#Headers],0),FALSE)","v":139}]
[16,"Enfermedades del sistema genitourinario",{"$f":"VLOOKUP($B$3,Tabla1[],MATCH(B19,Tabla1[#Headers],0),FALSE)","v":490},{"$f":"VLOOKUP($B$3,Tabla2[],MATCH(B19,Tabla2[#Headers],0),FALSE)","v":497},{"$f":"VLOOKUP($B$3,Tabla3[],MATCH(B19,Tabla3[#Headers],0),FALSE)","v":534}]
[17,"Embarazo, parto y puerperio",{"$f":"VLOOKUP($B$3,Tabla1[],MATCH(B20,Tabla1[#Headers],0),FALSE)","v":34},{"$f":"VLOOKUP($B$3,Tabla2[],MATCH(B20,Tabla2[#Headers],0),FALSE)","v":40},{"$f":"VLOOKUP($B$3,Tabla3[],MATCH(B20,Tabla3[#Headers],0),FALSE)","v":13}]
[18,"Ciertas afecciones originadas en el periodo perinatal",{"$f":"VLOOKUP($B$3,Tabla1[],MATCH(B21,Tabla1[#Headers],0),FALSE)","v":159},{"$f":"VLOOKUP($B$3,Tabla2[],MATCH(B21,Tabla2[#Headers],0),FALSE)","v":224},{"$f":"VLOOKUP($B$3,Tabla3[],MATCH(B21,Tabla3[#Headers],0),FALSE)","v":58}]
[19,"Malformaciones congénitas, deformidades y anomalías cromosómicas",{"$f":"VLOOKUP($B$3,Tabla1[],MATCH(B22,Tabla1[#Headers],0),FALSE)","v":106},{"$f":"VLOOKUP($B$3,Tabla2[],MATCH(B22,Tabla2[#Headers],0),FALSE)","v":121},{"$f":"VLOOKUP($B$3,Tabla3[],MATCH(B22,Tabla3[#Headers],0),FALSE)","v":70}]
[20,"Síntomas, signos y hallazgos anormales clínicos y de laboratorio, no clasificados en otra parte",{"$f":"VLOOKUP($B$3,Tabla1[],MATCH(B23,Tabla1[#Headers],0),FALSE)","v":188},{"$f":"VLOOKUP($B$3,Tabla2[],MATCH(B23,Tabla2[#Headers],0),FALSE)","v":202},{"$f":"VLOOKUP($B$3,Tabla3[],MATCH(B23,Tabla3[#Headers],0),FALSE)","v":233}]
[null,"Total",{"$f":"SUBTOTAL(109,TablaA3[2020])","v":24308},{"$f":"SUBTOTAL(109,TablaA3[2021])","v":24170},{"$f":"SUBTOTAL(109,TablaA3[2022])","v":17228}]

{"sheet":"T-1GE-D","index":15,"n_rows":36,"n_cols":64,"rows_kept":36,"cut":false,"hidden":true,"merged":[[2,50,2,63],[1,0,1,63],[2,0,3,0],[2,1,2,3],[2,4,2,6],[2,7,2,9],[2,10,2,12],[2,13,2,15],[2,16,2,18],[2,19,2,21],[2,22,2,35],[2,36,2,49]]}
[1,2,3,4,5,6,7,8,9,10,11,12,13,14,15,16,17,18,19,20,21,22,23,24,25,26,27,28,29,30,31,32,33,34,35,36,37,38,39,40,41,42,43,44,45,46,47,48,49,50,51,52,53,54,55,56,57,58,59,60,61,62,63,64]
["Enfermedades del sistema circulatorio"]
["ESTADO","Fiebre reumática aguda y enfermedades cardiacas reumáticas crónicas",null,null,"Enfermedades hipertensivas",null,null,"Enfermedades isquémicas del corazón",null,null,"Otras enfermedades del corazón",null,null,"Enfermedades cerebrovasculares",null,null,"Aterosclerosis",null,null,"Resto de enfermedades del sistema circulatorio",null,null,2020,null,null,null,null,null,null,null,null,null,null,null,null,null,2021,null,null,null,null,null,null,null,null,null,null,null,null,null,2022]
[null,2020,2021,2022,2020,2021,2022,2020,2021,2022,2020,2021,2022,2020,2021,2022,2020,2021,2022,2020,2021,2022,"Hombres 2020(1)","Hombres 2020(2)","Hombres 2020(3)","Hombres 2020(4)","Hombres 2020(5)","Hombres 2020(6)","Hombres 2020(7)","Mujeres 2020(1)","Mujeres 2020(2)","Mujeres 2020(3)","Mujeres 2020(4)","Mujeres 2020(5)","Mujeres 2020(6)","Mujeres 2020(7)","Hombres 2021(1)","Hombres 2021(2)","Hombres 2021(3)","Hombres 2021(4)","Hombres 2021(5)","Hombres 2021(6)","Hombres 2021(7)","Mujeres 2021(1)","Mujeres 2021(2)","Mujeres 2021(3)","Mujeres 2021(4)","Mujeres 2021(5)","Mujeres 2021(6)","Mujeres 2021(7)","Hombres 2022(1)","Hombres 2022(2)","Hombres 2022(3)","Hombres 2022(4)","Hombres 2022(5)","Hombres 2022(6)","Hombres 2022(7)","Mujeres 2022(1)","Mujeres 2022(2)","Mujeres 2022(3)","Mujeres 2022(4)","Mujeres 2022(5)","Mujeres 2022(6)","Mujeres 2022(7)"]
["Aguascalientes",9,4,7,339,338,289,899,1054,1037,151,168,193,325,347,346,2,0,0,62,67,54,5,167,542,70,151,1,32,4,172,357,81,174,1,30,2,165,624,89,170,0,38,2,173,430,79,177,0,29,3,134,622,86,166,0,31,4,155,415,107,180,0,23]
["Baja California",10,5,20,912,824,848,3872,3558,3534,833,827,984,1041,1130,1157,50,3,2,103,100,109,3,437,2543,521,610,30,61,7,475,1329,312,431,20,42,1,416,2331,538,627,0,64,4,408,1227,289,503,3,36,8,435,2321,630,646,1,58,12,413,1213,354,511,1,51]
["Baja California Sur",3,2,2,109,90,102,739,770,769,80,78,90,149,163,194,2,1,0,19,22,24,1,54,484,42,81,1,15,2,55,255,38,68,1,4,1,45,490,45,83,1,12,1,45,280,33,80,0,10,0,50,480,44,113,0,14,2,52,289,46,81,0,10]
["Campeche",3,2,0,194,163,143,1218,1256,1048,94,92,88,218,212,220,1,0,0,24,21,13,2,95,737,55,116,1,14,1,99,481,39,102,0,10,1,78,767,51,105,0,13,1,85,489,41,107,0,8,0,65,576,42,130,0,7,0,78,472,46,90,0,6]
["Coahuila",12,15,17,1489,1038,698,3754,3408,3646,498,659,929,884,872,887,11,2,2,83,66,96,8,724,2246,260,490,5,45,4,765,1508,238,394,6,38,8,541,2047,357,485,0,30,7,497,1361,302,387,2,36,8,337,2123,499,478,1,54,9,361,1523,430,409,1,42]
["Colima",2,4,1,143,153,166,867,982,763,103,85,90,190,202,232,0,0,2,28,22,21,0,72,512,49,101,0,14,2,71,355,54,89,0,14,0,86,599,36,102,0,8,4,67,383,49,100,0,14,0,70,476,48,125,0,11,1,96,287,42,107,2,10]
["Chiapas",17,15,11,1290,1251,1088,6734,7176,6047,500,494,438,1286,1274,1169,8,3,2,117,94,106,8,649,3999,289,679,3,55,9,641,2735,211,607,5,62,2,639,4151,262,714,1,52,13,612,3025,232,560,2,42,3,549,3337,222,634,0,56,8,539,2710,216,535,2,50]
["Chihuahua",12,19,17,1045,895,968,5860,5053,5078,1188,737,577,1097,1092,1073,53,34,38,152,150,172,4,473,3488,593,575,29,80,8,572,2372,595,522,24,72,5,413,3003,364,575,21,77,14,482,2050,373,517,13,73,7,432,3081,300,559,22,86,10,536,1997,277,514,16,86]
["Ciudad de México",129,130,151,4421,3903,2854,17835,15949,13348,2092,2100,2245,3596,3585,3547,11,27,38,532,567,574,39,2144,9717,952,1647,4,285,90,2277,8118,1140,1949,7,247,33,1846,8403,928,1621,8,266,97,2057,7546,1172,1964,19,301,51,1223,6700,1001,1617,22,289,100,1631,6648,1244,1930,16,285]
["Durango",7,8,7,313,238,236,3225,3254,2976,165,170,171,430,388,401,0,0,0,47,59,45,3,146,1849,69,239,0,23,4,167,1376,96,191,0,24,2,108,1784,89,211,0,28,6,130,1470,81,177,0,31,2,111,1684,77,201,0,17,5,125,1292,94,200,0,28]
["Guanajuato",39,29,19,1154,1196,1117,8970,10538,8890,736,669,679,1644,1697,1499,5,4,5,173,210,174,12,505,4913,383,832,1,104,27,649,4057,353,812,4,69,12,545,5803,319,874,3,109,17,651,4735,350,823,1,101,5,506,4813,339,728,0,79,14,611,4077,340,771,5,95]
["Guerrero",7,4,6,896,874,839,3592,3937,3384,310,256,270,1006,937,869,1,3,2,79,90,68,2,435,2079,159,519,0,40,5,461,1513,151,487,1,39,2,406,2246,125,489,1,45,2,468,1691,131,448,2,45,0,379,1914,132,454,2,31,6,460,1470,138,415,0,37]
["Hidalgo",12,4,10,683,640,593,3851,4210,3603,379,409,463,903,914,939,1,0,5,96,70,80,2,317,2154,177,455,0,48,10,366,1697,202,448,1,48,3,324,2319,196,474,0,38,1,316,1891,213,440,0,32,3,281,1947,218,458,3,40,7,312,1656,245,481,2,40]
["Jalisco",45,49,47,2243,2352,2276,9207,10300,8584,1323,1362,1554,2330,2337,2417,15,9,5,421,412,414,16,1106,5308,685,1177,6,235,29,1137,3899,638,1153,9,186,13,1086,5932,738,1184,4,211,36,1266,4368,624,1153,5,201,14,1040,4997,776,1209,2,214,33,1236,3587,778,1208,3,200]
["México",53,53,70,4342,3498,3324,19954,19811,15973,1059,1112,1361,3953,3679,3636,9,7,12,391,386,421,21,2152,11619,507,1988,4,216,32,2190,8335,552,1965,5,175,20,1669,10820,527,1836,4,192,33,1829,8991,585,1843,3,194,19,1577,8354,627,1762,8,215,51,1747,7619,734,1874,4,206]
["Michoacán",24,23,18,1171,1237,1027,5520,7083,5923,596,633,591,1424,1406,1341,7,9,12,167,190,175,10,541,3060,287,698,4,89,14,630,2460,309,726,3,78,9,576,3968,311,710,4,100,14,661,3115,322,696,5,90,5,477,3268,307,667,7,79,13,550,2655,284,674,5,96]
["Morelos",7,6,6,504,456,452,3061,3789,3183,171,254,205,600,581,577,3,2,1,63,68,51,4,251,1714,77,313,1,26,3,253,1347,94,287,2,37,3,236,2086,144,287,1,36,3,220,1703,110,294,1,32,0,232,1730,94,280,1,33,6,220,1453,111,297,0,18]
["Nayarit",3,5,4,323,291,299,1185,1281,1081,165,160,218,318,402,296,0,0,0,24,30,31,0,161,741,78,179,0,12,3,162,444,87,139,0,12,2,143,771,65,207,0,20,3,148,510,95,195,0,10,1,135,657,115,161,0,19,3,164,424,103,135,0,12]
["Nuevo León",22,29,23,1022,922,983,7320,8017,8199,709,693,861,1828,1773,2006,4,2,6,128,123,163,11,466,4410,354,1014,2,75,11,556,2910,355,814,2,53,10,444,4725,374,962,1,70,19,478,3292,319,811,1,53,10,454,4689,431,1036,2,97,13,529,3510,430,970,4,66]
["Oaxaca",26,21,32,1626,1758,1522,4618,5474,4673,586,674,644,1663,1904,1669,9,12,9,114,144,123,9,759,2528,317,762,4,56,17,867,2090,269,901,5,58,9,816,3004,342,930,6,65,12,942,2470,332,974,6,79,12,660,2393,322,802,4,58,20,862,2280,322,867,5,65]
["Puebla",49,29,34,1702,1825,1393,9654,12441,9501,785,852,788,2319,2282,1974,8,9,3,191,185,161,19,797,5302,389,1155,4,92,30,905,4352,396,1164,4,99,13,856,6569,432,1097,4,87,16,969,5872,420,1185,5,98,14,616,4856,384,965,0,88,20,777,4645,404,1009,3,73]
["Querétaro",7,13,12,345,352,336,2162,2576,2244,230,203,276,662,669,638,2,1,1,77,132,137,0,166,1233,116,319,2,42,7,179,929,114,343,0,35,5,164,1416,98,335,1,68,8,188,1160,105,334,0,64,5,151,1246,131,325,1,75,7,185,998,145,313,0,62]
["Quintana Roo",4,7,7,237,231,225,971,1215,1128,119,155,151,321,355,377,1,0,0,22,33,31,2,111,642,60,185,0,12,2,126,329,59,136,1,10,2,105,788,80,218,0,21,5,126,427,75,137,0,12,4,90,720,81,218,0,22,3,135,408,70,159,0,9]
["San Luis Potosí",9,1,6,953,917,898,3676,4008,3728,715,714,659,856,837,828,2,9,9,100,85,80,3,417,2131,364,452,1,40,6,536,1545,351,404,1,60,0,416,2318,370,448,6,40,1,501,1690,344,389,3,45,4,414,2064,337,412,4,44,2,484,1664,322,416,5,36]
["Sinaloa",3,5,5,608,510,576,4072,4087,3389,579,526,526,751,797,735,3,7,6,78,75,79,1,296,2505,303,418,0,42,2,312,1567,276,333,3,36,0,230,2391,262,430,2,39,5,280,1696,264,367,5,36,2,276,1975,255,398,2,38,3,300,1414,271,337,4,41]
["Sonora",8,6,7,681,591,589,4702,4376,4286,656,464,489,803,812,837,6,4,2,122,92,116,2,345,2854,387,459,4,71,6,336,1848,269,344,2,51,3,272,2666,253,476,1,49,3,319,1710,211,336,3,43,1,287,2575,290,452,0,64,6,302,1711,199,385,2,52]
["Tabasco",5,5,5,946,703,704,3349,3252,3020,229,217,234,681,708,632,2,1,2,50,33,49,2,498,1985,132,361,1,26,3,448,1364,97,320,1,24,0,365,1895,124,393,0,13,5,338,1357,93,315,1,20,2,365,1720,120,352,1,18,3,339,1300,114,280,1,31]
["Tamaulipas",8,9,11,852,843,829,4739,4793,4563,379,381,453,959,982,937,3,4,15,78,75,70,3,443,2893,199,525,1,38,5,409,1846,180,434,2,40,2,377,2924,199,530,2,39,7,466,1869,182,452,2,36,4,402,2719,215,492,7,39,7,427,1844,238,445,8,31]
["Tlaxcala",6,4,7,385,308,296,1644,1900,1521,158,175,179,396,337,322,0,1,0,40,37,34,4,174,937,84,207,0,24,2,211,707,74,189,0,16,2,148,1062,89,176,0,19,2,160,838,86,161,1,18,2,131,802,87,140,0,12,5,165,719,92,182,0,22]
["Veracruz",30,33,31,2418,2220,2183,14073,15130,12720,967,1026,1074,3105,3196,3079,19,16,15,255,232,248,14,1205,7888,514,1571,11,119,16,1213,6185,453,1534,8,136,13,1058,8377,536,1660,10,111,20,1162,6753,490,1536,6,121,11,971,6821,518,1502,4,124,20,1212,5899,556,1577,11,124]
["Yucatán",7,9,10,374,357,361,3723,3836,3432,237,274,312,779,797,863,21,10,12,38,39,50,3,190,2062,136,425,12,22,4,184,1661,101,354,9,16,1,186,2140,143,421,5,22,8,171,1696,131,376,5,17,6,173,1878,159,462,3,27,4,188,1554,153,401,9,23]
["Zacatecas",6,9,8,473,408,411,1813,2117,1929,260,251,254,501,502,455,4,6,5,78,85,69,2,218,1009,135,243,1,38,4,255,804,125,258,3,40,3,177,1161,129,249,6,47,6,231,956,122,253,0,38,4,196,1038,144,211,2,29,4,215,891,110,244,3,40]

{"sheet":"1D-GCM","index":16,"n_rows":11,"n_cols":10,"rows_kept":11,"cut":false,"hidden":false,"merged":[[0,0,0,9]]}
["Enfermedades del sistema circulatorio"]
["SELECCIONE UNA ENTIDAD"]
["Guerrero","2020","H - 2020","M - 2020","2021","H - 2021","M - 2021","2022","H - 2022","M - 2022"]
["Fiebre reumática aguda y enfermedades cardiacas reumáticas crónicas",{"$f":"VLOOKUP($A$3,'T-1GE-D'!$A$5:$BL$36,2,0)","v":7},{"$f":"VLOOKUP($A$3,'T-1GE-D'!$A$5:$BL$36,23,0)","v":2},{"$f":"VLOOKUP($A$3,'T-1GE-D'!$A$5:$BL$36,30,0)","v":5},{"$f":"VLOOKUP($A$3,'T-1GE-D'!$A$5:$BL$36,3,0)","v":4},{"$f":"VLOOKUP($A$3,'T-1GE-D'!$A$5:$BL$36,37,0)","v":2},{"$f":"VLOOKUP($A$3,'T-1GE-D'!$A$5:$BL$36,44,0)","v":2},{"$f":"VLOOKUP($A$3,'T-1GE-D'!$A$5:$BL$36,4,0)","v":6},{"$f":"VLOOKUP($A$3,'T-1GE-D'!$A$5:$BL$36,51,0)","v":0},{"$f":"VLOOKUP($A$3,'T-1GE-D'!$A$5:$BL$36,58,0)","v":6}]
["Enfermedades hipertensivas",{"$f":"VLOOKUP($A$3,'T-1GE-D'!$A$5:$BL$36,5,0)","v":896},{"$f":"VLOOKUP($A$3,'T-1GE-D'!$A$5:$BL$36,24,0)","v":435},{"$f":"VLOOKUP($A$3,'T-1GE-D'!$A$5:$BL$36,31,0)","v":461},{"$f":"VLOOKUP($A$3,'T-1GE-D'!$A$5:$BL$36,6,0)","v":874},{"$f":"VLOOKUP($A$3,'T-1GE-D'!$A$5:$BL$36,38,0)","v":406},{"$f":"VLOOKUP($A$3,'T-1GE-D'!$A$5:$BL$36,45,0)","v":468},{"$f":"VLOOKUP($A$3,'T-1GE-D'!$A$5:$BL$36,7,0)","v":839},{"$f":"VLOOKUP($A$3,'T-1GE-D'!$A$5:$BL$36,52,0)","v":379},{"$f":"VLOOKUP($A$3,'T-1GE-D'!$A$5:$BL$36,59,0)","v":460}]
["Enfermedades isquémicas del corazón",{"$f":"VLOOKUP($A$3,'T-1GE-D'!$A$5:$BL$36,8,0)","v":3592},{"$f":"VLOOKUP($A$3,'T-1GE-D'!$A$5:$BL$36,25,0)","v":2079},{"$f":"VLOOKUP($A$3,'T-1GE-D'!$A$5:$BL$36,32,0)","v":1513},{"$f":"VLOOKUP($A$3,'T-1GE-D'!$A$5:$BL$36,9,0)","v":3937},{"$f":"VLOOKUP($A$3,'T-1GE-D'!$A$5:$BL$36,39,0)","v":2246},{"$f":"VLOOKUP($A$3,'T-1GE-D'!$A$5:$BL$36,46,0)","v":1691},{"$f":"VLOOKUP($A$3,'T-1GE-D'!$A$5:$BL$36,10,0)","v":3384},{"$f":"VLOOKUP($A$3,'T-1GE-D'!$A$5:$BL$36,53,0)","v":1914},{"$f":"VLOOKUP($A$3,'T-1GE-D'!$A$5:$BL$36,60,0)","v":1470}]
["Otras enfermedades del corazón",{"$f":"VLOOKUP($A$3,'T-1GE-D'!$A$5:$BL$36,11,0)","v":310},{"$f":"VLOOKUP($A$3,'T-1GE-D'!$A$5:$BL$36,26,0)","v":159},{"$f":"VLOOKUP($A$3,'T-1GE-D'!$A$5:$BL$36,33,0)","v":151},{"$f":"VLOOKUP($A$3,'T-1GE-D'!$A$5:$BL$36,12,0)","v":256},{"$f":"VLOOKUP($A$3,'T-1GE-D'!$A$5:$BL$36,40,0)","v":125},{"$f":"VLOOKUP($A$3,'T-1GE-D'!$A$5:$BL$36,47,0)","v":131},{"$f":"VLOOKUP($A$3,'T-1GE-D'!$A$5:$BL$36,13,0)","v":270},{"$f":"VLOOKUP($A$3,'T-1GE-D'!$A$5:$BL$36,54,0)","v":132},{"$f":"VLOOKUP($A$3,'T-1GE-D'!$A$5:$BL$36,61,0)","v":138}]
["Enfermedades cerebrovasculares",{"$f":"VLOOKUP($A$3,'T-1GE-D'!$A$5:$BL$36,14,0)","v":1006},{"$f":"VLOOKUP($A$3,'T-1GE-D'!$A$5:$BL$36,27,0)","v":519},{"$f":"VLOOKUP($A$3,'T-1GE-D'!$A$5:$BL$36,34,0)","v":487},{"$f":"VLOOKUP($A$3,'T-1GE-D'!$A$5:$BL$36,15,0)","v":937},{"$f":"VLOOKUP($A$3,'T-1GE-D'!$A$5:$BL$36,41,0)","v":489},{"$f":"VLOOKUP($A$3,'T-1GE-D'!$A$5:$BL$36,48,0)","v":448},{"$f":"VLOOKUP($A$3,'T-1GE-D'!$A$5:$BL$36,16,0)","v":869},{"$f":"VLOOKUP($A$3,'T-1GE-D'!$A$5:$BL$36,55,0)","v":454},{"$f":"VLOOKUP($A$3,'T-1GE-D'!$A$5:$BL$36,62,0)","v":415}]
["Aterosclerosis",{"$f":"VLOOKUP($A$3,'T-1GE-D'!$A$5:$BL$36,17,0)","v":1},{"$f":"VLOOKUP($A$3,'T-1GE-D'!$A$5:$BL$36,28,0)","v":0},{"$f":"VLOOKUP($A$3,'T-1GE-D'!$A$5:$BL$36,35,0)","v":1},{"$f":"VLOOKUP($A$3,'T-1GE-D'!$A$5:$BL$36,18,0)","v":3},{"$f":"VLOOKUP($A$3,'T-1GE-D'!$A$5:$BL$36,42,0)","v":1},{"$f":"VLOOKUP($A$3,'T-1GE-D'!$A$5:$BL$36,49,0)","v":2},{"$f":"VLOOKUP($A$3,'T-1GE-D'!$A$5:$BL$36,19,0)","v":2},{"$f":"VLOOKUP($A$3,'T-1GE-D'!$A$5:$BL$36,56,0)","v":2},{"$f":"VLOOKUP($A$3,'T-1GE-D'!$A$5:$BL$36,63,0)","v":0}]
["Resto de enfermedades del sistema circulatorio",{"$f":"VLOOKUP($A$3,'T-1GE-D'!$A$5:$BL$36,20,0)","v":79},{"$f":"VLOOKUP($A$3,'T-1GE-D'!$A$5:$BL$36,29,0)","v":40},{"$f":"VLOOKUP($A$3,'T-1GE-D'!$A$5:$BL$36,36,0)","v":39},{"$f":"VLOOKUP($A$3,'T-1GE-D'!$A$5:$BL$36,21,0)","v":90},{"$f":"VLOOKUP($A$3,'T-1GE-D'!$A$5:$BL$36,43,0)","v":45},{"$f":"VLOOKUP($A$3,'T-1GE-D'!$A$5:$BL$36,50,0)","v":45},{"$f":"VLOOKUP($A$3,'T-1GE-D'!$A$5:$BL$36,22,0)","v":68},{"$f":"VLOOKUP($A$3,'T-1GE-D'!$A$5:$BL$36,57,0)","v":31},{"$f":"VLOOKUP($A$3,'T-1GE-D'!$A$5:$BL$36,64,0)","v":37}]
["Total",{"$f":"SUM(B4:B10)","v":5891},3234,2657,6101,3314,2787,5438,2912,2526]

{"sheet":"T-2GE-D","index":17,"n_rows":36,"n_cols":10,"rows_kept":36,"cut":false,"hidden":true,"merged":[[2,6,2,7],[2,8,2,9],[1,0,1,9],[2,0,3,0],[2,1,2,3],[2,4,2,5]]}
[1,2,3,4,5,6,7,8,9,10]
["Asignación provisoria de nuevas afecciones"]
["ESTADO","Asignación provisoria de nuevas afecciones de etiología incierta o de uso emergente, sin especificación",null,null,2020,null,2021,null,2022]
[null,2020,2021,2022,"Hombres 2020(1)","Mujeres 2020(1)","Hombres 2021(1)","Mujeres 2021(1)","Hombres 2022(1)","Mujeres 2022(1)"]
["Aguascalientes",2445,2200,646,1525,920,1281,919,412,234]
["Baja California",8248,5586,1413,5020,3228,3442,2143,832,581]
["Baja California Sur",943,2057,399,577,366,1263,794,253,146]
["Campeche",1452,1533,197,947,505,911,622,118,79]
["Coahuila",6397,4608,1441,3838,2559,2670,1938,841,600]
["Colima",956,1685,256,592,364,1031,654,167,89]
["Chiapas",2704,3119,336,1871,833,1892,1227,213,123]
["Chihuahua",7370,4012,1656,4532,2838,2239,1773,953,703]
["Ciudad de México",37978,42272,5428,25342,12636,26146,16126,3273,2155]
["Durango",2787,2189,608,1696,1091,1206,983,361,247]
["Guanajuato",7256,10111,1777,4581,2675,5965,4146,1067,710]
["Guerrero",4459,6694,740,2989,1470,4123,2571,470,270]
["Hidalgo",4258,6034,591,2823,1435,3759,2275,362,229]
["Jalisco",8834,16673,2955,5669,3165,10112,6560,1821,1134]
["México",28613,30583,3336,19059,9554,19209,11372,2078,1258]
["Michoacán",3813,9246,956,2432,1381,5597,3649,600,356]
["Morelos",2796,5947,770,1900,896,3788,2159,496,274]
["Nayarit",1286,2333,361,835,451,1413,920,227,134]
["Nuevo León",9227,11182,2002,5729,3498,6713,4469,1184,818]
["Oaxaca",3344,6731,911,2258,1086,4202,2529,588,323]
["Puebla",8371,13179,1178,5487,2884,8174,5004,702,476]
["Querétaro",2812,4919,864,1805,1007,3085,1834,555,309]
["Quintana Roo",2700,2597,312,1803,897,1639,958,203,109]
["San Luis Potosí",4039,4554,900,2478,1561,2714,1840,565,335]
["Sinaloa",5505,5583,844,3279,2226,3179,2404,500,344]
["Sonora",6242,4780,1295,3679,2563,2711,2069,763,532]
["Tabasco",4201,3185,395,2621,1580,1876,1309,214,181]
["Tamaulipas",4888,5042,1169,2951,1937,2956,2086,705,464]
["Tlaxcala",1504,2204,200,991,513,1322,882,141,59]
["Veracruz",9343,11823,1623,6058,3285,6870,4953,961,662]
["Yucatán",3165,4062,756,2016,1149,2438,1624,445,311]
["Zacatecas",2329,2058,562,1419,910,1197,861,324,238]

{"sheet":"2D-GCM","index":18,"n_rows":5,"n_cols":10,"rows_kept":5,"cut":false,"hidden":false,"merged":[[0,0,0,9]]}
["Asignación provisoria de nuevas afecciones"]
["SELECCIONE UNA ENTIDAD"]
["Nuevo León","2020","Hombres - 2020","Mujeres - 2020","2021","Hombres - 2021","Mujeres - 2021","2022","Hombres - 2022","Mujeres - 2022"]
["Asignación provisoria de nuevas afecciones de etiología incierta o de uso emergente, sin especificación",{"$f":"VLOOKUP($A$3,'T-2GE-D'!$A$5:$J$36,2,0)","v":9227},{"$f":"VLOOKUP($A$3,'T-2GE-D'!$A$5:$J$36,5,0)","v":5729},{"$f":"VLOOKUP($A$3,'T-2GE-D'!$A$5:$J$36,6,0)","v":3498},{"$f":"VLOOKUP($A$3,'T-2GE-D'!$A$5:$J$36,3,0)","v":11182},{"$f":"VLOOKUP($A$3,'T-2GE-D'!$A$5:$J$36,7,0)","v":6713},{"$f":"VLOOKUP($A$3,'T-2GE-D'!$A$5:$J$36,8,0)","v":4469},{"$f":"VLOOKUP($A$3,'T-2GE-D'!$A$5:$J$36,4,0)","v":2002},{"$f":"VLOOKUP($A$3,'T-2GE-D'!$A$5:$J$36,9,0)","v":1184},{"$f":"VLOOKUP($A$3,'T-2GE-D'!$A$5:$J$36,10,0)","v":818}]
["Total",{"$f":"SUM(B4:B4)","v":9227},5729,3498,11182,6713,4469,2002,1184,818]

{"sheet":"T-3GE-D","index":19,"n_rows":36,"n_cols":28,"rows_kept":36,"cut":false,"hidden":true,"merged":[[2,16,2,21],[2,22,2,27],[1,0,1,27],[2,0,3,0],[2,1,2,3],[2,4,2,6],[2,7,2,9],[2,10,2,15]]}
[1,2,3,4,5,6,7,8,9,10,11,12,13,14,15,16,17,18,19,20,21,22,23,24,25,26,27,28]
["Enfermedades endocrinas, nutricionales y metabólicas"]
["ESTADO","Diabetes mellitus",null,null,"Desnutrición",null,null,"Resto de enfermedades endocrinas, nutricionales y metabólicas",null,null,2020,null,null,null,null,null,2021,null,null,null,null,null,2022]
[null,2020,2021,2022,2020,2021,2022,2020,2021,2022,"Hombres 2020(1)","Hombres 2020(2)","Hombres 2020(3)","Mujeres 2020(1)","Mujeres 2020(2)","Mujeres 2020(3)","Hombres 2021(1)","Hombres 2021(2)","Hombres 2021(3)","Mujeres 2021(1)","Mujeres 2021(2)","Mujeres 2021(3)","Hombres 2022(1)","Hombres 2022(2)","Hombres 2022(3)","Mujeres 2022(1)","Mujeres 2022(2)","Mujeres 2022(3)"]
["Aguascalientes",899,892,920,125,127,112,117,156,187,471,53,63,428,72,54,471,77,76,421,50,80,472,56,83,448,56,104]
["Baja California",3583,2720,2607,110,74,88,311,315,328,1982,54,165,1601,56,146,1528,42,175,1192,32,140,1425,46,185,1182,42,143]
["Baja California Sur",506,424,397,34,30,27,42,38,55,279,10,17,227,24,25,225,14,22,199,16,16,210,18,25,187,9,30]
["Campeche",1081,893,748,24,42,41,53,54,58,528,16,33,553,8,20,403,24,31,490,18,23,328,28,33,420,13,25]
["Coahuila",3912,3221,3073,165,150,175,346,253,301,1973,92,178,1939,73,168,1537,82,124,1684,68,129,1527,94,158,1546,81,143]
["Colima",774,829,685,32,28,22,32,59,47,414,18,20,360,14,12,443,15,32,386,13,27,348,15,17,337,7,30]
["Chiapas",5998,5818,4650,611,423,270,439,424,329,2909,307,242,3089,304,197,2631,229,227,3187,194,197,2034,142,176,2616,128,153]
["Chihuahua",3849,2831,2912,132,145,139,560,439,456,1948,73,286,1901,59,274,1362,83,224,1469,62,215,1494,81,232,1418,58,224]
["Ciudad de México",17347,13903,10288,155,138,131,1581,1474,1292,9464,76,867,7883,79,714,7481,62,792,6422,76,682,5313,74,653,4975,57,639]
["Durango",1454,1410,1212,45,33,41,148,167,146,740,20,85,714,25,63,695,24,84,715,9,83,608,19,71,604,22,75]
["Guanajuato",7477,7704,6431,443,483,378,511,558,466,3823,225,274,3654,218,237,3795,225,294,3909,258,264,3156,194,235,3275,184,231]
["Guerrero",4035,3731,3356,259,294,180,340,373,316,2080,125,190,1955,134,150,1901,154,195,1830,140,178,1668,95,169,1688,85,147]
["Hidalgo",3019,2948,2484,144,170,154,235,270,263,1579,68,109,1440,76,126,1541,86,138,1407,84,132,1234,72,130,1250,82,133]
["Jalisco",7137,7024,5952,489,466,421,845,947,900,3826,248,437,3311,241,408,3693,210,489,3331,256,458,3100,200,458,2852,221,442]
["México",23748,21943,17063,528,509,617,1681,1839,1312,13117,231,968,10631,297,713,11635,239,950,10308,270,889,8775,290,658,8288,327,654]
["Michoacán",5619,6270,4650,295,320,271,523,647,455,2862,158,259,2757,137,264,3116,177,336,3154,143,311,2362,147,246,2288,124,209]
["Morelos",2648,2652,2217,163,159,160,235,256,255,1400,89,124,1248,74,111,1364,87,130,1288,72,126,1063,57,125,1154,103,130]
["Nayarit",990,1072,852,107,97,87,100,99,105,506,53,53,484,54,47,565,51,49,507,46,50,435,50,53,417,37,52]
["Nuevo León",4246,4263,4065,170,160,174,356,436,436,2277,84,181,1969,86,175,2200,73,224,2063,87,212,2109,90,220,1956,84,216]
["Oaxaca",5044,5580,4500,624,694,623,483,556,454,2517,285,265,2527,339,218,2640,301,286,2940,393,270,2109,290,231,2391,333,223]
["Puebla",10138,10461,7683,459,533,486,681,723,488,5192,227,363,4946,232,318,5314,256,382,5147,277,341,3708,238,242,3975,248,246]
["Querétaro",1930,1900,1452,106,128,97,188,197,211,1040,64,104,890,42,84,985,62,114,915,66,83,716,43,107,736,54,104]
["Quintana Roo",1266,1110,1100,33,45,57,140,130,107,669,15,72,597,18,68,571,32,71,539,13,59,573,34,57,527,23,50]
["San Luis Potosí",3248,3129,2678,180,148,137,308,307,356,1626,100,166,1622,80,142,1536,71,163,1593,77,144,1329,71,180,1349,66,176]
["Sinaloa",2145,1791,1695,75,67,84,183,207,225,1111,36,98,1034,39,85,972,36,99,819,31,108,904,50,113,791,34,112]
["Sonora",2296,1809,1662,125,92,107,246,234,253,1165,75,123,1131,50,123,909,68,114,900,24,120,822,72,125,840,35,128]
["Tabasco",4278,3312,2832,100,98,111,230,197,181,2146,58,131,2132,42,99,1557,52,96,1755,46,101,1357,69,97,1475,42,84]
["Tamaulipas",4074,3513,3143,139,130,130,272,258,263,2093,73,141,1981,66,131,1749,75,122,1764,55,136,1617,71,137,1526,59,126]
["Tlaxcala",2111,1938,1318,87,74,67,168,134,118,1157,47,104,954,40,64,1015,33,73,923,41,61,640,24,61,678,43,57]
["Veracruz",12699,12649,10364,843,779,740,790,836,785,6327,447,419,6372,396,371,6088,377,449,6561,402,387,4887,381,403,5477,359,382]
["Yucatán",1904,1511,1404,74,94,60,175,135,150,896,44,86,1008,30,89,652,59,66,859,35,69,613,28,76,791,32,74]
["Zacatecas",1561,1475,1274,160,153,156,209,277,250,805,79,100,756,81,109,756,80,146,719,73,131,614,83,118,660,73,132]

{"sheet":"3D-GCM","index":20,"n_rows":7,"n_cols":10,"rows_kept":7,"cut":false,"hidden":false,"merged":[[0,0,0,9]]}
["Enfermedades endocrinas, nutricionales y metabólicas"]
["SELECCIONE UNA ENTIDAD"]
["Aguascalientes","2020","H - 2020","M - 2020","2021","H - 2021","M - 2021","2022","H - 2022","M - 2022"]
["Diabetes mellitus",{"$f":"VLOOKUP($A$3,'T-3GE-D'!$A$5:$BL$36,2,0)","v":899},{"$f":"VLOOKUP($A$3,'T-3GE-D'!$A$5:$BL$36,11,0)","v":471},{"$f":"VLOOKUP($A$3,'T-3GE-D'!$A$5:$BL$36,14,0)","v":428},{"$f":"VLOOKUP($A$3,'T-3GE-D'!$A$5:$BL$36,3,0)","v":892},{"$f":"VLOOKUP($A$3,'T-3GE-D'!$A$5:$BL$36,17,0)","v":471},{"$f":"VLOOKUP($A$3,'T-3GE-D'!$A$5:$BL$36,20,0)","v":421},{"$f":"VLOOKUP($A$3,'T-3GE-D'!$A$5:$BL$36,4,0)","v":920},{"$f":"VLOOKUP($A$3,'T-3GE-D'!$A$5:$BL$36,23,0)","v":472},{"$f":"VLOOKUP($A$3,'T-3GE-D'!$A$5:$BL$36,26,0)","v":448}]
["Desnutrición",{"$f":"VLOOKUP($A$3,'T-3GE-D'!$A$5:$BL$36,5,0)","v":125},{"$f":"VLOOKUP($A$3,'T-3GE-D'!$A$5:$BL$36,12,0)","v":53},{"$f":"VLOOKUP($A$3,'T-3GE-D'!$A$5:$BL$36,15,0)","v":72},{"$f":"VLOOKUP($A$3,'T-3GE-D'!$A$5:$BL$36,6,0)","v":127},{"$f":"VLOOKUP($A$3,'T-3GE-D'!$A$5:$BL$36,18,0)","v":77},{"$f":"VLOOKUP($A$3,'T-3GE-D'!$A$5:$BL$36,21,0)","v":50},{"$f":"VLOOKUP($A$3,'T-3GE-D'!$A$5:$BL$36,7,0)","v":112},{"$f":"VLOOKUP($A$3,'T-3GE-D'!$A$5:$BL$36,24,0)","v":56},{"$f":"VLOOKUP($A$3,'T-3GE-D'!$A$5:$BL$36,27,0)","v":56}]
["Resto de enfermedades endocrinas, nutricionales y metabólicas",{"$f":"VLOOKUP($A$3,'T-3GE-D'!$A$5:$BL$36,8,0)","v":117},{"$f":"VLOOKUP($A$3,'T-3GE-D'!$A$5:$BL$36,13,0)","v":63},{"$f":"VLOOKUP($A$3,'T-3GE-D'!$A$5:$BL$36,16,0)","v":54},{"$f":"VLOOKUP($A$3,'T-3GE-D'!$A$5:$BL$36,9,0)","v":156},{"$f":"VLOOKUP($A$3,'T-3GE-D'!$A$5:$BL$36,19,0)","v":76},{"$f":"VLOOKUP($A$3,'T-3GE-D'!$A$5:$BL$36,22,0)","v":80},{"$f":"VLOOKUP($A$3,'T-3GE-D'!$A$5:$BL$36,10,0)","v":187},{"$f":"VLOOKUP($A$3,'T-3GE-D'!$A$5:$BL$36,25,0)","v":83},{"$f":"VLOOKUP($A$3,'T-3GE-D'!$A$5:$BL$36,28,0)","v":104}]
["Total",{"$f":"SUM(B4:B6)","v":1141},587,554,1175,624,551,1219,611,608]

{"sheet":"T-4GE-D","index":21,"n_rows":36,"n_cols":190,"rows_kept":36,"cut":false,"hidden":true,"merged":[[2,16,2,18],[2,19,2,21],[2,22,2,24],[2,25,2,27],[2,28,2,30],[2,31,2,33],[2,34,2,36],[2,37,2,39],[2,40,2,42],[2,43,2,45],[2,106,2,147],[2,148,2,189],[1,0,1,189],[2,0,3,0],[2,1,2,3],[2,46,2,48],[2,49,2,51],[2,52,2,54],[2,55,2,57],[2,61,2,63],[2,64,2,105],[2,4,2,6],[2,7,2,9],[2,10,2,12],[2,13,2,15],[2,58,2,60]]}
[1,2,3,4,5,6,7,8,9,10,11,12,13,14,15,16,17,18,19,20,21,22,23,24,25,26,27,28,29,30,31,32,33,34,35,36,37,38,39,40,41,42,43,44,45,46,47,48,49,50,51,52,53,54,55,56,57,58,59,60,61,62,63,64,65,66,67,68,69,70,71,72,73,74,75,76,77,78,79,80,81,82,83,84,85,86,87,88,89,90,91,92,93,94,95,96,97,98,99,100,101,102,103,104,105,106,107,108,109,110,111,112,113,114,115,116,117,118,119,120,121,122,123,124,125,126,127,128,129,130,131,132,133,134,135,136,137,138,139,140,141,142,143,144,145,146,147,148,149,150,151,152,153,154,155,156,157,158,159,160,161,162,163,164,165,166,167,168,169,170,171,172,173,174,175,176,177,178,179,180,181,182,183,184,185,186,187,188,189,190]
["Tumores (neoplasias)"]
["ESTADO","Tumores malignos del labio, de la cavidad bucal y de la faringe",null,null,"Tumor maligno del esófago",null,null,"Tumor maligno del estómago",null,null,"Tumor maligno del colon, del recto y del ano",null,null,"Tumor maligno del hígado y de las vías biliares intrahepáticas",null,null,"Tumor maligno del páncreas",null,null,"Tumor maligno de la laringe",null,null,"Tumor maligno de la tráquea, de los bronquios y del pulmón",null,null,"Melanoma maligno de la piel",null,null,"Tumor maligno de la mama",null,null,"Tumor maligno del cuello del útero",null,null,"Tumor maligno de otras partes y de las no especificadas del útero",null,null,"Tumor maligno del ovario",null,null,"Tumor maligno de la próstata",null,null,"Tumor maligno de la vejiga urinaria",null,null,"Tumor maligno de las meninges, del encéfalo y de otras partes del sistema nervioso central",null,null,"Linfoma no Hodgkin",null,null,"Mieloma múltiple y tumores malignos de células plasmáticas",null,null,"Leucemia",null,null,"Resto de tumores malignos",null,null,"Resto de tumores",null,null,2020,null,null,null,null,null,null,null,null,null,null,null,null,null,null,null,null,null,null,null,null,null,null,null,null,null,null,null,null,null,null,null,null,null,null,null,null,null,null,null,null,null,2021,null,null,null,null,null,null,null,null,null,null,null,null,null,null,null,null,null,null,null,null,null,null,null,null,null,null,null,null,null,null,null,null,null,null,null,null,null,null,null,null,null,2022]
[null,2020,2021,2022,2020,2021,2022,2020,2021,2022,2020,2021,2022,2020,2021,2022,2020,2021,2022,2020,2021,2022,2020,2021,2022,2020,2021,2022,2020,2021,2022,2020,2021,2022,2020,2021,2022,2020,2021,2022,2020,2021,2022,2020,2021,2022,2020,2021,2022,2020,2021,2022,2020,2021,2022,2020,2021,2022,2020,2021,2022,2020,2021,2022,"Hombres 2020(1)","Hombres 2020(2)","Hombres 2020(3)","Hombres 2020(4)","Hombres 2020(5)","Hombres 2020(6)","Hombres 2020(7)","Hombres 2020(8)","Hombres 2020(9)","Hombres 2020(10)","Hombres 2020(11)","Hombres 2020(12)","Hombres 2020(13)","Hombres 2020(14)","Hombres 2020(15)","Hombres 2020(16)","Hombres 2020(17)","Hombres 2020(18)","Hombres 2020(19)","Hombres 2020(20)","Hombres 2020(21)","Mujeres 2020(1)","Mujeres 2020(2)","Mujeres 2020(3)","Mujeres 2020(4)","Mujeres 2020(5)","Mujeres 2020(6)","Mujeres 2020(7)","Mujeres 2020(8)","Mujeres 2020(9)","Mujeres 2020(10)","Mujeres 2020(11)","Mujeres 2020(12)","Mujeres 2020(13)","Mujeres 2020(14)","Mujeres 2020(15)","Mujeres 2020(16)","Mujeres 2020(17)","Mujeres 2020(18)","Mujeres 2020(19)","Mujeres 2020(20)","Mujeres 2020(21)","Hombres 2021(1)","Hombres 2021(2)","Hombres 2021(3)","Hombres 2021(4)","Hombres 2021(5)","Hombres 2021(6)","Hombres 2021(7)","Hombres 2021(8)","Hombres 2021(9)","Hombres 2021(10)","Hombres 2021(11)","Hombres 2021(12)","Hombres 2021(13)","Hombres 2021(14)","Hombres 2021(15)","Hombres 2021(16)","Hombres 2021(17)","Hombres 2021(18)","Hombres 2021(19)","Hombres 2021(20)","Hombres 2021(21)","Mujeres 2021(1)","Mujeres 2021(2)","Mujeres 2021(3)","Mujeres 2021(4)","Mujeres 2021(5)","Mujeres 2021(6)","Mujeres 2021(7)","Mujeres 2021(8)","Mujeres 2021(9)","Mujeres 2021(10)","Mujeres 2021(11)","Mujeres 2021(12)","Mujeres 2021(13)","Mujeres 2021(14)","Mujeres 2021(15)","Mujeres 2021(16)","Mujeres 2021(17)","Mujeres 2021(18)","Mujeres 2021(19)","Mujeres 2021(20)","Mujeres 2021(21)","Hombres 2022(1)","Hombres 2022(2)","Hombres 2022(3)","Hombres 2022(4)","Hombres 2022(5)","Hombres 2022(6)","Hombres 2022(7)","Hombres 2022(8)","Hombres 2022(9)","Hombres 2022(10)","Hombres 2022(11)","Hombres 2022(12)","Hombres 2022(13)","Hombres 2022(14)","Hombres 2022(15)","Hombres 2022(16)","Hombres 2022(17)","Hombres 2022(18)","Hombres 2022(19)","Hombres 2022(20)","Hombres 2022(21)","Mujeres 2022(1)","Mujeres 2022(2)","Mujeres 2022(3)","Mujeres 2022(4)","Mujeres 2022(5)","Mujeres 2022(6)","Mujeres 2022(7)","Mujeres 2022(8)","Mujeres 2022(9)","Mujeres 2022(10)","Mujeres 2022(11)","Mujeres 2022(12)","Mujeres 2022(13)","Mujeres 2022(14)","Mujeres 2022(15)","Mujeres 2022(16)","Mujeres 2022(17)","Mujeres 2022(18)","Mujeres 2022(19)","Mujeres 2022(20)","Mujeres 2022(21)"]
["Aguascalientes",13,13,12,16,14,14,65,39,59,79,70,73,44,55,40,55,51,55,5,3,6,90,95,100,8,7,6,89,77,79,32,41,43,18,16,22,28,44,29,103,87,73,13,19,9,27,32,28,35,29,31,15,22,15,49,58,38,162,195,185,72,81,95,10,15,34,45,23,24,4,56,6,0,"NA","NA","NA",103,10,14,20,8,30,94,37,3,1,31,34,21,31,1,34,2,89,32,18,28,"NA",3,13,15,7,19,68,35,9,10,14,40,24,24,3,48,3,0,"NA","NA","NA",87,13,12,16,13,35,88,34,4,4,25,30,31,27,0,47,4,77,41,16,44,"NA",6,20,13,9,23,107,47,9,11,28,37,22,22,6,57,2,1,"NA","NA","NA",73,7,12,17,9,23,98,48,3,3,31,36,18,33,0,43,4,78,43,22,29,"NA",2,16,14,6,15,87,47]
["Baja California",47,47,44,33,44,34,170,201,168,307,329,297,182,147,174,162,151,167,20,27,22,233,245,230,16,12,19,271,290,267,149,121,138,43,52,59,64,55,83,184,217,177,38,33,39,78,78,81,73,83,79,33,34,38,136,126,120,515,487,509,218,247,282,29,27,95,182,96,78,20,144,7,2,"NA","NA","NA",184,26,43,41,12,75,285,112,18,6,75,125,86,84,0,89,9,269,149,43,64,"NA",12,35,32,21,61,230,106,34,39,114,181,87,69,23,151,6,1,"NA","NA","NA",217,22,43,43,22,73,259,131,13,5,87,148,60,82,4,94,6,289,121,52,55,"NA",11,35,40,12,53,228,116,34,29,95,166,96,83,20,125,13,1,"NA","NA","NA",177,23,49,42,21,66,276,130,10,5,73,131,78,84,2,105,6,266,138,59,83,"NA",16,32,37,17,54,233,152]
["Baja California Sur",9,13,5,12,13,8,36,29,39,66,49,71,28,38,33,39,45,32,10,4,2,51,71,45,4,1,3,56,58,53,20,24,17,4,11,8,17,16,12,29,44,51,9,9,10,10,10,15,23,13,14,7,8,8,32,19,31,107,82,114,50,56,59,6,11,23,32,15,21,9,27,2,0,"NA","NA","NA",29,6,7,9,7,19,70,29,3,1,13,34,13,18,1,24,2,56,20,4,17,"NA",3,3,14,0,13,37,21,10,10,17,32,24,22,4,50,1,0,"NA","NA","NA",44,5,6,7,6,11,55,29,3,3,12,17,14,23,0,21,0,58,24,11,16,"NA",4,4,6,2,8,27,27,3,7,24,48,12,15,1,28,3,0,"NA","NA","NA",51,6,9,7,2,22,73,37,2,1,15,23,21,17,1,17,0,53,17,8,12,"NA",4,6,7,6,9,41,22]
["Campeche",14,15,12,5,5,5,71,59,59,42,53,49,49,68,74,21,20,28,3,4,5,36,37,43,2,1,5,49,42,38,37,33,43,8,16,7,14,15,19,65,44,49,8,7,5,16,19,15,31,23,22,6,4,8,25,28,33,101,110,130,43,37,46,8,5,40,21,28,13,3,19,1,1,"NA","NA","NA",65,6,9,21,3,18,51,28,6,0,31,21,21,8,0,17,1,48,37,8,14,"NA",2,7,10,3,7,50,15,10,3,24,28,39,14,4,21,0,0,"NA","NA","NA",44,6,9,9,4,18,67,19,5,2,35,25,29,6,0,16,1,42,33,16,15,"NA",1,10,14,0,10,43,18,7,4,29,24,39,12,4,26,3,0,"NA","NA","NA",49,2,10,14,4,13,82,25,5,1,30,25,35,16,1,17,2,38,43,7,19,"NA",3,5,8,4,20,48,21]
["Coahuila",48,33,27,25,22,38,170,150,139,235,242,252,118,127,122,123,129,124,19,24,20,246,219,197,8,14,12,250,223,223,121,120,120,20,35,33,78,54,77,190,176,153,43,29,45,60,70,55,36,52,47,30,30,33,89,85,93,442,440,471,169,201,258,32,20,84,142,67,68,15,155,5,4,"NA","NA","NA",190,30,43,18,16,58,247,81,16,5,86,93,51,55,4,91,3,246,121,20,78,"NA",13,17,18,14,31,195,88,20,18,80,136,68,76,21,132,6,3,"NA","NA","NA",176,22,42,29,17,53,228,103,13,4,70,106,59,53,3,87,8,220,120,35,54,"NA",7,28,23,13,32,212,98,15,31,63,143,67,62,19,125,3,0,"NA","NA","NA",153,32,30,25,20,54,263,112,12,7,76,109,55,62,1,72,9,223,120,33,77,"NA",13,25,22,13,39,208,146]
["Colima",9,9,13,7,8,5,26,28,35,65,58,44,33,44,29,39,33,37,3,5,5,45,56,47,2,10,6,67,70,60,42,40,27,8,7,13,18,24,18,58,71,63,12,12,3,28,10,27,23,24,22,4,12,12,25,23,31,84,109,103,44,47,55,4,3,16,34,17,22,3,28,1,0,"NA","NA","NA",58,8,16,11,3,10,48,23,5,4,10,31,16,17,0,17,1,67,42,8,18,"NA",4,12,12,1,15,36,21,5,7,15,37,23,15,4,39,5,0,"NA","NA","NA",71,6,6,12,6,9,62,24,4,1,13,21,21,18,1,17,5,70,40,7,24,"NA",6,4,12,6,14,47,23,8,5,23,27,17,18,5,33,2,0,"NA","NA","NA",63,2,14,12,4,17,59,24,5,0,12,17,12,19,0,14,4,60,27,13,18,"NA",1,13,10,8,14,44,31]
["Chiapas",43,56,46,38,34,36,420,490,391,244,200,203,402,413,386,132,139,126,29,16,22,162,166,165,25,23,22,197,195,181,278,265,260,36,33,42,81,80,77,355,346,249,22,23,21,88,93,82,76,75,77,27,24,28,239,260,268,632,672,583,220,241,241,27,28,216,133,191,55,25,104,19,3,"NA","NA","NA",355,9,51,43,17,128,324,106,16,10,204,111,211,77,4,58,6,194,278,36,81,"NA",13,37,33,10,111,308,114,33,30,260,100,185,65,14,93,9,1,"NA","NA","NA",346,18,57,49,12,147,333,132,23,4,230,100,228,74,2,73,14,194,265,33,80,"NA",5,36,26,12,113,339,109,27,24,194,106,173,69,16,94,11,0,"NA","NA","NA",249,10,40,46,13,163,297,136,19,12,197,97,213,57,6,71,11,181,260,42,77,"NA",11,42,31,15,105,286,105]
["Chihuahua",49,50,39,47,39,37,163,171,157,270,296,275,177,156,156,155,165,138,29,18,16,344,351,320,17,31,28,314,297,318,139,139,140,44,51,44,94,82,108,280,253,225,49,34,40,89,72,79,58,53,71,42,33,39,137,136,134,584,561,608,269,322,333,37,37,80,154,88,83,24,202,10,6,"NA","NA","NA",280,37,52,28,24,77,324,129,12,10,83,116,89,72,5,142,7,308,139,44,94,"NA",12,37,30,18,60,260,140,30,31,90,172,78,90,17,201,17,3,"NA","NA","NA",253,24,42,33,16,67,291,160,20,8,81,124,78,75,1,150,14,294,139,51,82,"NA",10,30,20,17,69,270,162,28,29,74,154,78,75,14,198,19,2,"NA","NA","NA",225,29,36,41,20,75,331,190,11,8,83,121,78,63,2,122,9,316,140,44,108,"NA",11,43,30,19,59,277,143]
["Ciudad de México",170,159,155,114,133,141,817,760,745,953,983,969,720,684,712,667,669,668,61,60,56,779,742,715,105,104,92,1038,1037,1094,478,420,390,224,216,221,483,450,435,904,804,734,179,186,182,315,315,322,480,455,445,211,197,214,749,720,751,2173,2143,2254,912,955,1072,105,84,442,501,385,294,54,399,65,4,"NA","NA","NA",904,133,169,252,114,384,1185,462,65,30,375,452,335,373,7,380,40,1034,478,224,483,"NA",46,146,228,97,365,988,450,90,100,403,506,327,310,55,390,54,4,"NA","NA","NA",804,128,177,240,94,382,1145,459,69,33,357,477,357,359,5,352,50,1033,420,216,450,"NA",58,138,215,103,338,998,496,101,112,396,483,351,290,44,355,43,9,"NA","NA","NA",734,122,164,231,121,411,1178,482,54,29,349,486,361,378,12,360,49,1085,390,221,435,"NA",60,158,214,93,340,1076,590]
["Durango",12,20,19,5,18,20,57,79,61,106,95,98,68,53,92,54,78,51,9,6,5,108,103,102,4,10,6,128,121,119,56,46,54,19,21,19,32,37,33,101,104,129,24,16,25,31,26,36,22,29,32,23,23,13,57,63,45,209,213,245,69,66,83,7,5,27,69,30,25,8,70,3,1,"NA","NA","NA",101,18,17,17,13,28,123,30,5,0,30,37,38,29,1,38,1,127,56,19,32,"NA",6,14,5,10,29,86,39,14,14,43,58,24,37,6,66,5,1,"NA","NA","NA",104,13,14,17,4,39,119,32,6,4,36,37,29,41,0,37,5,120,46,21,37,"NA",3,12,12,19,24,94,34,9,13,29,56,49,27,3,65,1,0,"NA","NA","NA",129,14,23,16,6,24,130,51,10,7,32,42,43,24,2,37,5,119,54,19,33,"NA",11,13,16,7,21,115,32]
["Guanajuato",46,52,57,39,38,37,236,293,247,273,324,330,241,231,229,261,242,251,32,30,21,356,294,304,40,33,26,348,368,374,149,186,147,58,55,62,141,134,146,351,377,344,60,63,44,101,132,116,109,108,108,69,56,61,213,197,193,688,649,690,290,268,305,31,34,132,147,101,133,29,220,29,2,"NA","NA","NA",351,43,45,53,32,115,361,144,15,5,104,126,140,128,3,136,11,346,149,58,141,"NA",17,56,56,37,98,327,146,29,33,150,186,107,116,25,174,16,0,"NA","NA","NA",377,45,80,59,35,114,341,132,23,5,143,138,124,126,5,120,17,368,186,55,134,"NA",18,52,49,21,83,308,136,31,25,133,169,101,127,15,173,15,1,"NA","NA","NA",344,30,65,61,27,102,355,153,26,12,114,161,128,124,6,131,11,373,147,62,146,"NA",14,51,47,34,91,335,152]
["Guerrero",41,27,31,25,22,17,211,177,210,125,146,148,136,163,163,95,97,86,17,15,12,131,124,110,5,13,13,128,132,130,102,93,119,23,19,32,50,48,52,198,175,172,13,23,21,39,44,39,47,36,53,24,18,19,85,99,94,359,325,342,102,103,131,30,18,100,65,62,44,13,79,5,1,"NA","NA","NA",198,7,21,26,17,51,187,48,11,7,111,60,74,51,4,52,0,127,102,23,50,"NA",6,18,21,7,34,172,54,16,15,86,70,80,52,11,68,9,2,"NA","NA","NA",175,16,26,22,11,58,155,47,11,7,91,76,83,45,4,56,4,130,93,19,48,"NA",7,18,14,7,41,170,56,21,9,116,70,83,47,12,66,11,0,"NA","NA","NA",172,13,26,29,8,49,164,57,10,8,94,78,80,39,0,44,2,130,119,32,52,"NA",8,13,24,11,45,178,74]
["Hidalgo",30,25,34,38,36,38,154,152,155,145,149,176,212,196,207,85,127,82,25,15,12,110,126,104,21,22,20,148,137,154,79,68,74,24,30,25,59,47,59,172,164,185,27,22,32,65,66,64,57,44,63,28,24,36,111,84,83,449,446,410,143,130,144,19,31,86,77,104,37,22,60,10,4,"NA","NA","NA",172,20,39,33,16,60,233,67,11,7,68,68,108,48,3,50,11,144,79,24,59,"NA",7,26,24,12,51,216,76,19,31,82,87,106,57,12,70,11,2,"NA","NA","NA",164,19,30,27,19,35,239,60,6,5,70,62,90,70,3,56,11,135,68,30,47,"NA",3,36,17,5,49,207,70,22,24,94,93,103,34,9,46,12,1,"NA","NA","NA",185,18,30,35,22,39,219,65,12,14,61,83,104,48,3,58,8,153,74,25,59,"NA",14,34,28,14,44,191,79]
["Jalisco",90,87,80,88,79,86,358,349,323,661,668,649,342,333,336,415,400,401,55,45,36,554,542,516,55,59,70,613,644,594,230,248,214,106,109,114,199,206,222,628,671,601,91,104,117,157,176,193,219,190,168,110,106,95,305,270,304,1243,1178,1175,589,626,639,63,69,174,372,157,197,51,325,37,3,"NA","NA","NA",628,69,75,120,64,171,677,298,27,19,184,289,185,218,4,229,18,610,230,106,199,"NA",22,82,99,46,134,566,291,63,63,186,379,175,208,39,300,33,4,"NA","NA","NA",671,81,98,109,52,150,625,300,24,16,163,289,158,192,6,242,26,640,248,109,206,"NA",23,78,81,54,120,553,326,50,73,179,376,155,204,27,307,40,4,"NA","NA","NA",601,86,98,94,51,164,637,325,30,13,144,273,181,197,9,209,30,590,214,114,222,"NA",31,95,74,44,140,538,314]
["México",143,126,158,84,81,106,760,734,719,739,804,856,617,581,639,491,528,513,51,53,48,574,525,563,94,121,128,784,786,832,397,409,442,156,169,174,292,333,360,774,734,757,106,103,108,259,226,254,222,216,216,126,114,127,299,267,278,1763,1855,1905,574,607,805,75,66,389,407,293,217,47,337,45,2,"NA","NA","NA",774,73,134,116,68,149,950,287,68,18,371,332,324,274,4,237,49,782,397,156,292,"NA",33,125,106,58,150,813,287,72,58,364,405,280,250,42,280,66,6,"NA","NA","NA",734,65,111,112,62,151,949,291,54,23,370,399,301,278,11,245,55,780,409,169,333,"NA",38,115,104,52,116,906,316,93,80,343,452,296,242,39,294,60,6,"NA","NA","NA",757,66,133,120,64,154,957,378,65,26,376,404,343,271,9,269,68,826,442,174,360,"NA",42,121,96,63,124,948,427]
["Michoacán",31,62,47,24,32,38,248,249,240,288,307,296,229,215,239,227,210,231,27,31,25,274,283,249,30,9,34,241,259,259,149,139,173,47,50,40,112,104,111,391,380,360,46,47,42,122,123,114,92,82,81,54,53,47,175,168,135,567,549,518,165,199,226,22,19,119,162,107,114,23,159,16,3,"NA","NA","NA",391,32,60,53,30,93,280,87,9,5,129,126,122,113,4,115,14,238,149,47,112,"NA",14,62,39,24,82,287,78,42,21,129,165,117,109,29,180,2,3,"NA","NA","NA",380,29,61,51,34,87,281,99,20,11,120,142,98,101,2,103,7,256,139,50,104,"NA",18,62,31,19,81,268,100,34,27,135,170,116,105,20,151,14,0,"NA","NA","NA",360,29,66,44,31,73,268,125,13,11,105,126,123,126,5,98,20,259,173,40,111,"NA",13,48,37,16,62,250,101]
["Morelos",26,28,20,11,21,18,145,128,130,154,152,116,127,93,103,85,78,93,14,9,11,109,114,92,16,21,21,110,125,120,89,79,88,16,28,32,44,52,49,137,134,132,25,18,30,36,41,40,47,30,46,24,21,21,76,67,79,299,282,262,110,124,117,19,10,69,73,57,40,13,67,7,2,"NA","NA","NA",137,19,19,33,17,41,149,62,7,1,76,81,70,45,1,42,9,108,89,16,44,"NA",6,17,14,7,35,150,48,14,16,59,80,40,44,9,64,14,3,"NA","NA","NA",134,8,28,19,13,35,151,63,14,5,69,72,53,34,0,50,7,122,79,28,52,"NA",10,13,11,8,32,131,61,8,13,70,66,52,40,10,56,10,2,"NA","NA","NA",132,18,16,22,6,45,136,52,12,5,60,50,51,53,1,36,11,118,88,32,49,"NA",12,24,24,15,34,126,65]
["Nayarit",25,13,10,8,6,7,43,51,58,69,80,59,58,56,57,42,57,49,5,3,10,97,99,93,5,6,3,68,72,85,49,56,45,8,11,13,22,23,17,119,147,101,14,8,14,33,23,27,23,16,29,12,16,16,42,36,39,171,167,173,57,87,70,22,7,27,37,33,22,4,63,3,0,"NA","NA","NA",119,11,13,14,6,16,94,30,3,1,16,32,25,20,1,34,2,68,49,8,22,"NA",3,20,9,6,26,77,27,10,5,29,45,26,34,3,71,2,0,"NA","NA","NA",147,5,17,7,6,25,91,46,3,1,22,35,30,23,0,28,4,72,56,11,23,"NA",3,6,9,10,11,76,41,7,6,35,36,26,26,10,62,3,1,"NA","NA","NA",101,11,13,17,11,26,88,42,3,1,23,23,31,23,0,31,0,84,45,13,17,"NA",3,14,12,5,13,85,28]
["Nuevo León",82,84,94,74,81,64,199,219,206,452,413,448,288,251,296,269,257,261,49,50,52,352,353,367,31,31,35,479,458,514,158,167,226,77,85,107,145,155,166,279,301,336,77,78,76,130,133,102,173,136,147,64,66,93,232,230,246,829,813,958,348,430,497,60,61,117,273,153,124,46,240,17,1,"NA","NA","NA",279,58,67,100,33,128,483,191,22,13,82,179,135,145,3,112,14,478,158,77,145,"NA",19,63,73,31,104,346,157,56,68,115,246,152,119,46,214,15,3,"NA","NA","NA",301,53,67,78,36,122,466,229,28,13,104,167,99,138,4,139,16,455,167,85,155,"NA",25,66,58,30,108,347,201,60,54,102,275,169,139,49,243,14,3,"NA","NA","NA",336,59,61,72,55,130,558,273,34,10,104,173,127,122,3,124,21,511,226,107,166,"NA",17,41,75,38,116,400,224]
["Oaxaca",49,40,50,51,56,36,271,291,271,143,168,165,357,356,333,151,156,152,25,20,12,124,122,116,11,17,20,164,185,173,153,164,171,38,49,40,85,111,103,219,262,209,23,33,31,70,78,70,104,99,98,47,38,43,165,138,152,522,594,518,189,214,227,36,28,140,82,177,67,24,74,6,0,"NA","NA","NA",219,17,39,62,25,79,248,97,13,23,131,61,180,84,1,50,5,164,153,38,85,"NA",6,31,42,22,86,274,92,28,36,145,83,162,70,19,72,11,1,"NA","NA","NA",262,13,47,55,20,65,304,110,12,20,146,85,194,86,1,50,6,184,164,49,111,"NA",20,31,44,18,73,290,104,29,25,142,89,156,67,10,58,14,1,"NA","NA","NA",209,17,40,55,25,74,236,98,21,11,129,76,177,85,2,58,6,172,171,40,103,"NA",14,30,43,18,78,282,129]
["Puebla",65,45,40,59,50,45,426,406,352,273,275,311,403,383,341,222,201,202,24,24,16,194,196,192,40,36,46,339,308,318,215,245,216,69,46,59,156,136,146,319,290,304,53,33,39,112,90,97,130,120,131,44,43,46,279,233,237,821,811,823,323,322,354,41,44,212,128,189,100,16,109,20,3,"NA","NA","NA",319,35,57,72,25,141,427,158,24,15,214,145,214,122,8,85,20,336,215,69,156,"NA",18,55,58,19,138,394,165,29,35,209,135,179,83,20,112,21,2,"NA","NA","NA",290,20,47,71,24,122,430,163,16,15,197,140,204,118,4,84,15,306,245,46,136,"NA",13,43,49,19,111,381,159,26,30,178,144,160,93,13,105,24,1,"NA","NA","NA",304,26,50,71,29,129,420,167,14,15,174,167,181,109,3,87,22,317,216,59,146,"NA",13,47,60,17,108,403,187]
["Querétaro",26,34,25,30,18,14,83,83,89,124,134,135,95,89,114,79,112,86,12,7,11,103,100,95,16,18,26,143,141,132,61,61,54,20,26,31,50,50,63,119,136,95,18,17,29,46,48,62,49,50,48,33,24,19,95,79,88,286,286,320,114,122,151,17,22,40,67,46,37,10,59,9,2,"NA","NA","NA",119,13,27,25,18,51,155,63,9,8,43,57,49,42,2,44,7,141,61,20,50,"NA",5,19,24,15,44,131,51,15,10,37,74,45,51,5,46,8,0,"NA","NA","NA",136,13,25,32,13,49,151,61,19,8,46,60,44,61,2,54,10,141,61,26,50,"NA",4,23,18,11,30,135,61,15,12,47,77,55,43,9,58,18,0,"NA","NA","NA",95,24,27,28,15,51,176,75,10,2,42,58,59,43,2,37,8,132,54,31,63,"NA",5,35,20,4,37,144,76]
["Quintana Roo",17,20,15,12,14,13,65,58,55,52,62,71,61,57,74,29,42,34,8,9,2,54,47,68,2,9,7,56,72,75,48,48,50,21,16,26,36,26,30,52,50,68,14,11,14,19,23,31,21,27,13,7,6,6,46,32,61,165,169,169,77,96,89,12,8,31,26,33,15,6,31,0,0,"NA","NA","NA",52,11,14,10,4,22,88,48,5,4,34,26,28,14,2,23,2,56,48,21,36,"NA",3,5,11,3,24,77,29,15,8,33,31,28,22,8,25,5,0,"NA","NA","NA",50,8,12,13,4,17,102,53,5,6,25,31,29,20,1,22,4,72,48,16,26,"NA",3,11,14,2,15,67,43,14,11,38,43,36,18,1,38,2,0,"NA","NA","NA",68,10,15,7,0,34,95,48,1,2,17,28,38,16,1,30,5,75,50,26,30,"NA",4,16,6,6,27,74,41]
["San Luis Potosí",32,27,36,24,32,38,113,134,137,133,158,138,166,207,177,116,99,103,21,17,14,152,147,149,17,16,21,174,187,170,100,77,90,20,21,25,65,79,76,175,199,186,25,32,27,50,47,39,53,54,61,26,40,28,90,89,105,381,388,388,165,168,165,19,16,59,80,91,45,18,87,6,0,"NA","NA","NA",175,17,27,34,14,50,203,83,13,8,54,53,75,71,3,65,11,174,100,20,65,"NA",8,23,19,12,40,178,82,18,23,63,86,106,47,16,95,9,2,"NA","NA","NA",199,22,26,30,23,45,210,79,9,9,71,72,101,52,1,52,7,185,77,21,79,"NA",10,21,24,17,44,178,89,24,28,76,77,98,41,14,91,10,2,"NA","NA","NA",186,17,24,39,18,62,215,85,12,10,61,61,79,62,0,58,11,168,90,25,76,"NA",10,15,22,10,43,173,80]
["Sinaloa",39,38,35,33,22,22,157,161,150,156,184,177,143,154,135,137,148,133,32,29,21,310,296,258,14,19,26,211,208,195,90,99,94,17,30,25,59,64,65,258,257,235,27,29,28,58,59,60,57,60,67,46,28,50,71,90,110,350,382,386,174,173,206,31,22,93,85,85,68,31,215,8,2,"NA","NA","NA",258,19,29,33,21,38,194,97,8,11,64,71,58,69,1,95,6,209,90,17,59,"NA",8,29,24,25,33,156,77,27,20,89,109,83,75,26,193,9,1,"NA","NA","NA",257,22,25,25,16,43,213,93,11,2,72,75,71,73,3,103,10,207,99,30,64,"NA",7,34,35,12,47,169,80,23,17,87,104,73,66,18,176,16,2,"NA","NA","NA",235,24,33,39,30,66,233,112,12,5,63,73,62,67,3,82,10,193,94,25,65,"NA",4,27,28,20,44,153,94]
["Sonora",34,27,32,34,39,35,176,174,160,223,242,235,137,133,132,137,145,141,28,18,23,346,261,260,15,9,16,245,235,236,105,101,115,35,51,48,61,68,66,225,179,209,44,33,36,75,45,63,76,60,65,40,46,43,116,111,121,417,429,465,213,222,271,23,25,105,127,66,63,24,241,9,2,"NA","NA","NA",225,33,41,42,22,62,248,117,11,9,71,96,71,74,4,105,6,243,105,35,61,"NA",11,34,34,18,54,169,96,17,29,98,127,67,73,15,177,7,1,"NA","NA","NA",179,21,29,31,22,66,238,109,10,10,76,115,66,72,3,84,2,234,101,51,68,"NA",12,16,29,24,45,191,113,24,27,97,131,67,75,21,175,7,3,"NA","NA","NA",209,21,44,35,19,65,271,145,8,8,63,104,65,66,2,85,9,233,115,48,66,"NA",15,19,30,24,56,194,126]
["Tabasco",21,31,27,6,6,12,123,130,136,91,125,111,177,178,163,84,61,72,11,14,19,96,89,88,7,8,8,135,131,131,98,64,59,12,24,36,48,50,46,170,141,121,10,10,10,39,38,42,48,43,59,19,29,14,121,123,133,249,266,248,123,169,164,16,6,68,44,105,47,9,53,5,2,"NA","NA","NA",170,7,16,29,10,64,153,69,5,0,55,47,72,37,2,43,2,133,98,12,48,"NA",3,23,19,9,57,96,54,19,4,61,69,92,34,13,57,5,1,"NA","NA","NA",141,4,21,25,13,75,151,92,12,2,69,56,86,27,1,32,3,130,64,24,50,"NA",6,17,18,16,48,115,77,23,10,69,60,87,33,18,47,5,2,"NA","NA","NA",121,7,26,34,9,69,134,81,4,2,67,51,76,39,1,41,3,129,59,36,46,"NA",3,16,25,5,64,114,83]
["Tamaulipas",50,46,40,31,37,34,152,116,129,245,241,239,251,225,230,128,107,128,33,26,23,234,214,209,13,21,16,268,304,256,114,150,124,43,34,33,83,80,76,209,207,195,28,47,53,43,60,66,62,69,83,31,34,34,102,91,117,482,459,483,155,163,188,38,29,89,135,130,65,29,160,7,2,"NA","NA","NA",209,21,20,27,17,69,277,76,12,2,63,110,121,63,4,74,6,266,114,43,83,"NA",7,23,35,14,33,205,79,31,24,64,133,122,53,18,132,6,3,"NA","NA","NA",207,31,38,40,16,39,251,80,15,13,52,108,103,54,8,82,15,301,150,34,80,"NA",16,22,29,18,52,208,83,29,28,76,142,122,66,18,133,11,2,"NA","NA","NA",195,40,35,42,17,66,274,104,11,6,53,97,108,62,5,76,5,254,124,33,76,"NA",13,31,41,17,51,209,84]
["Tlaxcala",9,8,9,5,9,4,88,71,70,51,55,69,67,54,52,42,41,54,8,2,2,39,30,38,11,5,8,59,45,52,30,35,30,13,13,19,30,20,22,67,49,50,9,3,7,25,15,16,17,13,19,10,11,4,38,41,30,163,138,176,40,40,47,6,3,33,30,30,17,8,19,5,0,"NA","NA","NA",67,5,19,8,7,16,86,21,3,2,55,21,37,25,0,20,6,59,30,13,30,"NA",4,6,9,3,22,77,19,3,9,29,24,22,17,2,13,3,0,"NA","NA","NA",49,3,10,8,5,22,71,19,5,0,42,31,32,24,0,17,2,45,35,13,20,"NA",0,5,5,6,19,67,21,6,2,37,40,28,22,1,17,4,0,"NA","NA","NA",50,7,10,11,3,18,92,22,3,2,33,29,24,32,1,21,4,52,30,19,22,"NA",0,6,8,1,12,84,25]
["Veracruz",113,123,127,94,99,86,506,487,489,492,494,549,727,776,776,293,279,302,53,52,47,353,344,330,53,44,31,516,525,463,339,353,362,94,96,106,190,210,213,652,661,605,73,65,56,159,161,147,179,144,147,71,70,53,313,310,293,1181,1188,1153,446,463,505,76,67,253,254,349,132,47,208,31,4,"NA","NA","NA",652,45,82,93,34,162,628,219,37,27,253,238,378,161,6,145,22,512,339,94,190,"NA",28,77,86,37,151,553,227,78,72,261,248,350,128,43,194,25,0,"NA","NA","NA",661,40,91,70,36,150,586,214,45,27,226,246,426,151,9,150,19,525,353,96,210,"NA",25,70,74,34,160,602,249,83,64,231,259,401,130,42,174,15,3,"NA","NA","NA",605,37,71,75,28,144,613,262,44,22,258,290,375,172,5,156,16,460,362,106,213,"NA",19,76,72,25,149,540,243]
["Yucatán",25,32,29,21,20,16,134,166,125,87,103,110,172,181,172,77,69,63,11,18,15,110,122,103,8,9,11,97,113,110,65,97,93,36,23,33,35,46,43,115,121,101,11,19,29,43,41,48,55,52,58,27,16,14,112,100,110,273,337,400,130,154,143,13,14,71,48,92,39,10,58,4,1,"NA","NA","NA",115,8,23,32,14,71,132,76,12,7,63,39,80,38,1,52,4,96,65,36,35,"NA",3,20,23,13,41,141,54,21,12,88,49,86,32,17,61,7,0,"NA","NA","NA",121,11,17,35,10,63,179,83,11,8,78,54,95,37,1,61,2,113,97,23,46,"NA",8,24,17,6,37,158,71,24,11,70,52,82,33,14,45,5,2,"NA","NA","NA",101,20,22,26,6,59,211,63,5,5,55,58,90,30,1,58,6,108,93,33,43,"NA",9,26,32,8,51,189,80]
["Zacatecas",18,15,13,16,21,9,76,57,70,86,106,72,75,77,82,69,89,62,8,6,3,108,107,94,15,11,14,89,99,85,39,52,35,22,15,21,41,38,34,139,135,108,22,18,16,38,31,48,34,47,46,30,20,16,37,57,57,228,228,218,80,82,83,13,13,44,48,38,34,5,71,6,1,"NA","NA","NA",139,17,22,24,13,20,132,46,5,3,32,38,37,35,3,37,9,88,39,22,41,"NA",5,16,10,17,17,96,34,7,17,32,57,37,44,5,56,5,1,"NA","NA","NA",135,11,20,27,15,30,103,38,8,4,25,49,40,45,1,51,6,98,52,15,38,"NA",7,11,20,5,27,125,44,9,8,36,45,34,27,3,60,7,1,"NA","NA","NA",108,8,20,27,11,26,113,37,4,1,34,27,48,35,0,34,7,84,35,21,34,"NA",8,28,19,5,31,105,46]

{"sheet":"4DGCM","index":22,"n_rows":25,"n_cols":10,"rows_kept":25,"cut":false,"hidden":false,"merged":[[0,0,0,9]]}
["Tumores (neoplasias)"]
["SELECCIONE UNA ENTIDAD"]
["Chiapas","2020","H - 2020","M - 2020","2021","H - 2021","M - 2021","2022","H - 2022","M - 2022"]
["Tumores malignos del labio, de la cavidad bucal y de la faringe",{"$f":"VLOOKUP($A$3,'T-4GE-D'!$A$5:$BL$36,2,0)","v":43},{"$f":"VLOOKUP($A$3,'T-4GE-D'!$A$5:$GH$36,65,0)","v":27},{"$f":"VLOOKUP($A$3,'T-4GE-D'!$A$5:$GH$36,86,0)","v":16},{"$f":"VLOOKUP($A$3,'T-4GE-D'!$A$5:$BL$36,3,0)","v":56},{"$f":"VLOOKUP($A$3,'T-4GE-D'!$A$5:$GH$36,107,0)","v":33},{"$f":"VLOOKUP($A$3,'T-4GE-D'!$A$5:$GH$36,128,0)","v":23},{"$f":"VLOOKUP($A$3,'T-4GE-D'!$A$5:$BL$36,4,0)","v":46},{"$f":"VLOOKUP($A$3,'T-4GE-D'!$A$5:$GH$36,149,0)","v":27},{"$f":"VLOOKUP($A$3,'T-4GE-D'!$A$5:$GH$36,170,0)","v":19}]
["Tumor maligno del esófago",{"$f":"VLOOKUP($A$3,'T-4GE-D'!$A$5:$BL$36,5,0)","v":38},{"$f":"VLOOKUP($A$3,'T-4GE-D'!$A$5:$GH$36,66,0)","v":28},{"$f":"VLOOKUP($A$3,'T-4GE-D'!$A$5:$GH$36,87,0)","v":10},{"$f":"VLOOKUP($A$3,'T-4GE-D'!$A$5:$BL$36,6,0)","v":34},{"$f":"VLOOKUP($A$3,'T-4GE-D'!$A$5:$GH$36,108,0)","v":30},{"$f":"VLOOKUP($A$3,'T-4GE-D'!$A$5:$GH$36,129,0)","v":4},{"$f":"VLOOKUP($A$3,'T-4GE-D'!$A$5:$BL$36,7,0)","v":36},{"$f":"VLOOKUP($A$3,'T-4GE-D'!$A$5:$GH$36,150,0)","v":24},{"$f":"VLOOKUP($A$3,'T-4GE-D'!$A$5:$GH$36,171,0)","v":12}]
["Tumor maligno del estómago",{"$f":"VLOOKUP($A$3,'T-4GE-D'!$A$5:$BL$36,8,0)","v":420},{"$f":"VLOOKUP($A$3,'T-4GE-D'!$A$5:$GH$36,67,0)","v":216},{"$f":"VLOOKUP($A$3,'T-4GE-D'!$A$5:$GH$36,88,0)","v":204},{"$f":"VLOOKUP($A$3,'T-4GE-D'!$A$5:$BL$36,9,0)","v":490},{"$f":"VLOOKUP($A$3,'T-4GE-D'!$A$5:$GH$36,109,0)","v":260},{"$f":"VLOOKUP($A$3,'T-4GE-D'!$A$5:$GH$36,130,0)","v":230},{"$f":"VLOOKUP($A$3,'T-4GE-D'!$A$5:$BL$36,10,0)","v":391},{"$f":"VLOOKUP($A$3,'T-4GE-D'!$A$5:$GH$36,151,0)","v":194},{"$f":"VLOOKUP($A$3,'T-4GE-D'!$A$5:$GH$36,172,0)","v":197}]
["Tumor maligno del colon, del recto y del ano",{"$f":"VLOOKUP($A$3,'T-4GE-D'!$A$5:$BL$36,11,0)","v":244},{"$f":"VLOOKUP($A$3,'T-4GE-D'!$A$5:$GH$36,68,0)","v":133},{"$f":"VLOOKUP($A$3,'T-4GE-D'!$A$5:$GH$36,89,0)","v":111},{"$f":"VLOOKUP($A$3,'T-4GE-D'!$A$5:$BL$36,12,0)","v":200},{"$f":"VLOOKUP($A$3,'T-4GE-D'!$A$5:$GH$36,110,0)","v":100},{"$f":"VLOOKUP($A$3,'T-4GE-D'!$A$5:$GH$36,131,0)","v":100},{"$f":"VLOOKUP($A$3,'T-4GE-D'!$A$5:$BL$36,13,0)","v":203},{"$f":"VLOOKUP($A$3,'T-4GE-D'!$A$5:$GH$36,152,0)","v":106},{"$f":"VLOOKUP($A$3,'T-4GE-D'!$A$5:$GH$36,173,0)","v":97}]
["Tumor maligno del hígado y de las vías biliares intrahepáticas",{"$f":"VLOOKUP($A$3,'T-4GE-D'!$A$5:$BL$36,14,0)","v":402},{"$f":"VLOOKUP($A$3,'T-4GE-D'!$A$5:$GH$36,69,0)","v":191},{"$f":"VLOOKUP($A$3,'T-4GE-D'!$A$5:$GH$36,90,0)","v":211},{"$f":"VLOOKUP($A$3,'T-4GE-D'!$A$5:$BL$36,15,0)","v":413},{"$f":"VLOOKUP($A$3,'T-4GE-D'!$A$5:$GH$36,111,0)","v":185},{"$f":"VLOOKUP($A$3,'T-4GE-D'!$A$5:$GH$36,132,0)","v":228},{"$f":"VLOOKUP($A$3,'T-4GE-D'!$A$5:$BL$36,16,0)","v":386},{"$f":"VLOOKUP($A$3,'T-4GE-D'!$A$5:$GH$36,153,0)","v":173},{"$f":"VLOOKUP($A$3,'T-4GE-D'!$A$5:$GH$36,174,0)","v":213}]
["Tumor maligno del páncreas",{"$f":"VLOOKUP($A$3,'T-4GE-D'!$A$5:$BL$36,17,0)","v":132},{"$f":"VLOOKUP($A$3,'T-4GE-D'!$A$5:$GH$36,70,0)","v":55},{"$f":"VLOOKUP($A$3,'T-4GE-D'!$A$5:$GH$36,91,0)","v":77},{"$f":"VLOOKUP($A$3,'T-4GE-D'!$A$5:$BL$36,18,0)","v":139},{"$f":"VLOOKUP($A$3,'T-4GE-D'!$A$5:$GH$36,112,0)","v":65},{"$f":"VLOOKUP($A$3,'T-4GE-D'!$A$5:$GH$36,133,0)","v":74},{"$f":"VLOOKUP($A$3,'T-4GE-D'!$A$5:$BL$36,19,0)","v":126},{"$f":"VLOOKUP($A$3,'T-4GE-D'!$A$5:$GH$36,154,0)","v":69},{"$f":"VLOOKUP($A$3,'T-4GE-D'!$A$5:$GH$36,175,0)","v":57}]
["Tumor maligno de la laringe",{"$f":"VLOOKUP($A$3,'T-4GE-D'!$A$5:$BL$36,20,0)","v":29},{"$f":"VLOOKUP($A$3,'T-4GE-D'!$A$5:$GH$36,71,0)","v":25},{"$f":"VLOOKUP($A$3,'T-4GE-D'!$A$5:$GH$36,92,0)","v":4},{"$f":"VLOOKUP($A$3,'T-4GE-D'!$A$5:$BL$36,21,0)","v":16},{"$f":"VLOOKUP($A$3,'T-4GE-D'!$A$5:$GH$36,113,0)","v":14},{"$f":"VLOOKUP($A$3,'T-4GE-D'!$A$5:$GH$36,134,0)","v":2},{"$f":"VLOOKUP($A$3,'T-4GE-D'!$A$5:$BL$36,22,0)","v":22},{"$f":"VLOOKUP($A$3,'T-4GE-D'!$A$5:$GH$36,155,0)","v":16},{"$f":"VLOOKUP($A$3,'T-4GE-D'!$A$5:$GH$36,176,0)","v":6}]
["Tumor maligno de la tráquea, de los bronquios y del pulmón",{"$f":"VLOOKUP($A$3,'T-4GE-D'!$A$5:$BL$36,23,0)","v":162},{"$f":"VLOOKUP($A$3,'T-4GE-D'!$A$5:$GH$36,72,0)","v":104},{"$f":"VLOOKUP($A$3,'T-4GE-D'!$A$5:$GH$36,93,0)","v":58},{"$f":"VLOOKUP($A$3,'T-4GE-D'!$A$5:$BL$36,24,0)","v":166},{"$f":"VLOOKUP($A$3,'T-4GE-D'!$A$5:$GH$36,114,0)","v":93},{"$f":"VLOOKUP($A$3,'T-4GE-D'!$A$5:$GH$36,135,0)","v":73},{"$f":"VLOOKUP($A$3,'T-4GE-D'!$A$5:$BL$36,25,0)","v":165},{"$f":"VLOOKUP($A$3,'T-4GE-D'!$A$5:$GH$36,156,0)","v":94},{"$f":"VLOOKUP($A$3,'T-4GE-D'!$A$5:$GH$36,177,0)","v":71}]
["Melanoma maligno de la piel",{"$f":"VLOOKUP($A$3,'T-4GE-D'!$A$5:$BL$36,26,0)","v":25},{"$f":"VLOOKUP($A$3,'T-4GE-D'!$A$5:$GH$36,73,0)","v":19},{"$f":"VLOOKUP($A$3,'T-4GE-D'!$A$5:$GH$36,94,0)","v":6},{"$f":"VLOOKUP($A$3,'T-4GE-D'!$A$5:$BL$36,27,0)","v":23},{"$f":"VLOOKUP($A$3,'T-4GE-D'!$A$5:$GH$36,115,0)","v":9},{"$f":"VLOOKUP($A$3,'T-4GE-D'!$A$5:$GH$36,136,0)","v":14},{"$f":"VLOOKUP($A$3,'T-4GE-D'!$A$5:$BL$36,28,0)","v":22},{"$f":"VLOOKUP($A$3,'T-4GE-D'!$A$5:$GH$36,157,0)","v":11},{"$f":"VLOOKUP($A$3,'T-4GE-D'!$A$5:$GH$36,178,0)","v":11}]
["Tumor maligno de la mama",{"$f":"VLOOKUP($A$3,'T-4GE-D'!$A$5:$BL$36,29,0)","v":197},{"$f":"VLOOKUP($A$3,'T-4GE-D'!$A$5:$GH$36,74,0)","v":3},{"$f":"VLOOKUP($A$3,'T-4GE-D'!$A$5:$GH$36,95,0)","v":194},{"$f":"VLOOKUP($A$3,'T-4GE-D'!$A$5:$BL$36,30,0)","v":195},{"$f":"VLOOKUP($A$3,'T-4GE-D'!$A$5:$GH$36,116,0)","v":1},{"$f":"VLOOKUP($A$3,'T-4GE-D'!$A$5:$GH$36,137,0)","v":194},{"$f":"VLOOKUP($A$3,'T-4GE-D'!$A$5:$BL$36,31,0)","v":181},{"$f":"VLOOKUP($A$3,'T-4GE-D'!$A$5:$GH$36,158,0)","v":0},{"$f":"VLOOKUP($A$3,'T-4GE-D'!$A$5:$GH$36,179,0)","v":181}]
["Tumor maligno del cuello del útero",{"$f":"VLOOKUP($A$3,'T-4GE-D'!$A$5:$BL$36,32,0)","v":278},{"$f":"VLOOKUP($A$3,'T-4GE-D'!$A$5:$GH$36,75,0)","v":"NA"},{"$f":"VLOOKUP($A$3,'T-4GE-D'!$A$5:$GH$36,96,0)","v":278},{"$f":"VLOOKUP($A$3,'T-4GE-D'!$A$5:$BL$36,33,0)","v":265},{"$f":"VLOOKUP($A$3,'T-4GE-D'!$A$5:$GH$36,117,0)","v":"NA"},{"$f":"VLOOKUP($A$3,'T-4GE-D'!$A$5:$GH$36,138,0)","v":265},{"$f":"VLOOKUP($A$3,'T-4GE-D'!$A$5:$BL$36,34,0)","v":260},{"$f":"VLOOKUP($A$3,'T-4GE-D'!$A$5:$GH$36,159,0)","v":"NA"},{"$f":"VLOOKUP($A$3,'T-4GE-D'!$A$5:$GH$36,180,0)","v":260}]
["Tumor maligno de otras partes y de las no especificadas del útero",{"$f":"VLOOKUP($A$3,'T-4GE-D'!$A$5:$BL$36,35,0)","v":36},{"$f":"VLOOKUP($A$3,'T-4GE-D'!$A$5:$GH$36,76,0)","v":"NA"},{"$f":"VLOOKUP($A$3,'T-4GE-D'!$A$5:$GH$36,97,0)","v":36},{"$f":"VLOOKUP($A$3,'T-4GE-D'!$A$5:$BL$36,36,0)","v":33},{"$f":"VLOOKUP($A$3,'T-4GE-D'!$A$5:$GH$36,118,0)","v":"NA"},{"$f":"VLOOKUP($A$3,'T-4GE-D'!$A$5:$GH$36,139,0)","v":33},{"$f":"VLOOKUP($A$3,'T-4GE-D'!$A$5:$BL$36,37,0)","v":42},{"$f":"VLOOKUP($A$3,'T-4GE-D'!$A$5:$GH$36,160,0)","v":"NA"},{"$f":"VLOOKUP($A$3,'T-4GE-D'!$A$5:$GH$36,181,0)","v":42}]
["Tumor maligno del ovario",{"$f":"VLOOKUP($A$3,'T-4GE-D'!$A$5:$BL$36,38,0)","v":81},{"$f":"VLOOKUP($A$3,'T-4GE-D'!$A$5:$GH$36,77,0)","v":"NA"},{"$f":"VLOOKUP($A$3,'T-4GE-D'!$A$5:$GH$36,98,0)","v":81},{"$f":"VLOOKUP($A$3,'T-4GE-D'!$A$5:$BL$36,39,0)","v":80},{"$f":"VLOOKUP($A$3,'T-4GE-D'!$A$5:$GH$36,119,0)","v":"NA"},{"$f":"VLOOKUP($A$3,'T-4GE-D'!$A$5:$GH$36,140,0)","v":80},{"$f":"VLOOKUP($A$3,'T-4GE-D'!$A$5:$BL$36,40,0)","v":77},{"$f":"VLOOKUP($A$3,'T-4GE-D'!$A$5:$GH$36,161,0)","v":"NA"},{"$f":"VLOOKUP($A$3,'T-4GE-D'!$A$5:$GH$36,182,0)","v":77}]
["Tumor maligno de la próstata",{"$f":"VLOOKUP($A$3,'T-4GE-D'!$A$5:$BL$36,41,0)","v":355},{"$f":"VLOOKUP($A$3,'T-4GE-D'!$A$5:$GH$36,78,0)","v":355},{"$f":"VLOOKUP($A$3,'T-4GE-D'!$A$5:$GH$36,99,0)","v":"NA"},{"$f":"VLOOKUP($A$3,'T-4GE-D'!$A$5:$BL$36,42,0)","v":346},{"$f":"VLOOKUP($A$3,'T-4GE-D'!$A$5:$GH$36,120,0)","v":346},{"$f":"VLOOKUP($A$3,'T-4GE-D'!$A$5:$GH$36,141,0)","v":"NA"},{"$f":"VLOOKUP($A$3,'T-4GE-D'!$A$5:$BL$36,43,0)","v":249},{"$f":"VLOOKUP($A$3,'T-4GE-D'!$A$5:$GH$36,162,0)","v":249},{"$f":"VLOOKUP($A$3,'T-4GE-D'!$A$5:$GH$36,183,0)","v":"NA"}]
["Tumor maligno de la vejiga urinaria",{"$f":"VLOOKUP($A$3,'T-4GE-D'!$A$5:$BL$36,44,0)","v":22},{"$f":"VLOOKUP($A$3,'T-4GE-D'!$A$5:$GH$36,79,0)","v":9},{"$f":"VLOOKUP($A$3,'T-4GE-D'!$A$5:$GH$36,100,0)","v":13},{"$f":"VLOOKUP($A$3,'T-4GE-D'!$A$5:$BL$36,45,0)","v":23},{"$f":"VLOOKUP($A$3,'T-4GE-D'!$A$5:$GH$36,121,0)","v":18},{"$f":"VLOOKUP($A$3,'T-4GE-D'!$A$5:$GH$36,142,0)","v":5},{"$f":"VLOOKUP($A$3,'T-4GE-D'!$A$5:$BL$36,46,0)","v":21},{"$f":"VLOOKUP($A$3,'T-4GE-D'!$A$5:$GH$36,163,0)","v":10},{"$f":"VLOOKUP($A$3,'T-4GE-D'!$A$5:$GH$36,184,0)","v":11}]
["Tumor maligno de las meninges, del encéfalo y de otras partes del sistema nervioso central",{"$f":"VLOOKUP($A$3,'T-4GE-D'!$A$5:$BL$36,47,0)","v":88},{"$f":"VLOOKUP($A$3,'T-4GE-D'!$A$5:$GH$36,80,0)","v":51},{"$f":"VLOOKUP($A$3,'T-4GE-D'!$A$5:$GH$36,101,0)","v":37},{"$f":"VLOOKUP($A$3,'T-4GE-D'!$A$5:$BL$36,48,0)","v":93},{"$f":"VLOOKUP($A$3,'T-4GE-D'!$A$5:$GH$36,122,0)","v":57},{"$f":"VLOOKUP($A$3,'T-4GE-D'!$A$5:$GH$36,143,0)","v":36},{"$f":"VLOOKUP($A$3,'T-4GE-D'!$A$5:$BL$36,49,0)","v":82},{"$f":"VLOOKUP($A$3,'T-4GE-D'!$A$5:$GH$36,164,0)","v":40},{"$f":"VLOOKUP($A$3,'T-4GE-D'!$A$5:$GH$36,185,0)","v":42}]
["Linfoma de Hodgkin",{"$f":"VLOOKUP($A$3,'T-4GE-D'!$A$5:$BL$36,50,0)","v":76},{"$f":"VLOOKUP($A$3,'T-4GE-D'!$A$5:$GH$36,81,0)","v":43},{"$f":"VLOOKUP($A$3,'T-4GE-D'!$A$5:$GH$36,102,0)","v":33},{"$f":"VLOOKUP($A$3,'T-4GE-D'!$A$5:$BL$36,51,0)","v":75},{"$f":"VLOOKUP($A$3,'T-4GE-D'!$A$5:$GH$36,123,0)","v":49},{"$f":"VLOOKUP($A$3,'T-4GE-D'!$A$5:$GH$36,144,0)","v":26},{"$f":"VLOOKUP($A$3,'T-4GE-D'!$A$5:$BL$36,52,0)","v":77},{"$f":"VLOOKUP($A$3,'T-4GE-D'!$A$5:$GH$36,165,0)","v":46},{"$f":"VLOOKUP($A$3,'T-4GE-D'!$A$5:$GH$36,186,0)","v":31}]
["Mieloma múltiple y tumores malignos de células plasmáticas",{"$f":"VLOOKUP($A$3,'T-4GE-D'!$A$5:$BL$36,53,0)","v":27},{"$f":"VLOOKUP($A$3,'T-4GE-D'!$A$5:$GH$36,82,0)","v":17},{"$f":"VLOOKUP($A$3,'T-4GE-D'!$A$5:$GH$36,103,0)","v":10},{"$f":"VLOOKUP($A$3,'T-4GE-D'!$A$5:$BL$36,54,0)","v":24},{"$f":"VLOOKUP($A$3,'T-4GE-D'!$A$5:$GH$36,124,0)","v":12},{"$f":"VLOOKUP($A$3,'T-4GE-D'!$A$5:$GH$36,145,0)","v":12},{"$f":"VLOOKUP($A$3,'T-4GE-D'!$A$5:$BL$36,55,0)","v":28},{"$f":"VLOOKUP($A$3,'T-4GE-D'!$A$5:$GH$36,166,0)","v":13},{"$f":"VLOOKUP($A$3,'T-4GE-D'!$A$5:$GH$36,187,0)","v":15}]
["Leucemia",{"$f":"VLOOKUP($A$3,'T-4GE-D'!$A$5:$BL$36,56,0)","v":239},{"$f":"VLOOKUP($A$3,'T-4GE-D'!$A$5:$GH$36,83,0)","v":128},{"$f":"VLOOKUP($A$3,'T-4GE-D'!$A$5:$GH$36,104,0)","v":111},{"$f":"VLOOKUP($A$3,'T-4GE-D'!$A$5:$BL$36,57,0)","v":260},{"$f":"VLOOKUP($A$3,'T-4GE-D'!$A$5:$GH$36,125,0)","v":147},{"$f":"VLOOKUP($A$3,'T-4GE-D'!$A$5:$GH$36,146,0)","v":113},{"$f":"VLOOKUP($A$3,'T-4GE-D'!$A$5:$BL$36,58,0)","v":268},{"$f":"VLOOKUP($A$3,'T-4GE-D'!$A$5:$GH$36,167,0)","v":163},{"$f":"VLOOKUP($A$3,'T-4GE-D'!$A$5:$GH$36,188,0)","v":105}]
["Resto de tumores malignos",{"$f":"VLOOKUP($A$3,'T-4GE-D'!$A$5:$BL$36,59,0)","v":632},{"$f":"VLOOKUP($A$3,'T-4GE-D'!$A$5:$GH$36,84,0)","v":324},{"$f":"VLOOKUP($A$3,'T-4GE-D'!$A$5:$GH$36,105,0)","v":308},{"$f":"VLOOKUP($A$3,'T-4GE-D'!$A$5:$BL$36,60,0)","v":672},{"$f":"VLOOKUP($A$3,'T-4GE-D'!$A$5:$GH$36,126,0)","v":333},{"$f":"VLOOKUP($A$3,'T-4GE-D'!$A$5:$GH$36,147,0)","v":339},{"$f":"VLOOKUP($A$3,'T-4GE-D'!$A$5:$BL$36,61,0)","v":583},{"$f":"VLOOKUP($A$3,'T-4GE-D'!$A$5:$GH$36,168,0)","v":297},{"$f":"VLOOKUP($A$3,'T-4GE-D'!$A$5:$GH$36,189,0)","v":286}]
["Resto de tumores",{"$f":"VLOOKUP($A$3,'T-4GE-D'!$A$5:$BL$36,62,0)","v":220},{"$f":"VLOOKUP($A$3,'T-4GE-D'!$A$5:$GH$36,85,0)","v":106},{"$f":"VLOOKUP($A$3,'T-4GE-D'!$A$5:$GH$36,106,0)","v":114},{"$f":"VLOOKUP($A$3,'T-4GE-D'!$A$5:$BL$36,63,0)","v":241},{"$f":"VLOOKUP($A$3,'T-4GE-D'!$A$5:$GH$36,127,0)","v":132},{"$f":"VLOOKUP($A$3,'T-4GE-D'!$A$5:$GH$36,148,0)","v":109},{"$f":"VLOOKUP($A$3,'T-4GE-D'!$A$5:$BL$36,64,0)","v":241},{"$f":"VLOOKUP($A$3,'T-4GE-D'!$A$5:$GH$36,169,0)","v":136},{"$f":"VLOOKUP($A$3,'T-4GE-D'!$A$5:$GH$36,190,0)","v":105}]
["Total",{"$f":"SUM(B4:B24)","v":3746},{"$f":"SUM(C4:C24)","v":1834},1912,3844,1884,1960,3506,1668,1838]

{"sheet":"T-5GE-D","index":23,"n_rows":36,"n_cols":46,"rows_kept":36,"cut":false,"hidden":true,"merged":[[2,26,2,35],[2,36,2,45],[1,0,1,45],[2,0,3,0],[2,1,2,3],[2,4,2,6],[2,7,2,9],[2,10,2,12],[2,13,2,15],[2,16,2,25]]}
[1,2,3,4,5,6,7,8,9,10,11,12,13,14,15,16,17,18,19,20,21,22,23,24,25,26,27,28,29,30,31,32,33,34,35,36,37,38,39,40,41,42,43,44,45,46]
["Enfermedades del sistema respiratorio"]
["ESTADO","Influenza (gripe)",null,null,"Neumonía",null,null,"Otras infecciones agudas de las vías respiratorias inferiores",null,null,"Enfermedades crónicas de las vías respiratorias inferiores",null,null,"Resto de enfermedades del sistema respiratorio",null,null,2020,null,null,null,null,null,null,null,null,null,2021,null,null,null,null,null,null,null,null,null,2022]
[null,2020,2021,2022,2020,2021,2022,2020,2021,2022,2020,2021,2022,2020,2021,2022,"Hombres 2020(1)","Hombres 2020(2)","Hombres 2020(3)","Hombres 2020(4)","Hombres 2020(5)","Mujeres 2020(1)","Mujeres 2020(2)","Mujeres 2020(3)","Mujeres 2020(4)","Mujeres 2020(5)","Hombres 2021(1)","Hombres 2021(2)","Hombres 2021(3)","Hombres 2021(4)","Hombres 2021(5)","Mujeres 2021(1)","Mujeres 2021(2)","Mujeres 2021(3)","Mujeres 2021(4)","Mujeres 2021(5)","Hombres 2022(1)","Hombres 2022(2)","Hombres 2022(3)","Hombres 2022(4)","Hombres 2022(5)","Mujeres 2022(1)","Mujeres 2022(2)","Mujeres 2022(3)","Mujeres 2022(4)","Mujeres 2022(5)"]
["Aguascalientes",15,0,5,556,526,310,17,25,9,335,306,283,114,112,137,12,316,11,181,68,3,240,6,154,46,0,311,14,156,59,0,215,11,150,53,4,183,3,141,72,1,127,6,142,65]
["Baja California",17,2,15,1745,1184,810,26,13,7,625,432,477,785,714,730,12,1141,15,378,574,5,604,11,247,211,2,730,8,265,528,0,454,5,167,186,7,513,3,281,528,8,297,4,196,202]
["Baja California Sur",5,0,1,303,233,200,6,2,5,105,61,105,52,51,48,1,171,3,70,31,4,132,3,35,21,0,150,0,39,36,0,83,2,22,15,0,114,3,69,24,1,86,2,36,24]
["Campeche",1,1,2,394,277,142,31,8,7,157,134,92,115,68,71,1,240,19,88,68,0,154,12,69,47,1,166,2,83,39,0,111,6,51,29,1,86,4,62,37,1,56,3,30,34]
["Coahuila",16,0,8,1499,914,748,20,8,15,500,369,391,390,327,302,12,868,19,306,246,4,631,1,194,144,0,530,6,233,195,0,384,2,136,132,7,388,6,241,177,1,360,9,150,125]
["Colima",3,0,2,356,380,235,4,3,2,102,116,111,92,105,62,2,206,4,60,63,1,150,0,42,29,0,229,1,67,72,0,151,2,49,33,2,129,2,59,37,0,106,0,52,25]
["Chiapas",14,4,3,1816,1939,999,46,30,29,911,787,626,470,448,401,9,1197,28,504,271,5,619,18,407,199,3,1180,13,439,248,1,759,17,348,200,1,586,14,359,233,2,413,15,267,168]
["Chihuahua",63,1,8,1963,1390,1068,29,19,13,945,644,782,592,369,301,38,1133,15,602,370,25,830,14,343,222,1,795,11,385,205,0,595,8,259,164,3,575,6,495,176,5,493,7,287,125]
["Ciudad de México",66,2,34,7644,5612,3700,85,33,28,2534,1942,1933,1154,954,1055,44,4782,48,1307,638,22,2862,37,1227,516,2,3422,16,967,561,0,2190,17,975,393,18,2103,16,946,529,16,1597,12,987,526]
["Durango",4,2,1,680,642,457,16,6,8,413,357,420,147,147,140,3,396,6,246,95,1,284,10,167,52,2,381,5,210,70,0,261,1,147,77,1,265,4,254,91,0,192,4,166,49]
["Guanajuato",27,0,14,2385,2604,1205,44,46,22,1432,1208,1058,502,518,420,16,1432,27,810,259,11,953,17,622,243,0,1611,26,657,273,0,993,20,551,245,7,660,13,569,240,7,545,9,489,180]
["Guerrero",5,0,5,1028,981,379,16,14,9,600,512,480,260,215,221,5,649,13,349,166,0,379,3,251,94,0,614,7,295,143,0,367,7,217,72,2,232,5,282,127,3,147,4,198,94]
["Hidalgo",19,0,8,704,843,440,20,7,5,628,513,565,175,180,176,7,425,11,289,106,12,279,9,339,69,0,530,4,263,112,0,313,3,250,68,4,263,4,279,112,4,177,1,286,64]
["Jalisco",59,4,28,4068,4639,3390,60,48,44,2493,2125,1980,540,629,670,25,2349,28,1317,293,34,1719,32,1176,247,3,2694,26,1075,379,1,1945,22,1050,250,8,1883,25,1039,355,20,1507,19,941,315]
["México",22,4,8,7005,6952,2983,129,70,42,3252,2776,2797,756,737,896,11,4488,80,1742,432,11,2517,49,1510,324,2,4375,46,1412,421,2,2577,24,1364,316,3,1728,21,1351,470,5,1255,21,1446,426]
["Michoacán",11,5,6,1382,2077,855,47,37,20,1262,1253,1050,351,379,392,5,815,28,720,204,6,567,19,542,147,4,1245,21,682,233,1,832,16,571,146,2,507,13,568,215,4,348,7,482,177]
["Morelos",12,0,3,919,873,463,17,8,8,495,389,408,151,149,157,10,576,15,262,96,2,343,2,233,55,0,524,5,203,87,0,349,3,186,62,1,257,6,213,90,2,206,2,195,67]
["Nayarit",4,0,0,297,395,321,8,26,4,299,302,292,110,139,108,3,169,5,179,60,1,128,3,120,50,0,239,15,194,91,0,156,11,108,48,0,192,1,176,75,0,129,3,116,33]
["Nuevo León",0,0,12,3312,3049,2181,39,34,36,670,559,606,478,569,650,0,1970,24,407,273,0,1342,15,263,205,0,1814,20,334,354,0,1235,14,225,215,3,1230,19,358,367,9,951,17,248,283]
["Oaxaca",12,6,3,916,1203,641,39,33,34,867,877,807,298,383,351,5,592,18,446,174,7,324,21,421,124,3,780,18,456,230,3,423,15,421,153,2,394,21,376,210,1,247,13,431,141]
["Puebla",6,0,19,3183,4074,1162,38,32,36,1286,1241,1062,438,454,487,3,2017,28,628,232,3,1166,10,658,206,0,2542,19,585,262,0,1532,13,656,192,6,658,17,484,258,13,504,19,578,229]
["Querétaro",8,1,8,721,774,638,2,3,2,406,356,351,106,151,151,8,454,1,199,66,0,267,1,207,40,1,468,3,177,87,0,306,0,179,64,5,368,1,177,95,3,270,1,174,56]
["Quintana Roo",4,15,1,530,411,230,48,9,9,209,183,165,120,113,110,3,352,32,118,75,1,178,16,91,45,6,272,6,97,75,9,139,3,86,38,1,140,3,105,67,0,90,6,60,43]
["San Luis Potosí",11,0,4,1261,1264,571,43,24,18,843,665,703,224,262,245,5,730,23,474,137,6,531,20,369,87,0,775,12,389,166,0,489,12,276,96,2,347,7,368,136,2,224,11,335,109]
["Sinaloa",8,2,2,1727,1399,655,38,20,23,534,531,467,231,299,247,6,1025,21,354,137,2,702,17,180,94,1,827,11,357,189,1,572,9,174,110,1,360,12,279,144,1,295,11,188,103]
["Sonora",35,3,9,1566,1485,1023,51,17,12,629,478,556,398,330,322,18,940,21,402,266,17,626,30,227,132,1,856,12,320,190,2,629,5,158,140,5,602,6,363,184,4,421,6,193,138]
["Tabasco",0,4,2,1219,761,315,11,7,6,451,398,357,165,174,169,0,766,6,272,96,0,453,5,179,69,3,466,3,199,101,1,295,4,199,73,0,179,5,191,88,2,136,1,166,81]
["Tamaulipas",8,1,5,2205,1413,746,48,10,16,595,413,479,266,276,298,5,1357,28,359,153,3,848,20,236,113,1,838,7,246,156,0,575,3,167,120,2,434,7,274,181,3,312,9,205,117]
["Tlaxcala",1,0,1,1520,1462,185,14,2,6,355,239,206,106,87,85,0,1017,10,175,62,1,503,4,180,44,0,921,1,126,55,0,541,1,113,32,1,115,5,93,56,0,70,1,113,29]
["Veracruz",13,0,8,2685,3115,1618,107,70,47,1984,1790,1605,678,764,723,7,1640,60,1038,409,6,1045,47,946,269,0,1800,41,942,431,0,1315,29,848,333,3,913,27,811,399,5,705,20,794,324]
["Yucatán",0,2,6,1353,1082,789,13,14,8,417,326,286,179,180,190,0,810,8,232,96,0,543,5,185,83,1,647,11,168,113,1,435,3,158,67,5,429,5,144,106,1,360,3,142,84]
["Zacatecas",13,0,6,608,581,354,12,14,10,650,466,502,131,139,148,10,348,9,371,85,3,260,3,279,46,0,332,6,274,92,0,249,8,192,47,3,211,6,286,82,3,143,4,216,66]

{"sheet":"5D-GCM","index":24,"n_rows":9,"n_cols":10,"rows_kept":9,"cut":false,"hidden":false,"merged":[[0,0,0,9]]}
["Enfermedades del sistema respiratorio"]
["SELECCIONE UNA ENTIDAD"]
["Chiapas","2020","H - 2020","M - 2020","2021","H - 2021","M - 2021","2022","H - 2022","M - 2022"]
["Influenza (gripe)",{"$f":"VLOOKUP($A$3,'T-5GE-D'!$A$5:$AT$36,2,0)","v":14},{"$f":"VLOOKUP($A$3,'T-5GE-D'!$A$5:$AT$36,17,0)","v":9},{"$f":"VLOOKUP($A$3,'T-5GE-D'!$A$5:$AT$36,22,0)","v":5},{"$f":"VLOOKUP($A$3,'T-5GE-D'!$A$5:$AT$36,3,0)","v":4},{"$f":"VLOOKUP($A$3,'T-5GE-D'!$A$5:$AT$36,27,0)","v":3},{"$f":"VLOOKUP($A$3,'T-5GE-D'!$A$5:$AT$36,32,0)","v":1},{"$f":"VLOOKUP($A$3,'T-5GE-D'!$A$5:$AT$36,4,0)","v":3},{"$f":"VLOOKUP($A$3,'T-5GE-D'!$A$5:$AT$36,37,0)","v":1},{"$f":"VLOOKUP($A$3,'T-5GE-D'!$A$5:$AT$36,42,0)","v":2}]
["Neumonía",{"$f":"VLOOKUP($A$3,'T-5GE-D'!$A$5:$AT$36,5,0)","v":1816},{"$f":"VLOOKUP($A$3,'T-5GE-D'!$A$5:$AT$36,18,0)","v":1197},{"$f":"VLOOKUP($A$3,'T-5GE-D'!$A$5:$AT$36,23,0)","v":619},{"$f":"VLOOKUP($A$3,'T-5GE-D'!$A$5:$AT$36,6,0)","v":1939},{"$f":"VLOOKUP($A$3,'T-5GE-D'!$A$5:$AT$36,28,0)","v":1180},{"$f":"VLOOKUP($A$3,'T-5GE-D'!$A$5:$AT$36,33,0)","v":759},{"$f":"VLOOKUP($A$3,'T-5GE-D'!$A$5:$AT$36,7,0)","v":999},{"$f":"VLOOKUP($A$3,'T-5GE-D'!$A$5:$AT$36,38,0)","v":586},{"$f":"VLOOKUP($A$3,'T-5GE-D'!$A$5:$AT$36,43,0)","v":413}]
["Otras infecciones agudas de las vías respiratorias inferiores",{"$f":"VLOOKUP($A$3,'T-5GE-D'!$A$5:$AT$36,8,0)","v":46},{"$f":"VLOOKUP($A$3,'T-5GE-D'!$A$5:$AT$36,19,0)","v":28},{"$f":"VLOOKUP($A$3,'T-5GE-D'!$A$5:$AT$36,24,0)","v":18},{"$f":"VLOOKUP($A$3,'T-5GE-D'!$A$5:$AT$36,9,0)","v":30},{"$f":"VLOOKUP($A$3,'T-5GE-D'!$A$5:$AT$36,29,0)","v":13},{"$f":"VLOOKUP($A$3,'T-5GE-D'!$A$5:$AT$36,34,0)","v":17},{"$f":"VLOOKUP($A$3,'T-5GE-D'!$A$5:$AT$36,10,0)","v":29},{"$f":"VLOOKUP($A$3,'T-5GE-D'!$A$5:$AT$36,39,0)","v":14},{"$f":"VLOOKUP($A$3,'T-5GE-D'!$A$5:$AT$36,44,0)","v":15}]
["Enfermedades crónicas de las vías respiratorias inferiores",{"$f":"VLOOKUP($A$3,'T-5GE-D'!$A$5:$AT$36,11,0)","v":911},{"$f":"VLOOKUP($A$3,'T-5GE-D'!$A$5:$AT$36,20,0)","v":504},{"$f":"VLOOKUP($A$3,'T-5GE-D'!$A$5:$AT$36,25,0)","v":407},{"$f":"VLOOKUP($A$3,'T-5GE-D'!$A$5:$AT$36,12,0)","v":787},{"$f":"VLOOKUP($A$3,'T-5GE-D'!$A$5:$AT$36,30,0)","v":439},{"$f":"VLOOKUP($A$3,'T-5GE-D'!$A$5:$AT$36,35,0)","v":348},{"$f":"VLOOKUP($A$3,'T-5GE-D'!$A$5:$AT$36,13,0)","v":626},{"$f":"VLOOKUP($A$3,'T-5GE-D'!$A$5:$AT$36,40,0)","v":359},{"$f":"VLOOKUP($A$3,'T-5GE-D'!$A$5:$AT$36,45,0)","v":267}]
["Resto de enfermedades del sistema respiratorio",{"$f":"VLOOKUP($A$3,'T-5GE-D'!$A$5:$AT$36,14,0)","v":470},{"$f":"VLOOKUP($A$3,'T-5GE-D'!$A$5:$AT$36,21,0)","v":271},{"$f":"VLOOKUP($A$3,'T-5GE-D'!$A$5:$AT$36,26,0)","v":199},{"$f":"VLOOKUP($A$3,'T-5GE-D'!$A$5:$AT$36,15,0)","v":448},{"$f":"VLOOKUP($A$3,'T-5GE-D'!$A$5:$AT$36,31,0)","v":248},{"$f":"VLOOKUP($A$3,'T-5GE-D'!$A$5:$AT$36,36,0)","v":200},{"$f":"VLOOKUP($A$3,'T-5GE-D'!$A$5:$AT$36,16,0)","v":401},{"$f":"VLOOKUP($A$3,'T-5GE-D'!$A$5:$AT$36,41,0)","v":233},{"$f":"VLOOKUP($A$3,'T-5GE-D'!$A$5:$AT$36,46,0)","v":168}]
["Total",{"$f":"SUM(B4:B8)","v":3257},2009,1248,3208,1883,1325,2058,1193,865]

{"sheet":"T-6GE-D","index":25,"n_rows":36,"n_cols":73,"rows_kept":36,"cut":false,"hidden":true,"merged":[[2,41,2,56],[2,57,2,72],[1,0,1,72],[2,0,3,0],[2,1,2,3],[2,4,2,6],[2,7,2,9],[2,10,2,12],[2,13,2,15],[2,16,2,18],[2,19,2,21],[2,25,2,40],[2,22,2,24]]}
[1,2,3,4,5,6,7,8,9,10,11,12,13,14,15,16,17,18,19,20,21,22,23,24,25,26,27,28,29,30,31,32,33,34,35,36,37,38,39,40,41,42,43,44,45,46,47,48,49,50,51,52,53,54,55,56,57,58,59,60,61,62,63,64,65,66,67,68,69,70,71,72,73]
["Causas externas de morbilidad y de mortalidad"]
["ESTADO","Accidentes de transporte",null,null,"Caídas",null,null,"Ahogamiento y sumersión accidentales",null,null,"Exposición al humo, fuego y llamas",null,null,"Envenenamiento accidental por, y exposición a sustancias nocivas",null,null,"Lesiones autoinfligidas intencionalmente",null,null,"Agresiones",null,null,"Todas las demás causas externas",null,null,2020,null,null,null,null,null,null,null,null,null,null,null,null,null,null,null,2021,null,null,null,null,null,null,null,null,null,null,null,null,null,null,null,2022]
[null,2020,2021,2022,2020,2021,2022,2020,2021,2022,2020,2021,2022,2020,2021,2022,2020,2021,2022,2020,2021,2022,2020,2021,2022,"Hombres 2020(1)","Hombres 2020(2)","Hombres 2020(3)","Hombres 2020(4)","Hombres 2020(5)","Hombres 2020(6)","Hombres 2020(7)","Hombres 2020(8)","Mujeres 2020(1)","Mujeres 2020(2)","Mujeres 2020(3)","Mujeres 2020(4)","Mujeres 2020(5)","Mujeres 2020(6)","Mujeres 2020(7)","Mujeres 2020(8)","Hombres 2021(1)","Hombres 2021(2)","Hombres 2021(3)","Hombres 2021(4)","Hombres 2021(5)","Hombres 2021(6)","Hombres 2021(7)","Hombres 2021(8)","Mujeres 2021(1)","Mujeres 2021(2)","Mujeres 2021(3)","Mujeres 2021(4)","Mujeres 2021(5)","Mujeres 2021(6)","Mujeres 2021(7)","Mujeres 2021(8)","Hombres 2022(1)","Hombres 2022(2)","Hombres 2022(3)","Hombres 2022(4)","Hombres 2022(5)","Hombres 2022(6)","Hombres 2022(7)","Hombres 2022(8)","Mujeres 2022(1)","Mujeres 2022(2)","Mujeres 2022(3)","Mujeres 2022(4)","Mujeres 2022(5)","Mujeres 2022(6)","Mujeres 2022(7)","Mujeres 2022(8)"]
["Aguascalientes",226,236,266,52,37,27,14,14,12,11,3,9,6,17,9,184,180,159,93,103,86,156,156,176,188,34,11,5,5,160,86,91,38,18,3,6,1,24,7,65,192,26,13,2,9,149,90,105,44,11,1,1,8,31,13,51,216,21,10,6,8,126,73,120,50,6,2,3,1,33,13,56]
["Baja California",213,266,188,28,22,23,43,58,63,56,62,48,90,60,112,108,131,108,2861,3103,2570,1421,1738,1776,173,24,36,44,70,95,2563,1167,40,4,7,12,20,13,298,254,215,20,51,46,52,113,2754,1419,51,2,7,16,8,18,349,319,143,20,57,42,90,89,2279,1418,45,3,6,6,22,19,291,358]
["Baja California Sur",106,134,131,11,14,21,26,22,34,7,0,3,7,5,4,70,63,73,78,76,89,64,67,70,80,10,23,4,6,62,71,51,26,1,3,3,1,8,7,13,102,11,15,0,4,58,65,45,32,3,7,0,1,5,11,22,102,16,27,3,4,67,74,48,29,5,7,0,0,6,15,22]
["Campeche",121,160,170,5,7,11,11,12,19,3,4,2,15,9,11,72,111,91,76,107,108,112,115,110,99,4,10,1,12,50,69,81,22,1,1,2,3,22,7,31,129,5,11,3,8,93,93,83,31,2,1,1,1,18,14,32,141,10,18,1,9,76,95,77,29,1,1,1,2,15,13,33]
["Coahuila",313,367,436,38,46,43,43,54,113,15,19,17,27,49,42,275,301,312,242,171,169,386,396,439,268,36,38,11,19,237,209,270,45,2,5,4,8,38,33,116,289,39,48,14,40,255,145,265,78,7,6,5,9,46,26,131,336,38,104,13,23,263,143,295,100,5,9,4,19,49,26,144]
["Colima",102,168,187,12,14,14,25,21,23,2,2,3,6,5,11,55,77,64,693,605,865,145,94,123,91,10,22,2,5,45,588,103,11,2,3,0,1,10,105,42,138,13,20,0,2,69,539,54,30,1,1,2,3,8,66,40,154,11,20,3,8,56,755,80,33,3,3,0,3,8,110,43]
["Chiapas",432,548,670,63,71,68,80,93,75,9,6,4,53,33,33,211,251,266,535,564,497,362,330,282,363,58,72,8,46,174,461,260,69,5,8,1,7,37,74,102,451,62,77,6,26,195,498,209,97,9,16,0,7,56,66,121,558,55,64,4,28,227,432,193,112,13,11,0,5,39,65,89]
["Chihuahua",724,793,887,65,98,112,61,71,56,40,37,55,154,138,161,542,565,533,3464,2731,2013,575,533,583,567,51,54,23,119,439,3107,423,157,14,7,17,35,103,357,152,643,76,59,21,104,444,2396,364,150,22,12,16,34,121,335,169,687,86,47,34,115,437,1776,407,200,26,9,21,46,96,237,176]
["Ciudad de México",607,672,626,189,239,273,14,5,13,38,24,54,165,49,39,447,343,260,1340,1075,742,1495,1572,2098,501,151,11,25,114,346,1196,1173,106,38,3,13,51,101,144,322,550,168,4,14,30,263,948,1243,122,71,1,10,19,80,127,329,500,197,11,39,28,194,635,1606,126,76,2,15,11,66,107,492]
["Durango",346,405,378,34,39,33,34,32,28,4,7,10,20,12,18,120,140,153,167,142,125,190,222,230,284,28,32,4,15,89,147,132,62,6,2,0,5,31,20,58,327,33,26,6,10,112,133,172,78,6,6,1,2,28,9,50,288,27,25,8,12,127,100,177,90,6,3,2,6,26,25,53]
["Guanajuato",1058,776,822,85,103,81,64,58,83,23,19,37,28,30,22,502,449,495,5164,4268,3976,826,1095,1387,911,70,56,18,18,417,4524,630,147,15,8,5,10,85,640,196,634,81,49,13,20,363,3697,840,142,22,9,6,10,86,571,255,655,67,68,26,17,412,3408,1064,167,14,15,11,5,83,568,323]
["Guerrero",301,334,449,59,62,61,69,84,88,10,6,14,92,66,44,50,43,92,1503,1455,1359,441,477,401,240,47,62,6,81,33,1349,302,61,12,7,4,11,17,154,139,264,51,65,2,52,34,1302,314,70,11,19,4,14,9,153,163,342,49,75,10,37,75,1226,267,107,12,13,4,7,17,133,134]
["Hidalgo",394,419,466,79,97,74,31,32,23,9,10,9,27,12,10,135,194,125,366,287,371,408,429,519,325,66,30,7,19,101,324,310,69,13,1,2,8,34,42,98,316,74,29,10,10,159,243,322,103,23,3,0,2,35,44,107,363,53,17,8,7,101,314,388,103,21,6,1,3,24,57,131]
["Jalisco",1237,1236,1288,196,209,176,111,123,105,58,71,78,87,69,41,679,755,682,2234,2267,1842,1394,1462,1516,1009,154,96,40,65,576,1989,1056,228,42,15,18,22,103,245,338,1013,177,101,58,57,640,2011,1061,223,32,22,13,12,115,256,401,1028,140,92,56,30,564,1639,1103,260,36,13,22,11,118,203,413]
["México",921,752,756,161,108,103,71,58,78,26,46,41,51,60,46,831,931,984,3080,3091,3215,2747,2924,3224,754,125,55,14,33,651,2648,2140,167,36,16,12,18,180,432,607,598,81,48,32,42,724,2653,2248,154,27,10,14,18,207,438,676,590,81,66,30,28,776,2725,2513,166,22,12,11,18,208,490,711]
["Michoacán",755,830,884,36,42,49,68,81,94,19,19,36,49,31,44,380,333,299,2397,2693,2285,822,911,920,628,29,59,16,40,310,2149,633,127,7,9,3,9,70,248,189,669,33,69,14,26,276,2417,677,161,9,12,5,5,57,276,234,690,39,83,28,40,233,2044,720,194,10,11,8,4,66,241,200]
["Morelos",262,350,345,32,59,37,21,31,30,2,3,7,34,12,18,114,170,144,986,1199,1149,255,414,298,204,29,18,1,29,95,905,164,58,3,3,1,5,19,81,91,295,57,27,3,11,134,1098,323,55,2,4,0,1,36,101,91,286,31,27,5,14,109,1040,203,59,6,3,2,4,35,109,95]
["Nayarit",265,316,320,27,36,30,51,56,44,10,6,5,27,18,15,93,94,143,184,217,185,171,206,187,201,20,44,8,22,76,162,128,64,7,7,2,5,17,22,43,254,31,50,4,13,73,186,159,62,5,6,2,5,21,31,47,256,27,36,4,11,119,169,136,64,3,8,1,4,24,16,51]
["Nuevo León",535,665,693,148,174,160,22,36,28,25,36,37,23,27,37,367,421,441,915,1070,1390,393,447,514,429,116,22,22,18,314,822,274,106,32,0,3,5,53,93,119,539,138,30,28,17,363,967,316,126,36,6,8,10,58,103,131,554,120,20,27,20,355,1240,343,139,40,8,10,17,86,150,171]
["Oaxaca",428,503,561,67,59,66,69,82,84,22,13,12,30,19,39,210,187,168,875,786,740,543,609,524,366,57,59,18,24,176,765,395,62,10,10,4,6,34,110,148,412,48,74,10,17,151,695,444,91,11,8,3,2,36,91,165,451,54,73,6,28,134,626,409,110,12,11,6,11,34,114,115]
["Puebla",612,544,718,102,58,77,57,62,55,29,32,43,131,39,47,349,359,285,1030,844,1046,951,1048,1187,492,81,51,19,107,277,902,754,120,21,6,10,24,72,128,197,441,45,51,18,32,273,731,786,103,13,11,14,7,86,113,262,552,64,47,34,37,222,923,914,166,13,8,9,10,63,123,273]
["Querétaro",344,405,425,57,83,65,31,31,26,5,6,12,11,8,19,201,237,245,227,231,187,149,169,227,300,47,24,4,10,173,202,104,44,10,7,1,1,28,25,45,334,73,26,2,8,187,204,110,71,10,5,4,0,50,27,59,355,52,21,7,15,197,161,155,70,13,5,5,4,48,26,72]
["Quintana Roo",131,165,212,30,33,23,37,53,43,3,8,2,20,9,16,179,175,163,628,677,635,312,393,382,117,28,34,1,18,137,560,241,14,2,3,2,2,42,68,71,136,26,42,5,8,129,601,309,29,7,11,3,1,46,76,84,175,20,38,0,11,133,573,297,37,3,5,2,5,30,62,85]
["San Luis Potosí",484,574,594,70,60,59,41,53,39,5,17,14,22,21,34,262,280,278,791,788,749,358,341,337,385,60,34,4,21,223,729,244,99,10,7,1,1,39,62,114,472,47,47,12,17,235,704,252,102,13,6,5,4,45,84,89,504,45,32,13,25,228,687,237,90,14,7,1,9,50,62,100]
["Sinaloa",612,647,622,22,34,29,115,120,105,18,16,15,39,55,60,124,177,177,854,634,552,587,610,574,519,14,104,13,34,113,814,487,93,8,11,5,5,11,40,100,558,33,111,12,44,148,598,453,89,1,9,4,11,29,36,157,535,23,97,12,52,146,515,450,87,6,8,3,8,31,37,124]
["Sonora",511,505,558,22,23,27,44,69,85,24,41,53,81,100,110,318,346,295,1542,2013,1663,476,528,499,428,19,41,21,66,283,1449,371,83,3,3,3,15,35,93,105,406,21,57,32,82,295,1856,389,99,2,12,9,18,51,157,139,429,25,71,42,82,257,1521,361,129,2,14,11,28,38,142,138]
["Tabasco",310,480,577,18,27,41,52,38,46,5,3,6,15,5,18,118,112,155,585,453,334,238,192,222,269,16,50,4,10,87,530,187,41,2,2,1,5,31,55,51,408,23,32,3,3,92,407,151,72,4,6,0,2,20,46,41,491,34,42,4,13,119,292,167,86,7,4,2,5,36,42,55]
["Tamaulipas",446,481,592,58,79,57,96,85,69,7,11,26,23,10,24,178,212,223,780,696,426,467,475,500,363,46,87,7,18,141,705,348,83,12,9,0,5,37,75,119,384,63,80,8,9,177,633,345,97,16,5,3,1,35,63,130,468,47,63,18,13,190,373,352,124,10,6,8,11,33,53,148]
["Tlaxcala",214,221,252,29,13,33,6,11,5,5,2,3,14,7,17,56,66,73,152,160,152,118,114,113,175,26,6,5,12,45,125,68,39,3,0,0,2,11,27,50,170,13,10,2,6,54,131,64,51,0,1,0,1,12,29,50,190,27,5,2,15,53,138,72,62,6,0,1,2,20,14,41]
["Veracruz",426,426,518,67,85,81,150,148,154,25,30,39,52,59,60,283,245,252,1177,947,641,1356,1377,1355,358,54,130,15,45,232,1038,1058,68,13,20,10,7,51,139,298,350,67,137,24,48,207,835,1099,76,18,11,6,11,38,112,278,441,68,145,26,50,212,555,1044,77,13,9,13,10,40,86,311]
["Yucatán",218,310,362,37,46,50,17,27,24,1,7,7,24,16,16,246,341,374,72,55,54,174,180,197,175,32,17,1,19,186,60,113,43,5,0,0,5,60,12,61,268,39,26,5,13,276,47,108,42,7,1,2,3,65,8,72,306,44,22,5,9,313,47,126,56,6,2,2,7,61,7,71]
["Zacatecas",358,414,426,39,34,47,17,26,27,5,2,9,31,27,32,129,129,122,1202,1757,1424,286,238,254,296,28,13,5,26,109,1088,184,62,11,4,0,5,20,114,102,335,26,21,2,21,109,1586,153,79,8,5,0,6,20,171,85,330,40,23,5,29,95,1261,171,96,7,4,4,3,27,163,83]

{"sheet":"6D-GCM","index":26,"n_rows":12,"n_cols":10,"rows_kept":12,"cut":false,"hidden":false,"merged":[[0,0,0,9]]}
["Causas externas de mortalidad"]
["SELECCIONE UNA ENTIDAD"]
["Chiapas","2020","H - 2020","M - 2020","2021","H - 2021","M - 2021","2022","H - 2022","M - 2022"]
["Accidentes de transporte",{"$f":"VLOOKUP($A$3,'T-6GE-D'!$A$5:$BU$36,2,0)","v":432},{"$f":"VLOOKUP($A$3,'T-6GE-D'!$A$5:$BU$36,26,0)","v":363},{"$f":"VLOOKUP($A$3,'T-6GE-D'!$A$5:$BU$36,34,0)","v":69},{"$f":"VLOOKUP($A$3,'T-6GE-D'!$A$5:$BU$36,3,0)","v":548},{"$f":"VLOOKUP($A$3,'T-6GE-D'!$A$5:$BU$36,42,0)","v":451},{"$f":"VLOOKUP($A$3,'T-6GE-D'!$A$5:$BU$36,50,0)","v":97},{"$f":"VLOOKUP($A$3,'T-6GE-D'!$A$5:$BU$36,4,0)","v":670},{"$f":"VLOOKUP($A$3,'T-6GE-D'!$A$5:$BU$36,58,0)","v":558},{"$f":"VLOOKUP($A$3,'T-6GE-D'!$A$5:$BU$36,66,0)","v":112}]
["Caídas",{"$f":"VLOOKUP($A$3,'T-6GE-D'!$A$5:$BU$36,5,0)","v":63},{"$f":"VLOOKUP($A$3,'T-6GE-D'!$A$5:$BU$36,27,0)","v":58},{"$f":"VLOOKUP($A$3,'T-6GE-D'!$A$5:$BU$36,35,0)","v":5},{"$f":"VLOOKUP($A$3,'T-6GE-D'!$A$5:$BU$36,6,0)","v":71},{"$f":"VLOOKUP($A$3,'T-6GE-D'!$A$5:$BU$36,43,0)","v":62},{"$f":"VLOOKUP($A$3,'T-6GE-D'!$A$5:$BU$36,51,0)","v":9},{"$f":"VLOOKUP($A$3,'T-6GE-D'!$A$5:$BU$36,7,0)","v":68},{"$f":"VLOOKUP($A$3,'T-6GE-D'!$A$5:$BU$36,59,0)","v":55},{"$f":"VLOOKUP($A$3,'T-6GE-D'!$A$5:$BU$36,67,0)","v":13}]
["Ahogamiento y sumersión accidentales",{"$f":"VLOOKUP($A$3,'T-6GE-D'!$A$5:$BU$36,8,0)","v":80},{"$f":"VLOOKUP($A$3,'T-6GE-D'!$A$5:$BU$36,28,0)","v":72},{"$f":"VLOOKUP($A$3,'T-6GE-D'!$A$5:$BU$36,36,0)","v":8},{"$f":"VLOOKUP($A$3,'T-6GE-D'!$A$5:$BU$36,9,0)","v":93},{"$f":"VLOOKUP($A$3,'T-6GE-D'!$A$5:$BU$36,44,0)","v":77},{"$f":"VLOOKUP($A$3,'T-6GE-D'!$A$5:$BU$36,52,0)","v":16},{"$f":"VLOOKUP($A$3,'T-6GE-D'!$A$5:$BU$36,10,0)","v":75},{"$f":"VLOOKUP($A$3,'T-6GE-D'!$A$5:$BU$36,60,0)","v":64},{"$f":"VLOOKUP($A$3,'T-6GE-D'!$A$5:$BU$36,68,0)","v":11}]
["Exposición al humo, fuego y llamas",{"$f":"VLOOKUP($A$3,'T-6GE-D'!$A$5:$BU$36,11,0)","v":9},{"$f":"VLOOKUP($A$3,'T-6GE-D'!$A$5:$BU$36,29,0)","v":8},{"$f":"VLOOKUP($A$3,'T-6GE-D'!$A$5:$BU$36,37,0)","v":1},{"$f":"VLOOKUP($A$3,'T-6GE-D'!$A$5:$BU$36,12,0)","v":6},{"$f":"VLOOKUP($A$3,'T-6GE-D'!$A$5:$BU$36,45,0)","v":6},{"$f":"VLOOKUP($A$3,'T-6GE-D'!$A$5:$BU$36,53,0)","v":0},{"$f":"VLOOKUP($A$3,'T-6GE-D'!$A$5:$BU$36,13,0)","v":4},{"$f":"VLOOKUP($A$3,'T-6GE-D'!$A$5:$BU$36,61,0)","v":4},{"$f":"VLOOKUP($A$3,'T-6GE-D'!$A$5:$BU$36,69,0)","v":0}]
["Envenenamiento accidental por, y exposición a sustancias nocivas",{"$f":"VLOOKUP($A$3,'T-6GE-D'!$A$5:$BU$36,14,0)","v":53},{"$f":"VLOOKUP($A$3,'T-6GE-D'!$A$5:$BU$36,30,0)","v":46},{"$f":"VLOOKUP($A$3,'T-6GE-D'!$A$5:$BU$36,38,0)","v":7},{"$f":"VLOOKUP($A$3,'T-6GE-D'!$A$5:$BU$36,15,0)","v":33},{"$f":"VLOOKUP($A$3,'T-6GE-D'!$A$5:$BU$36,46,0)","v":26},{"$f":"VLOOKUP($A$3,'T-6GE-D'!$A$5:$BU$36,54,0)","v":7},{"$f":"VLOOKUP($A$3,'T-6GE-D'!$A$5:$BU$36,16,0)","v":33},{"$f":"VLOOKUP($A$3,'T-6GE-D'!$A$5:$BU$36,62,0)","v":28},{"$f":"VLOOKUP($A$3,'T-6GE-D'!$A$5:$BU$36,70,0)","v":5}]
["Lesiones autoinfligidas intencionalmente",{"$f":"VLOOKUP($A$3,'T-6GE-D'!$A$5:$BU$36,17,0)","v":211},{"$f":"VLOOKUP($A$3,'T-6GE-D'!$A$5:$BU$36,31,0)","v":174},{"$f":"VLOOKUP($A$3,'T-6GE-D'!$A$5:$BU$36,39,0)","v":37},{"$f":"VLOOKUP($A$3,'T-6GE-D'!$A$5:$BU$36,18,0)","v":251},{"$f":"VLOOKUP($A$3,'T-6GE-D'!$A$5:$BU$36,47,0)","v":195},{"$f":"VLOOKUP($A$3,'T-6GE-D'!$A$5:$BU$36,55,0)","v":56},{"$f":"VLOOKUP($A$3,'T-6GE-D'!$A$5:$BU$36,19,0)","v":266},{"$f":"VLOOKUP($A$3,'T-6GE-D'!$A$5:$BU$36,63,0)","v":227},{"$f":"VLOOKUP($A$3,'T-6GE-D'!$A$5:$BU$36,71,0)","v":39}]
["Agresiones",{"$f":"VLOOKUP($A$3,'T-6GE-D'!$A$5:$BU$36,20,0)","v":535},{"$f":"VLOOKUP($A$3,'T-6GE-D'!$A$5:$BU$36,32,0)","v":461},{"$f":"VLOOKUP($A$3,'T-6GE-D'!$A$5:$BU$36,40,0)","v":74},{"$f":"VLOOKUP($A$3,'T-6GE-D'!$A$5:$BU$36,21,0)","v":564},{"$f":"VLOOKUP($A$3,'T-6GE-D'!$A$5:$BU$36,48,0)","v":498},{"$f":"VLOOKUP($A$3,'T-6GE-D'!$A$5:$BU$36,56,0)","v":66},{"$f":"VLOOKUP($A$3,'T-6GE-D'!$A$5:$BU$36,22,0)","v":497},{"$f":"VLOOKUP($A$3,'T-6GE-D'!$A$5:$BU$36,64,0)","v":432},{"$f":"VLOOKUP($A$3,'T-6GE-D'!$A$5:$BU$36,72,0)","v":65}]
["Todas las demás causas externas",{"$f":"VLOOKUP($A$3,'T-6GE-D'!$A$5:$BU$36,23,0)","v":362},{"$f":"VLOOKUP($A$3,'T-6GE-D'!$A$5:$BU$36,33,0)","v":260},{"$f":"VLOOKUP($A$3,'T-6GE-D'!$A$5:$BU$36,41,0)","v":102},{"$f":"VLOOKUP($A$3,'T-6GE-D'!$A$5:$BU$36,24,0)","v":330},{"$f":"VLOOKUP($A$3,'T-6GE-D'!$A$5:$BU$36,49,0)","v":209},{"$f":"VLOOKUP($A$3,'T-6GE-D'!$A$5:$BU$36,57,0)","v":121},{"$f":"VLOOKUP($A$3,'T-6GE-D'!$A$5:$BU$36,25,0)","v":282},{"$f":"VLOOKUP($A$3,'T-6GE-D'!$A$5:$BU$36,65,0)","v":193},{"$f":"VLOOKUP($A$3,'T-6GE-D'!$A$5:$BU$36,73,0)","v":89}]
["Total",{"$f":"SUM(B4:B11)","v":1745},1442,303,1896,1524,372,1895,1561,334]

{"sheet":"T-7GE-D","index":27,"n_rows":36,"n_cols":163,"rows_kept":36,"cut":false,"hidden":true,"merged":[[2,13,2,15],[2,16,2,18],[2,19,2,21],[1,0,1,162],[2,22,2,24],[2,25,2,27],[2,28,2,30],[2,0,3,0],[2,1,2,3],[2,4,2,6],[2,7,2,9],[2,10,2,12],[2,31,2,33],[2,34,2,36],[2,37,2,39],[2,40,2,42],[2,43,2,45],[2,55,2,90],[2,91,2,126],[2,127,2,162],[2,46,2,48],[2,49,2,51],[2,52,2,54]]}
[1,2,3,4,5,6,7,8,9,10,11,12,13,14,15,16,17,18,19,20,21,22,23,24,25,26,27,28,29,30,31,32,33,34,35,36,37,38,39,40,41,42,43,44,45,46,47,48,49,50,51,52,53,54,55,56,57,58,59,60,61,62,63,64,65,66,67,68,69,70,71,72,73,74,75,76,77,78,79,80,81,82,83,84,85,86,87,88,89,90,91,92,93,94,95,96,97,98,99,100,101,102,103,104,105,106,107,108,109,110,111,112,113,114,115,116,117,118,119,120,121,122,123,124,125,126,127,128,129,130,131,132,133,134,135,136,137,138,139,140,141,142,143,144,145,146,147,148,149,150,151,152,153,154,155,156,157,158,159,160,161,162,163]
["Ciertas enfermedades infecciosas y parasitarias"]
["ESTADO","Diarrea y gastroenteritis de presunto origen infeccioso",null,null,"Otras enfermedades infecciosas intestinales",null,null,"Tuberculosis respiratoria",null,null,"Otras tuberculosis",null,null,"Tétanos",null,null,"Tos ferina",null,null,"Infección meningocócica",null,null,"Septicemia",null,null,"Infecciones  con  un modo de transmisión  predominantemente sexual",null,null,"Otras fiebres virales transmitidas por artrópodos y fiebres hemorrágicas virales",null,null,"Hepatitis viral",null,null,"Enfermedad por virus de la inmunodeficiencia humana (VIH)",null,null,"Paludismo (malaria)",null,null,"Leishmaniasis",null,null,"Tripanosomiasis",null,null,"Resto de ciertas enfermedades infecciosas y parasitarias",null,null,"Rabia",null,null,"Esquitosomiasis ",null,null,2020,null,null,null,null,null,null,null,null,null,null,null,null,null,null,null,null,null,null,null,null,null,null,null,null,null,null,null,null,null,null,null,null,null,null,null,2021,null,null,null,null,null,null,null,null,null,null,null,null,null,null,null,null,null,null,null,null,null,null,null,null,null,null,null,null,null,null,null,null,null,null,null,2022]
[null,2020,2021,2022,2020,2021,2022,2020,2021,2022,2020,2021,2022,2020,2021,2022,2020,2021,2022,2020,2021,2022,2020,2021,2022,2020,2021,2022,2020,2021,2022,2020,2021,2022,2020,2021,2022,2020,2021,2022,2020,2021,2022,2020,2021,2022,2020,2021,2022,2020,2021,2022,2020,2021,2022,"Hombres 2020(1)","Hombres 2020(2)","Hombres 2020(3)","Hombres 2020(4)","Hombres 2020(5)","Hombres 2020(6)","Hombres 2020(7)","Hombres 2020(8)","Hombres 2020(9)","Hombres 2020(10)","Hombres 2020(11)","Hombres 2020(12)","Hombres 2020(13)","Hombres 2020(14)","Hombres 2020(15)","Hombres 2020(16)","Hombres 2020(17)","Hombres 2020(18)","Mujeres 2020(1)","Mujeres 2020(2)","Mujeres 2020(3)","Mujeres 2020(4)","Mujeres 2020(5)","Mujeres 2020(6)","Mujeres 2020(7)","Mujeres 2020(8)","Mujeres 2020(9)","Mujeres 2020(10)","Mujeres 2020(11)","Mujeres 2020(12)","Mujeres 2020(13)","Mujeres 2020(14)","Mujeres 2020(15)","Mujeres 2020(16)","Mujeres 2020(17)","Mujeres 2020(18)","Hombres 2021(1)","Hombres 2021(2)","Hombres 2021(3)","Hombres 2021(4)","Hombres 2021(5)","Hombres 2021(6)","Hombres 2021(7)","Hombres 2021(8)","Hombres 2021(9)","Hombres 2021(10)","Hombres 2021(11)","Hombres 2021(12)","Hombres 2021(13)","Hombres 2021(14)","Hombres 2021(15)","Hombres 2021(16)","Hombres 2021(17)","Hombres 2021(18)","Mujeres 2021(1)","Mujeres 2021(2)","Mujeres 2021(3)","Mujeres 2021(4)","Mujeres 2021(5)","Mujeres 2021(6)","Mujeres 2021(7)","Mujeres 2021(8)","Mujeres 2021(9)","Mujeres 2021(10)","Mujeres 2021(11)","Mujeres 2021(12)","Mujeres 2021(13)","Mujeres 2021(14)","Mujeres 2021(15)","Mujeres 2021(16)","Mujeres 2021(17)","Mujeres 2021(18)","Hombres 2022(1)","Hombres 2022(2)","Hombres 2022(3)","Hombres 2022(4)","Hombres 2022(5)","Hombres 2022(6)","Hombres 2022(7)","Hombres 2022(8)","Hombres 2022(9)","Hombres 2022(10)","Hombres 2022(11)","Hombres 2022(12)","Hombres 2022(13)","Hombres 2022(14)","Hombres 2022(15)","Hombres 2022(16)","Hombres 2022(17)","Hombres 2022(18)","Mujeres 2022(1)","Mujeres 2022(2)","Mujeres 2022(3)","Mujeres 2022(4)","Mujeres 2022(5)","Mujeres 2022(6)","Mujeres 2022(7)","Mujeres 2022(8)","Mujeres 2022(9)","Mujeres 2022(10)","Mujeres 2022(11)","Mujeres 2022(12)","Mujeres 2022(13)","Mujeres 2022(14)","Mujeres 2022(15)","Mujeres 2022(16)","Mujeres 2022(17)","Mujeres 2022(18)"]
["Aguascalientes",32,35,29,10,3,5,6,14,7,3,5,6,0,0,0,0,0,0,0,0,0,62,69,65,1,31,0,0,0,0,9,5,9,22,16,28,0,0,0,0,0,0,0,0,0,17,19,12,0,0,0,0,0,0,16,6,4,1,0,0,0,33,0,0,6,21,0,0,0,11,0,0,16,4,2,2,0,0,0,29,1,0,3,1,0,0,0,6,0,0,20,2,6,5,0,0,0,38,0,0,4,14,0,0,0,11,0,0,15,1,8,0,0,0,0,31,31,0,1,2,0,0,0,8,0,0,9,0,3,1,0,0,0,22,0,0,5,22,0,0,0,6,0,0,20,5,4,5,0,0,0,43,0,0,4,6,0,0,0,6,0,0]
["Baja California",70,48,54,12,9,7,281,276,263,35,46,27,0,0,0,0,0,0,0,0,1,234,240,334,5,96,7,0,0,0,112,99,56,287,317,260,0,0,0,0,0,0,0,0,0,68,54,110,0,0,0,0,0,0,38,6,231,22,0,0,0,135,3,0,78,215,0,0,0,44,0,0,32,6,50,13,0,0,0,99,2,0,34,72,0,0,0,24,0,0,30,4,218,29,0,0,0,145,1,0,68,239,0,0,0,33,0,0,18,5,58,17,0,0,0,95,95,0,31,78,0,0,0,21,0,0,25,2,206,17,0,0,1,223,5,0,41,203,0,0,0,62,0,0,29,5,57,10,0,0,0,111,2,0,15,57,0,0,0,48,0,0]
["Baja California Sur",20,14,11,2,1,2,20,20,20,3,4,3,0,0,0,0,0,0,0,0,0,34,44,40,0,18,1,0,0,2,12,6,5,55,53,40,0,0,0,0,0,0,0,0,0,5,10,12,0,0,0,0,0,0,12,1,19,3,0,0,0,22,0,0,9,46,0,0,0,2,0,0,8,1,1,0,0,0,0,12,0,0,3,9,0,0,0,3,0,0,8,0,16,3,0,0,0,26,0,0,3,46,0,0,0,7,0,0,6,1,4,1,0,0,0,18,18,0,3,7,0,0,0,3,0,0,6,0,19,1,0,0,0,14,1,1,4,33,0,0,0,6,0,0,5,2,1,2,0,0,0,26,0,1,1,7,0,0,0,6,0,0]
["Campeche",19,8,10,3,0,0,11,21,22,0,1,2,0,0,0,0,0,0,0,0,0,25,44,43,0,21,0,2,0,0,1,0,5,70,73,84,0,0,0,0,0,0,0,1,0,3,6,4,0,0,0,0,0,0,8,3,8,0,0,0,0,12,0,2,0,59,0,0,0,3,0,0,11,0,3,0,0,0,0,13,0,0,1,11,0,0,0,0,0,0,4,0,14,1,0,0,0,23,0,0,0,61,0,0,0,2,0,0,4,0,7,0,0,0,0,21,21,0,0,12,0,0,1,4,0,0,4,0,18,1,0,0,0,29,0,0,3,71,0,0,0,3,0,0,6,0,4,1,0,0,0,14,0,0,2,13,0,0,0,1,0,0]
["Coahuila",50,36,27,10,5,7,53,46,53,9,11,6,0,0,0,0,0,0,0,0,0,136,147,172,1,72,0,8,2,9,15,13,17,63,88,74,0,0,0,0,0,0,0,0,0,32,44,44,0,0,0,0,0,0,24,4,37,8,0,0,0,74,1,3,11,55,0,0,0,20,0,0,26,6,16,1,0,0,0,62,0,5,4,8,0,0,0,12,0,0,13,5,29,7,0,0,0,75,0,1,8,72,0,0,0,24,0,0,23,0,17,4,0,0,0,72,72,1,5,16,0,0,0,20,0,0,11,3,36,3,0,0,0,86,0,3,10,54,0,0,0,29,0,0,16,4,17,3,0,0,0,86,0,6,7,20,0,0,0,15,0,0]
["Colima",6,6,9,4,2,0,13,15,18,2,2,2,0,0,0,1,0,0,0,0,0,31,43,57,0,23,0,4,1,1,5,5,4,72,36,54,0,0,0,0,0,0,0,0,0,12,13,8,0,0,0,0,0,0,4,2,12,1,0,0,0,14,0,3,3,65,0,0,0,9,0,0,2,2,1,1,0,1,0,17,0,1,2,7,0,0,0,3,0,0,1,2,11,1,0,0,0,20,0,0,1,28,0,0,0,8,0,0,5,0,4,1,0,0,0,23,23,1,4,8,0,0,0,5,0,0,1,0,14,1,0,0,0,24,0,0,4,42,0,0,0,5,0,0,8,0,4,1,0,0,0,33,0,1,0,12,0,0,0,3,0,0]
["Chiapas",415,445,301,49,33,20,140,116,105,8,12,7,1,0,2,4,2,0,1,1,1,205,216,185,2,108,0,49,16,6,16,10,14,244,243,226,0,0,0,0,0,0,1,1,0,38,62,47,0,0,0,0,0,0,231,32,95,5,1,2,1,99,1,28,7,190,0,0,0,18,0,0,184,17,45,3,0,2,0,106,1,21,9,54,0,0,1,20,0,0,255,21,79,9,0,1,0,109,1,10,8,205,0,0,1,38,0,0,190,12,37,3,0,1,1,107,107,6,2,38,0,0,0,24,0,0,152,16,70,4,2,0,1,86,0,5,8,186,0,0,0,27,0,0,149,4,35,3,0,0,0,99,0,1,6,40,0,0,0,20,0,0]
["Chihuahua",81,95,80,30,17,13,83,78,95,16,24,18,0,0,0,0,1,0,0,0,1,254,279,307,1,148,4,0,0,0,65,41,53,98,110,136,0,0,0,0,0,0,0,0,0,91,89,98,0,0,0,0,0,0,41,15,54,10,0,0,0,115,0,0,37,83,0,0,0,46,0,0,40,15,29,6,0,0,0,139,1,0,28,15,0,0,0,45,0,0,49,9,61,15,0,1,0,132,1,0,24,93,0,0,0,46,0,0,46,8,17,9,0,0,0,147,147,0,17,17,0,0,0,43,0,0,41,5,68,9,0,0,1,156,2,0,32,112,0,0,0,55,0,0,39,8,27,9,0,0,0,151,2,0,21,24,0,0,0,43,0,0]
["Ciudad de México",365,258,254,85,78,76,127,59,104,28,41,38,0,0,0,0,0,1,1,0,1,535,642,844,1,330,4,62,0,2,109,124,130,557,444,436,0,0,0,0,0,0,3,1,0,147,150,164,0,0,0,0,0,0,180,42,76,21,0,0,0,254,1,43,46,458,0,0,3,86,0,0,185,43,51,7,0,0,1,281,0,19,63,99,0,0,0,61,0,0,110,39,42,24,0,0,0,313,1,0,56,384,0,0,1,82,0,0,148,39,17,17,0,0,0,329,329,0,68,60,0,0,0,68,0,0,116,34,67,24,0,0,0,417,2,1,61,384,0,0,0,82,0,0,138,42,37,14,0,1,1,427,2,1,69,52,0,0,0,82,0,0]
["Durango",23,29,18,5,5,3,32,25,20,8,10,8,0,0,0,0,0,1,0,0,0,46,68,92,0,38,0,1,0,0,8,5,12,26,32,20,0,0,0,0,0,0,0,1,0,13,20,24,0,0,0,0,0,0,11,2,23,5,0,0,0,24,0,1,5,22,0,0,0,8,0,0,12,3,9,3,0,0,0,22,0,0,3,4,0,0,0,5,0,0,15,2,18,5,0,0,0,31,1,0,3,29,0,0,0,12,0,0,14,3,7,5,0,0,0,37,37,0,2,3,0,0,1,8,0,0,8,2,15,6,0,0,0,43,0,0,5,19,0,0,0,8,0,0,10,1,5,2,0,1,0,49,0,0,7,1,0,0,0,16,0,0]
["Guanajuato",135,97,101,17,15,21,14,11,18,13,16,15,0,0,0,0,0,0,0,0,0,206,263,271,2,140,3,0,1,0,21,21,17,84,90,89,0,0,0,0,0,0,0,0,0,32,55,51,0,0,0,0,0,0,59,8,10,6,0,0,0,101,1,0,10,76,0,0,0,19,0,0,76,9,4,7,0,0,0,105,1,0,11,8,0,0,0,13,0,0,43,7,8,12,0,0,0,124,1,0,10,79,0,0,0,27,0,0,54,8,3,4,0,0,0,139,139,1,11,11,0,0,0,28,0,0,48,12,12,9,0,0,0,130,2,0,9,82,0,0,0,30,0,0,53,9,6,6,0,0,0,141,1,0,8,7,0,0,0,21,0,0]
["Guerrero",80,86,73,21,11,5,32,57,43,7,8,12,0,1,0,1,0,0,0,0,0,98,124,136,0,57,0,29,12,5,12,30,11,81,89,89,0,0,0,0,0,0,2,1,1,31,23,32,0,0,0,0,0,0,44,15,21,4,0,1,0,43,0,17,6,68,0,0,2,19,0,0,36,6,11,3,0,0,0,55,0,12,6,13,0,0,0,12,0,0,38,5,46,4,1,0,0,67,0,4,17,67,0,0,1,12,0,0,48,6,11,4,0,0,0,57,57,8,13,22,0,0,0,11,0,0,33,2,28,6,0,0,0,64,0,3,6,72,0,0,0,21,0,0,40,3,15,6,0,0,0,72,0,2,5,17,0,0,1,11,0,0]
["Hidalgo",29,35,26,7,4,2,10,18,13,5,4,3,0,0,0,0,0,0,0,0,0,139,139,173,0,63,0,0,0,0,13,13,7,54,64,53,0,0,0,0,0,0,1,0,0,21,17,25,0,0,0,0,0,0,8,4,8,4,0,0,0,61,0,0,2,47,0,0,0,12,0,0,21,3,2,1,0,0,0,78,0,0,11,7,0,0,1,9,0,0,18,1,10,2,0,0,0,76,0,0,5,58,0,0,0,10,0,0,17,3,8,2,0,0,0,63,63,0,8,6,0,0,0,7,0,0,9,1,3,3,0,0,0,89,0,0,4,46,0,0,0,16,0,0,17,1,10,0,0,0,0,84,0,0,3,7,0,0,0,9,0,0]
["Jalisco",192,171,140,31,40,34,80,104,113,29,28,30,0,0,0,1,0,0,1,2,0,327,490,589,7,258,4,68,7,6,91,97,91,346,371,326,0,0,0,0,0,0,0,0,0,86,125,129,0,0,0,0,0,0,96,14,54,20,0,0,1,155,4,41,32,294,0,0,0,49,0,0,96,17,26,9,0,1,0,172,3,27,59,52,0,0,0,37,0,0,76,21,80,13,0,0,1,234,2,3,47,330,0,0,0,76,0,0,95,19,24,15,0,0,1,256,256,4,50,41,0,0,0,49,0,0,59,11,78,13,0,0,0,292,3,4,42,282,0,0,0,83,0,0,81,23,35,17,0,0,0,297,1,2,49,44,0,0,0,46,0,0]
["México",246,222,249,53,52,61,37,39,68,14,12,13,0,0,0,0,0,1,0,0,0,475,555,708,0,268,3,3,0,2,83,67,80,326,323,257,0,0,0,0,0,0,0,0,0,68,86,89,0,0,0,0,0,0,105,31,23,7,0,0,0,234,0,1,27,291,0,0,0,35,0,0,141,22,14,7,0,0,0,241,0,2,56,35,0,0,0,33,0,0,106,28,27,8,0,0,0,287,0,0,21,276,0,0,0,62,0,0,116,24,12,4,0,0,0,268,268,0,46,47,0,0,0,24,0,0,102,32,51,9,0,0,0,371,2,2,33,225,0,0,0,55,0,0,147,29,17,4,0,1,0,337,1,0,47,32,0,0,0,34,0,0]
["Michoacán",116,110,82,17,24,8,14,20,21,4,4,9,1,1,0,1,0,0,0,0,0,158,230,205,2,108,0,71,7,4,35,34,25,67,82,66,0,0,0,0,0,0,0,0,0,28,44,39,0,0,0,0,0,0,60,5,9,2,1,0,0,81,1,36,21,60,0,0,0,14,0,0,56,12,5,2,0,1,0,77,1,35,14,7,0,0,0,14,0,0,50,9,13,1,0,0,0,125,3,7,20,73,0,0,0,28,0,0,60,15,7,3,1,0,0,105,105,0,14,9,0,0,0,16,0,0,36,5,16,5,0,0,0,102,0,0,14,58,0,0,0,18,0,0,46,3,5,4,0,0,0,103,0,4,11,8,0,0,0,21,0,0]
["Morelos",39,37,47,12,10,7,19,18,18,4,4,5,1,0,0,0,0,0,0,0,0,62,84,105,0,43,0,3,9,8,20,16,15,75,85,77,0,0,0,0,0,0,0,0,0,20,21,31,0,0,0,0,0,0,23,7,15,2,1,0,0,32,0,2,5,68,0,0,0,15,0,0,16,5,4,2,0,0,0,30,0,1,15,7,0,0,0,5,0,0,17,3,13,3,0,0,0,41,0,3,5,75,0,0,0,11,0,0,20,7,5,1,0,0,0,43,43,6,11,10,0,0,0,10,0,0,19,5,15,1,0,0,0,47,0,3,8,63,0,0,0,17,0,0,28,2,3,4,0,0,0,58,0,5,7,14,0,0,0,14,0,0]
["Nayarit",31,38,47,3,4,6,22,31,34,6,6,13,0,0,1,1,0,0,0,0,0,45,54,82,1,21,0,11,3,0,12,13,9,53,54,54,0,0,0,0,0,0,0,0,0,12,19,10,0,0,0,0,0,0,17,1,18,4,0,0,0,26,1,5,7,38,0,0,0,7,0,0,14,2,4,2,0,1,0,19,0,6,5,15,0,0,0,5,0,0,21,2,20,3,0,0,0,33,0,1,4,47,0,0,0,12,0,0,17,2,11,3,0,0,0,21,21,2,9,7,0,0,0,7,0,0,25,4,25,6,0,0,0,44,0,0,2,48,0,0,0,8,0,0,22,2,9,7,1,0,0,38,0,0,7,6,0,0,0,2,0,0]
["Nuevo León",74,65,84,10,6,17,171,205,239,30,30,22,1,1,0,1,1,0,0,0,0,135,217,273,1,124,2,14,1,5,29,16,18,204,214,198,0,0,0,0,0,0,0,0,1,62,83,107,0,0,0,0,0,0,28,5,129,22,1,1,0,71,1,10,15,178,0,0,0,40,0,0,46,5,42,8,0,0,0,64,0,4,14,26,0,0,0,22,0,0,31,4,160,17,1,0,0,97,4,1,11,174,0,0,0,48,0,0,34,2,45,13,0,1,0,120,120,0,5,40,0,0,0,35,0,0,40,6,172,20,0,0,0,134,2,1,11,173,0,0,1,63,0,0,44,11,67,2,0,0,0,139,0,4,7,25,0,0,0,44,0,0]
["Oaxaca",152,135,122,22,29,15,66,73,74,10,10,12,0,0,0,0,0,0,0,0,0,103,117,125,0,63,1,26,21,23,25,32,19,94,122,89,0,0,0,0,0,0,15,8,6,65,63,51,0,0,0,0,0,0,71,10,42,9,0,0,0,56,0,16,10,79,0,0,12,33,0,0,81,12,24,1,0,0,0,47,0,10,15,15,0,0,3,32,0,0,69,15,53,5,0,0,0,54,0,9,15,106,0,0,4,35,0,0,66,14,20,5,0,0,0,63,63,12,17,16,0,0,4,28,0,0,52,4,48,7,0,0,0,67,1,10,6,69,0,0,3,25,0,0,70,11,26,5,0,0,0,58,0,13,13,20,0,0,3,26,0,0]
["Puebla",129,99,79,27,15,7,30,26,43,13,7,13,0,0,0,0,0,0,0,0,0,239,245,301,0,130,1,6,2,1,35,33,23,136,158,144,0,0,0,0,0,0,0,0,0,47,39,56,0,0,0,0,0,0,59,17,20,10,0,0,0,132,0,6,12,117,0,0,0,29,0,0,70,10,10,3,0,0,0,107,0,0,23,19,0,0,0,18,0,0,43,9,14,3,0,0,0,117,2,1,11,143,0,0,0,22,0,0,56,6,12,4,0,0,0,128,128,1,22,15,0,0,0,17,0,0,29,3,27,9,0,0,0,144,1,1,13,127,0,0,0,28,0,0,50,4,16,4,0,0,0,157,0,0,10,17,0,0,0,28,0,0]
["Querétaro",45,46,33,7,5,5,21,18,28,6,7,11,0,0,0,0,0,0,0,0,0,114,133,145,0,73,2,1,0,0,15,18,16,64,70,49,0,0,0,0,0,0,0,0,0,18,32,28,0,0,0,0,0,0,19,5,15,3,0,0,0,57,0,0,5,58,0,0,0,9,0,0,26,2,6,3,0,0,0,57,0,1,10,6,0,0,0,9,0,0,19,2,14,4,0,0,0,61,1,0,5,66,0,0,0,17,0,0,27,3,4,3,0,0,0,72,72,0,13,4,0,0,0,15,0,0,13,3,19,7,0,0,0,80,1,0,6,41,0,0,0,18,0,0,20,2,9,4,0,0,0,65,1,0,10,8,0,0,0,10,0,0]
["Quintana Roo",46,28,25,2,3,3,30,35,34,7,2,3,0,0,0,0,0,0,0,0,0,65,83,87,2,45,0,2,0,1,7,4,14,188,224,150,0,0,1,0,0,0,3,0,0,12,16,31,0,0,0,1,0,0,24,0,24,4,0,0,0,36,2,2,1,152,0,0,3,9,0,0,22,2,6,3,0,0,0,29,0,0,6,36,0,0,0,3,0,1,12,2,26,1,0,0,0,38,0,0,1,183,0,0,0,8,0,0,16,1,9,1,0,0,0,45,45,0,3,41,0,0,0,8,0,0,10,3,29,2,0,0,0,53,0,0,11,130,0,0,0,17,0,0,15,0,5,1,0,0,0,34,0,1,3,20,1,0,0,14,0,0]
["San Luis Potosí",83,62,69,13,8,6,35,33,39,11,22,22,0,0,1,0,0,0,0,0,1,125,152,169,0,84,0,6,0,0,10,12,12,68,52,66,0,0,0,0,0,0,0,0,0,39,27,39,0,0,0,0,0,0,43,5,25,6,0,0,0,62,0,3,7,63,0,0,0,18,0,0,40,8,10,5,0,0,0,63,0,3,3,5,0,0,0,21,0,0,29,4,26,18,0,0,0,68,0,0,8,47,0,0,0,18,0,0,33,4,7,4,0,0,0,84,84,0,4,5,0,0,0,9,0,0,34,2,29,11,1,0,1,82,0,0,7,48,0,0,0,24,0,0,35,4,10,11,0,0,0,87,0,0,5,18,0,0,0,15,0,0]
["Sinaloa",46,56,49,6,17,9,70,100,65,10,11,14,0,0,0,0,0,0,0,0,0,137,213,193,0,109,2,13,17,3,24,30,26,77,75,59,0,0,0,0,0,0,0,0,0,25,45,39,0,0,0,0,0,0,20,3,52,7,0,0,0,67,0,6,17,66,0,0,0,17,0,0,26,3,18,3,0,0,0,70,0,7,7,11,0,0,0,8,0,0,31,6,81,8,0,0,0,105,1,9,14,57,0,0,0,26,0,0,25,11,19,3,0,0,0,108,108,8,16,18,0,0,0,19,0,0,24,1,55,9,0,0,0,94,2,2,16,51,0,0,0,22,0,0,25,8,10,5,0,0,0,99,0,1,10,8,0,0,0,17,0,0]
["Sonora",53,68,58,12,5,8,137,118,163,19,28,8,0,0,0,0,1,0,0,0,0,176,251,348,6,125,3,1,2,36,31,42,36,115,113,109,0,0,1,0,0,0,0,0,0,77,117,150,0,0,0,0,0,0,28,7,112,16,0,0,0,86,3,1,25,105,0,0,0,38,0,0,25,5,25,3,0,0,0,90,3,0,6,10,0,0,0,39,0,0,31,1,95,17,0,0,0,128,2,1,33,89,0,0,0,70,0,0,37,4,23,11,0,1,0,123,123,1,9,24,0,0,0,47,0,0,34,5,137,7,0,0,0,180,2,13,33,83,1,0,0,82,0,0,24,3,26,1,0,0,0,168,1,23,3,26,0,0,0,68,0,0]
["Tabasco",22,25,21,2,5,3,23,41,56,4,10,6,0,0,1,3,0,0,0,0,1,93,116,95,0,62,0,8,1,6,5,7,6,133,109,172,0,0,0,0,0,1,0,0,0,27,22,28,0,0,0,0,0,0,11,1,15,3,0,1,0,41,0,5,2,100,0,0,0,19,0,0,11,1,8,1,0,2,0,52,0,3,3,33,0,0,0,8,0,0,9,2,30,6,0,0,0,54,0,0,4,93,0,0,0,18,0,0,16,3,11,4,0,0,0,62,62,1,3,16,0,0,0,4,0,0,12,3,46,3,1,0,1,47,0,3,4,139,0,1,0,15,0,0,9,0,10,3,0,0,0,48,0,3,2,33,0,0,0,13,0,0]
["Tamaulipas",34,23,18,6,2,11,49,69,75,8,9,11,2,2,1,0,0,0,0,0,0,160,217,221,3,114,1,15,2,1,9,18,7,192,181,130,0,0,0,0,0,0,3,2,0,14,32,38,0,0,0,0,0,0,13,3,32,5,1,0,0,70,2,3,7,150,0,0,2,6,0,0,21,3,17,3,1,0,0,90,1,12,2,42,0,0,1,8,0,0,10,2,44,6,2,0,0,105,2,1,8,135,0,0,2,20,0,0,13,0,25,3,0,0,0,112,112,1,10,46,0,0,0,12,0,0,9,5,54,4,1,0,0,100,1,0,3,108,0,0,0,15,0,0,9,6,21,7,0,0,0,121,0,1,4,22,0,0,0,23,0,0]
["Tlaxcala",28,17,15,1,3,0,2,3,2,0,0,1,0,0,0,0,0,0,0,0,0,37,45,55,0,22,0,0,0,0,8,5,2,6,12,23,0,0,0,0,0,0,0,0,0,9,7,10,0,0,0,0,0,0,22,1,1,0,0,0,0,11,0,0,3,6,0,0,0,6,0,0,6,0,1,0,0,0,0,26,0,0,5,0,0,0,0,3,0,0,10,1,3,0,0,0,0,23,0,0,3,9,0,0,0,5,0,0,7,2,0,0,0,0,0,22,22,0,2,3,0,0,0,2,0,0,7,0,1,0,0,0,0,28,0,0,1,18,0,0,0,4,0,0,8,0,1,1,0,0,0,27,0,0,1,5,0,0,0,6,0,0]
["Veracruz",146,117,129,27,15,18,166,163,176,19,25,22,1,1,2,1,0,0,0,0,0,395,432,473,0,209,2,16,4,16,39,59,38,577,605,500,0,0,0,0,0,0,6,6,3,92,87,80,1,0,0,0,0,0,73,12,109,13,1,1,0,177,0,9,11,461,0,0,6,47,1,0,73,15,57,6,0,0,0,218,0,7,28,116,0,0,0,45,0,0,51,8,123,19,1,0,0,224,1,3,29,484,0,0,4,49,0,0,66,7,40,6,0,0,0,208,208,1,30,121,0,0,2,38,0,0,53,8,125,14,2,0,0,221,1,8,18,407,0,0,0,40,0,0,76,10,51,8,0,0,0,252,1,8,20,93,0,0,3,40,0,0]
["Yucatán",125,94,92,18,9,8,17,23,32,1,5,6,0,0,0,0,0,0,0,0,0,123,154,172,0,87,0,1,0,1,12,9,5,120,140,109,0,0,0,0,0,0,1,4,0,38,29,28,0,0,0,0,0,0,59,10,12,1,0,0,0,60,0,1,5,106,0,0,1,22,0,0,66,8,5,0,0,0,0,63,0,0,7,14,0,0,0,16,0,0,46,5,18,2,0,0,0,67,0,0,4,121,0,0,3,19,0,0,48,4,5,3,0,0,0,87,87,0,5,19,0,0,1,10,0,0,49,5,20,3,0,0,0,89,0,0,2,93,0,0,0,18,0,0,43,3,12,3,0,0,0,83,0,1,3,16,0,0,0,10,0,0]
["Zacatecas",56,42,43,1,2,3,2,6,8,6,5,4,0,0,0,0,0,0,0,0,0,62,68,71,1,38,1,0,0,1,6,8,5,19,17,11,0,0,0,0,0,0,0,1,0,23,15,22,0,0,0,0,0,0,27,0,1,4,0,0,0,27,0,0,3,18,0,0,0,15,0,0,29,1,1,2,0,0,0,35,1,0,3,1,0,0,0,8,0,0,19,2,4,3,0,0,0,30,0,0,5,13,0,0,1,11,0,0,23,0,2,2,0,0,0,38,38,0,3,4,0,0,0,4,0,0,19,1,7,2,0,0,0,30,0,0,2,10,0,0,0,14,0,0,24,2,1,2,0,0,0,41,1,1,3,1,0,0,0,8,0,0]

{"sheet":"7D-GCM","index":28,"n_rows":22,"n_cols":10,"rows_kept":22,"cut":false,"hidden":false,"merged":[[0,0,0,9]]}
["Ciertas enfermedades infecciosas y parasitarias"]
["SELECCIONE UNA ENTIDAD"]
["Chiapas","2020","H - 2020","M - 2020","2021","H - 2021","M - 2021","2022","H - 2022","M - 2022"]
["Diarrea y gastroenteritis de presunto origen infeccioso",{"$f":"VLOOKUP($A$3,'T-7GE-D'!$A$5:$BL$36,2,0)","v":415},{"$f":"VLOOKUP($A$3,'T-7GE-D'!$A$5:$FG$36,56,0)","v":231},{"$f":"VLOOKUP($A$3,'T-7GE-D'!$A$5:$FG$36,74,0)","v":184},{"$f":"VLOOKUP($A$3,'T-7GE-D'!$A$5:$BL$36,3,0)","v":445},{"$f":"VLOOKUP($A$3,'T-7GE-D'!$A$5:$FG$36,92,0)","v":255},{"$f":"VLOOKUP($A$3,'T-7GE-D'!$A$5:$FG$36,110,0)","v":190},{"$f":"VLOOKUP($A$3,'T-7GE-D'!$A$5:$BL$36,4,0)","v":301},{"$f":"VLOOKUP($A$3,'T-7GE-D'!$A$5:$FG$36,128,0)","v":152},{"$f":"VLOOKUP($A$3,'T-7GE-D'!$A$5:$FG$36,146,0)","v":149}]
["Otras enfermedades infecciosas intestinales",{"$f":"VLOOKUP($A$3,'T-7GE-D'!$A$5:$BL$36,5,0)","v":49},{"$f":"VLOOKUP($A$3,'T-7GE-D'!$A$5:$FG$36,57,0)","v":32},{"$f":"VLOOKUP($A$3,'T-7GE-D'!$A$5:$FG$36,75,0)","v":17},{"$f":"VLOOKUP($A$3,'T-7GE-D'!$A$5:$BL$36,6,0)","v":33},{"$f":"VLOOKUP($A$3,'T-7GE-D'!$A$5:$FG$36,93,0)","v":21},{"$f":"VLOOKUP($A$3,'T-7GE-D'!$A$5:$FG$36,111,0)","v":12},{"$f":"VLOOKUP($A$3,'T-7GE-D'!$A$5:$BL$36,7,0)","v":20},{"$f":"VLOOKUP($A$3,'T-7GE-D'!$A$5:$FG$36,129,0)","v":16},{"$f":"VLOOKUP($A$3,'T-7GE-D'!$A$5:$FG$36,147,0)","v":4}]
["Tuberculosis respiratoria",{"$f":"VLOOKUP($A$3,'T-7GE-D'!$A$5:$BL$36,8,0)","v":140},{"$f":"VLOOKUP($A$3,'T-7GE-D'!$A$5:$FG$36,58,0)","v":95},{"$f":"VLOOKUP($A$3,'T-7GE-D'!$A$5:$FG$36,76,0)","v":45},{"$f":"VLOOKUP($A$3,'T-7GE-D'!$A$5:$BL$36,9,0)","v":116},{"$f":"VLOOKUP($A$3,'T-7GE-D'!$A$5:$FG$36,94,0)","v":79},{"$f":"VLOOKUP($A$3,'T-7GE-D'!$A$5:$FG$36,112,0)","v":37},{"$f":"VLOOKUP($A$3,'T-7GE-D'!$A$5:$BL$36,10,0)","v":105},{"$f":"VLOOKUP($A$3,'T-7GE-D'!$A$5:$FG$36,130,0)","v":70},{"$f":"VLOOKUP($A$3,'T-7GE-D'!$A$5:$FG$36,148,0)","v":35}]
["Otras tuberculosis",{"$f":"VLOOKUP($A$3,'T-7GE-D'!$A$5:$BL$36,11,0)","v":8},{"$f":"VLOOKUP($A$3,'T-7GE-D'!$A$5:$FG$36,59,0)","v":5},{"$f":"VLOOKUP($A$3,'T-7GE-D'!$A$5:$FG$36,77,0)","v":3},{"$f":"VLOOKUP($A$3,'T-7GE-D'!$A$5:$BL$36,12,0)","v":12},{"$f":"VLOOKUP($A$3,'T-7GE-D'!$A$5:$FG$36,95,0)","v":9},{"$f":"VLOOKUP($A$3,'T-7GE-D'!$A$5:$FG$36,113,0)","v":3},{"$f":"VLOOKUP($A$3,'T-7GE-D'!$A$5:$BL$36,13,0)","v":7},{"$f":"VLOOKUP($A$3,'T-7GE-D'!$A$5:$FG$36,131,0)","v":4},{"$f":"VLOOKUP($A$3,'T-7GE-D'!$A$5:$FG$36,149,0)","v":3}]
["Tétanos",{"$f":"VLOOKUP($A$3,'T-7GE-D'!$A$5:$BL$36,14,0)","v":1},{"$f":"VLOOKUP($A$3,'T-7GE-D'!$A$5:$FGL$36,60,0)","v":1},{"$f":"VLOOKUP($A$3,'T-7GE-D'!$A$5:$FG$36,78,0)","v":0},{"$f":"VLOOKUP($A$3,'T-7GE-D'!$A$5:$BL$36,15,0)","v":0},{"$f":"VLOOKUP($A$3,'T-7GE-D'!$A$5:$FG$36,96,0)","v":0},{"$f":"VLOOKUP($A$3,'T-7GE-D'!$A$5:$FG$36,114,0)","v":0},{"$f":"VLOOKUP($A$3,'T-7GE-D'!$A$5:$BL$36,16,0)","v":2},{"$f":"VLOOKUP($A$3,'T-7GE-D'!$A$5:$FG$36,132,0)","v":2},{"$f":"VLOOKUP($A$3,'T-7GE-D'!$A$5:$FG$36,150,0)","v":0}]
["Tos ferina",{"$f":"VLOOKUP($A$3,'T-7GE-D'!$A$5:$BL$36,17,0)","v":4},{"$f":"VLOOKUP($A$3,'T-7GE-D'!$A$5:$FGL$36,61,0)","v":2},{"$f":"VLOOKUP($A$3,'T-7GE-D'!$A$5:$FG$36,79,0)","v":2},{"$f":"VLOOKUP($A$3,'T-7GE-D'!$A$5:$BL$36,18,0)","v":2},{"$f":"VLOOKUP($A$3,'T-7GE-D'!$A$5:$FG$36,97,0)","v":1},{"$f":"VLOOKUP($A$3,'T-7GE-D'!$A$5:$FG$36,115,0)","v":1},{"$f":"VLOOKUP($A$3,'T-7GE-D'!$A$5:$BL$36,19,0)","v":0},{"$f":"VLOOKUP($A$3,'T-7GE-D'!$A$5:$FG$36,133,0)","v":0},{"$f":"VLOOKUP($A$3,'T-7GE-D'!$A$5:$FG$36,151,0)","v":0}]
["Infección meningocócica",{"$f":"VLOOKUP($A$3,'T-7GE-D'!$A$5:$BL$36,20,0)","v":1},{"$f":"VLOOKUP($A$3,'T-7GE-D'!$A$5:$FG$36,62,0)","v":1},{"$f":"VLOOKUP($A$3,'T-7GE-D'!$A$5:$FG$36,80,0)","v":0},{"$f":"VLOOKUP($A$3,'T-7GE-D'!$A$5:$BL$36,21,0)","v":1},{"$f":"VLOOKUP($A$3,'T-7GE-D'!$A$5:$FG$36,98,0)","v":0},{"$f":"VLOOKUP($A$3,'T-7GE-D'!$A$5:$FG$36,116,0)","v":1},{"$f":"VLOOKUP($A$3,'T-7GE-D'!$A$5:$BL$36,22,0)","v":1},{"$f":"VLOOKUP($A$3,'T-7GE-D'!$A$5:$FG$36,134,0)","v":1},{"$f":"VLOOKUP($A$3,'T-7GE-D'!$A$5:$FG$36,152,0)","v":0}]
["Septicemia",{"$f":"VLOOKUP($A$3,'T-7GE-D'!$A$5:$BL$36,23,0)","v":205},{"$f":"VLOOKUP($A$3,'T-7GE-D'!$A$5:$FG$36,63,0)","v":99},{"$f":"VLOOKUP($A$3,'T-7GE-D'!$A$5:$FG$36,81,0)","v":106},{"$f":"VLOOKUP($A$3,'T-7GE-D'!$A$5:$BL$36,24,0)","v":216},{"$f":"VLOOKUP($A$3,'T-7GE-D'!$A$5:$FG$36,99,0)","v":109},{"$f":"VLOOKUP($A$3,'T-7GE-D'!$A$5:$FG$36,117,0)","v":107},{"$f":"VLOOKUP($A$3,'T-7GE-D'!$A$5:$BL$36,25,0)","v":185},{"$f":"VLOOKUP($A$3,'T-7GE-D'!$A$5:$FG$36,135,0)","v":86},{"$f":"VLOOKUP($A$3,'T-7GE-D'!$A$5:$FG$36,153,0)","v":99}]
["Infecciones  con  un modo de transmisión  predominantemente sexual",{"$f":"VLOOKUP($A$3,'T-7GE-D'!$A$5:$BL$36,26,0)","v":2},{"$f":"VLOOKUP($A$3,'T-7GE-D'!$A$5:$FG$36,64,0)","v":1},{"$f":"VLOOKUP($A$3,'T-7GE-D'!$A$5:$FG$36,82,0)","v":1},{"$f":"VLOOKUP($A$3,'T-7GE-D'!$A$5:$BL$36,27,0)","v":108},{"$f":"VLOOKUP($A$3,'T-7GE-D'!$A$5:$FG$36,100,0)","v":1},{"$f":"VLOOKUP($A$3,'T-7GE-D'!$A$5:$FG$36,118,0)","v":107},{"$f":"VLOOKUP($A$3,'T-7GE-D'!$A$5:$BL$36,28,0)","v":0},{"$f":"VLOOKUP($A$3,'T-7GE-D'!$A$5:$FG$36,136,0)","v":0},{"$f":"VLOOKUP($A$3,'T-7GE-D'!$A$5:$FG$36,154,0)","v":0}]
["Otras fiebres virales transmitidas por artrópodos y fiebres hemorrágicas virales",{"$f":"VLOOKUP($A$3,'T-7GE-D'!$A$5:$BL$36,29,0)","v":49},{"$f":"VLOOKUP($A$3,'T-7GE-D'!$A$5:$FG$36,65,0)","v":28},{"$f":"VLOOKUP($A$3,'T-7GE-D'!$A$5:$FG$36,83,0)","v":21},{"$f":"VLOOKUP($A$3,'T-7GE-D'!$A$5:$BL$36,30,0)","v":16},{"$f":"VLOOKUP($A$3,'T-7GE-D'!$A$5:$FG$36,101,0)","v":10},{"$f":"VLOOKUP($A$3,'T-7GE-D'!$A$5:$FG$36,119,0)","v":6},{"$f":"VLOOKUP($A$3,'T-7GE-D'!$A$5:$BL$36,31,0)","v":6},{"$f":"VLOOKUP($A$3,'T-7GE-D'!$A$5:$FG$36,137,0)","v":5},{"$f":"VLOOKUP($A$3,'T-7GE-D'!$A$5:$FG$36,155,0)","v":1}]
["Hepatitis viral",{"$f":"VLOOKUP($A$3,'T-7GE-D'!$A$5:$BL$36,32,0)","v":16},{"$f":"VLOOKUP($A$3,'T-7GE-D'!$A$5:$FG$36,66,0)","v":7},{"$f":"VLOOKUP($A$3,'T-7GE-D'!$A$5:$FG$36,84,0)","v":9},{"$f":"VLOOKUP($A$3,'T-7GE-D'!$A$5:$BL$36,33,0)","v":10},{"$f":"VLOOKUP($A$3,'T-7GE-D'!$A$5:$FG$36,102,0)","v":8},{"$f":"VLOOKUP($A$3,'T-7GE-D'!$A$5:$FG$36,120,0)","v":2},{"$f":"VLOOKUP($A$3,'T-7GE-D'!$A$5:$BL$36,34,0)","v":14},{"$f":"VLOOKUP($A$3,'T-7GE-D'!$A$5:$FG$36,138,0)","v":8},{"$f":"VLOOKUP($A$3,'T-7GE-D'!$A$5:$FG$36,156,0)","v":6}]
["Enfermedad por virus de la inmunodeficiencia humana (VIH)",{"$f":"VLOOKUP($A$3,'T-7GE-D'!$A$5:$BL$36,35,0)","v":244},{"$f":"VLOOKUP($A$3,'T-7GE-D'!$A$5:$FG$36,67,0)","v":190},{"$f":"VLOOKUP($A$3,'T-7GE-D'!$A$5:$FG$36,85,0)","v":54},{"$f":"VLOOKUP($A$3,'T-7GE-D'!$A$5:$BL$36,36,0)","v":243},{"$f":"VLOOKUP($A$3,'T-7GE-D'!$A$5:$FG$36,103,0)","v":205},{"$f":"VLOOKUP($A$3,'T-7GE-D'!$A$5:$FG$36,121,0)","v":38},{"$f":"VLOOKUP($A$3,'T-7GE-D'!$A$5:$BL$36,37,0)","v":226},{"$f":"VLOOKUP($A$3,'T-7GE-D'!$A$5:$FG$36,139,0)","v":186},{"$f":"VLOOKUP($A$3,'T-7GE-D'!$A$5:$FG$36,157,0)","v":40}]
["Paludismo (malaria)",{"$f":"VLOOKUP($A$3,'T-7GE-D'!$A$5:$BL$36,38,0)","v":0},{"$f":"VLOOKUP($A$3,'T-7GE-D'!$A$5:$FG$36,68,0)","v":0},{"$f":"VLOOKUP($A$3,'T-7GE-D'!$A$5:$FG$36,86,0)","v":0},{"$f":"VLOOKUP($A$3,'T-7GE-D'!$A$5:$BL$36,39,0)","v":0},{"$f":"VLOOKUP($A$3,'T-7GE-D'!$A$5:$FG$36,104,0)","v":0},{"$f":"VLOOKUP($A$3,'T-7GE-D'!$A$5:$FG$36,122,0)","v":0},{"$f":"VLOOKUP($A$3,'T-7GE-D'!$A$5:$BL$36,40,0)","v":0},{"$f":"VLOOKUP($A$3,'T-7GE-D'!$A$5:$FG$36,140,0)","v":0},{"$f":"VLOOKUP($A$3,'T-7GE-D'!$A$5:$FG$36,158,0)","v":0}]
["Leishmaniasis",{"$f":"VLOOKUP($A$3,'T-7GE-D'!$A$5:$BL$36,41,0)","v":0},{"$f":"VLOOKUP($A$3,'T-7GE-D'!$A$5:$FG$36,69,0)","v":0},{"$f":"VLOOKUP($A$3,'T-7GE-D'!$A$5:$FG$36,87,0)","v":0},{"$f":"VLOOKUP($A$3,'T-7GE-D'!$A$5:$BL$36,42,0)","v":0},{"$f":"VLOOKUP($A$3,'T-7GE-D'!$A$5:$FG$36,105,0)","v":0},{"$f":"VLOOKUP($A$3,'T-7GE-D'!$A$5:$FG$36,123,0)","v":0},{"$f":"VLOOKUP($A$3,'T-7GE-D'!$A$5:$BL$36,43,0)","v":0},{"$f":"VLOOKUP($A$3,'T-7GE-D'!$A$5:$FG$36,141,0)","v":0},{"$f":"VLOOKUP($A$3,'T-7GE-D'!$A$5:$FG$36,159,0)","v":0}]
["Tripanosomiasis",{"$f":"VLOOKUP($A$3,'T-7GE-D'!$A$5:$BL$36,44,0)","v":1},{"$f":"VLOOKUP($A$3,'T-7GE-D'!$A$5:$FG$36,70,0)","v":0},{"$f":"VLOOKUP($A$3,'T-7GE-D'!$A$5:$FG$36,88,0)","v":1},{"$f":"VLOOKUP($A$3,'T-7GE-D'!$A$5:$BL$36,45,0)","v":1},{"$f":"VLOOKUP($A$3,'T-7GE-D'!$A$5:$FG$36,106,0)","v":1},{"$f":"VLOOKUP($A$3,'T-7GE-D'!$A$5:$FG$36,124,0)","v":0},{"$f":"VLOOKUP($A$3,'T-7GE-D'!$A$5:$BL$36,46,0)","v":0},{"$f":"VLOOKUP($A$3,'T-7GE-D'!$A$5:$FG$36,142,0)","v":0},{"$f":"VLOOKUP($A$3,'T-7GE-D'!$A$5:$FG$36,160,0)","v":0}]
["Resto de ciertas enfermedades infecciosas y parasitarias",{"$f":"VLOOKUP($A$3,'T-7GE-D'!$A$5:$BL$36,47,0)","v":38},{"$f":"VLOOKUP($A$3,'T-7GE-D'!$A$5:$FG$36,71,0)","v":18},{"$f":"VLOOKUP($A$3,'T-7GE-D'!$A$5:$FG$36,89,0)","v":20},{"$f":"VLOOKUP($A$3,'T-7GE-D'!$A$5:$BL$36,48,0)","v":62},{"$f":"VLOOKUP($A$3,'T-7GE-D'!$A$5:$FG$36,107,0)","v":38},{"$f":"VLOOKUP($A$3,'T-7GE-D'!$A$5:$FG$36,125,0)","v":24},{"$f":"VLOOKUP($A$3,'T-7GE-D'!$A$5:$BL$36,49,0)","v":47},{"$f":"VLOOKUP($A$3,'T-7GE-D'!$A$5:$FG$36,143,0)","v":27},{"$f":"VLOOKUP($A$3,'T-7GE-D'!$A$5:$FG$36,161,0)","v":20}]
["Rabia",{"$f":"VLOOKUP($A$3,'T-7GE-D'!$A$5:$BL$36,50,0)","v":0},{"$f":"VLOOKUP($A$3,'T-7GE-D'!$A$5:$FG$36,72,0)","v":0},{"$f":"VLOOKUP($A$3,'T-7GE-D'!$A$5:$FG$36,90,0)","v":0},{"$f":"VLOOKUP($A$3,'T-7GE-D'!$A$5:$BL$36,51,0)","v":0},{"$f":"VLOOKUP($A$3,'T-7GE-D'!$A$5:$FG$36,108,0)","v":0},{"$f":"VLOOKUP($A$3,'T-7GE-D'!$A$5:$FG$36,126,0)","v":0},{"$f":"VLOOKUP($A$3,'T-7GE-D'!$A$5:$BL$36,52,0)","v":0},{"$f":"VLOOKUP($A$3,'T-7GE-D'!$A$5:$FG$36,144,0)","v":0},{"$f":"VLOOKUP($A$3,'T-7GE-D'!$A$5:$FG$36,162,0)","v":0}]
["Esquitosomiasis ",{"$f":"VLOOKUP($A$3,'T-7GE-D'!$A$5:$BL$36,53,0)","v":0},{"$f":"VLOOKUP($A$3,'T-7GE-D'!$A$5:$FG$36,73,0)","v":0},{"$f":"VLOOKUP($A$3,'T-7GE-D'!$A$5:$FG$36,91,0)","v":0},{"$f":"VLOOKUP($A$3,'T-7GE-D'!$A$5:$BL$36,54,0)","v":0},{"$f":"VLOOKUP($A$3,'T-7GE-D'!$A$5:$FG$36,109,0)","v":0},{"$f":"VLOOKUP($A$3,'T-7GE-D'!$A$5:$FG$36,127,0)","v":0},{"$f":"VLOOKUP($A$3,'T-7GE-D'!$A$5:$BL$36,55,0)","v":0},{"$f":"VLOOKUP($A$3,'T-7GE-D'!$A$5:$FG$36,145,0)","v":0},{"$f":"VLOOKUP($A$3,'T-7GE-D'!$A$5:$FG$36,163,0)","v":0}]
["Total",{"$f":"SUM(B4:B21)","v":1173},710,463,1265,737,528,914,557,357]

{"sheet":"T-8GE-D","index":29,"n_rows":36,"n_cols":19,"rows_kept":36,"cut":false,"hidden":true,"merged":[[1,0,1,18],[2,0,3,0],[2,1,2,3],[2,4,2,6],[2,7,2,10],[2,11,2,14],[2,15,2,18]]}
[1,2,3,4,5,6,7,8,9,10,11,12,13,14,15,16,17,18,19]
["Enfermedades de la sangre y de los órganos hematopoyéticos, y ciertos trastornos que afectan el mecanismo de la inmunidad"]
["ESTADO","Anemias",null,null,"Resto de enfermedades de la sangre y de los órganos hematopoyéticos, y ciertos trastornos que afectan el mecanismo de la inmunidad",null,null,2020,null,null,null,2021,null,null,null,2022]
[null,2020,2021,2022,2020,2021,2022,"Hombres 2020(1)","Hombres 2020(2)","Mujeres 2020(1)","Mujeres 2020(2)","Hombres 2021(1)","Hombres 2021(2)","Mujeres 2021(1)","Mujeres 2021(2)","Hombres 2022(1)","Hombres 2022(2)","Mujeres 2022(1)","Mujeres 2022(2)"]
["Aguascalientes",30,45,51,12,12,21,12,6,18,6,14,5,31,7,23,10,28,11]
["Baja California",110,70,91,40,26,55,59,18,51,22,36,14,34,12,46,20,45,35]
["Baja California Sur",10,11,13,9,7,6,2,4,8,5,8,1,3,6,7,3,6,3]
["Campeche",25,30,22,3,3,10,10,1,15,2,17,2,13,1,11,7,11,3]
["Coahuila",56,57,47,47,26,23,28,24,28,23,31,11,26,15,21,12,26,11]
["Colima",10,24,11,4,6,10,7,1,3,3,8,3,16,3,5,6,6,4]
["Chiapas",335,368,411,51,55,29,170,31,165,20,197,24,171,31,199,21,212,8]
["Chihuahua",85,107,98,36,52,50,41,19,44,17,46,19,61,33,59,25,39,25]
["Ciudad de México",390,384,319,170,194,216,170,80,220,90,194,87,190,107,150,95,169,121]
["Durango",38,28,27,17,22,17,22,9,16,8,11,16,17,6,15,7,12,10]
["Guanajuato",145,142,149,48,53,63,65,20,80,28,63,26,79,27,81,29,68,34]
["Guerrero",234,223,196,28,21,24,127,11,107,17,108,11,115,10,113,12,83,12]
["Hidalgo",80,103,88,30,24,31,48,14,32,16,60,11,43,13,46,13,42,18]
["Jalisco",207,163,162,80,113,90,103,33,104,47,75,54,88,59,73,53,89,37]
["México",242,278,289,82,123,116,105,38,137,44,139,59,139,64,129,62,160,54]
["Michoacán",148,218,162,37,32,39,68,21,80,16,87,18,131,14,75,26,87,13]
["Morelos",115,121,104,24,30,33,43,16,72,8,59,12,62,18,52,22,52,11]
["Nayarit",30,25,22,6,14,11,15,2,15,4,11,7,14,7,13,7,9,4]
["Nuevo León",67,63,70,45,40,58,33,25,34,20,32,18,31,22,33,33,37,25]
["Oaxaca",315,365,331,31,42,43,164,17,151,14,166,19,199,23,146,27,185,16]
["Puebla",309,311,225,67,72,68,142,32,167,35,146,36,165,36,119,32,106,36]
["Querétaro",36,38,32,19,22,23,18,9,18,10,21,9,17,13,18,10,14,13]
["Quintana Roo",39,40,46,13,15,20,23,7,16,6,21,8,19,7,25,8,21,12]
["San Luis Potosí",86,92,88,25,25,33,41,10,45,15,42,10,50,15,35,13,53,20]
["Sinaloa",63,74,56,18,30,26,28,13,35,5,40,15,34,15,24,14,32,12]
["Sonora",71,96,79,39,26,39,36,22,35,17,55,17,41,9,45,24,34,15]
["Tabasco",85,81,65,17,16,19,48,10,37,7,38,9,43,7,34,16,31,3]
["Tamaulipas",84,82,93,24,28,37,34,16,50,8,39,19,43,9,46,15,47,22]
["Tlaxcala",33,35,29,10,12,17,20,7,13,3,21,6,14,6,16,7,13,10]
["Veracruz",552,575,529,80,79,96,238,39,314,41,286,43,289,36,249,44,280,52]
["Yucatán",74,58,59,13,21,21,39,7,35,6,27,12,31,9,31,10,28,11]
["Zacatecas",62,67,56,19,22,17,36,9,26,10,37,8,30,14,28,10,28,7]

{"sheet":"8D-GCM","index":30,"n_rows":6,"n_cols":10,"rows_kept":6,"cut":false,"hidden":false,"merged":[[0,0,0,9]]}
["Enfermedades de la sangre y de los órganos hematopoyéticos,\n y ciertos trastornos que afectan el mecanismo de la inmunidad"]
["SELECCIONE UNA ENTIDAD"]
["Chiapas","2020","H - 2020","M - 2020","2021","H - 2021","M - 2021","2022","H - 2022","M - 2022"]
["Anemias",{"$f":"VLOOKUP($A$3,'T-8GE-D'!$A$5:$S$36,2,0)","v":335},{"$f":"VLOOKUP($A$3,'T-8GE-D'!$A$5:$S$36,8,0)","v":170},{"$f":"VLOOKUP($A$3,'T-8GE-D'!$A$5:$S$36,10,0)","v":165},{"$f":"VLOOKUP($A$3,'T-8GE-D'!$A$5:$S$36,3,0)","v":368},{"$f":"VLOOKUP($A$3,'T-8GE-D'!$A$5:$S$36,12,0)","v":197},{"$f":"VLOOKUP($A$3,'T-8GE-D'!$A$5:$S$36,14,0)","v":171},{"$f":"VLOOKUP($A$3,'T-8GE-D'!$A$5:$S$36,4,0)","v":411},{"$f":"VLOOKUP($A$3,'T-8GE-D'!$A$5:$S$36,16,0)","v":199},{"$f":"VLOOKUP($A$3,'T-8GE-D'!$A$5:$S$36,18,0)","v":212}]
["Resto de enfermedades de la sangre y de los órganos hematopoyéticos, y ciertos trastornos que afectan el mecanismo de la inmunidad",{"$f":"VLOOKUP($A$3,'T-8GE-D'!$A$5:$S$36,5,0)","v":51},{"$f":"VLOOKUP($A$3,'T-8GE-D'!$A$5:$S$36,9,0)","v":31},{"$f":"VLOOKUP($A$3,'T-8GE-D'!$A$5:$S$36,11,0)","v":20},{"$f":"VLOOKUP($A$3,'T-8GE-D'!$A$5:$S$36,6,0)","v":55},{"$f":"VLOOKUP($A$3,'T-8GE-D'!$A$5:$S$36,13,0)","v":24},{"$f":"VLOOKUP($A$3,'T-8GE-D'!$A$5:$S$36,15,0)","v":31},{"$f":"VLOOKUP($A$3,'T-8GE-D'!$A$5:$S$36,7,0)","v":29},{"$f":"VLOOKUP($A$3,'T-8GE-D'!$A$5:$S$36,17,0)","v":21},{"$f":"VLOOKUP($A$3,'T-8GE-D'!$A$5:$S$36,19,0)","v":8}]
["Total",{"$f":"SUM(B4:B5)","v":386},201,185,423,221,202,440,220,220]

{"sheet":"T-9GE-D ","index":31,"n_rows":36,"n_cols":19,"rows_kept":36,"cut":false,"hidden":true,"merged":[[1,0,1,18],[2,0,3,0],[2,1,2,3],[2,4,2,6],[2,7,2,10],[2,11,2,14],[2,15,2,18]]}
[1,2,3,4,5,6,7,8,9,10,11,12,13,14,15,16,17,18,19]
["Trastornos mentales y del comportamiento"]
["ESTADO","Trastornos mentales y del comportamiento debido al uso de sustancias psicoactivas",null,null,"Resto de trastornos mentales y del comportamiento",null,null,2020,null,null,null,2021,null,null,null,2022]
[null,2020,2021,2022,2020,2021,2022,"Hombres 2020(1)","Hombres 2020(2)","Mujeres 2020(1)","Mujeres 2020(2)","Hombres 2021(1)","Hombres 2021(2)","Mujeres 2021(1)","Mujeres 2021(2)","Hombres 2022(1)","Hombres 2022(2)","Mujeres 2022(1)","Mujeres 2022(2)"]
["Aguascalientes",57,80,53,47,52,67,54,17,3,30,76,21,4,31,51,29,2,38]
["Baja California",157,135,234,89,94,76,141,34,16,55,123,31,12,63,204,30,30,46]
["Baja California Sur",8,8,4,22,22,17,8,8,0,14,8,11,0,11,4,7,0,10]
["Campeche",8,9,10,17,18,15,8,8,0,9,8,6,1,12,10,8,0,7]
["Coahuila",47,39,35,34,33,60,45,12,2,22,38,14,1,19,35,28,0,32]
["Colima",14,15,12,19,22,18,14,12,0,7,14,13,1,9,12,7,0,11]
["Chiapas",111,96,95,71,62,53,109,32,2,39,93,39,3,23,92,25,3,28]
["Chihuahua",190,195,181,97,84,91,178,35,12,62,190,32,5,52,169,29,12,62]
["Ciudad de México",258,242,195,149,170,205,236,57,22,92,235,58,7,112,181,65,14,140]
["Durango",22,20,30,8,13,15,21,5,1,3,19,4,1,9,28,8,2,7]
["Guanajuato",120,112,109,80,65,46,119,33,1,47,105,34,7,31,104,19,5,27]
["Guerrero",69,71,68,52,40,34,66,30,3,22,68,17,3,23,66,15,2,19]
["Hidalgo",42,51,37,33,37,20,40,9,2,24,45,18,6,19,35,8,2,12]
["Jalisco",205,256,244,266,229,260,195,98,10,168,247,110,9,119,238,119,6,141]
["México",320,337,307,169,157,193,296,74,24,95,313,57,24,100,299,89,8,104]
["Michoacán",114,122,86,68,80,64,108,32,6,36,117,40,5,40,81,25,5,39]
["Morelos",40,44,36,77,61,54,39,32,1,45,41,22,3,39,34,24,2,30]
["Nayarit",15,27,15,34,38,24,13,12,2,22,27,16,0,22,14,13,1,11]
["Nuevo León",23,24,27,170,164,204,21,69,2,101,23,63,1,101,26,81,1,123]
["Oaxaca",278,280,262,82,99,74,253,44,25,38,259,39,21,60,244,29,18,45]
["Puebla",204,178,142,49,72,49,195,19,9,30,171,23,7,49,138,12,4,37]
["Querétaro",35,42,32,34,26,30,30,14,5,20,41,12,1,14,30,14,2,16]
["Quintana Roo",15,11,17,57,80,67,13,20,2,37,10,29,1,51,16,26,1,41]
["San Luis Potosí",77,67,69,74,72,55,74,41,3,33,66,37,1,35,67,22,2,33]
["Sinaloa",17,29,21,59,52,49,15,31,2,28,28,22,1,30,21,21,0,28]
["Sonora",86,90,77,58,71,90,77,23,9,35,82,23,8,48,76,30,1,60]
["Tabasco",18,15,18,22,23,25,18,13,0,9,14,15,1,8,17,10,1,15]
["Tamaulipas",12,16,11,68,69,55,12,33,0,35,16,34,0,35,11,20,0,35]
["Tlaxcala",32,21,23,20,17,12,31,7,1,13,19,12,2,5,21,5,2,7]
["Veracruz",230,219,198,171,299,291,223,78,7,93,216,112,3,187,195,123,3,168]
["Yucatán",23,16,24,38,43,41,23,17,0,21,16,20,0,23,24,19,0,22]
["Zacatecas",64,58,60,50,51,57,63,20,1,30,55,24,3,27,59,32,1,25]

{"sheet":"9D-GCM ","index":32,"n_rows":6,"n_cols":10,"rows_kept":6,"cut":false,"hidden":false,"merged":[[0,0,0,9]]}
["Trastornos mentales y del comportamiento"]
["SELECCIONE UNA ENTIDAD"]
["Chiapas","2020","H - 2020","M - 2020","2021","H - 2021","M - 2021","2022","H - 2022","M - 2022"]
["Trastornos mentales y del comportamiento debido al uso de sustancias psicoactivas",{"$f":"VLOOKUP($A$3,'T-9GE-D '!$A$5:$S$36,2,FALSE)","v":111},{"$f":"VLOOKUP($A$3,'T-9GE-D '!$A$5:$S$36,8,FALSE)","v":109},{"$f":"VLOOKUP($A$3,'T-9GE-D '!$A$5:$S$36,10,FALSE)","v":2},{"$f":"VLOOKUP($A$3,'T-9GE-D '!$A$5:$S$36,3,FALSE)","v":96},{"$f":"VLOOKUP($A$3,'T-9GE-D '!$A$5:$S$36,12,FALSE)","v":93},{"$f":"VLOOKUP($A$3,'T-9GE-D '!$A$5:$S$36,14,FALSE)","v":3},{"$f":"VLOOKUP($A$3,'T-9GE-D '!$A$5:$S$36,4,FALSE)","v":95},{"$f":"VLOOKUP($A$3,'T-9GE-D '!$A$5:$S$36,16,FALSE)","v":92},{"$f":"VLOOKUP($A$3,'T-9GE-D '!$A$5:$S$36,18,FALSE)","v":3}]
["Resto de trastornos mentales y del comportamiento",{"$f":"VLOOKUP($A$3,'T-9GE-D '!$A$5:$S$36,5,FALSE)","v":71},{"$f":"VLOOKUP($A$3,'T-9GE-D '!$A$5:$S$36,9,FALSE)","v":32},{"$f":"VLOOKUP($A$3,'T-9GE-D '!$A$5:$S$36,11,FALSE)","v":39},{"$f":"VLOOKUP($A$3,'T-9GE-D '!$A$5:$S$36,6,FALSE)","v":62},{"$f":"VLOOKUP($A$3,'T-9GE-D '!$A$5:$S$36,13,FALSE)","v":39},{"$f":"VLOOKUP($A$3,'T-9GE-D '!$A$5:$S$36,15,FALSE)","v":23},{"$f":"VLOOKUP($A$3,'T-9GE-D '!$A$5:$S$36,7,FALSE)","v":53},{"$f":"VLOOKUP($A$3,'T-9GE-D '!$A$5:$S$36,17,FALSE)","v":25},{"$f":"VLOOKUP($A$3,'T-9GE-D '!$A$5:$S$36,19,FALSE)","v":28}]
["Total",{"$f":"SUM(B4:B5)","v":182},141,41,158,132,26,148,117,31]

{"sheet":"T-10GE-D ","index":33,"n_rows":36,"n_cols":28,"rows_kept":36,"cut":false,"hidden":true,"merged":[[1,0,1,27],[2,0,3,0],[2,1,2,3],[2,4,2,6],[2,7,2,9],[2,10,2,15],[2,16,2,21],[2,22,2,27]]}
[1,2,3,4,5,6,7,8,9,10,11,12,13,14,15,16,17,18,19,20,21,22,23,24,25,26,27,28]
["Enfermedades del sistema nervioso"]
["ESTADO","Meningitis",null,null,"Enfermedad de Alzheimer",null,null,"Resto de enfermedades del sistema nervioso",null,null,2020,null,null,null,null,null,2021,null,null,null,null,null,2022]
[null,2020,2021,2022,2020,2021,2022,2020,2021,2022,"Hombres 2020(1)","Hombres 2020(2)","Hombres 2020(3)","Mujeres 2020(1)","Mujeres 2020(2)","Mujeres 2020(3)","Hombres 2021(1)","Hombres 2021(2)","Hombres 2021(3)","Mujeres 2021(1)","Mujeres 2021(2)","Mujeres 2021(3)","Hombres 2022(1)","Hombres 2022(2)","Hombres 2022(3)","Mujeres 2022(1)","Mujeres 2022(2)","Mujeres 2022(3)"]
["Aguascalientes",8,5,9,34,43,40,146,120,149,4,13,93,4,21,53,0,11,69,5,32,51,5,10,77,4,30,72]
["Baja California",29,31,28,73,86,80,286,292,316,18,19,144,11,54,142,23,31,176,8,55,116,20,30,196,8,50,120]
["Baja California Sur",1,4,4,12,11,11,69,65,66,0,7,38,1,5,31,3,5,38,1,6,27,3,5,39,1,6,27]
["Campeche",2,7,0,19,17,15,60,58,73,1,8,37,1,11,23,4,6,37,3,11,21,0,4,45,0,11,28]
["Coahuila",10,8,17,69,64,83,282,237,291,5,28,165,5,41,117,7,21,144,1,43,93,7,29,174,10,54,117]
["Colima",5,4,2,20,14,15,76,80,93,3,9,51,2,11,25,4,4,59,0,10,21,1,6,66,1,9,27]
["Chiapas",12,7,4,62,58,61,480,444,442,4,22,304,8,40,176,0,20,273,7,38,171,2,25,259,2,36,183]
["Chihuahua",33,21,27,109,69,101,428,367,395,21,38,245,12,71,183,14,24,219,7,45,148,16,40,240,11,61,155]
["Ciudad de México",35,39,50,173,148,154,1141,1126,1194,16,55,670,19,118,471,22,44,638,17,104,488,28,35,662,22,119,532]
["Durango",9,2,7,17,20,13,124,122,126,3,7,77,6,10,47,0,7,72,2,13,50,4,5,74,3,8,52]
["Guanajuato",12,13,7,87,86,82,459,484,482,5,28,275,7,59,184,8,38,281,5,48,203,3,33,284,4,49,198]
["Guerrero",4,6,9,42,38,48,211,218,202,2,17,128,2,25,83,4,11,118,2,27,100,5,16,121,4,32,81]
["Hidalgo",2,3,2,36,25,30,220,209,254,1,16,123,1,20,97,2,11,116,1,14,93,1,8,148,1,22,106]
["Jalisco",35,41,57,208,209,216,745,862,847,20,91,419,15,117,326,22,74,486,19,135,376,37,76,495,20,140,352]
["México",29,36,35,103,104,134,919,976,1181,16,39,538,13,64,381,28,38,547,8,66,429,19,40,676,16,94,505]
["Michoacán",5,6,5,83,78,83,383,391,385,4,33,221,1,50,162,3,25,226,3,53,165,3,29,224,2,54,161]
["Morelos",3,3,4,37,33,34,200,183,186,1,14,118,2,23,82,1,12,97,2,21,86,1,15,114,3,19,72]
["Nayarit",7,3,11,45,40,44,119,142,119,4,15,72,3,30,47,2,18,86,1,22,56,6,12,78,5,32,41]
["Nuevo León",27,33,40,196,166,220,445,477,560,20,68,257,7,128,188,20,70,275,13,96,202,27,64,330,13,156,230]
["Oaxaca",6,6,16,68,65,73,372,407,366,3,30,229,3,38,143,5,29,240,1,36,167,11,29,208,5,44,158]
["Puebla",14,15,21,46,65,55,518,507,563,9,20,302,5,26,216,7,21,293,8,44,214,18,22,328,3,33,235]
["Querétaro",4,8,11,32,19,35,186,168,225,2,9,118,2,23,68,2,5,110,6,14,58,4,14,121,7,21,104]
["Quintana Roo",1,1,3,22,12,23,98,127,128,1,11,66,0,11,32,1,4,77,0,8,50,3,6,78,0,17,50]
["San Luis Potosí",12,6,8,61,38,47,275,266,319,7,27,174,5,34,101,5,13,163,1,25,103,6,21,190,2,26,129]
["Sinaloa",9,23,18,108,104,97,258,217,218,6,44,149,3,64,109,16,46,125,7,58,92,7,35,121,11,62,97]
["Sonora",18,37,20,111,98,113,317,302,332,10,46,192,8,65,125,26,31,172,11,67,130,14,45,213,6,68,119]
["Tabasco",10,15,8,19,31,27,192,194,195,4,8,126,6,11,66,13,11,106,2,20,88,3,16,117,5,11,78]
["Tamaulipas",15,7,14,77,78,98,239,234,254,5,24,146,10,53,93,2,26,129,5,52,105,6,33,149,8,65,105]
["Tlaxcala",1,0,3,21,10,14,116,97,108,1,9,78,0,12,38,0,4,61,0,6,36,1,6,72,2,8,36]
["Veracruz",26,23,30,155,156,171,698,735,737,19,58,408,7,97,290,18,52,429,5,104,306,21,72,431,9,99,306]
["Yucatán",7,8,7,42,40,23,168,170,186,5,19,103,2,23,65,4,14,101,4,26,69,5,8,101,2,15,85]
["Zacatecas",8,1,7,39,40,32,164,163,159,2,14,99,6,25,65,1,17,94,0,23,69,5,8,98,2,24,61]

{"sheet":"10D-GCM","index":34,"n_rows":7,"n_cols":10,"rows_kept":7,"cut":false,"hidden":false,"merged":[[0,0,0,9]]}
["Enfermedades del sistema nervioso"]
["SELECCIONE UNA ENTIDAD"]
["Tamaulipas","2020","H - 2020","M - 2020","2021","H - 2021","M - 2021","2022","H - 2022","M - 2022"]
["Meningitis",{"$f":"VLOOKUP($A$3,'T-10GE-D '!$A$5:$BL$36,2,0)","v":15},{"$f":"VLOOKUP($A$3,'T-10GE-D '!$A$5:$BL$36,11,0)","v":5},{"$f":"VLOOKUP($A$3,'T-10GE-D '!$A$5:$BL$36,14,0)","v":10},{"$f":"VLOOKUP($A$3,'T-10GE-D '!$A$5:$BL$36,3,0)","v":7},{"$f":"VLOOKUP($A$3,'T-10GE-D '!$A$5:$BL$36,17,0)","v":2},{"$f":"VLOOKUP($A$3,'T-10GE-D '!$A$5:$BL$36,20,0)","v":5},{"$f":"VLOOKUP($A$3,'T-10GE-D '!$A$5:$BL$36,4,0)","v":14},{"$f":"VLOOKUP($A$3,'T-10GE-D '!$A$5:$BL$36,23,0)","v":6},{"$f":"VLOOKUP($A$3,'T-10GE-D '!$A$5:$BL$36,26,0)","v":8}]
["Enfermedad de Alzheimer",{"$f":"VLOOKUP($A$3,'T-10GE-D '!$A$5:$BL$36,5,0)","v":77},{"$f":"VLOOKUP($A$3,'T-10GE-D '!$A$5:$BL$36,12,0)","v":24},{"$f":"VLOOKUP($A$3,'T-10GE-D '!$A$5:$BL$36,15,0)","v":53},{"$f":"VLOOKUP($A$3,'T-10GE-D '!$A$5:$BL$36,6,0)","v":78},{"$f":"VLOOKUP($A$3,'T-10GE-D '!$A$5:$BL$36,18,0)","v":26},{"$f":"VLOOKUP($A$3,'T-10GE-D '!$A$5:$BL$36,21,0)","v":52},{"$f":"VLOOKUP($A$3,'T-10GE-D '!$A$5:$BL$36,7,0)","v":98},{"$f":"VLOOKUP($A$3,'T-10GE-D '!$A$5:$BL$36,24,0)","v":33},{"$f":"VLOOKUP($A$3,'T-10GE-D '!$A$5:$BL$36,27,0)","v":65}]
["Resto de enfermedades del sistema nervioso",{"$f":"VLOOKUP($A$3,'T-10GE-D '!$A$5:$BL$36,8,0)","v":239},{"$f":"VLOOKUP($A$3,'T-10GE-D '!$A$5:$BL$36,13,0)","v":146},{"$f":"VLOOKUP($A$3,'T-10GE-D '!$A$5:$BL$36,16,0)","v":93},{"$f":"VLOOKUP($A$3,'T-10GE-D '!$A$5:$BL$36,9,0)","v":234},{"$f":"VLOOKUP($A$3,'T-10GE-D '!$A$5:$BL$36,19,0)","v":129},{"$f":"VLOOKUP($A$3,'T-10GE-D '!$A$5:$BL$36,22,0)","v":105},{"$f":"VLOOKUP($A$3,'T-10GE-D '!$A$5:$BL$36,10,0)","v":254},{"$f":"VLOOKUP($A$3,'T-10GE-D '!$A$5:$BL$36,25,0)","v":149},{"$f":"VLOOKUP($A$3,'T-10GE-D '!$A$5:$BL$36,28,0)","v":105}]
["Total",{"$f":"SUM(B4:B6)","v":331},175,156,319,157,162,366,188,178]

{"sheet":"T-11GE-D ","index":35,"n_rows":36,"n_cols":10,"rows_kept":36,"cut":false,"hidden":true,"merged":[[1,0,1,9],[2,0,3,0],[2,1,2,3],[2,4,2,5],[2,6,2,7],[2,8,2,9]]}
[1,2,3,4,5,6,7,8,9,10]
["Enfermedades del ojo y sus anexos"]
["ESTADO","Enfermedades del ojo y sus anexos",null,null,2020,null,2021,null,2022]
[null,2020,2021,2022,"Hombres 2020(1)","Mujeres 2020(1)","Hombres 2021(1)","Mujeres 2021(1)","Hombres 2022(1)","Mujeres 2022(1)"]
["Aguascalientes",0,0,2,0,0,0,0,2,0]
["Baja California",0,0,1,0,0,0,0,1,0]
["Baja California Sur",0,0,0,0,0,0,0,0,0]
["Campeche",0,0,0,0,0,0,0,0,0]
["Coahuila",0,3,0,0,0,2,1,0,0]
["Colima",0,0,0,0,0,0,0,0,0]
["Chiapas",0,1,0,0,0,1,0,0,0]
["Chihuahua",0,0,0,0,0,0,0,0,0]
["Ciudad de México",2,0,4,2,0,0,0,3,1]
["Durango",1,0,0,1,0,0,0,0,0]
["Guanajuato",1,0,1,1,0,0,0,0,1]
["Guerrero",0,2,0,0,0,1,1,0,0]
["Hidalgo",1,0,2,0,1,0,0,0,2]
["Jalisco",0,0,2,0,0,0,0,1,1]
["México",0,1,4,0,0,0,1,2,2]
["Michoacán",0,0,1,0,0,0,0,1,0]
["Morelos",0,0,0,0,0,0,0,0,0]
["Nayarit",0,0,0,0,0,0,0,0,0]
["Nuevo León",1,1,0,1,0,1,0,0,0]
["Oaxaca",1,2,1,0,1,1,1,1,0]
["Puebla",0,1,1,0,0,1,0,0,1]
["Querétaro",0,0,0,0,0,0,0,0,0]
["Quintana Roo",0,0,1,0,0,0,0,0,1]
["San Luis Potosí",0,0,0,0,0,0,0,0,0]
["Sinaloa",1,0,0,0,1,0,0,0,0]
["Sonora",0,0,1,0,0,0,0,0,1]
["Tabasco",1,1,1,0,1,1,0,1,0]
["Tamaulipas",0,4,1,0,0,3,1,0,1]
["Tlaxcala",0,1,0,0,0,0,1,0,0]
["Veracruz",1,2,2,1,0,1,1,2,0]
["Yucatán",0,0,0,0,0,0,0,0,0]
["Zacatecas",0,1,0,0,0,1,0,0,0]

{"sheet":"11D-GCM","index":36,"n_rows":5,"n_cols":10,"rows_kept":5,"cut":false,"hidden":false,"merged":[[0,0,0,9]]}
["Enfermedades del ojo y sus anexos"]
["SELECCIONE UNA ENTIDAD"]
["Chiapas","2020","Hombres 2020","Mujeres 2020","2021","Hombres 2021","Mujeres 2021","2022","Hombres 2022","Mujeres 2022"]
["Asignación provisoria de nuevas afecciones de etiología incierta o de uso emergente, sin especificación",{"$f":"VLOOKUP($A$3,'T-11GE-D '!$A$5:$J$36,2,FALSE)","v":0},{"$f":"VLOOKUP($A$3,'T-11GE-D '!$A$5:$J$36,5,FALSE)","v":0},{"$f":"VLOOKUP($A$3,'T-11GE-D '!$A$5:$J$36,6,FALSE)","v":0},{"$f":"VLOOKUP($A$3,'T-11GE-D '!$A$5:$J$36,3,FALSE)","v":1},{"$f":"VLOOKUP($A$3,'T-11GE-D '!$A$5:$J$36,7,FALSE)","v":1},{"$f":"VLOOKUP($A$3,'T-11GE-D '!$A$5:$J$36,8,FALSE)","v":0},{"$f":"VLOOKUP($A$3,'T-11GE-D '!$A$5:$J$36,4,FALSE)","v":0},{"$f":"VLOOKUP($A$3,'T-11GE-D '!$A$5:$J$36,9,FALSE)","v":0},{"$f":"VLOOKUP($A$3,'T-11GE-D '!$A$5:$J$36,10,FALSE)","v":0}]
["Total",{"$f":"SUM(B4:B4)","v":0},0,0,1,1,0,0,0,0]

{"sheet":"T-12GE-D ","index":37,"n_rows":36,"n_cols":10,"rows_kept":36,"cut":false,"hidden":true,"merged":[[1,0,1,9],[2,0,3,0],[2,1,2,3],[2,4,2,5],[2,6,2,7],[2,8,2,9]]}
[1,2,3,4,5,6,7,8,9,10]
["Enfermedades del oído y de la apófisis mastoides"]
["ESTADO","Enfermedades del oído y de la apófisis mastoides",null,null,2020,null,2021,null,2022]
[null,2020,2021,2022,"Hombres 2020(1)","Mujeres 2020(1)","Hombres 2021(1)","Mujeres 2021(1)","Hombres 2022(1)","Mujeres 2022(1)"]
["Aguascalientes",1,0,0,1,0,0,0,0,0]
["Baja California",1,0,2,0,1,0,0,0,2]
["Baja California Sur",1,1,0,1,0,0,1,0,0]
["Campeche",0,0,1,0,0,0,0,1,0]
["Coahuila",1,0,1,1,0,0,0,0,1]
["Colima",1,1,0,1,0,1,0,0,0]
["Chiapas",4,2,1,3,1,0,2,1,0]
["Chihuahua",3,0,1,3,0,0,0,1,0]
["Ciudad de México",7,0,7,2,5,0,0,4,3]
["Durango",3,0,3,2,1,0,0,2,1]
["Guanajuato",0,2,2,0,0,1,1,1,1]
["Guerrero",2,2,2,1,1,1,1,0,2]
["Hidalgo",1,1,0,1,0,1,0,0,0]
["Jalisco",0,2,3,0,0,2,0,1,2]
["México",1,3,5,0,1,2,1,2,3]
["Michoacán",0,2,1,0,0,1,1,1,0]
["Morelos",2,1,0,1,1,1,0,0,0]
["Nayarit",0,1,2,0,0,0,1,1,1]
["Nuevo León",3,1,6,3,0,1,0,4,2]
["Oaxaca",0,1,1,0,0,0,1,0,1]
["Puebla",3,1,0,0,3,0,1,0,0]
["Querétaro",0,0,1,0,0,0,0,1,0]
["Quintana Roo",1,0,1,1,0,0,0,0,1]
["San Luis Potosí",1,4,2,1,0,2,2,2,0]
["Sinaloa",2,1,0,2,0,1,0,0,0]
["Sonora",1,1,0,0,1,1,0,0,0]
["Tabasco",3,0,0,2,1,0,0,0,0]
["Tamaulipas",3,4,2,1,2,3,1,2,0]
["Tlaxcala",0,0,0,0,0,0,0,0,0]
["Veracruz",0,3,5,0,0,3,0,2,3]
["Yucatán",1,0,0,0,1,0,0,0,0]
["Zacatecas",1,0,0,1,0,0,0,0,0]

{"sheet":"12D-GCM","index":38,"n_rows":5,"n_cols":10,"rows_kept":5,"cut":false,"hidden":false,"merged":[[0,0,0,9]]}
["Enfermedades del oído y de la apófisis\nmastoides"]
["SELECCIONE UNA ENTIDAD"]
["Aguascalientes","2020","Hombres 2020","Mujeres 2020","2021","Hombres 2021","Mujeres 2021","2022","Hombres 2022","Mujeres 2022"]
["Enfermedades del oído y de la apófisis mastoides",{"$f":"VLOOKUP($A$3,'T-12GE-D '!$A$5:$J$36,2,FALSE)","v":1},{"$f":"VLOOKUP($A$3,'T-12GE-D '!$A$5:$J$36,5,FALSE)","v":1},{"$f":"VLOOKUP($A$3,'T-12GE-D '!$A$5:$J$36,6,FALSE)","v":0},{"$f":"VLOOKUP($A$3,'T-12GE-D '!$A$5:$J$36,3,FALSE)","v":0},{"$f":"VLOOKUP($A$3,'T-12GE-D '!$A$5:$J$36,7,FALSE)","v":0},{"$f":"VLOOKUP($A$3,'T-12GE-D '!$A$5:$J$36,8,FALSE)","v":0},{"$f":"VLOOKUP($A$3,'T-12GE-D '!$A$5:$J$36,4,FALSE)","v":0},{"$f":"VLOOKUP($A$3,'T-12GE-D '!$A$5:$J$36,9,FALSE)","v":0},{"$f":"VLOOKUP($A$3,'T-12GE-D '!$A$5:$J$36,10,FALSE)","v":0}]
["Total",{"$f":"SUM(B4:B4)","v":1},1,0,0,0,0,0,0,0]

{"sheet":"T-13GE-D ","index":39,"n_rows":36,"n_cols":28,"rows_kept":36,"cut":false,"hidden":true,"merged":[[1,0,1,27],[2,0,3,0],[2,1,2,3],[2,4,2,6],[2,7,2,9],[2,10,2,15],[2,16,2,21],[2,22,2,27]]}
[1,2,3,4,5,6,7,8,9,10,11,12,13,14,15,16,17,18,19,20,21,22,23,24,25,26,27,28]
["Enfermedades del sistema digestivo"]
["ESTADO","Úlcera gástrica y duodenal",null,null,"Enfermedades del hígado",null,null,"Resto de enfermedades del sistema digestivo",null,null,2020,null,null,null,null,null,2021,null,null,null,null,null,2022]
[null,2020,2021,2022,2020,2021,2022,2020,2021,2022,"Hombres 2020(1)","Hombres 2020(2)","Hombres 2020(3)","Mujeres 2020(1)","Mujeres 2020(2)","Mujeres 2020(3)","Hombres 2021(1)","Hombres 2021(2)","Hombres 2021(3)","Mujeres 2021(1)","Mujeres 2021(2)","Mujeres 2021(3)","Hombres 2022(1)","Hombres 2022(2)","Hombres 2022(3)","Mujeres 2022(1)","Mujeres 2022(2)","Mujeres 2022(3)"]
["Aguascalientes",40,73,79,258,296,276,338,438,386,24,192,173,16,66,165,44,209,225,29,87,213,37,202,201,42,74,185]
["Baja California",74,89,69,986,1016,1017,756,799,841,52,755,445,22,231,311,61,819,473,28,197,326,47,791,499,22,226,342]
["Baja California Sur",10,8,8,165,210,209,111,153,126,6,130,52,4,35,59,4,166,84,4,44,69,5,161,70,3,48,56]
["Campeche",12,22,17,262,310,315,151,152,143,9,164,78,3,98,73,14,191,75,8,119,77,10,201,70,7,114,73]
["Coahuila",77,61,53,862,745,857,652,684,766,42,618,324,35,244,328,37,528,338,24,217,346,28,582,355,25,275,411]
["Colima",25,20,27,210,221,264,186,213,228,15,162,97,10,48,89,11,168,109,9,53,104,18,196,118,9,68,110]
["Chiapas",118,112,76,2535,2631,2371,798,839,766,65,1634,445,53,901,353,65,1768,410,47,863,429,41,1613,402,35,758,364]
["Chihuahua",160,156,151,1132,1107,1078,916,1055,1090,105,853,478,55,279,438,96,811,521,60,296,534,90,823,535,61,255,555]
["Ciudad de México",377,378,301,4107,3935,3790,3601,3942,4333,206,3033,1812,171,1074,1789,205,2845,1895,173,1090,2047,158,2678,2056,143,1112,2277]
["Durango",72,53,56,343,363,352,382,413,441,38,223,201,34,120,181,35,240,207,18,123,206,31,244,210,25,108,231]
["Guanajuato",196,254,191,1729,1839,1732,1380,1516,1529,107,1321,716,89,408,664,134,1423,775,120,416,741,100,1326,789,91,406,740]
["Guerrero",91,87,91,907,933,962,507,583,550,50,625,241,41,282,266,43,646,291,44,287,292,43,696,284,48,266,266]
["Hidalgo",93,88,87,933,990,901,630,707,746,57,660,310,36,273,320,48,716,366,40,274,341,46,635,377,41,266,369]
["Jalisco",231,285,317,2260,2288,2244,1984,2208,2332,129,1635,1030,102,625,954,157,1667,1163,128,621,1045,181,1655,1234,136,589,1098]
["México",347,373,346,5481,5267,5245,2986,3165,3649,179,4288,1584,168,1193,1402,205,4059,1558,168,1208,1607,179,4040,1832,167,1205,1817]
["Michoacán",206,247,155,1397,1550,1460,1033,1102,1095,101,1046,538,105,351,495,121,1164,583,126,386,519,84,1141,554,71,319,541]
["Morelos",58,53,36,971,967,933,557,558,552,27,687,278,31,284,279,25,706,269,28,261,289,18,675,285,18,258,267]
["Nayarit",32,42,30,279,288,278,256,272,282,17,200,132,15,79,124,26,203,150,16,85,122,16,188,148,14,90,134]
["Nuevo León",118,136,164,1222,1288,1586,1141,1275,1509,75,873,558,43,349,583,81,878,622,55,410,653,98,1110,709,66,476,800]
["Oaxaca",104,136,100,1795,1867,1825,735,812,792,53,1352,354,51,443,381,64,1376,423,72,491,389,39,1371,374,61,454,418]
["Puebla",206,180,191,3368,3313,3201,1225,1310,1337,99,2449,588,107,919,637,90,2411,619,90,902,691,91,2356,641,100,845,696]
["Querétaro",71,78,62,796,800,779,608,648,670,36,618,305,35,178,303,37,610,340,41,190,308,25,584,362,37,195,308]
["Quintana Roo",14,26,32,502,561,624,219,198,285,5,352,111,9,150,108,14,407,101,12,154,97,15,454,161,17,170,124]
["San Luis Potosí",114,96,87,794,819,848,614,698,779,70,580,317,44,214,297,55,602,352,41,217,346,40,605,380,47,243,399]
["Sinaloa",54,72,45,393,398,450,406,519,490,37,284,206,17,109,200,45,272,251,27,126,268,23,313,247,22,137,243]
["Sonora",56,45,49,620,565,599,644,684,743,32,454,315,24,166,329,24,411,352,21,154,332,33,430,380,16,169,363]
["Tabasco",37,24,31,608,626,588,412,392,405,17,411,226,20,197,186,12,437,194,12,189,198,17,410,204,14,178,201]
["Tamaulipas",52,50,52,944,923,1003,643,762,654,30,692,314,22,252,329,24,648,409,26,275,353,31,699,322,21,304,332]
["Tlaxcala",33,33,32,424,450,457,227,261,283,13,300,126,20,124,101,16,328,133,17,122,128,16,329,134,16,128,149]
["Veracruz",227,235,173,3944,3995,3794,1550,1728,1747,110,2878,768,117,1066,782,122,2905,873,113,1090,855,96,2771,823,77,1023,924]
["Yucatán",37,28,30,946,981,1027,459,559,583,22,592,240,15,354,219,13,656,306,15,325,253,14,688,293,16,339,290]
["Zacatecas",108,131,95,316,344,348,434,500,475,67,239,230,41,77,204,76,254,266,55,90,234,54,257,237,41,91,238]

{"sheet":"13D-GCM","index":40,"n_rows":7,"n_cols":10,"rows_kept":7,"cut":false,"hidden":false,"merged":[[0,0,0,9]]}
["Enfermedades del sistema digestivo"]
["SELECCIONE UNA ENTIDAD"]
["Nayarit","2020","H - 2020","M - 2020","2021","H - 2021","M - 2021","2022","H - 2022","M - 2022"]
["Úlcera gástrica y duodenal",{"$f":"VLOOKUP($A$3,'T-13GE-D '!$A$5:$BL$36,2,0)","v":32},{"$f":"VLOOKUP($A$3,'T-13GE-D '!$A$5:$BL$36,11,0)","v":17},{"$f":"VLOOKUP($A$3,'T-13GE-D '!$A$5:$BL$36,14,0)","v":15},{"$f":"VLOOKUP($A$3,'T-13GE-D '!$A$5:$BL$36,3,0)","v":42},{"$f":"VLOOKUP($A$3,'T-13GE-D '!$A$5:$BL$36,17,0)","v":26},{"$f":"VLOOKUP($A$3,'T-13GE-D '!$A$5:$BL$36,20,0)","v":16},{"$f":"VLOOKUP($A$3,'T-13GE-D '!$A$5:$BL$36,4,0)","v":30},{"$f":"VLOOKUP($A$3,'T-13GE-D '!$A$5:$BL$36,23,0)","v":16},{"$f":"VLOOKUP($A$3,'T-13GE-D '!$A$5:$BL$36,26,0)","v":14}]
["Enfermedades del hígado",{"$f":"VLOOKUP($A$3,'T-13GE-D '!$A$5:$BL$36,5,0)","v":279},{"$f":"VLOOKUP($A$3,'T-13GE-D '!$A$5:$BL$36,12,0)","v":200},{"$f":"VLOOKUP($A$3,'T-13GE-D '!$A$5:$BL$36,15,0)","v":79},{"$f":"VLOOKUP($A$3,'T-13GE-D '!$A$5:$BL$36,6,0)","v":288},{"$f":"VLOOKUP($A$3,'T-13GE-D '!$A$5:$BL$36,18,0)","v":203},{"$f":"VLOOKUP($A$3,'T-13GE-D '!$A$5:$BL$36,21,0)","v":85},{"$f":"VLOOKUP($A$3,'T-13GE-D '!$A$5:$BL$36,7,0)","v":278},{"$f":"VLOOKUP($A$3,'T-13GE-D '!$A$5:$BL$36,24,0)","v":188},{"$f":"VLOOKUP($A$3,'T-13GE-D '!$A$5:$BL$36,27,0)","v":90}]
["Resto de enfermedades del sistema digestivo",{"$f":"VLOOKUP($A$3,'T-13GE-D '!$A$5:$BL$36,8,0)","v":256},{"$f":"VLOOKUP($A$3,'T-13GE-D '!$A$5:$BL$36,13,0)","v":132},{"$f":"VLOOKUP($A$3,'T-13GE-D '!$A$5:$BL$36,16,0)","v":124},{"$f":"VLOOKUP($A$3,'T-13GE-D '!$A$5:$BL$36,9,0)","v":272},{"$f":"VLOOKUP($A$3,'T-13GE-D '!$A$5:$BL$36,19,0)","v":150},{"$f":"VLOOKUP($A$3,'T-13GE-D '!$A$5:$BL$36,22,0)","v":122},{"$f":"VLOOKUP($A$3,'T-13GE-D '!$A$5:$BL$36,10,0)","v":282},{"$f":"VLOOKUP($A$3,'T-13GE-D '!$A$5:$BL$36,25,0)","v":148},{"$f":"VLOOKUP($A$3,'T-13GE-D '!$A$5:$BL$36,28,0)","v":134}]
["Total",{"$f":"SUM(B4:B6)","v":567},349,218,602,379,223,590,352,238]

{"sheet":"T-14GE-D ","index":41,"n_rows":36,"n_cols":10,"rows_kept":36,"cut":false,"hidden":true,"merged":[[1,0,1,9],[2,0,3,0],[2,1,2,3],[2,4,2,5],[2,6,2,7],[2,8,2,9]]}
[1,2,3,4,5,6,7,8,9,10]
["Enfermedades de la piel y del tejido subcutáneo"]
["ESTADO","Enfermedades de la piel y del tejido subcutáneo",null,null,2020,null,2021,null,2022]
[null,2020,2021,2022,"Hombres 2020(1)","Mujeres 2020(1)","Hombres 2021(1)","Mujeres 2021(1)","Hombres 2022(1)","Mujeres 2022(1)"]
["Aguascalientes",24,30,46,11,13,16,14,17,29]
["Baja California",63,101,144,29,34,48,53,77,67]
["Baja California Sur",10,20,27,5,5,7,13,15,12]
["Campeche",31,24,30,18,13,8,16,16,14]
["Coahuila",54,84,129,22,32,33,51,58,71]
["Colima",26,31,47,14,12,11,20,23,24]
["Chiapas",40,62,76,16,24,32,30,36,40]
["Chihuahua",87,109,118,41,46,51,58,52,66]
["Ciudad de México",639,724,907,295,344,310,414,381,526]
["Durango",38,46,43,14,24,20,26,20,23]
["Guanajuato",153,162,155,59,94,74,88,69,86]
["Guerrero",33,37,50,17,16,18,19,26,24]
["Hidalgo",38,42,35,12,26,25,17,10,25]
["Jalisco",379,359,425,176,203,165,194,177,248]
["México",408,442,597,187,221,199,243,279,318]
["Michoacán",69,102,119,35,34,51,51,55,64]
["Morelos",69,85,93,37,32,35,50,45,48]
["Nayarit",28,45,53,8,20,13,32,29,24]
["Nuevo León",246,263,377,102,144,132,131,156,221]
["Oaxaca",60,70,69,31,29,34,36,31,38]
["Puebla",68,87,65,24,44,35,52,22,43]
["Querétaro",67,101,90,23,44,38,63,36,54]
["Quintana Roo",45,54,53,27,18,25,29,25,28]
["San Luis Potosí",67,63,74,27,40,33,30,32,42]
["Sinaloa",33,38,82,11,22,18,20,37,45]
["Sonora",107,84,134,56,51,43,41,60,74]
["Tabasco",25,32,40,10,15,13,19,18,22]
["Tamaulipas",99,134,130,40,59,46,88,59,71]
["Tlaxcala",9,15,14,4,5,10,5,7,7]
["Veracruz",95,187,292,33,62,82,105,110,182]
["Yucatán",83,112,115,35,48,55,57,49,66]
["Zacatecas",35,46,64,10,25,16,30,25,39]

{"sheet":"14D-GCM","index":42,"n_rows":5,"n_cols":10,"rows_kept":5,"cut":false,"hidden":false,"merged":[[0,0,0,9]]}
["Enfermedades de la piel y del tejido\nsubcutáneo"]
["SELECCIONE UNA ENTIDAD"]
["Chiapas","2020","Hombres 2020","Mujeres 2020","2021","Hombres 2021","Mujeres 2021","2022","Hombres 2022","Mujeres 2022"]
["Enfermedades de la piel y del tejido subcutáneo",{"$f":"VLOOKUP($A$3,'T-14GE-D '!$A$5:$J$36,2,FALSE)","v":40},{"$f":"VLOOKUP($A$3,'T-14GE-D '!$A$5:$J$36,5,FALSE)","v":16},{"$f":"VLOOKUP($A$3,'T-14GE-D '!$A$5:$J$36,6,FALSE)","v":24},{"$f":"VLOOKUP($A$3,'T-14GE-D '!$A$5:$J$36,3,FALSE)","v":62},{"$f":"VLOOKUP($A$3,'T-14GE-D '!$A$5:$J$36,7,FALSE)","v":32},{"$f":"VLOOKUP($A$3,'T-14GE-D '!$A$5:$J$36,8,FALSE)","v":30},{"$f":"VLOOKUP($A$3,'T-14GE-D '!$A$5:$J$36,4,FALSE)","v":76},{"$f":"VLOOKUP($A$3,'T-14GE-D '!$A$5:$J$36,9,FALSE)","v":36},{"$f":"VLOOKUP($A$3,'T-14GE-D '!$A$5:$J$36,10,FALSE)","v":40}]
["Total",{"$f":"SUM(B4:B4)","v":40},16,24,62,32,30,76,36,40]

{"sheet":"T-15GE-D ","index":43,"n_rows":36,"n_cols":10,"rows_kept":36,"cut":false,"hidden":true,"merged":[[1,0,1,9],[2,0,3,0],[2,1,2,3],[2,4,2,5],[2,6,2,7],[2,8,2,9]]}
[1,2,3,4,5,6,7,8,9,10]
["Enfermedades del sistema osteomuscular y del tejido conjuntivo"]
["ESTADO","Enfermedades del sistema osteomuscular y del tejido conjuntivo",null,null,2020,null,2021,null,2022]
[null,2020,2021,2022,"Hombres 2020(1)","Mujeres 2020(1)","Hombres 2021(1)","Mujeres 2021(1)","Hombres 2022(1)","Mujeres 2022(1)"]
["Aguascalientes",57,56,56,18,39,23,33,18,38]
["Baja California",158,118,131,47,111,42,76,48,83]
["Baja California Sur",22,26,20,10,12,7,19,5,15]
["Campeche",19,35,29,3,16,12,23,9,20]
["Coahuila",111,114,148,30,81,35,79,47,101]
["Colima",25,24,31,11,14,4,20,15,16]
["Chiapas",175,162,140,62,113,55,107,60,80]
["Chihuahua",153,106,144,47,106,34,72,60,84]
["Ciudad de México",693,806,866,188,505,269,537,257,609]
["Durango",64,71,64,22,42,28,43,19,45]
["Guanajuato",220,203,215,81,139,72,131,66,149]
["Guerrero",126,105,110,47,79,29,76,39,71]
["Hidalgo",123,108,113,42,81,35,73,43,70]
["Jalisco",405,390,376,137,268,139,251,129,247]
["México",685,713,671,237,448,248,465,209,462]
["Michoacán",185,242,214,55,130,81,161,77,137]
["Morelos",85,89,83,30,55,27,62,28,55]
["Nayarit",45,53,73,14,31,17,36,28,45]
["Nuevo León",293,240,266,98,195,86,154,89,177]
["Oaxaca",205,255,233,74,131,94,161,90,143]
["Puebla",386,403,361,116,270,154,249,124,237]
["Querétaro",88,120,165,25,63,40,80,74,91]
["Quintana Roo",35,49,55,12,23,14,35,23,32]
["San Luis Potosí",116,125,99,30,86,40,85,34,65]
["Sinaloa",152,127,139,59,93,38,89,51,88]
["Sonora",123,89,129,39,84,31,58,51,78]
["Tabasco",79,68,58,23,56,19,49,18,40]
["Tamaulipas",114,96,100,44,70,36,60,33,67]
["Tlaxcala",54,45,40,17,37,15,30,9,31]
["Veracruz",311,336,304,121,190,122,214,108,196]
["Yucatán",86,95,81,31,55,37,58,24,57]
["Zacatecas",104,116,107,34,70,45,71,31,76]

{"sheet":"15D-GCM","index":44,"n_rows":5,"n_cols":10,"rows_kept":5,"cut":false,"hidden":false,"merged":[[0,0,0,9]]}
["Enfermedades del sistema osteomuscular\ny del tejido conjuntivo"]
["SELECCIONE UNA ENTIDAD"]
["Colima","2020","Hombres 2020","Mujeres 2020","2021","Hombres 2021","Mujeres 2021","2022","Hombres 2022","Mujeres 2022"]
["Enfermedades del sistema osteomuscular y del tejido conjuntivo",{"$f":"VLOOKUP($A$3,'T-15GE-D '!$A$5:$J$36,2,FALSE)","v":25},{"$f":"VLOOKUP($A$3,'T-15GE-D '!$A$5:$J$36,5,FALSE)","v":11},{"$f":"VLOOKUP($A$3,'T-15GE-D '!$A$5:$J$36,6,FALSE)","v":14},{"$f":"VLOOKUP($A$3,'T-15GE-D '!$A$5:$J$36,3,FALSE)","v":24},{"$f":"VLOOKUP($A$3,'T-15GE-D '!$A$5:$J$36,7,FALSE)","v":4},{"$f":"VLOOKUP($A$3,'T-15GE-D '!$A$5:$J$36,8,FALSE)","v":20},{"$f":"VLOOKUP($A$3,'T-15GE-D '!$A$5:$J$36,4,FALSE)","v":31},{"$f":"VLOOKUP($A$3,'T-15GE-D '!$A$5:$J$36,9,FALSE)","v":15},{"$f":"VLOOKUP($A$3,'T-15GE-D '!$A$5:$J$36,10,FALSE)","v":16}]
["Total",{"$f":"SUM(B4:B4)","v":25},11,14,24,4,20,31,15,16]

{"sheet":"T-16GE-D ","index":45,"n_rows":36,"n_cols":19,"rows_kept":36,"cut":false,"hidden":true,"merged":[[1,0,1,18],[2,0,3,0],[2,1,2,3],[2,4,2,6],[2,7,2,10],[2,11,2,14],[2,15,2,18]]}
[1,2,3,4,5,6,7,17,18,22,23,27,28,32,33,37,38,42,43]
["Enfermedades del sistema genitourinario"]
["ESTADO","Enfermedades renales, glomerulares y \ntubulointersticiales",null,null,"Resto de enfermedades del sistema genitourinario",null,null,2020,null,null,null,2021,null,null,null,2022]
[null,2020,2021,2022,2020,2021,2022,"Hombres 2020(1)","Hombres 2020(2)","Mujeres 2020(1)","Mujeres 2020(2)","Hombres 2021(1)","Hombres 2021(2)","Mujeres 2021(1)","Mujeres 2021(2)","Hombres 2022(1)","Hombres 2022(2)","Mujeres 2022(1)","Mujeres 2022(2)"]
["Aguascalientes",29,27,32,244,247,286,13,139,16,105,16,130,11,117,16,144,16,142]
["Baja California",53,72,97,572,601,730,37,328,16,244,45,305,27,296,53,365,44,365]
["Baja California Sur",15,15,14,108,132,125,5,52,10,56,5,73,10,59,10,75,4,50]
["Campeche",27,22,29,159,177,151,10,93,17,66,10,94,12,83,9,82,20,69]
["Coahuila",63,89,70,694,529,597,31,380,32,314,41,267,48,262,33,295,37,302]
["Colima",17,32,14,157,175,177,9,84,8,73,14,72,18,103,6,94,8,83]
["Chiapas",169,189,148,1305,1248,1069,96,771,73,534,94,696,95,552,74,574,74,495]
["Chihuahua",75,97,147,663,625,770,37,344,38,319,40,313,57,312,68,402,79,368]
["Ciudad de México",428,519,583,2542,2316,2559,198,1362,230,1180,225,1109,294,1207,269,1267,314,1292]
["Durango",38,55,38,229,231,273,20,118,18,111,29,117,26,114,15,142,23,131]
["Guanajuato",126,135,196,1026,1085,1166,54,557,72,469,72,547,63,538,94,598,102,568]
["Guerrero",52,64,63,576,591,568,20,350,32,226,29,328,35,263,29,329,34,239]
["Hidalgo",63,71,84,499,408,465,33,278,30,221,35,251,36,157,35,249,49,216]
["Jalisco",146,160,185,1987,1960,2188,64,1058,82,929,73,1075,87,885,83,1196,102,992]
["México",497,413,433,2333,2229,2539,242,1311,255,1022,199,1201,214,1028,172,1324,261,1215]
["Michoacán",94,125,119,826,887,802,45,471,49,355,56,508,69,379,55,442,64,360]
["Morelos",55,55,98,514,448,528,33,272,22,242,23,225,32,223,43,283,55,245]
["Nayarit",20,14,21,195,217,236,5,112,15,83,5,112,9,105,13,122,8,114]
["Nuevo León",119,129,201,1047,894,1133,47,520,72,527,51,444,78,450,94,558,107,575]
["Oaxaca",95,100,86,739,818,757,43,416,52,323,51,475,49,343,43,401,43,356]
["Puebla",171,174,197,1186,1249,1175,90,647,81,539,77,692,97,557,93,620,104,555]
["Querétaro",46,57,66,413,412,503,15,214,31,199,28,214,29,198,37,252,29,251]
["Quintana Roo",22,28,41,214,226,226,7,124,15,90,11,104,17,122,14,119,27,107]
["San Luis Potosí",80,80,108,519,512,565,35,309,45,210,30,273,50,239,51,289,57,276]
["Sinaloa",42,57,58,448,440,476,19,250,23,198,27,246,30,194,25,229,33,247]
["Sonora",61,73,77,585,571,624,29,314,32,271,35,291,38,280,39,296,38,328]
["Tabasco",51,61,62,462,441,438,27,273,24,189,27,245,34,196,28,228,34,210]
["Tamaulipas",55,80,93,751,703,765,26,390,29,361,38,381,42,322,39,363,54,402]
["Tlaxcala",25,28,33,284,257,248,11,150,14,134,14,147,14,110,15,141,18,107]
["Veracruz",228,245,226,1759,1799,1884,110,999,118,760,107,981,138,818,104,1015,122,869]
["Yucatán",78,80,86,551,554,510,33,279,45,272,45,280,35,274,50,250,36,260]
["Zacatecas",33,44,45,288,275,315,19,169,14,119,14,154,30,121,23,164,22,151]

{"sheet":"16D-GCM","index":46,"n_rows":6,"n_cols":10,"rows_kept":6,"cut":false,"hidden":false,"merged":[[0,0,0,9]]}
["Enfermedades del sistema genitourinario"]
["SELECCIONE UNA ENTIDAD"]
["Chiapas","2020","H - 2020","M - 2020","2021","H - 2021","M - 2021","2022","H - 2022","M - 2022"]
["Enfermedades renales, glomerulares y \ntubulointersticiales",{"$f":"VLOOKUP($A$3,'T-16GE-D '!$A$5:$S$36,2,FALSE)","v":169},{"$f":"VLOOKUP($A$3,'T-16GE-D '!$A$5:$S$36,8,FALSE)","v":96},{"$f":"VLOOKUP($A$3,'T-16GE-D '!$A$5:$S$36,10,FALSE)","v":73},{"$f":"VLOOKUP($A$3,'T-16GE-D '!$A$5:$S$36,3,FALSE)","v":189},{"$f":"VLOOKUP($A$3,'T-16GE-D '!$A$5:$S$36,12,FALSE)","v":94},{"$f":"VLOOKUP($A$3,'T-16GE-D '!$A$5:$S$36,14,FALSE)","v":95},{"$f":"VLOOKUP($A$3,'T-16GE-D '!$A$5:$S$36,4,FALSE)","v":148},{"$f":"VLOOKUP($A$3,'T-16GE-D '!$A$5:$S$36,16,FALSE)","v":74},{"$f":"VLOOKUP($A$3,'T-16GE-D '!$A$5:$S$36,18,FALSE)","v":74}]
["Resto de enfermedades del sistema genitourinario",{"$f":"VLOOKUP($A$3,'T-16GE-D '!$A$5:$S$36,5,FALSE)","v":1305},{"$f":"VLOOKUP($A$3,'T-16GE-D '!$A$5:$S$36,9,FALSE)","v":771},{"$f":"VLOOKUP($A$3,'T-16GE-D '!$A$5:$S$36,11,FALSE)","v":534},{"$f":"VLOOKUP($A$3,'T-16GE-D '!$A$5:$S$36,6,FALSE)","v":1248},{"$f":"VLOOKUP($A$3,'T-16GE-D '!$A$5:$S$36,13,FALSE)","v":696},{"$f":"VLOOKUP($A$3,'T-16GE-D '!$A$5:$S$36,15,FALSE)","v":552},{"$f":"VLOOKUP($A$3,'T-16GE-D '!$A$5:$S$36,7,FALSE)","v":1069},{"$f":"VLOOKUP($A$3,'T-16GE-D '!$A$5:$S$36,17,FALSE)","v":574},{"$f":"VLOOKUP($A$3,'T-16GE-D '!$A$5:$S$36,19,FALSE)","v":495}]
["Total",{"$f":"SUM(B4:B5)","v":1474},867,607,1437,790,647,1217,648,569]

{"sheet":"T-17GE-D ","index":47,"n_rows":36,"n_cols":37,"rows_kept":36,"cut":false,"hidden":true,"merged":[[1,0,1,36],[2,0,3,0],[2,1,2,3],[2,4,2,6],[2,7,2,9],[2,10,2,12],[2,13,2,20],[2,21,2,28],[2,29,2,36]]}
[1,2,3,4,5,6,7,8,9,10,11,12,13,14,15,16,17,18,19,20,21,22,23,24,25,26,27,28,29,30,31,32,33,34,35,36,37]
["Embarazo, parto y puerperio"]
["ESTADO","Embarazo terminado en aborto",null,null,"Otras muertes obstétricas directas",null,null,"Muertes obstétricas indirectas",null,null,"Resto de embarazo, parto y puerperio",null,null,2020,null,null,null,null,null,null,null,2021,null,null,null,null,null,null,null,2022]
[null,2020,2021,2022,2020,2021,2022,2020,2021,2022,2020,2021,2022,"Hombres 2020(1)","Hombres 2020(2)","Hombres 2020(3)","Hombres 2020(4)","Mujeres 2020(1)","Mujeres 2020(2)","Mujeres 2020(3)","Mujeres 2020(4)","Hombres 2021(1)","Hombres 2021(2)","Hombres 2021(3)","Hombres 2021(4)","Mujeres 2021(1)","Mujeres 2021(2)","Mujeres 2021(3)","Mujeres 2021(4)","Hombres 2022(1)","Hombres 2022(2)","Hombres 2022(3)","Hombres 2022(4)","Mujeres 2022(1)","Mujeres 2022(2)","Mujeres 2022(3)","Mujeres 2022(4)"]
["Aguascalientes",0,0,0,7,4,1,7,5,2,3,5,3,null,null,null,null,0,7,7,3,null,null,null,null,0,4,5,5,null,null,null,null,0,1,2,3]
["Baja California",1,1,2,9,14,7,14,17,14,6,3,6,null,null,null,null,1,9,14,6,null,null,null,null,1,14,17,3,null,null,null,null,2,7,14,6]
["Baja California Sur",1,0,0,1,1,1,1,5,1,0,1,0,null,null,null,null,1,1,1,0,null,null,null,null,0,1,5,1,null,null,null,null,0,1,1,0]
["Campeche",1,0,0,5,4,3,3,6,0,0,1,0,null,null,null,null,1,5,3,0,null,null,null,null,0,4,6,1,null,null,null,null,0,3,0,0]
["Coahuila",2,1,1,14,12,6,11,13,8,7,1,7,null,null,null,null,2,14,11,7,null,null,null,null,1,12,13,1,null,null,null,null,1,6,8,7]
["Colima",1,1,2,1,0,1,1,4,0,0,0,1,null,null,null,null,1,1,1,0,null,null,null,null,1,0,4,0,null,null,null,null,2,1,0,1]
["Chiapas",7,3,6,45,38,23,19,21,9,3,7,4,null,null,null,null,7,45,19,3,null,null,null,null,3,38,21,7,null,null,null,null,6,23,9,4]
["Chihuahua",3,4,0,25,22,19,17,11,12,5,6,5,null,null,null,null,3,25,17,5,null,null,null,null,4,22,11,6,null,null,null,null,0,19,12,5]
["Ciudad de México",3,4,2,36,29,29,48,42,13,15,14,16,null,null,null,null,3,36,48,15,null,null,null,null,4,29,42,14,null,null,null,null,2,29,13,16]
["Durango",0,2,0,7,7,10,1,8,7,5,1,25,null,null,null,null,0,7,1,5,null,null,null,null,2,7,8,1,null,null,null,null,0,10,7,25]
["Guanajuato",5,0,5,17,15,17,13,18,6,11,8,7,null,null,null,null,5,17,13,11,null,null,null,null,0,15,18,8,null,null,null,null,5,17,6,7]
["Guerrero",3,2,2,29,21,22,10,21,8,3,0,4,null,null,null,null,3,29,10,3,null,null,null,null,2,21,21,0,null,null,null,null,2,22,8,4]
["Hidalgo",1,0,1,7,13,8,4,14,4,2,7,3,null,null,null,null,1,7,4,2,null,null,null,null,0,13,14,7,null,null,null,null,1,8,4,3]
["Jalisco",3,6,6,34,26,27,25,40,12,12,8,12,null,null,null,null,3,34,25,12,null,null,null,null,6,26,40,8,null,null,null,null,6,27,12,12]
["México",20,9,12,35,38,33,43,59,14,28,29,28,null,null,null,null,20,35,43,28,null,null,null,null,9,38,59,29,null,null,null,null,12,33,14,28]
["Michoacán",4,3,2,16,15,18,22,27,9,8,6,9,null,null,null,null,4,16,22,8,null,null,null,null,3,15,27,6,null,null,null,null,2,18,9,9]
["Morelos",1,0,0,8,5,3,5,9,3,0,0,0,null,null,null,null,1,8,5,0,null,null,null,null,0,5,9,0,null,null,null,null,0,3,3,0]
["Nayarit",2,1,2,6,7,8,5,8,3,1,5,4,null,null,null,null,2,6,5,1,null,null,null,null,1,7,8,5,null,null,null,null,2,8,3,4]
["Nuevo León",3,1,4,16,9,14,18,41,15,4,6,12,null,null,null,null,3,16,18,4,null,null,null,null,1,9,41,6,null,null,null,null,4,14,15,12]
["Oaxaca",5,1,3,28,13,19,15,32,11,4,2,8,null,null,null,null,5,28,15,4,null,null,null,null,1,13,32,2,null,null,null,null,3,19,11,8]
["Puebla",2,3,2,25,27,28,22,56,8,13,5,1,null,null,null,null,2,25,22,13,null,null,null,null,3,27,56,5,null,null,null,null,2,28,8,1]
["Querétaro",2,0,2,3,5,8,3,10,1,4,4,2,null,null,null,null,2,3,3,4,null,null,null,null,0,5,10,4,null,null,null,null,2,8,1,2]
["Quintana Roo",1,1,1,7,5,4,12,10,3,2,3,2,null,null,null,null,1,7,12,2,null,null,null,null,1,5,10,3,null,null,null,null,1,4,3,2]
["San Luis Potosí",2,1,2,10,6,7,15,13,5,3,1,4,null,null,null,null,2,10,15,3,null,null,null,null,1,6,13,1,null,null,null,null,2,7,5,4]
["Sinaloa",1,0,0,8,11,7,22,27,4,3,2,2,null,null,null,null,1,8,22,3,null,null,null,null,0,11,27,2,null,null,null,null,0,7,4,2]
["Sonora",1,1,0,5,6,4,14,15,10,8,3,5,null,null,null,null,1,5,14,8,null,null,null,null,1,6,15,3,null,null,null,null,0,4,10,5]
["Tabasco",2,1,0,11,9,6,19,10,8,0,8,12,null,null,null,null,2,11,19,0,null,null,null,null,1,9,10,8,null,null,null,null,0,6,8,12]
["Tamaulipas",1,3,2,18,10,12,18,30,7,1,1,0,null,null,null,null,1,18,18,1,null,null,null,null,3,10,30,1,null,null,null,null,2,12,7,0]
["Tlaxcala",0,0,1,5,2,12,7,4,2,1,1,0,null,null,null,null,0,5,7,1,null,null,null,null,0,2,4,1,null,null,null,null,1,12,2,0]
["Veracruz",4,4,5,19,22,24,18,46,18,4,7,8,null,null,null,null,4,19,18,4,null,null,null,null,4,22,46,7,null,null,null,null,5,24,18,8]
["Yucatán",2,0,2,12,10,6,6,18,2,2,2,1,null,null,null,null,2,12,6,2,null,null,null,null,0,10,18,2,null,null,null,null,2,6,2,1]
["Zacatecas",2,2,3,12,6,3,5,3,1,3,2,1,null,null,null,null,2,12,5,3,null,null,null,null,2,6,3,2,null,null,null,null,3,3,1,1]

{"sheet":"17D-GCM","index":48,"n_rows":8,"n_cols":10,"rows_kept":8,"cut":false,"hidden":false,"merged":[[0,0,0,9]]}
["Embarazo, parto y puerperio"]
["SELECCIONE UNA ENTIDAD"]
["Chiapas","2020","H - 2020","M - 2020","2021","H - 2021","M - 2021","2022","H - 2022","M - 2022"]
["Embarazo terminado en aborto",{"$f":"VLOOKUP($A$3,'T-17GE-D '!$A$5:$AK$36,2,FALSE)","v":7},"NA",{"$f":"VLOOKUP($A$3,'T-17GE-D '!$A$5:$AK$36,18,FALSE)","v":7},{"$f":"VLOOKUP($A$3,'T-17GE-D '!$A$5:$AK$36,3,FALSE)","v":3},"NA",{"$f":"VLOOKUP($A$3,'T-17GE-D '!$A$5:$AK$36,26,FALSE)","v":3},{"$f":"VLOOKUP($A$3,'T-17GE-D '!$A$5:$AK$36,4,FALSE)","v":6},"NA",{"$f":"VLOOKUP($A$3,'T-17GE-D '!$A$5:$AK$36,34,FALSE)","v":6}]
["Otras muertes obstétricas directas",{"$f":"VLOOKUP($A$3,'T-17GE-D '!$A$5:$AK$36,5,FALSE)","v":45},"NA",{"$f":"VLOOKUP($A$3,'T-17GE-D '!$A$5:$AK$36,19,FALSE)","v":45},{"$f":"VLOOKUP($A$3,'T-17GE-D '!$A$5:$AK$36,6,FALSE)","v":38},"NA",{"$f":"VLOOKUP($A$3,'T-17GE-D '!$A$5:$AK$36,27,FALSE)","v":38},{"$f":"VLOOKUP($A$3,'T-17GE-D '!$A$5:$AK$36,7,FALSE)","v":23},"NA",{"$f":"VLOOKUP($A$3,'T-17GE-D '!$A$5:$AK$36,35,FALSE)","v":23}]
["Muertes obstétricas indirectas",{"$f":"VLOOKUP($A$3,'T-17GE-D '!$A$5:$AK$36,8,FALSE)","v":19},"NA",{"$f":"VLOOKUP($A$3,'T-17GE-D '!$A$5:$AK$36,20,FALSE)","v":19},{"$f":"VLOOKUP($A$3,'T-17GE-D '!$A$5:$AK$36,9,FALSE)","v":21},"NA",{"$f":"VLOOKUP($A$3,'T-17GE-D '!$A$5:$AK$36,28,FALSE)","v":21},{"$f":"VLOOKUP($A$3,'T-17GE-D '!$A$5:$AK$36,10,FALSE)","v":9},"NA",{"$f":"VLOOKUP($A$3,'T-17GE-D '!$A$5:$AK$36,36,FALSE)","v":9}]
["Resto de embarazo, parto y puerperio",{"$f":"VLOOKUP($A$3,'T-17GE-D '!$A$5:$AK$36,11,FALSE)","v":3},"NA",{"$f":"VLOOKUP($A$3,'T-17GE-D '!$A$5:$AK$36,21,FALSE)","v":3},{"$f":"VLOOKUP($A$3,'T-17GE-D '!$A$5:$AK$36,12,FALSE)","v":7},"NA",{"$f":"VLOOKUP($A$3,'T-17GE-D '!$A$5:$AK$36,29,FALSE)","v":7},{"$f":"VLOOKUP($A$3,'T-17GE-D '!$A$5:$AK$36,13,FALSE)","v":4},"NA",{"$f":"VLOOKUP($A$3,'T-17GE-D '!$A$5:$AK$36,37,FALSE)","v":4}]
["Total",{"$f":"SUM(B4:B7)","v":74},0,74,69,0,69,42,0,42]

{"sheet":"T-18GE-D ","index":49,"n_rows":36,"n_cols":10,"rows_kept":36,"cut":false,"hidden":true,"merged":[[1,0,1,9],[2,0,3,0],[2,1,2,3],[2,4,2,5],[2,6,2,7],[2,8,2,9]]}
[1,2,3,4,5,6,7,8,9,10]
["Ciertas afecciones originadas en el periodo perinatal"]
["ESTADO","Ciertas afecciones originadas en el periodo perinatal",null,null,2020,null,2021,null,2022]
[null,2020,2021,2022,"Hombres 2020(1)","Mujeres 2020(1)","Hombres 2021(1)","Mujeres 2021(1)","Hombres 2022(1)","Mujeres 2022(1)"]
["Aguascalientes",117,137,68,78,39,69,68,42,26]
["Baja California",250,228,241,136,114,132,96,136,105]
["Baja California Sur",66,62,56,43,23,31,31,31,25]
["Campeche",86,76,72,47,39,45,31,37,35]
["Coahuila",307,356,164,172,135,197,159,82,82]
["Colima",49,44,46,31,18,31,13,24,22]
["Chiapas",450,639,275,267,183,352,287,158,117]
["Chihuahua",405,424,357,245,160,235,189,203,154]
["Ciudad de México",854,763,805,489,365,412,351,438,367]
["Durango",142,223,20,80,62,135,88,13,7]
["Guanajuato",477,449,441,276,201,258,191,235,206]
["Guerrero",214,295,37,109,105,165,130,23,14]
["Hidalgo",183,257,168,109,74,146,111,96,72]
["Jalisco",743,649,632,415,328,349,300,369,263]
["México",1288,1172,1155,750,538,667,505,657,498]
["Michoacán",264,393,153,147,117,240,153,86,67]
["Morelos",123,135,100,76,47,76,59,59,41]
["Nayarit",56,91,38,34,22,51,40,19,19]
["Nuevo León",394,398,351,218,176,237,161,198,153]
["Oaxaca",280,315,202,161,119,187,128,112,90]
["Puebla",725,639,583,409,316,380,259,315,268]
["Querétaro",185,188,188,100,85,104,84,103,85]
["Quintana Roo",131,124,111,80,51,64,60,58,53]
["San Luis Potosí",182,207,173,103,79,118,89,110,63]
["Sinaloa",159,224,58,95,64,140,84,41,17]
["Sonora",173,179,172,98,75,111,68,93,79]
["Tabasco",326,264,217,181,145,161,103,124,93]
["Tamaulipas",320,380,123,176,144,215,165,72,51]
["Tlaxcala",130,98,91,71,59,64,34,49,42]
["Veracruz",707,665,629,395,312,354,311,359,270]
["Yucatán",171,170,142,108,63,102,68,84,58]
["Zacatecas",132,115,76,69,63,73,42,45,31]

{"sheet":"18D-GCM","index":50,"n_rows":5,"n_cols":10,"rows_kept":5,"cut":false,"hidden":false,"merged":[[0,0,0,9]]}
["Ciertas afecciones originadas \nen el periodo perinatal"]
["SELECCIONE UNA ENTIDAD"]
["Chiapas","2020","Hombres 2020","Mujeres 2020","2021","Hombres 2021","Mujeres 2021","2022","Hombres 2022","Mujeres 2022"]
["Ciertas afecciones originadas en el periodo perinatal",{"$f":"VLOOKUP($A$3,'T-18GE-D '!$A$5:$J$36,2,FALSE)","v":450},{"$f":"VLOOKUP($A$3,'T-18GE-D '!$A$5:$J$36,5,FALSE)","v":267},{"$f":"VLOOKUP($A$3,'T-18GE-D '!$A$5:$J$36,6,FALSE)","v":183},{"$f":"VLOOKUP($A$3,'T-18GE-D '!$A$5:$J$36,3,FALSE)","v":639},{"$f":"VLOOKUP($A$3,'T-18GE-D '!$A$5:$J$36,7,FALSE)","v":352},{"$f":"VLOOKUP($A$3,'T-18GE-D '!$A$5:$J$36,8,FALSE)","v":287},{"$f":"VLOOKUP($A$3,'T-18GE-D '!$A$5:$J$36,4,FALSE)","v":275},{"$f":"VLOOKUP($A$3,'T-18GE-D '!$A$5:$J$36,9,FALSE)","v":158},{"$f":"VLOOKUP($A$3,'T-18GE-D '!$A$5:$J$36,10,FALSE)","v":117}]
["Total",{"$f":"SUM(B4:B4)","v":450},267,183,639,352,287,275,158,117]

{"sheet":"T-19GE-D ","index":51,"n_rows":36,"n_cols":10,"rows_kept":36,"cut":false,"hidden":true,"merged":[[1,0,1,9],[2,0,3,0],[2,1,2,3],[2,4,2,5],[2,6,2,7],[2,8,2,9]]}
[1,2,3,4,5,6,7,8,9,10]
["Malformaciones congénitas, deformidades y anomalías cromosómicas"]
["ESTADO","Malformaciones congénitas, deformidades y anomalías cromosómicas",null,null,2020,null,2021,null,2022]
[null,2020,2021,2022,"Hombres 2020(1)","Mujeres 2020(1)","Hombres 2021(1)","Mujeres 2021(1)","Hombres 2022(1)","Mujeres 2022(1)"]
["Aguascalientes",93,86,68,48,45,40,46,35,33]
["Baja California",227,199,210,137,90,113,86,102,108]
["Baja California Sur",41,32,36,23,18,20,12,19,17]
["Campeche",55,48,63,37,18,23,25,40,23]
["Coahuila",200,190,153,105,95,109,81,80,73]
["Colima",21,36,35,14,7,22,14,15,20]
["Chiapas",375,453,310,216,159,245,208,161,149]
["Chihuahua",214,224,202,119,95,127,97,122,80]
["Ciudad de México",996,868,884,529,467,431,437,463,421]
["Durango",77,91,32,43,34,54,37,21,11]
["Guanajuato",434,408,413,239,195,235,173,231,182]
["Guerrero",154,166,100,86,68,98,68,53,47]
["Hidalgo",139,104,127,75,64,58,46,74,53]
["Jalisco",594,601,593,327,267,307,294,286,307]
["México",909,772,799,531,378,458,314,430,369]
["Michoacán",245,283,205,134,111,165,118,92,113]
["Morelos",111,87,107,69,42,50,37,64,43]
["Nayarit",43,46,42,26,17,27,19,22,20]
["Nuevo León",404,406,363,208,196,226,180,198,165]
["Oaxaca",240,260,224,139,101,122,138,120,104]
["Puebla",614,571,620,338,276,303,268,340,280]
["Querétaro",150,148,154,79,71,71,77,86,68]
["Quintana Roo",85,90,81,42,43,47,43,48,33]
["San Luis Potosí",148,186,185,70,78,105,81,104,81]
["Sinaloa",106,121,70,60,46,64,57,42,28]
["Sonora",133,151,122,67,66,85,66,67,55]
["Tabasco",205,219,190,102,103,129,90,96,94]
["Tamaulipas",168,165,119,84,84,79,86,66,53]
["Tlaxcala",110,107,115,66,44,56,51,65,50]
["Veracruz",544,489,513,305,239,265,224,262,251]
["Yucatán",141,135,157,76,65,70,65,77,80]
["Zacatecas",73,85,72,40,33,48,37,37,35]

{"sheet":"19D-GCM","index":52,"n_rows":5,"n_cols":10,"rows_kept":5,"cut":false,"hidden":false,"merged":[[0,0,0,9]]}
["Malformaciones congénitas, deformidades\ny anomalías cromosómicas"]
["SELECCIONE UNA ENTIDAD"]
["Coahuila","2020","Hombres 2020","Mujeres 2020","2021","Hombres 2021","Mujeres 2021","2022","Hombres 2022","Mujeres 2022"]
["Malformaciones congénitas, deformidades y anomalías cromosómicas",{"$f":"VLOOKUP($A$3,'T-19GE-D '!$A$5:$J$36,2,FALSE)","v":200},{"$f":"VLOOKUP($A$3,'T-19GE-D '!$A$5:$J$36,5,FALSE)","v":105},{"$f":"VLOOKUP($A$3,'T-19GE-D '!$A$5:$J$36,6,FALSE)","v":95},{"$f":"VLOOKUP($A$3,'T-19GE-D '!$A$5:$J$36,3,FALSE)","v":190},{"$f":"VLOOKUP($A$3,'T-19GE-D '!$A$5:$J$36,7,FALSE)","v":109},{"$f":"VLOOKUP($A$3,'T-19GE-D '!$A$5:$J$36,8,FALSE)","v":81},{"$f":"VLOOKUP($A$3,'T-19GE-D '!$A$5:$J$36,4,FALSE)","v":153},{"$f":"VLOOKUP($A$3,'T-19GE-D '!$A$5:$J$36,9,FALSE)","v":80},{"$f":"VLOOKUP($A$3,'T-19GE-D '!$A$5:$J$36,10,FALSE)","v":73}]
["Total",{"$f":"SUM(B4:B4)","v":200},105,95,190,109,81,153,80,73]

{"sheet":"T-20GE-D ","index":53,"n_rows":36,"n_cols":10,"rows_kept":36,"cut":false,"hidden":true,"merged":[[1,0,1,9],[2,0,3,0],[2,1,2,3],[2,4,2,5],[2,6,2,7],[2,8,2,9]]}
[1,2,3,4,5,6,7,8,9,10]
["Síntomas, signos y hallazgos anormales clínicos y de laboratorio, no clasificados en otra parte"]
["ESTADO","Síntomas, signos y hallazgos anormales clínicos y de laboratorio, no clasificados en otra parte",null,null,2020,null,2021,null,2022]
[null,2020,2021,2022,"Hombres 2020(1)","Mujeres 2020(1)","Hombres 2021(1)","Mujeres 2021(1)","Hombres 2022(1)","Mujeres 2022(1)"]
["Aguascalientes",36,58,64,10,26,31,27,32,32]
["Baja California",218,210,316,149,69,162,48,232,84]
["Baja California Sur",21,14,30,11,10,6,8,18,12]
["Campeche",288,299,209,167,121,163,136,94,115]
["Coahuila",661,562,400,316,345,279,283,213,187]
["Colima",116,192,213,61,55,84,108,98,115]
["Chiapas",1864,1924,1569,1040,824,1053,871,816,753]
["Chihuahua",285,228,313,150,135,137,91,145,168]
["Ciudad de México",76,320,302,41,35,209,111,188,114]
["Durango",152,237,175,79,73,132,105,92,83]
["Guanajuato",219,238,269,110,109,103,135,127,142]
["Guerrero",508,493,509,281,227,278,215,264,245]
["Hidalgo",166,193,242,85,81,84,109,120,122]
["Jalisco",523,700,642,274,249,338,362,293,349]
["México",179,147,152,87,92,76,71,57,95]
["Michoacán",420,573,462,194,226,276,297,239,223]
["Morelos",143,77,55,79,64,55,22,24,31]
["Nayarit",116,151,219,51,65,86,65,104,115]
["Nuevo León",188,165,169,93,95,92,73,64,105]
["Oaxaca",1094,1393,1095,577,517,720,673,514,581]
["Puebla",591,654,545,317,274,317,337,272,273]
["Querétaro",187,188,208,87,100,91,97,96,112]
["Quintana Roo",188,170,179,118,70,98,72,99,80]
["San Luis Potosí",300,284,254,167,133,151,133,136,118]
["Sinaloa",188,202,233,115,73,110,92,132,101]
["Sonora",204,230,271,137,67,141,89,143,128]
["Tabasco",515,702,485,282,233,356,346,252,233]
["Tamaulipas",347,376,433,196,151,200,176,213,220]
["Tlaxcala",147,153,128,69,78,68,85,57,71]
["Veracruz",727,815,743,353,374,419,396,355,388]
["Yucatán",340,408,523,195,145,203,205,240,283]
["Zacatecas",151,156,166,82,69,91,65,94,72]

{"sheet":"20D-GCM ","index":54,"n_rows":5,"n_cols":10,"rows_kept":5,"cut":false,"hidden":false,"merged":[[0,0,0,9]]}
["Síntomas, signos y hallazgos anormales clínicos \ny de laboratorio, no clasificados en otra parte"]
["SELECCIONE UNA ENTIDAD"]
["Hidalgo","2020","Hombres 2020","Mujeres 2020","2021","Hombres 2021","Mujeres 2021","2022","Hombres 2022","Mujeres 2022"]
["Síntomas, signos y hallazgos anormales clínicos y de laboratorio, no clasificados en otra parte",{"$f":"VLOOKUP($A$3,'T-20GE-D '!$A$5:$J$36,2,FALSE)","v":166},{"$f":"VLOOKUP($A$3,'T-20GE-D '!$A$5:$J$36,5,FALSE)","v":85},{"$f":"VLOOKUP($A$3,'T-20GE-D '!$A$5:$J$36,6,FALSE)","v":81},{"$f":"VLOOKUP($A$3,'T-20GE-D '!$A$5:$J$36,3,FALSE)","v":193},{"$f":"VLOOKUP($A$3,'T-20GE-D '!$A$5:$J$36,7,FALSE)","v":84},{"$f":"VLOOKUP($A$3,'T-20GE-D '!$A$5:$J$36,8,FALSE)","v":109},{"$f":"VLOOKUP($A$3,'T-20GE-D '!$A$5:$J$36,4,FALSE)","v":242},{"$f":"VLOOKUP($A$3,'T-20GE-D '!$A$5:$J$36,9,FALSE)","v":120},{"$f":"VLOOKUP($A$3,'T-20GE-D '!$A$5:$J$36,10,FALSE)","v":122}]
["Total",{"$f":"SUM(B4:B4)","v":166},85,81,193,84,109,242,120,122]

{"sheet":"GCMxSexo-E","index":55,"n_rows":25,"n_cols":8,"rows_kept":25,"cut":false,"hidden":false,"merged":[[0,0,0,7],[2,1,3,1],[2,2,2,3],[2,4,2,5],[2,6,2,7],[2,0,3,0]]}
["Grandes Causas de Mortalidad por Sexo"]
[null,"SELECCIONE UNA ENTIDAD"]
[null,"Chiapas",2020,null,2021,null,2022]
[null,null,"Hombres","Mujeres","Hombres","Mujeres","Hombres","Mujeres"]
[1,"Enfermedades del sistema circulatorio",{"$f":"VLOOKUP($B$3,Tabla1[],3,FALSE)","v":5682},{"$f":"VLOOKUP($B$3,Tabla1[],4,FALSE)","v":4270},{"$f":"VLOOKUP($B$3,Tabla2[],3,FALSE)","v":5821},{"$f":"VLOOKUP($B$3,Tabla2[],4,FALSE)","v":4486},{"$f":"VLOOKUP($B$3,Tabla3[],3,FALSE)","v":4801},{"$f":"VLOOKUP($B$3,Tabla3[],4,FALSE)","v":4060}]
[2,"Asignación provisoria de nuevas afecciones de etiología incierta o de uso emergente, sin especificación",{"$f":"VLOOKUP($B$3,Tabla1[],6,FALSE)","v":1871},{"$f":"VLOOKUP($B$3,Tabla1[],7,FALSE)","v":833},{"$f":"VLOOKUP($B$3,Tabla2[],6,FALSE)","v":1892},{"$f":"VLOOKUP($B$3,Tabla2[],7,FALSE)","v":1227},{"$f":"VLOOKUP($B$3,Tabla3[],6,FALSE)","v":213},{"$f":"VLOOKUP($B$3,Tabla3[],7,FALSE)","v":123}]
[3,"Enfermedades endocrinas, nutricionales y metabólicas",{"$f":"VLOOKUP($B$3,Tabla1[],9,FALSE)","v":3458},{"$f":"VLOOKUP($B$3,Tabla1[],10,FALSE)","v":3590},{"$f":"VLOOKUP($B$3,Tabla2[],9,FALSE)","v":3087},{"$f":"VLOOKUP($B$3,Tabla2[],10,FALSE)","v":3578},{"$f":"VLOOKUP($B$3,Tabla3[],9,FALSE)","v":2352},{"$f":"VLOOKUP($B$3,Tabla3[],10,FALSE)","v":2897}]
[4,"Tumores (neoplasias)",{"$f":"VLOOKUP($B$3,Tabla1[],12,FALSE)","v":1834},{"$f":"VLOOKUP($B$3,Tabla1[],13,FALSE)","v":1912},{"$f":"VLOOKUP($B$3,Tabla2[],12,FALSE)","v":1884},{"$f":"VLOOKUP($B$3,Tabla2[],13,FALSE)","v":1960},{"$f":"VLOOKUP($B$3,Tabla3[],12,FALSE)","v":1217},{"$f":"VLOOKUP($B$3,Tabla3[],13,FALSE)","v":1322}]
[5,"Enfermedades del sistema respiratorio",{"$f":"VLOOKUP($B$3,Tabla1[],15,FALSE)","v":2009},{"$f":"VLOOKUP($B$3,Tabla1[],16,FALSE)","v":1248},{"$f":"VLOOKUP($B$3,Tabla2[],15,FALSE)","v":1883},{"$f":"VLOOKUP($B$3,Tabla2[],16,FALSE)","v":1325},{"$f":"VLOOKUP($B$3,Tabla3[],15,FALSE)","v":819},{"$f":"VLOOKUP($B$3,Tabla3[],16,FALSE)","v":645}]
[6,"Causas externas de morbilidad y de mortalidad",{"$f":"VLOOKUP($B$3,Tabla1[],18,FALSE)","v":1442},{"$f":"VLOOKUP($B$3,Tabla1[],19,FALSE)","v":303},{"$f":"VLOOKUP($B$3,Tabla2[],18,FALSE)","v":1524},{"$f":"VLOOKUP($B$3,Tabla2[],19,FALSE)","v":372},{"$f":"VLOOKUP($B$3,Tabla3[],18,FALSE)","v":1215},{"$f":"VLOOKUP($B$3,Tabla3[],19,FALSE)","v":356}]
[7,"Ciertas enfermedades infecciosas y parasitarias",{"$f":"VLOOKUP($B$3,Tabla1[],21,FALSE)","v":710},{"$f":"VLOOKUP($B$3,Tabla1[],22,FALSE)","v":463},{"$f":"VLOOKUP($B$3,Tabla2[],21,FALSE)","v":737},{"$f":"VLOOKUP($B$3,Tabla2[],22,FALSE)","v":528},{"$f":"VLOOKUP($B$3,Tabla3[],21,FALSE)","v":235},{"$f":"VLOOKUP($B$3,Tabla3[],22,FALSE)","v":174}]
[8,"Enfermedades de la sangre y de los órganos hematopoyéticos, y ciertos trastornos que afectan el mecanismo de la inmunidad",{"$f":"VLOOKUP($B$3,Tabla1[],24,FALSE)","v":201},{"$f":"VLOOKUP($B$3,Tabla1[],25,FALSE)","v":185},{"$f":"VLOOKUP($B$3,Tabla2[],24,FALSE)","v":221},{"$f":"VLOOKUP($B$3,Tabla2[],25,FALSE)","v":202},{"$f":"VLOOKUP($B$3,Tabla3[],24,FALSE)","v":33},{"$f":"VLOOKUP($B$3,Tabla3[],25,FALSE)","v":37}]
[9,"Trastornos mentales y del comportamiento",{"$f":"VLOOKUP($B$3,Tabla1[],27,FALSE)","v":141},{"$f":"VLOOKUP($B$3,Tabla1[],28,FALSE)","v":41},{"$f":"VLOOKUP($B$3,Tabla2[],27,FALSE)","v":132},{"$f":"VLOOKUP($B$3,Tabla2[],28,FALSE)","v":26},{"$f":"VLOOKUP($B$3,Tabla3[],27,FALSE)","v":63},{"$f":"VLOOKUP($B$3,Tabla3[],28,FALSE)","v":32}]
[10,"Enfermedades del sistema nervioso",{"$f":"VLOOKUP($B$3,Tabla1[],30,FALSE)","v":26},{"$f":"VLOOKUP($B$3,Tabla1[],31,FALSE)","v":224},{"$f":"VLOOKUP($B$3,Tabla2[],30,FALSE)","v":293},{"$f":"VLOOKUP($B$3,Tabla2[],31,FALSE)","v":216},{"$f":"VLOOKUP($B$3,Tabla3[],30,FALSE)","v":210},{"$f":"VLOOKUP($B$3,Tabla3[],31,FALSE)","v":181}]
[11,"Enfermedades del ojo y sus anexos",{"$f":"VLOOKUP($B$3,Tabla1[],33,FALSE)","v":0},{"$f":"VLOOKUP($B$3,Tabla1[],34,FALSE)","v":0},{"$f":"VLOOKUP($B$3,Tabla2[],33,FALSE)","v":1},{"$f":"VLOOKUP($B$3,Tabla2[],34,FALSE)","v":0},{"$f":"VLOOKUP($B$3,Tabla3[],33,FALSE)","v":0},{"$f":"VLOOKUP($B$3,Tabla3[],34,FALSE)","v":0}]
[12,"Enfermedades del oído y de la apófisis mastoides",{"$f":"VLOOKUP($B$3,Tabla1[],36,FALSE)","v":3},{"$f":"VLOOKUP($B$3,Tabla1[],37,FALSE)","v":1},{"$f":"VLOOKUP($B$3,Tabla2[],36,FALSE)","v":0},{"$f":"VLOOKUP($B$3,Tabla2[],37,FALSE)","v":2},{"$f":"VLOOKUP($B$3,Tabla3[],36,FALSE)","v":0},{"$f":"VLOOKUP($B$3,Tabla3[],37,FALSE)","v":1}]
[13,"Enfermedades del sistema digestivo",{"$f":"VLOOKUP($B$3,Tabla1[],39,FALSE)","v":2144},{"$f":"VLOOKUP($B$3,Tabla1[],40,FALSE)","v":1307},{"$f":"VLOOKUP($B$3,Tabla2[],39,FALSE)","v":2243},{"$f":"VLOOKUP($B$3,Tabla2[],40,FALSE)","v":1339},{"$f":"VLOOKUP($B$3,Tabla3[],39,FALSE)","v":965},{"$f":"VLOOKUP($B$3,Tabla3[],40,FALSE)","v":711}]
[14,"Enfermedades de la piel y del tejido subcutáneo",{"$f":"VLOOKUP($B$3,Tabla1[],42,FALSE)","v":16},{"$f":"VLOOKUP($B$3,Tabla1[],43,FALSE)","v":24},{"$f":"VLOOKUP($B$3,Tabla2[],42,FALSE)","v":32},{"$f":"VLOOKUP($B$3,Tabla2[],43,FALSE)","v":30},{"$f":"VLOOKUP($B$3,Tabla3[],42,FALSE)","v":58},{"$f":"VLOOKUP($B$3,Tabla3[],43,FALSE)","v":71}]
[15,"Enfermedades del sistema osteomuscular y del tejido conjuntivo",{"$f":"VLOOKUP($B$3,Tabla1[],45,FALSE)","v":62},{"$f":"VLOOKUP($B$3,Tabla1[],46,FALSE)","v":113},{"$f":"VLOOKUP($B$3,Tabla2[],45,FALSE)","v":55},{"$f":"VLOOKUP($B$3,Tabla2[],46,FALSE)","v":107},{"$f":"VLOOKUP($B$3,Tabla3[],45,FALSE)","v":47},{"$f":"VLOOKUP($B$3,Tabla3[],46,FALSE)","v":101}]
[16,"Enfermedades del sistema genitourinario",{"$f":"VLOOKUP($B$3,Tabla1[],48,FALSE)","v":867},{"$f":"VLOOKUP($B$3,Tabla1[],49,FALSE)","v":607},{"$f":"VLOOKUP($B$3,Tabla2[],48,FALSE)","v":790},{"$f":"VLOOKUP($B$3,Tabla2[],49,FALSE)","v":647},{"$f":"VLOOKUP($B$3,Tabla3[],48,FALSE)","v":328},{"$f":"VLOOKUP($B$3,Tabla3[],49,FALSE)","v":339}]
[17,"Embarazo, parto y puerperio",null,{"$f":"VLOOKUP($B$3,Tabla1[],52,FALSE)","v":74},null,{"$f":"VLOOKUP($B$3,Tabla2[],52,FALSE)","v":69},null,{"$f":"VLOOKUP($B$3,Tabla3[],52,FALSE)","v":22}]
[18,"Ciertas afecciones originadas en el periodo perinatal",{"$f":"VLOOKUP($B$3,Tabla1[],54,FALSE)","v":267},{"$f":"VLOOKUP($B$3,Tabla1[],55,FALSE)","v":183},{"$f":"VLOOKUP($B$3,Tabla2[],54,FALSE)","v":352},{"$f":"VLOOKUP($B$3,Tabla2[],55,FALSE)","v":287},{"$f":"VLOOKUP($B$3,Tabla3[],54,FALSE)","v":82},{"$f":"VLOOKUP($B$3,Tabla3[],55,FALSE)","v":82}]
[19,"Malformaciones congénitas, deformidades y anomalías cromosómicas",{"$f":"VLOOKUP($B$3,Tabla1[],57,FALSE)","v":216},{"$f":"VLOOKUP($B$3,Tabla1[],58,FALSE)","v":159},{"$f":"VLOOKUP($B$3,Tabla2[],57,FALSE)","v":245},{"$f":"VLOOKUP($B$3,Tabla2[],58,FALSE)","v":208},{"$f":"VLOOKUP($B$3,Tabla3[],57,FALSE)","v":80},{"$f":"VLOOKUP($B$3,Tabla3[],58,FALSE)","v":73}]
[20,"Síntomas, signos y hallazgos anormales clínicos y de laboratorio, no clasificados en otra parte",{"$f":"VLOOKUP($B$3,Tabla1[],60,FALSE)","v":1040},{"$f":"VLOOKUP($B$3,Tabla1[],61,FALSE)","v":824},{"$f":"VLOOKUP($B$3,Tabla2[],60,FALSE)","v":1053},{"$f":"VLOOKUP($B$3,Tabla2[],61,FALSE)","v":871},{"$f":"VLOOKUP($B$3,Tabla3[],60,FALSE)","v":213},{"$f":"VLOOKUP($B$3,Tabla3[],61,FALSE)","v":187}]
[null,"Total",{"$f":"SUM(C5:C24)","v":21989},{"$f":"SUM(D5:D24)","v":16361},22245,17480,12931,11414]

{"sheet":"1T-GCM-R_Edad2020","index":56,"n_rows":34,"n_cols":61,"rows_kept":34,"cut":false,"hidden":true,"merged":[]}
[1,2,3,4,5,6,7,8,9,10,11,12,13,14,15,16,17,18,19,20,21,22,23,24,25,26,27,28,29,30,31,32,33,34,35,36,37,38,39,40,41,42,43,44,45,46,47,48,49,50,51,52,53,54,55,56,57,58,59,60,61]
["ESTADO","Menores de 1 año","1-4 años","5-9 años","10-14 años","15-19 años","20-24 años","25-29 años","30-34 años","35-39 años","40-44 años","45-49 años","50-54 años","55-59 años","60-64 años","65-69 años","70-74 años","75-79 años","80-84 años","85 años y más","No especificado","H Menores de 1 año","H 1-4 años","H 5-9 años","H 10-14 años","H 15-19 años","H 20-24 años","H 25-29 años","H 30-34 años","H 35-39 años","H 40-44 años","H 45-49 años","H 50-54 años","H 55-59 años","H 60-64 años","H 65-69 años","H 70-74 años","H 75-79 años","H 80-84 años","H 85 años y más","H No especificado","   M Menores de 1 año ","M 1-4 años","M 5-9 años","M 10-14 años","M 15-19 años","M 20-24 años","M 25-29 años","M 30-34 años","M 35-39 años","M 40-44 años","M 45-49 años","M 50-54 años","M 55-59 años","M 60-64 años","M 65-69 años","M 70-74 años","M 75-79 años","M 80-84 años","M 85 años y    ás","M No especificado"]
["Aguascalientes",2,1,0,0,4,9,18,21,24,31,53,77,106,146,208,215,225,208,436,3,2,1,0,0,1,6,8,16,17,20,32,45,71,94,133,112,116,97,194,3,0,0,0,0,3,3,10,5,7,11,21,32,35,52,75,103,109,111,242,0]
["Baja California",6,1,8,4,14,26,41,85,116,194,302,456,553,611,671,689,729,790,1443,82,2,1,5,2,13,24,34,69,95,144,236,366,418,440,446,432,422,393,587,76,4,0,3,2,1,2,7,16,21,50,66,90,135,171,225,257,307,397,856,6]
["Baja California Sur",2,1,0,1,3,5,12,16,17,28,41,54,84,105,96,134,124,126,247,5,0,0,0,1,0,3,7,10,15,24,29,44,64,75,68,84,60,66,123,5,2,1,0,0,3,2,5,6,2,4,12,10,20,30,28,50,64,60,124,0]
["Campeche",1,0,0,2,5,3,5,17,21,34,51,69,102,128,158,182,228,274,469,3,1,0,0,1,4,3,3,10,13,22,28,47,68,83,94,117,121,156,247,2,0,0,0,1,1,0,2,7,8,12,23,22,34,45,64,65,107,118,222,1]
["Coahuila",7,3,1,3,10,20,27,48,83,122,229,316,461,624,679,799,890,935,1454,20,4,1,1,3,7,15,17,28,61,84,147,211,284,376,418,484,526,491,607,13,3,2,0,0,3,5,10,20,22,38,82,105,177,248,261,315,364,444,847,7]
["Colima",2,1,0,1,3,3,10,8,18,25,43,45,72,84,111,141,166,202,390,8,1,0,0,0,2,3,9,5,11,18,28,30,55,48,69,89,98,101,174,7,1,1,0,1,1,0,1,3,7,7,15,15,17,36,42,52,68,101,216,1]
["Chiapas",10,5,9,10,46,61,84,107,139,208,285,416,548,774,899,1036,1339,1517,2452,7,6,3,4,4,29,48,56,69,91,135,188,249,312,481,525,603,764,855,1254,6,4,2,5,6,17,13,28,38,48,73,97,167,236,293,374,433,575,662,1198,1]
["Chihuahua",8,2,2,4,6,11,40,74,104,172,298,462,543,824,851,1039,1283,1434,2243,7,5,1,1,3,3,9,26,52,86,124,215,327,373,515,519,613,695,725,946,4,3,1,1,1,3,2,14,22,18,48,83,135,170,309,332,426,588,709,1297,3]
["Ciudad de México",25,8,4,12,27,65,112,183,251,439,802,1094,1577,2088,2554,2970,3322,3871,9211,1,11,3,1,4,15,32,71,129,170,328,574,771,1056,1358,1562,1690,1757,1814,3442,0,14,5,3,8,12,33,41,54,81,111,228,323,521,730,992,1280,1565,2057,5769,1]
["Durango",1,2,0,1,4,11,12,14,37,55,120,157,225,327,408,502,576,640,1092,3,1,1,0,0,2,9,10,11,26,35,78,98,142,184,245,316,314,342,512,3,0,1,0,1,2,2,2,3,11,20,42,59,83,143,163,186,262,298,580,0]
["Guanajuato",6,4,3,11,28,45,94,115,155,217,311,447,631,776,1037,1231,1479,1741,4373,17,6,2,0,8,18,29,67,83,111,149,199,271,380,472,627,679,798,888,1947,16,0,2,3,3,10,16,27,32,44,68,112,176,251,304,410,552,681,853,2426,1]
["Guerrero",2,4,5,4,9,34,37,45,85,105,146,199,262,390,458,638,738,869,1861,0,1,1,4,2,5,19,26,26,57,75,102,116,171,258,277,353,394,470,877,0,1,3,1,2,4,15,11,19,28,30,44,83,91,132,181,285,344,399,984,0]
["Hidalgo",3,1,3,2,7,18,25,42,60,82,171,201,253,389,427,578,724,909,2029,1,3,1,3,1,4,12,18,26,35,49,109,139,162,232,259,335,404,472,888,1,0,0,0,1,3,6,7,16,25,33,62,62,91,157,168,243,320,437,1141,0]
["Jalisco",13,8,7,11,33,55,108,166,206,276,457,636,810,1059,1389,1726,1962,2117,4499,46,7,5,6,4,23,38,85,130,147,193,321,433,524,676,850,1007,1065,1068,1911,40,6,3,1,7,10,17,23,36,59,83,136,203,286,383,539,719,897,1049,2588,6]
["México",22,8,8,10,36,86,185,232,401,646,995,1340,1933,2418,2788,3171,3529,3810,8090,53,15,4,5,6,25,52,132,167,295,449,710,897,1281,1570,1745,1894,1989,1936,3289,46,7,4,3,4,11,34,53,65,106,197,285,443,652,848,1043,1277,1540,1874,4801,7]
["Michoacán",5,5,6,5,11,33,52,72,112,150,221,272,401,588,682,909,1029,1250,3080,26,2,2,5,4,7,20,38,50,81,106,148,173,258,372,388,502,574,621,1315,23,3,3,1,1,4,13,14,22,31,44,73,99,143,216,294,407,455,629,1765,3]
["Morelos",3,1,1,1,7,14,15,31,42,71,109,154,209,290,390,448,507,647,1466,3,1,0,1,1,3,14,12,23,32,46,76,96,135,192,247,285,262,320,637,3,2,1,0,0,4,0,3,8,10,25,33,58,74,98,143,163,245,327,829,0]
["Nayarit",0,0,0,0,3,8,17,11,27,24,52,76,82,133,186,210,247,294,643,5,0,0,0,0,2,8,12,9,20,17,40,58,54,96,118,115,141,182,294,5,0,0,0,0,1,0,5,2,7,7,12,18,28,37,68,95,106,112,349,0]
["Nuevo León",8,3,5,10,18,24,54,79,149,260,363,586,753,990,1043,1190,1321,1449,2724,4,4,2,3,6,11,16,36,59,94,193,256,406,529,688,660,738,765,744,1121,1,4,1,2,4,7,8,18,20,55,67,107,180,224,302,383,452,556,705,1603,3]
["Oaxaca",3,3,4,12,13,33,36,41,87,98,146,225,344,483,612,827,1131,1449,3088,7,2,1,1,9,11,21,24,26,54,67,95,140,196,283,365,442,614,692,1387,5,1,2,3,3,2,12,12,15,33,31,51,85,148,200,247,385,517,757,1701,2]
["Puebla",18,6,10,10,26,60,90,122,183,282,392,575,690,950,1165,1412,1740,2047,4845,85,13,4,5,4,20,37,62,79,118,202,248,368,423,599,689,825,931,973,2082,76,5,2,5,6,6,23,28,43,65,80,144,207,267,351,476,587,809,1074,2763,9]
["Querétaro",3,1,1,3,6,14,22,24,33,71,116,123,200,233,283,359,370,454,1160,9,2,0,0,2,4,9,15,17,27,56,81,74,144,156,159,214,204,226,479,9,1,1,1,1,2,5,7,7,6,15,35,49,56,77,124,145,166,228,681,0]
["Quintana Roo",3,0,0,1,2,12,8,22,35,50,73,116,126,144,168,173,182,206,354,0,2,0,0,0,1,7,7,14,28,35,46,87,87,94,106,103,113,115,167,0,1,0,0,1,1,5,1,8,7,15,27,29,39,50,62,70,69,91,187,0]
["San Luis Potosí",12,1,1,5,7,16,34,33,45,89,141,201,254,394,444,576,775,960,2320,3,6,1,0,1,3,12,23,20,35,61,90,117,164,244,286,344,442,502,1054,3,6,0,1,4,4,4,11,13,10,28,51,84,90,150,158,232,333,458,1266,0]
["Sinaloa",3,2,2,5,1,21,29,42,57,94,160,201,304,406,567,730,802,979,1686,3,1,1,2,2,0,18,26,29,46,67,114,154,215,256,368,460,487,544,772,3,2,1,0,3,1,3,3,13,11,27,46,47,89,150,199,270,315,435,914,0]
["Sonora",1,5,1,3,10,18,31,45,75,121,228,307,417,615,676,773,886,1036,1701,29,1,4,1,3,8,16,27,36,54,89,177,227,285,418,460,497,525,519,747,28,0,1,0,0,2,2,4,9,21,32,51,80,132,197,216,276,361,517,954,1]
["Tabasco",10,2,2,4,13,20,31,51,96,113,161,207,327,412,495,604,626,754,1333,1,8,2,1,4,9,13,24,38,63,73,92,119,205,255,299,358,362,403,676,1,2,0,1,0,4,7,7,13,33,40,69,88,122,157,196,246,264,351,657,0]
["Tamaulipas",5,0,4,6,15,25,46,51,93,148,253,378,449,670,627,727,872,960,1672,17,2,0,1,2,7,18,34,37,71,108,173,281,293,456,417,447,486,492,762,15,3,0,3,4,8,7,12,14,22,40,80,97,156,214,210,280,386,468,910,2]
["Tlaxcala",1,0,1,0,6,18,20,20,32,54,77,100,122,177,202,260,277,366,895,1,0,0,0,0,4,12,16,9,21,41,56,63,69,117,114,160,149,204,394,1,1,0,1,0,2,6,4,11,11,13,21,37,53,60,88,100,128,162,501,0]
["Veracruz",20,5,5,11,30,56,101,127,186,306,516,713,1040,1417,1813,2136,2692,3226,6453,14,16,3,3,7,17,42,77,83,126,186,329,475,659,873,1072,1234,1465,1729,2915,11,4,2,2,4,13,14,24,44,60,120,187,238,381,544,741,902,1227,1497,3538,3]
["Yucatán",0,0,2,2,9,9,23,24,40,83,113,160,199,331,402,578,684,869,1647,4,0,0,2,1,8,6,14,13,24,55,79,109,126,213,236,324,377,476,783,4,0,0,0,1,1,3,9,11,16,28,34,51,73,118,166,254,307,393,864,0]
["Zacatecas",1,0,0,1,6,4,15,16,21,30,64,98,116,186,238,311,376,517,1132,3,0,0,0,1,3,2,9,9,15,16,43,67,74,98,133,182,205,259,527,3,1,0,0,0,3,2,6,7,6,14,21,31,42,88,105,129,171,258,605,0]

{"sheet":"1T-GCM-R_Edad2021","index":57,"n_rows":34,"n_cols":61,"rows_kept":34,"cut":false,"hidden":true,"merged":[]}
[1,2,3,4,5,6,7,8,9,10,11,12,13,14,15,16,17,18,19,20,21,22,23,24,25,26,27,28,29,30,31,32,33,34,35,36,37,38,39,40,41,42,43,44,45,46,47,48,49,50,51,52,53,54,55,56,57,58,59,60,61]
["ESTADO","Menores de 1 año","1-4 años","5-9 años","10-14 años","15-19 años","20-24 años","25-29 años","30-34 años","35-39 años","40-44 años","45-49 años","50-54 años","55-59 años","60-64 años","65-69 años","70-74 años","75-79 años","80-84 años","85 años y más","No especificado","H Menores de 1 año","H 1-4 años","H 5-9 años","H 10-14 años","H 15-19 años","H 20-24 años","H 25-29 años","H 30-34 años","H 35-39 años","H 40-44 años","H 45-49 años","H 50-54 años","H 55-59 años","H 60-64 años","H 65-69 años","H 70-74 años","H 75-79 años","H 80-84 años","H 85 años y más","H No especificado","   M Menores de 1 año ","M 1-4 años","M 5-9 años","M 10-14 años","M 15-19 años","M 20-24 años","M 25-29 años","M 30-34 años","M 35-39 años","M 40-44 años","M 45-49 años","M 50-54 años","M 55-59 años","M 60-64 años","M 65-69 años","M 70-74 años","M 75-79 años","M 80-84 años","M 85 años y    ás","M No especificado"]
["Aguascalientes",3,1,1,0,8,10,13,19,30,30,71,78,111,145,179,205,275,280,518,1,0,1,1,0,8,6,10,12,18,19,41,52,76,106,110,114,147,141,225,1,3,0,0,0,0,4,3,7,12,11,30,26,35,39,69,91,128,139,293,0]
["Baja California",5,3,2,5,18,25,47,99,119,225,294,431,529,604,621,659,696,668,1323,74,2,3,0,2,12,17,36,71,97,170,233,332,417,428,418,413,396,330,532,68,3,0,2,3,6,8,11,28,22,55,61,99,112,176,203,246,300,338,791,6]
["Baja California Sur",1,0,3,4,4,7,9,12,15,28,55,57,72,108,109,134,117,122,260,9,1,0,2,2,3,5,6,10,12,20,44,40,52,81,71,85,63,66,105,9,0,0,1,2,1,2,3,2,3,8,11,17,20,27,38,49,54,56,155,0]
["Campeche",2,0,1,0,5,7,12,13,18,28,50,83,93,117,189,181,209,279,455,4,2,0,0,0,4,3,10,9,16,17,32,53,60,71,117,105,126,158,229,3,0,0,1,0,1,4,2,4,2,11,18,30,33,46,72,76,83,121,226,1]
["Coahuila",6,4,4,4,6,15,26,33,67,126,202,282,424,591,631,707,759,798,1363,12,4,4,2,2,2,11,21,23,45,85,146,182,291,366,385,429,425,423,611,11,2,0,2,2,4,4,5,10,22,41,56,100,133,225,246,278,334,375,752,1]
["Colima",0,0,0,1,3,6,10,12,19,30,50,57,82,109,142,164,169,195,389,10,0,0,0,0,3,5,7,12,15,24,30,41,53,81,82,101,89,109,171,8,0,0,0,1,0,1,3,0,4,6,20,16,29,28,60,63,80,86,218,2]
["Chiapas",18,12,7,12,39,56,77,106,168,245,312,429,611,737,896,1035,1337,1555,2653,2,10,5,2,6,25,46,53,75,111,161,190,262,339,404,541,606,744,836,1403,2,8,7,5,6,14,10,24,31,57,84,122,167,272,333,355,429,593,719,1250,0]
["Chihuahua",8,3,3,3,13,23,26,59,111,154,286,371,498,664,784,943,1028,1162,1834,7,4,2,1,3,6,16,15,45,79,101,210,249,335,441,491,564,537,585,767,7,4,1,2,0,7,7,11,14,32,53,76,122,163,223,293,379,491,577,1067,0]
["Ciudad de México",17,10,18,17,21,48,92,133,213,338,672,961,1407,1906,2249,2756,3207,3530,8665,1,9,6,9,11,10,26,59,98,154,244,449,628,938,1177,1354,1560,1673,1626,3073,1,8,4,9,6,11,22,33,35,59,94,223,333,469,729,895,1196,1534,1904,5592,0]
["Durango",5,1,0,3,4,10,10,24,40,76,102,158,220,291,353,423,550,665,1180,2,4,1,0,2,3,5,7,16,25,47,62,95,141,172,216,259,300,355,512,0,1,0,0,1,1,5,3,8,15,29,40,63,79,119,137,164,250,310,668,2]
["Guanajuato",6,5,3,13,24,53,83,109,140,225,365,495,662,956,1214,1356,1635,1927,5041,31,4,3,2,10,13,39,62,76,92,139,249,326,417,569,710,780,892,1030,2224,28,2,2,1,3,11,14,21,33,48,86,116,169,245,387,504,576,743,897,2817,3]
["Guerrero",3,3,1,2,15,19,29,48,78,116,143,218,279,406,490,595,739,925,1985,7,1,1,0,2,10,12,22,33,54,73,97,144,176,254,288,336,407,489,908,7,2,2,1,0,5,7,7,15,24,43,46,74,103,152,202,259,332,436,1077,0]
["Hidalgo",4,1,1,5,10,15,23,36,71,108,161,190,274,359,507,613,751,971,2147,0,1,0,0,3,6,8,17,27,49,74,104,126,180,216,298,367,408,511,959,0,3,1,1,2,4,7,6,9,22,34,57,64,94,143,209,246,343,460,1188,0]
["Jalisco",14,13,5,13,36,91,145,167,229,312,493,647,898,1228,1526,1788,2115,2222,4836,43,11,5,3,8,27,59,105,128,166,223,340,465,575,765,938,1070,1132,1105,2003,40,3,8,2,5,9,32,40,39,63,89,153,182,323,463,588,718,983,1117,2833,3]
["México",21,10,6,13,45,78,150,247,342,556,923,1217,1704,2186,2581,2992,3264,3897,8267,47,11,6,3,8,34,50,106,170,233,399,640,829,1058,1356,1541,1658,1758,1902,3262,44,10,4,3,5,11,28,44,77,109,157,283,388,646,830,1040,1334,1506,1995,5005,3]
["Michoacán",7,7,2,2,23,31,48,73,101,180,282,351,478,669,895,1078,1202,1534,3585,33,3,2,1,2,14,22,38,49,68,128,202,228,300,413,525,595,658,794,1607,29,4,5,1,0,9,9,10,24,33,52,80,123,178,256,370,483,544,740,1978,4]
["Morelos",5,3,4,0,8,10,30,39,59,67,126,154,249,334,392,520,611,735,1777,33,3,1,3,0,5,8,21,35,43,58,85,104,151,202,239,291,344,372,796,32,2,2,1,0,3,2,9,4,16,9,41,50,98,132,153,229,267,363,981,1]
["Nayarit",1,0,0,2,2,11,11,18,23,37,54,61,90,145,183,232,282,305,701,11,0,0,0,0,1,9,7,14,16,27,31,42,56,96,117,139,160,166,316,11,1,0,0,2,1,2,4,4,7,10,23,19,34,49,66,93,122,139,385,0]
["Nuevo León",12,2,3,13,21,25,71,92,126,262,414,567,717,937,1075,1227,1409,1585,3000,1,8,2,3,5,16,17,55,76,93,193,301,403,498,597,703,757,782,854,1222,1,4,0,0,8,5,8,16,16,33,69,113,164,219,340,372,470,627,731,1778,0]
["Oaxaca",5,8,5,10,15,28,39,60,79,113,183,271,394,523,643,902,1256,1663,3787,3,1,7,4,5,9,21,27,40,51,77,109,169,222,305,390,501,630,844,1757,3,4,1,1,5,6,7,12,20,28,36,74,102,172,218,253,401,626,819,2030,0]
["Puebla",11,7,2,13,33,46,101,136,220,316,506,672,876,1232,1441,1680,2051,2524,5729,27,4,4,2,6,23,33,72,98,147,195,344,424,529,710,811,910,1094,1239,2392,21,7,3,0,7,10,13,29,38,73,121,162,248,347,522,630,770,957,1285,3337,6]
["Querétaro",3,3,1,2,7,17,23,43,44,85,133,168,221,288,298,384,449,517,1254,6,1,1,1,0,4,11,18,32,36,59,90,106,135,177,177,220,243,252,518,6,2,2,0,2,3,6,5,11,8,26,43,62,86,111,121,164,206,265,736,0]
["Quintana Roo",4,0,1,2,7,8,21,40,54,69,99,114,136,171,211,233,209,253,362,2,2,0,1,2,6,6,17,30,40,53,70,77,99,118,126,152,112,124,178,1,2,0,0,0,1,2,4,10,14,16,29,37,37,53,85,81,97,129,184,1]
["San Luis Potosí",4,2,4,0,7,10,32,47,49,92,164,200,278,405,452,620,766,1012,2425,2,3,2,2,0,4,7,23,33,37,63,106,132,181,246,269,345,452,559,1132,2,1,0,2,0,3,3,9,14,12,29,58,68,97,159,183,275,314,453,1293,0]
["Sinaloa",10,2,1,1,3,19,33,42,81,106,164,234,317,402,543,677,794,916,1662,0,7,2,1,0,2,14,23,33,57,77,110,150,220,272,351,415,449,465,706,0,3,0,0,1,1,5,10,9,24,29,54,84,97,130,192,262,345,451,956,0]
["Sonora",5,1,2,1,10,22,40,50,73,134,205,321,419,543,675,717,765,835,1506,21,3,0,1,1,8,15,32,46,51,107,153,231,298,367,435,459,450,434,610,19,2,1,1,0,2,7,8,4,22,27,52,90,121,176,240,258,315,401,896,2]
["Tabasco",14,3,3,3,19,39,45,65,83,117,181,209,270,383,467,534,521,657,1304,2,6,1,2,2,12,31,37,42,61,76,110,131,161,229,283,301,301,364,638,2,8,2,1,1,7,8,8,23,22,41,71,78,109,154,184,233,220,293,666,0]
["Tamaulipas",6,0,0,0,10,31,49,57,97,146,232,336,465,592,671,730,886,972,1770,37,3,0,0,0,7,23,39,46,73,102,163,241,300,397,428,447,492,507,773,32,3,0,0,0,3,8,10,11,24,44,69,95,165,195,243,283,394,465,997,5]
["Tlaxcala",2,0,1,4,7,10,32,29,22,46,77,102,132,175,228,285,295,358,955,2,2,0,0,1,3,7,22,17,13,30,48,62,83,108,140,169,173,199,417,2,0,0,1,3,4,3,10,12,9,16,29,40,49,67,88,116,122,159,538,0]
["Veracruz",9,8,7,12,35,63,109,130,202,316,519,744,1102,1422,1919,2278,2716,3376,6875,11,3,6,5,7,20,43,81,79,127,210,325,477,697,838,1114,1307,1553,1732,3130,11,6,2,2,5,15,20,28,51,75,106,194,267,405,584,805,971,1163,1644,3745,0]
["Yucatán",6,5,1,6,11,8,18,31,49,80,114,181,262,306,409,627,697,818,1693,0,3,4,1,3,5,6,13,22,34,59,73,122,175,179,246,351,407,425,790,0,3,1,0,3,6,2,5,9,15,21,41,59,87,127,163,276,290,393,903,0]
["Zacatecas",1,0,0,1,5,8,5,9,18,33,80,112,136,195,243,365,457,510,1199,1,1,0,0,1,3,4,3,6,9,21,46,67,87,117,133,201,262,268,542,1,0,0,0,0,2,4,2,3,9,12,34,45,49,78,110,164,195,242,657,0]

{"sheet":"1T-GCM-R_Edad2022","index":58,"n_rows":34,"n_cols":61,"rows_kept":34,"cut":false,"hidden":true,"merged":[]}
[1,2,3,4,5,6,7,8,9,10,11,12,13,14,15,16,17,18,19,20,21,22,23,24,25,26,27,28,29,30,31,32,33,34,35,36,37,38,39,40,41,42,43,44,45,46,47,48,49,50,51,52,53,54,55,56,57,58,59,60,61]
["ESTADO","Menores de 1 año","1-4 años","5-9 años","10-14 años","15-19 años","20-24 años","25-29 años","30-34 años","35-39 años","40-44 años","45-49 años","50-54 años","55-59 años","60-64 años","65-69 años","70-74 años","75-79 años","80-84 años","85 años y más","No especificado","H Menores de 1 año","H 1-4 años","H 5-9 años","H 10-14 años","H 15-19 años","H 20-24 años","H 25-29 años","H 30-34 años","H 35-39 años","H 40-44 años","H 45-49 años","H 50-54 años","H 55-59 años","H 60-64 años","H 65-69 años","H 70-74 años","H 75-79 años","H 80-84 años","H 85 años y más","H No especificado","   M Menores de 1 año ","M 1-4 años","M 5-9 años","M 10-14 años","M 15-19 años","M 20-24 años","M 25-29 años","M 30-34 años","M 35-39 años","M 40-44 años","M 45-49 años","M 50-54 años","M 55-59 años","M 60-64 años","M 65-69 años","M 70-74 años","M 75-79 años","M 80-84 años","M 85 años y    ás","M No especificado"]
["Aguascalientes",1,0,0,0,4,8,21,20,21,36,62,69,112,140,187,204,267,258,516,0,0,0,0,0,3,3,16,16,14,21,44,52,77,88,116,112,152,130,198,0,1,0,0,0,1,5,5,4,7,15,18,17,35,52,71,92,115,128,318,0]
["Baja California",7,1,6,2,19,35,54,71,120,212,311,419,520,608,635,655,729,713,1437,100,5,1,3,2,13,24,37,55,93,171,250,334,394,428,437,403,433,353,574,89,2,0,3,0,6,11,17,16,27,41,61,85,126,180,198,252,296,360,863,11]
["Baja California Sur",0,1,1,2,3,3,7,15,22,29,40,51,72,100,111,137,141,154,278,14,0,0,0,1,0,1,5,14,15,23,29,32,48,69,64,100,89,88,109,14,0,1,1,1,3,2,2,1,7,6,11,19,24,31,47,37,52,66,169,0]
["Campeche",1,2,1,1,1,8,10,15,26,27,40,60,87,102,134,169,180,207,440,1,1,1,1,0,1,5,8,12,18,15,28,36,45,69,77,101,106,110,185,1,0,1,0,1,0,3,2,3,8,12,12,24,42,33,57,68,74,97,255,0]
["Coahuila",6,3,1,4,12,23,29,66,75,119,198,277,398,557,610,756,795,831,1506,9,3,2,0,3,8,15,12,45,51,92,123,210,266,349,367,454,440,424,630,6,3,1,1,1,4,8,17,21,24,27,75,67,132,208,243,302,355,407,876,3]
["Colima",1,0,0,0,1,5,11,14,11,35,33,52,74,106,90,149,157,180,352,4,1,0,0,0,1,4,6,8,7,25,23,40,52,85,56,92,84,90,153,3,0,0,0,0,0,1,5,6,4,10,10,12,22,21,34,57,73,90,199,1]
["Chiapas",7,12,9,13,47,63,75,113,151,218,236,346,445,567,742,896,1101,1291,2520,9,6,5,4,6,34,44,54,75,105,155,138,197,250,329,405,534,571,661,1220,8,1,7,5,7,13,19,21,38,46,63,98,149,195,238,337,362,530,630,1300,1]
["Chihuahua",9,5,6,10,14,26,37,53,84,128,225,338,546,640,759,920,1029,1192,1888,14,7,2,2,5,7,14,26,37,58,88,166,232,379,411,471,506,620,628,814,14,2,3,4,5,7,12,11,16,26,40,59,106,167,229,288,414,409,564,1074,0]
["Ciudad de México",26,6,12,22,39,40,81,148,200,302,532,760,1130,1532,1972,2298,2716,3021,7913,7,18,2,7,16,22,24,49,92,126,202,371,507,728,946,1165,1291,1372,1314,2646,5,8,4,5,6,17,16,32,56,74,100,161,253,402,586,807,1007,1344,1707,5267,2]
["Durango",1,0,2,2,5,11,12,19,27,49,66,125,194,270,355,448,501,562,1186,1,1,0,0,2,3,7,7,12,16,31,44,68,122,166,213,265,292,305,537,1,0,0,2,0,2,4,5,7,11,18,22,57,72,104,142,183,209,257,649,0]
["Guanajuato",8,2,4,9,18,43,72,139,125,232,304,445,560,723,902,1109,1401,1652,4605,30,1,0,3,5,12,28,47,102,82,150,203,315,337,435,512,626,730,832,2021,29,7,2,1,4,6,15,25,37,43,82,101,130,223,288,390,483,671,820,2584,1]
["Guerrero",1,1,2,2,12,22,29,49,67,105,142,157,259,311,422,548,629,807,1865,8,0,0,1,2,6,17,20,38,43,66,91,105,169,206,239,313,351,424,814,7,1,1,1,0,6,5,9,11,24,39,51,52,90,105,183,235,278,383,1051,1]
["Hidalgo",3,0,4,2,7,17,30,41,66,70,134,183,251,305,414,538,713,830,2085,0,1,0,3,0,6,13,22,32,46,47,80,122,163,188,238,319,368,400,902,0,2,0,1,2,1,4,8,9,20,23,54,61,88,117,176,219,345,430,1183,0]
["Jalisco",22,8,8,10,24,65,133,153,226,282,429,598,803,1121,1294,1607,1867,2073,4543,31,16,3,6,3,13,47,92,107,175,211,309,405,548,716,797,915,1012,1031,1818,28,6,5,2,7,11,18,41,46,51,71,120,193,255,405,497,692,855,1042,2725,3]
["México",17,5,4,15,37,67,157,251,274,453,646,924,1244,1623,1991,2446,2871,3459,8277,36,9,4,1,10,25,47,103,176,208,291,436,618,803,959,1170,1359,1555,1639,3116,33,8,1,3,5,12,20,54,75,66,162,210,306,441,664,821,1087,1316,1820,5161,3]
["Michoacán",8,2,2,9,21,31,56,70,98,140,226,294,426,530,681,848,1055,1226,3337,27,5,1,1,6,16,18,37,49,63,97,153,180,276,344,409,490,574,599,1466,26,3,1,1,3,5,13,19,21,35,43,73,114,150,186,272,358,481,627,1871,1]
["Morelos",3,0,0,2,6,11,17,38,39,67,112,147,185,312,339,472,541,646,1537,1,2,0,0,2,4,7,11,30,28,52,81,97,116,193,199,264,281,343,659,1,1,0,0,0,2,4,6,8,11,15,31,50,69,119,140,208,260,303,878,0]
["Nayarit",2,0,0,1,4,6,11,13,30,29,54,62,92,117,161,201,251,251,638,6,2,0,0,0,1,4,7,8,23,21,39,51,64,85,108,123,140,127,279,6,0,0,0,1,3,2,4,5,7,8,15,11,28,32,53,78,111,124,359,0]
["Nuevo León",10,2,6,7,20,35,57,96,129,263,390,604,777,999,1114,1331,1463,1586,3340,12,3,2,4,2,11,24,40,75,91,177,300,433,527,700,689,773,784,798,1278,8,7,0,2,5,9,11,17,21,38,86,90,171,250,299,425,558,679,788,2062,4]
["Oaxaca",7,0,3,4,16,22,34,38,74,101,150,223,294,401,530,730,1055,1428,3559,3,4,0,2,1,11,17,26,27,48,67,94,133,161,231,282,365,543,654,1583,2,3,0,1,3,5,5,8,11,26,34,56,90,133,170,248,365,512,774,1976,1]
["Puebla",11,4,6,6,29,44,84,104,131,225,311,414,572,784,966,1260,1639,1952,5256,56,7,1,5,4,18,29,61,74,94,142,201,278,346,444,568,680,844,957,2131,39,4,3,1,2,11,15,23,30,37,83,110,136,226,340,398,580,795,995,3125,17]
["Querétaro",6,0,1,1,5,4,19,43,66,68,107,139,191,248,305,354,433,466,1179,9,2,0,1,1,3,2,13,34,48,46,71,102,127,163,181,188,230,232,483,7,4,0,0,0,2,2,6,9,18,22,36,37,64,85,124,166,203,234,696,2]
["Quintana Roo",3,1,0,3,10,10,25,45,50,79,92,123,135,169,179,223,204,215,352,1,3,1,0,1,5,7,18,37,39,58,66,85,90,116,108,138,116,91,155,1,0,0,0,2,5,3,7,8,11,21,26,38,45,53,71,85,88,124,197,0]
["San Luis Potosí",5,3,1,1,8,14,21,43,59,64,132,201,281,335,466,583,741,857,2390,3,3,3,1,1,4,7,17,29,37,35,87,143,180,186,271,333,420,437,1082,3,2,0,0,0,4,7,4,14,22,29,45,58,101,149,195,250,321,420,1308,0]
["Sinaloa",0,0,1,0,4,18,22,34,46,74,149,186,232,383,450,610,663,825,1618,1,0,0,1,0,2,10,17,27,30,55,110,144,152,256,290,355,377,428,692,0,0,0,0,0,2,8,5,7,16,19,39,42,80,127,160,255,286,397,926,1]
["Sonora",6,3,1,5,8,18,31,52,64,138,207,274,407,530,654,683,745,888,1572,40,4,2,0,4,4,15,19,35,52,104,159,209,295,369,413,412,435,453,647,38,2,1,1,1,4,3,12,17,12,34,48,65,112,161,241,271,310,435,925,2]
["Tabasco",9,5,4,6,10,20,36,45,49,120,151,203,276,338,425,461,538,644,1305,1,5,2,3,4,5,17,26,33,30,81,101,131,164,208,249,267,299,345,607,1,4,3,1,2,5,3,10,12,19,39,50,72,112,130,176,194,239,299,698,0]
["Tamaulipas",2,1,3,6,6,20,40,49,77,125,186,318,403,556,621,715,870,964,1868,48,1,1,3,1,4,12,32,33,59,76,134,223,278,350,386,442,480,496,823,44,1,0,0,5,2,8,8,16,18,49,52,95,125,206,235,273,390,468,1045,4]
["Tlaxcala",2,0,1,6,10,13,21,29,30,42,61,82,92,141,132,212,243,342,899,1,2,0,0,4,7,7,16,18,19,30,43,56,49,76,71,108,131,166,370,1,0,0,1,2,3,6,5,11,11,12,18,26,43,65,61,104,112,176,529,0]
["Veracruz",11,10,7,12,23,50,96,133,155,273,384,614,858,1143,1549,1963,2336,2961,6763,9,5,7,4,4,13,32,70,93,110,176,256,372,561,683,908,1112,1201,1438,2901,5,6,3,3,8,10,18,26,40,45,97,128,242,297,460,641,851,1135,1523,3862,4]
["Yucatán",4,0,1,5,4,11,23,32,59,73,127,170,232,312,395,575,624,836,1555,2,1,0,0,4,4,6,15,19,39,48,85,106,152,199,216,334,317,449,712,2,3,0,1,1,0,5,8,13,20,25,42,64,80,113,179,241,307,387,843,0]
["Zacatecas",1,3,0,0,5,5,9,19,24,30,64,83,138,171,220,304,408,499,1145,3,0,2,0,0,3,2,5,13,19,19,43,53,84,101,116,162,210,256,533,3,1,1,0,0,2,3,4,6,5,11,21,30,54,70,104,142,198,243,612,0]

{"sheet":"1GCM-G_Edad","index":59,"n_rows":24,"n_cols":10,"rows_kept":24,"cut":false,"hidden":false,"merged":[[0,0,0,9]]}
["Enfermedades del sistema circulatorio"]
["SELECCIONE UNA ENTIDAD"]
["Yucatán","2020","H - 2020","M - 2020","2021","H - 2021","M - 2021","2022","H - 2022","M - 2022"]
["Menores de 1 año",{"$f":"VLOOKUP($A$3,'1T-GCM-R_Edad2020'!$A$2:$BI$34,2,0)","v":0},{"$f":"VLOOKUP($A$3,'1T-GCM-R_Edad2020'!$A$2:$BI$34,22,0)","v":0},{"$f":"VLOOKUP($A$3,'1T-GCM-R_Edad2020'!$A$2:$BI$34,42,0)","v":0},{"$f":"VLOOKUP($A$3,'1T-GCM-R_Edad2021'!$A$2:$BI$34,2,0)","v":6},{"$f":"VLOOKUP($A$3,'1T-GCM-R_Edad2021'!$A$2:$BI$34,22,0)","v":3},{"$f":"VLOOKUP($A$3,'1T-GCM-R_Edad2021'!$A$2:$BI$34,42,0)","v":3},{"$f":"VLOOKUP($A$3,'1T-GCM-R_Edad2022'!$A$2:$BI$34,2,0)","v":4},{"$f":"VLOOKUP($A$3,'1T-GCM-R_Edad2022'!$A$2:$BI$34,22,0)","v":1},{"$f":"VLOOKUP($A$3,'1T-GCM-R_Edad2022'!$A$2:$BI$34,42,0)","v":3}]
["1-4 años",{"$f":"VLOOKUP($A$3,'1T-GCM-R_Edad2020'!$A$2:$BI$34,3,0)","v":0},{"$f":"VLOOKUP($A$3,'1T-GCM-R_Edad2020'!$A$2:$BI$34,23,0)","v":0},{"$f":"VLOOKUP($A$3,'1T-GCM-R_Edad2020'!$A$2:$BI$34,43,0)","v":0},{"$f":"VLOOKUP($A$3,'1T-GCM-R_Edad2021'!$A$2:$BI$34,3,0)","v":5},{"$f":"VLOOKUP($A$3,'1T-GCM-R_Edad2021'!$A$2:$BI$34,23,0)","v":4},{"$f":"VLOOKUP($A$3,'1T-GCM-R_Edad2021'!$A$2:$BI$34,43,0)","v":1},{"$f":"VLOOKUP($A$3,'1T-GCM-R_Edad2022'!$A$2:$BI$34,3,0)","v":0},{"$f":"VLOOKUP($A$3,'1T-GCM-R_Edad2022'!$A$2:$BI$34,23,0)","v":0},{"$f":"VLOOKUP($A$3,'1T-GCM-R_Edad2022'!$A$2:$BI$34,43,0)","v":0}]
["5-9 años",{"$f":"VLOOKUP($A$3,'1T-GCM-R_Edad2020'!$A$2:$BI$34,4,0)","v":2},{"$f":"VLOOKUP($A$3,'1T-GCM-R_Edad2020'!$A$2:$BI$34,24,0)","v":2},{"$f":"VLOOKUP($A$3,'1T-GCM-R_Edad2020'!$A$2:$BI$34,44,0)","v":0},{"$f":"VLOOKUP($A$3,'1T-GCM-R_Edad2021'!$A$2:$BI$34,4,0)","v":1},{"$f":"VLOOKUP($A$3,'1T-GCM-R_Edad2021'!$A$2:$BI$34,24,0)","v":1},{"$f":"VLOOKUP($A$3,'1T-GCM-R_Edad2021'!$A$2:$BI$34,44,0)","v":0},{"$f":"VLOOKUP($A$3,'1T-GCM-R_Edad2022'!$A$2:$BI$34,4,0)","v":1},{"$f":"VLOOKUP($A$3,'1T-GCM-R_Edad2022'!$A$2:$BI$34,24,0)","v":0},{"$f":"VLOOKUP($A$3,'1T-GCM-R_Edad2022'!$A$2:$BI$34,44,0)","v":1}]
["10-14 años",{"$f":"VLOOKUP($A$3,'1T-GCM-R_Edad2020'!$A$2:$BI$34,5,0)","v":2},{"$f":"VLOOKUP($A$3,'1T-GCM-R_Edad2020'!$A$2:$BI$34,25,0)","v":1},{"$f":"VLOOKUP($A$3,'1T-GCM-R_Edad2020'!$A$2:$BI$34,45,0)","v":1},{"$f":"VLOOKUP($A$3,'1T-GCM-R_Edad2021'!$A$2:$BI$34,5,0)","v":6},{"$f":"VLOOKUP($A$3,'1T-GCM-R_Edad2021'!$A$2:$BI$34,25,0)","v":3},{"$f":"VLOOKUP($A$3,'1T-GCM-R_Edad2021'!$A$2:$BI$34,45,0)","v":3},{"$f":"VLOOKUP($A$3,'1T-GCM-R_Edad2022'!$A$2:$BI$34,5,0)","v":5},{"$f":"VLOOKUP($A$3,'1T-GCM-R_Edad2022'!$A$2:$BI$34,25,0)","v":4},{"$f":"VLOOKUP($A$3,'1T-GCM-R_Edad2022'!$A$2:$BI$34,45,0)","v":1}]
["15-19 años",{"$f":"VLOOKUP($A$3,'1T-GCM-R_Edad2020'!$A$2:$BI$34,6,0)","v":9},{"$f":"VLOOKUP($A$3,'1T-GCM-R_Edad2020'!$A$2:$BI$34,26,0)","v":8},{"$f":"VLOOKUP($A$3,'1T-GCM-R_Edad2020'!$A$2:$BI$34,46,0)","v":1},{"$f":"VLOOKUP($A$3,'1T-GCM-R_Edad2021'!$A$2:$BI$34,6,0)","v":11},{"$f":"VLOOKUP($A$3,'1T-GCM-R_Edad2021'!$A$2:$BI$34,26,0)","v":5},{"$f":"VLOOKUP($A$3,'1T-GCM-R_Edad2021'!$A$2:$BI$34,46,0)","v":6},{"$f":"VLOOKUP($A$3,'1T-GCM-R_Edad2022'!$A$2:$BI$34,6,0)","v":4},{"$f":"VLOOKUP($A$3,'1T-GCM-R_Edad2022'!$A$2:$BI$34,26,0)","v":4},{"$f":"VLOOKUP($A$3,'1T-GCM-R_Edad2022'!$A$2:$BI$34,46,0)","v":0}]
["20-24 años",{"$f":"VLOOKUP($A$3,'1T-GCM-R_Edad2020'!$A$2:$BI$34,7,0)","v":9},{"$f":"VLOOKUP($A$3,'1T-GCM-R_Edad2020'!$A$2:$BI$34,27,0)","v":6},{"$f":"VLOOKUP($A$3,'1T-GCM-R_Edad2020'!$A$2:$BI$34,47,0)","v":3},{"$f":"VLOOKUP($A$3,'1T-GCM-R_Edad2021'!$A$2:$BI$34,7,0)","v":8},{"$f":"VLOOKUP($A$3,'1T-GCM-R_Edad2021'!$A$2:$BI$34,27,0)","v":6},{"$f":"VLOOKUP($A$3,'1T-GCM-R_Edad2021'!$A$2:$BI$34,47,0)","v":2},{"$f":"VLOOKUP($A$3,'1T-GCM-R_Edad2022'!$A$2:$BI$34,7,0)","v":11},{"$f":"VLOOKUP($A$3,'1T-GCM-R_Edad2022'!$A$2:$BI$34,27,0)","v":6},{"$f":"VLOOKUP($A$3,'1T-GCM-R_Edad2022'!$A$2:$BI$34,47,0)","v":5}]
["25-29 años",{"$f":"VLOOKUP($A$3,'1T-GCM-R_Edad2020'!$A$2:$BI$34,8,0)","v":23},{"$f":"VLOOKUP($A$3,'1T-GCM-R_Edad2020'!$A$2:$BI$34,28,0)","v":14},{"$f":"VLOOKUP($A$3,'1T-GCM-R_Edad2020'!$A$2:$BI$34,48,0)","v":9},{"$f":"VLOOKUP($A$3,'1T-GCM-R_Edad2021'!$A$2:$BI$34,8,0)","v":18},{"$f":"VLOOKUP($A$3,'1T-GCM-R_Edad2021'!$A$2:$BI$34,28,0)","v":13},{"$f":"VLOOKUP($A$3,'1T-GCM-R_Edad2021'!$A$2:$BI$34,48,0)","v":5},{"$f":"VLOOKUP($A$3,'1T-GCM-R_Edad2022'!$A$2:$BI$34,8,0)","v":23},{"$f":"VLOOKUP($A$3,'1T-GCM-R_Edad2022'!$A$2:$BI$34,28,0)","v":15},{"$f":"VLOOKUP($A$3,'1T-GCM-R_Edad2022'!$A$2:$BI$34,48,0)","v":8}]
["30-34 años",{"$f":"VLOOKUP($A$3,'1T-GCM-R_Edad2020'!$A$2:$BI$34,9,0)","v":24},{"$f":"VLOOKUP($A$3,'1T-GCM-R_Edad2020'!$A$2:$BI$34,29,0)","v":13},{"$f":"VLOOKUP($A$3,'1T-GCM-R_Edad2020'!$A$2:$BI$34,49,0)","v":11},{"$f":"VLOOKUP($A$3,'1T-GCM-R_Edad2021'!$A$2:$BI$34,9,0)","v":31},{"$f":"VLOOKUP($A$3,'1T-GCM-R_Edad2021'!$A$2:$BI$34,29,0)","v":22},{"$f":"VLOOKUP($A$3,'1T-GCM-R_Edad2021'!$A$2:$BI$34,49,0)","v":9},{"$f":"VLOOKUP($A$3,'1T-GCM-R_Edad2022'!$A$2:$BI$34,9,0)","v":32},{"$f":"VLOOKUP($A$3,'1T-GCM-R_Edad2022'!$A$2:$BI$34,29,0)","v":19},{"$f":"VLOOKUP($A$3,'1T-GCM-R_Edad2022'!$A$2:$BI$34,49,0)","v":13}]
["35-39 años",{"$f":"VLOOKUP($A$3,'1T-GCM-R_Edad2020'!$A$2:$BI$34,10,0)","v":40},{"$f":"VLOOKUP($A$3,'1T-GCM-R_Edad2020'!$A$2:$BI$34,30,0)","v":24},{"$f":"VLOOKUP($A$3,'1T-GCM-R_Edad2020'!$A$2:$BI$34,50,0)","v":16},{"$f":"VLOOKUP($A$3,'1T-GCM-R_Edad2021'!$A$2:$BI$34,10,0)","v":49},{"$f":"VLOOKUP($A$3,'1T-GCM-R_Edad2021'!$A$2:$BI$34,30,0)","v":34},{"$f":"VLOOKUP($A$3,'1T-GCM-R_Edad2021'!$A$2:$BI$34,50,0)","v":15},{"$f":"VLOOKUP($A$3,'1T-GCM-R_Edad2022'!$A$2:$BI$34,10,0)","v":59},{"$f":"VLOOKUP($A$3,'1T-GCM-R_Edad2022'!$A$2:$BI$34,30,0)","v":39},{"$f":"VLOOKUP($A$3,'1T-GCM-R_Edad2022'!$A$2:$BI$34,50,0)","v":20}]
["40-44 años",{"$f":"VLOOKUP($A$3,'1T-GCM-R_Edad2020'!$A$2:$BI$34,11,0)","v":83},{"$f":"VLOOKUP($A$3,'1T-GCM-R_Edad2020'!$A$2:$BI$34,31,0)","v":55},{"$f":"VLOOKUP($A$3,'1T-GCM-R_Edad2020'!$A$2:$BI$34,51,0)","v":28},{"$f":"VLOOKUP($A$3,'1T-GCM-R_Edad2021'!$A$2:$BI$34,11,0)","v":80},{"$f":"VLOOKUP($A$3,'1T-GCM-R_Edad2021'!$A$2:$BI$34,31,0)","v":59},{"$f":"VLOOKUP($A$3,'1T-GCM-R_Edad2021'!$A$2:$BI$34,51,0)","v":21},{"$f":"VLOOKUP($A$3,'1T-GCM-R_Edad2022'!$A$2:$BI$34,11,0)","v":73},{"$f":"VLOOKUP($A$3,'1T-GCM-R_Edad2022'!$A$2:$BI$34,31,0)","v":48},{"$f":"VLOOKUP($A$3,'1T-GCM-R_Edad2022'!$A$2:$BI$34,51,0)","v":25}]
["45-49 años",{"$f":"VLOOKUP($A$3,'1T-GCM-R_Edad2020'!$A$2:$BI$34,12,0)","v":113},{"$f":"VLOOKUP($A$3,'1T-GCM-R_Edad2020'!$A$2:$BI$34,32,0)","v":79},{"$f":"VLOOKUP($A$3,'1T-GCM-R_Edad2020'!$A$2:$BI$34,52,0)","v":34},{"$f":"VLOOKUP($A$3,'1T-GCM-R_Edad2021'!$A$2:$BI$34,12,0)","v":114},{"$f":"VLOOKUP($A$3,'1T-GCM-R_Edad2021'!$A$2:$BI$34,32,0)","v":73},{"$f":"VLOOKUP($A$3,'1T-GCM-R_Edad2021'!$A$2:$BI$34,52,0)","v":41},{"$f":"VLOOKUP($A$3,'1T-GCM-R_Edad2022'!$A$2:$BI$34,12,0)","v":127},{"$f":"VLOOKUP($A$3,'1T-GCM-R_Edad2022'!$A$2:$BI$34,32,0)","v":85},{"$f":"VLOOKUP($A$3,'1T-GCM-R_Edad2022'!$A$2:$BI$34,52,0)","v":42}]
["50-54 años",{"$f":"VLOOKUP($A$3,'1T-GCM-R_Edad2020'!$A$2:$BI$34,13,0)","v":160},{"$f":"VLOOKUP($A$3,'1T-GCM-R_Edad2020'!$A$2:$BI$34,33,0)","v":109},{"$f":"VLOOKUP($A$3,'1T-GCM-R_Edad2020'!$A$2:$BI$34,53,0)","v":51},{"$f":"VLOOKUP($A$3,'1T-GCM-R_Edad2021'!$A$2:$BI$34,13,0)","v":181},{"$f":"VLOOKUP($A$3,'1T-GCM-R_Edad2021'!$A$2:$BI$34,33,0)","v":122},{"$f":"VLOOKUP($A$3,'1T-GCM-R_Edad2021'!$A$2:$BI$34,53,0)","v":59},{"$f":"VLOOKUP($A$3,'1T-GCM-R_Edad2022'!$A$2:$BI$34,13,0)","v":170},{"$f":"VLOOKUP($A$3,'1T-GCM-R_Edad2022'!$A$2:$BI$34,33,0)","v":106},{"$f":"VLOOKUP($A$3,'1T-GCM-R_Edad2022'!$A$2:$BI$34,53,0)","v":64}]
["55-59 años",{"$f":"VLOOKUP($A$3,'1T-GCM-R_Edad2020'!$A$2:$BI$34,14,0)","v":199},{"$f":"VLOOKUP($A$3,'1T-GCM-R_Edad2020'!$A$2:$BI$34,34,0)","v":126},{"$f":"VLOOKUP($A$3,'1T-GCM-R_Edad2020'!$A$2:$BI$34,54,0)","v":73},{"$f":"VLOOKUP($A$3,'1T-GCM-R_Edad2021'!$A$2:$BI$34,14,0)","v":262},{"$f":"VLOOKUP($A$3,'1T-GCM-R_Edad2021'!$A$2:$BI$34,34,0)","v":175},{"$f":"VLOOKUP($A$3,'1T-GCM-R_Edad2021'!$A$2:$BI$34,54,0)","v":87},{"$f":"VLOOKUP($A$3,'1T-GCM-R_Edad2022'!$A$2:$BI$34,14,0)","v":232},{"$f":"VLOOKUP($A$3,'1T-GCM-R_Edad2022'!$A$2:$BI$34,34,0)","v":152},{"$f":"VLOOKUP($A$3,'1T-GCM-R_Edad2022'!$A$2:$BI$34,54,0)","v":80}]
["60-64 años",{"$f":"VLOOKUP($A$3,'1T-GCM-R_Edad2020'!$A$2:$BI$34,15,0)","v":331},{"$f":"VLOOKUP($A$3,'1T-GCM-R_Edad2020'!$A$2:$BI$34,35,0)","v":213},{"$f":"VLOOKUP($A$3,'1T-GCM-R_Edad2020'!$A$2:$BI$34,55,0)","v":118},{"$f":"VLOOKUP($A$3,'1T-GCM-R_Edad2021'!$A$2:$BI$34,15,0)","v":306},{"$f":"VLOOKUP($A$3,'1T-GCM-R_Edad2021'!$A$2:$BI$34,35,0)","v":179},{"$f":"VLOOKUP($A$3,'1T-GCM-R_Edad2021'!$A$2:$BI$34,55,0)","v":127},{"$f":"VLOOKUP($A$3,'1T-GCM-R_Edad2022'!$A$2:$BI$34,15,0)","v":312},{"$f":"VLOOKUP($A$3,'1T-GCM-R_Edad2022'!$A$2:$BI$34,35,0)","v":199},{"$f":"VLOOKUP($A$3,'1T-GCM-R_Edad2022'!$A$2:$BI$34,55,0)","v":113}]
["65-69 años",{"$f":"VLOOKUP($A$3,'1T-GCM-R_Edad2020'!$A$2:$BI$34,16,0)","v":402},{"$f":"VLOOKUP($A$3,'1T-GCM-R_Edad2020'!$A$2:$BI$34,36,0)","v":236},{"$f":"VLOOKUP($A$3,'1T-GCM-R_Edad2020'!$A$2:$BI$34,56,0)","v":166},{"$f":"VLOOKUP($A$3,'1T-GCM-R_Edad2021'!$A$2:$BI$34,16,0)","v":409},{"$f":"VLOOKUP($A$3,'1T-GCM-R_Edad2021'!$A$2:$BI$34,36,0)","v":246},{"$f":"VLOOKUP($A$3,'1T-GCM-R_Edad2021'!$A$2:$BI$34,56,0)","v":163},{"$f":"VLOOKUP($A$3,'1T-GCM-R_Edad2022'!$A$2:$BI$34,16,0)","v":395},{"$f":"VLOOKUP($A$3,'1T-GCM-R_Edad2022'!$A$2:$BI$34,36,0)","v":216},{"$f":"VLOOKUP($A$3,'1T-GCM-R_Edad2022'!$A$2:$BI$34,56,0)","v":179}]
["70-74 años",{"$f":"VLOOKUP($A$3,'1T-GCM-R_Edad2020'!$A$2:$BI$34,17,0)","v":578},{"$f":"VLOOKUP($A$3,'1T-GCM-R_Edad2020'!$A$2:$BI$34,37,0)","v":324},{"$f":"VLOOKUP($A$3,'1T-GCM-R_Edad2020'!$A$2:$BI$34,57,0)","v":254},{"$f":"VLOOKUP($A$3,'1T-GCM-R_Edad2021'!$A$2:$BI$34,17,0)","v":627},{"$f":"VLOOKUP($A$3,'1T-GCM-R_Edad2021'!$A$2:$BI$34,37,0)","v":351},{"$f":"VLOOKUP($A$3,'1T-GCM-R_Edad2021'!$A$2:$BI$34,57,0)","v":276},{"$f":"VLOOKUP($A$3,'1T-GCM-R_Edad2022'!$A$2:$BI$34,17,0)","v":575},{"$f":"VLOOKUP($A$3,'1T-GCM-R_Edad2022'!$A$2:$BI$34,37,0)","v":334},{"$f":"VLOOKUP($A$3,'1T-GCM-R_Edad2022'!$A$2:$BI$34,57,0)","v":241}]
["75-79 años",{"$f":"VLOOKUP($A$3,'1T-GCM-R_Edad2020'!$A$2:$BI$34,18,0)","v":684},{"$f":"VLOOKUP($A$3,'1T-GCM-R_Edad2020'!$A$2:$BI$34,38,0)","v":377},{"$f":"VLOOKUP($A$3,'1T-GCM-R_Edad2020'!$A$2:$BI$34,58,0)","v":307},{"$f":"VLOOKUP($A$3,'1T-GCM-R_Edad2021'!$A$2:$BI$34,18,0)","v":697},{"$f":"VLOOKUP($A$3,'1T-GCM-R_Edad2021'!$A$2:$BI$34,38,0)","v":407},{"$f":"VLOOKUP($A$3,'1T-GCM-R_Edad2021'!$A$2:$BI$34,58,0)","v":290},{"$f":"VLOOKUP($A$3,'1T-GCM-R_Edad2022'!$A$2:$BI$34,18,0)","v":624},{"$f":"VLOOKUP($A$3,'1T-GCM-R_Edad2022'!$A$2:$BI$34,38,0)","v":317},{"$f":"VLOOKUP($A$3,'1T-GCM-R_Edad2022'!$A$2:$BI$34,58,0)","v":307}]
["80-84 años",{"$f":"VLOOKUP($A$3,'1T-GCM-R_Edad2020'!$A$2:$BI$34,19,0)","v":869},{"$f":"VLOOKUP($A$3,'1T-GCM-R_Edad2020'!$A$2:$BI$34,39,0)","v":476},{"$f":"VLOOKUP($A$3,'1T-GCM-R_Edad2020'!$A$2:$BI$34,59,0)","v":393},{"$f":"VLOOKUP($A$3,'1T-GCM-R_Edad2021'!$A$2:$BI$34,19,0)","v":818},{"$f":"VLOOKUP($A$3,'1T-GCM-R_Edad2021'!$A$2:$BI$34,39,0)","v":425},{"$f":"VLOOKUP($A$3,'1T-GCM-R_Edad2021'!$A$2:$BI$34,59,0)","v":393},{"$f":"VLOOKUP($A$3,'1T-GCM-R_Edad2022'!$A$2:$BI$34,19,0)","v":836},{"$f":"VLOOKUP($A$3,'1T-GCM-R_Edad2022'!$A$2:$BI$34,39,0)","v":449},{"$f":"VLOOKUP($A$3,'1T-GCM-R_Edad2022'!$A$2:$BI$34,59,0)","v":387}]
["85 años y más",{"$f":"VLOOKUP($A$3,'1T-GCM-R_Edad2020'!$A$2:$BI$34,20,0)","v":1647},{"$f":"VLOOKUP($A$3,'1T-GCM-R_Edad2020'!$A$2:$BI$34,40,0)","v":783},{"$f":"VLOOKUP($A$3,'1T-GCM-R_Edad2020'!$A$2:$BI$34,60,0)","v":864},{"$f":"VLOOKUP($A$3,'1T-GCM-R_Edad2021'!$A$2:$BI$34,20,0)","v":1693},{"$f":"VLOOKUP($A$3,'1T-GCM-R_Edad2021'!$A$2:$BI$34,40,0)","v":790},{"$f":"VLOOKUP($A$3,'1T-GCM-R_Edad2021'!$A$2:$BI$34,60,0)","v":903},{"$f":"VLOOKUP($A$3,'1T-GCM-R_Edad2022'!$A$2:$BI$34,20,0)","v":1555},{"$f":"VLOOKUP($A$3,'1T-GCM-R_Edad2022'!$A$2:$BI$34,40,0)","v":712},{"$f":"VLOOKUP($A$3,'1T-GCM-R_Edad2022'!$A$2:$BI$34,60,0)","v":843}]
["No especificado",{"$f":"VLOOKUP($A$3,'1T-GCM-R_Edad2020'!$A$2:$BI$34,21,0)","v":4},{"$f":"VLOOKUP($A$3,'1T-GCM-R_Edad2020'!$A$2:$BI$34,41,0)","v":4},{"$f":"VLOOKUP($A$3,'1T-GCM-R_Edad2020'!$A$2:$BI$34,61,0)","v":0},{"$f":"VLOOKUP($A$3,'1T-GCM-R_Edad2021'!$A$2:$BI$34,21,0)","v":0},{"$f":"VLOOKUP($A$3,'1T-GCM-R_Edad2021'!$A$2:$BI$34,41,0)","v":0},{"$f":"VLOOKUP($A$3,'1T-GCM-R_Edad2021'!$A$2:$BI$34,61,0)","v":0},{"$f":"VLOOKUP($A$3,'1T-GCM-R_Edad2022'!$A$2:$BI$34,21,0)","v":2},{"$f":"VLOOKUP($A$3,'1T-GCM-R_Edad2022'!$A$2:$BI$34,41,0)","v":2},{"$f":"VLOOKUP($A$3,'1T-GCM-R_Edad2022'!$A$2:$BI$34,61,0)","v":0}]
["Total",{"$f":"SUM(B4:B23)","v":5179},2850,2329,5322,2918,2404,5040,2708,2332]

{"sheet":"2T-GCM-R_Edad2020","index":60,"n_rows":34,"n_cols":61,"rows_kept":34,"cut":false,"hidden":true,"merged":[]}
[1,2,3,4,5,6,7,8,9,10,11,12,13,14,15,16,17,18,19,20,21,22,23,24,25,26,27,28,29,30,31,32,33,34,35,36,37,38,39,40,41,42,43,44,45,46,47,48,49,50,51,52,53,54,55,56,57,58,59,60,61]
["ESTADO","Menores de 1 año","1-4 años","5-9 años","10-14 años","15-19 años","20-24 años","25-29 años","30-34 años","35-39 años","40-44 años","45-49 años","50-54 años","55-59 años","60-64 años","65-69 años","70-74 años","75-79 años","80-84 años","85 años y más","No especificado","H Menores de 1 año","H 1-4 años","H 5-9 años","H 10-14 años","H 15-19 años","H 20-24 años","H 25-29 años","H 30-34 años","H 35-39 años","H 40-44 años","H 45-49 años","H 50-54 años","H 55-59 años","H 60-64 años","H 65-69 años","H 70-74 años","H 75-79 años","H 80-84 años","H 85 años y más","H No especificado","   M Menores de 1 año ","M 1-4 años","M 5-9 años","M 10-14 años","M 15-19 años","M 20-24 años","M 25-29 años","M 30-34 años","M 35-39 años","M 40-44 años","M 45-49 años","M 50-54 años","M 55-59 años","M 60-64 años","M 65-69 años","M 70-74 años","M 75-79 años","M 80-84 años","M 85 años y    ás","M No especificado"]
["Aguascalientes",9,4,1,1,9,11,34,45,62,85,135,197,237,306,315,317,282,200,194,1,5,2,0,0,5,6,20,28,43,52,94,127,153,198,196,203,164,118,110,1,4,2,1,1,4,5,14,17,19,33,41,70,84,108,119,114,118,82,84,0]
["Baja California",11,6,7,9,10,26,68,112,220,390,703,833,975,1099,1010,941,781,546,490,11,8,5,4,4,3,19,43,80,165,273,475,530,591,674,590,543,431,301,270,11,3,1,3,5,7,7,25,32,55,117,228,303,384,425,420,398,350,245,220,0]
["Baja California Sur",1,2,0,0,2,1,6,17,23,36,70,106,98,146,110,94,103,67,60,1,0,1,0,0,1,1,4,11,16,23,51,75,60,84,69,54,59,33,34,1,1,1,0,0,1,0,2,6,7,13,19,31,38,62,41,40,44,34,26,0]
["Campeche",1,0,0,0,3,4,7,14,37,48,88,154,184,197,205,184,136,112,75,3,0,0,0,0,2,3,5,8,26,33,66,104,122,104,125,128,93,79,46,3,1,0,0,0,1,1,2,6,11,15,22,50,62,93,80,56,43,33,29,0]
["Coahuila",6,5,4,2,8,19,37,85,140,253,424,557,713,905,874,854,703,462,343,3,3,3,2,2,6,12,26,51,92,168,283,345,435,530,525,491,411,255,197,1,3,2,2,0,2,7,11,34,48,85,141,212,278,375,349,363,292,207,146,2]
["Colima",1,0,0,0,0,2,2,8,22,27,49,80,101,125,132,134,109,103,61,0,0,0,0,0,0,2,2,7,14,19,35,55,63,67,85,77,68,62,36,0,1,0,0,0,0,0,0,1,8,8,14,25,38,58,47,57,41,41,25,0]
["Chiapas",6,1,2,3,5,8,19,30,51,108,161,223,330,407,414,332,293,182,129,0,2,0,0,1,4,4,12,23,35,85,108,156,239,286,280,229,195,124,88,0,4,1,2,2,1,4,7,7,16,23,53,67,91,121,134,103,98,58,41,0]
["Chihuahua",6,6,0,4,6,29,57,111,178,341,556,725,907,949,941,830,769,538,416,1,4,4,0,3,2,23,41,75,126,235,366,464,576,552,564,485,449,316,246,1,2,2,0,1,4,6,16,36,52,106,190,261,331,397,377,345,320,222,170,0]
["Ciudad de México",26,19,15,23,40,100,278,540,967,1665,2665,3525,4632,5249,5264,4622,3639,2496,2212,1,18,12,8,15,21,65,199,405,738,1258,1973,2579,3233,3518,3443,2920,2243,1468,1225,1,8,7,7,8,19,35,79,135,229,407,692,946,1399,1731,1821,1702,1396,1028,987,0]
["Durango",3,0,0,0,2,5,19,22,57,74,145,225,331,393,412,384,307,231,175,2,3,0,0,0,1,4,15,12,42,40,86,138,196,254,229,228,192,143,111,2,0,0,0,0,1,1,4,10,15,34,59,87,135,139,183,156,115,88,64,0]
["Guanajuato",9,2,1,3,8,22,64,101,165,253,438,614,850,988,1013,1001,768,516,440,0,5,1,1,1,2,11,41,67,113,177,284,400,531,643,631,632,478,319,244,0,4,1,0,2,6,11,23,34,52,76,154,214,319,345,382,369,290,197,196,0]
["Guerrero",17,0,4,3,3,28,22,48,91,132,222,340,506,595,681,586,515,355,309,2,4,0,2,1,2,21,16,40,73,97,158,228,351,402,462,380,332,230,188,2,13,0,2,2,1,7,6,8,18,35,64,112,155,193,219,206,183,125,121,0]
["Hidalgo",0,0,0,0,2,15,40,66,124,230,325,408,505,575,570,524,379,261,234,0,0,0,0,0,1,9,24,50,91,152,219,288,341,378,382,362,236,145,145,0,0,0,0,0,1,6,16,16,33,78,106,120,164,197,188,162,143,116,89,0]
["Jalisco",12,2,0,4,15,47,72,138,171,291,478,565,879,1076,1305,1250,1101,742,682,4,5,1,0,2,7,27,49,94,114,213,329,372,570,696,820,814,698,465,389,4,7,1,0,2,8,20,23,44,57,78,149,193,309,380,485,436,403,277,293,0]
["México",27,25,5,4,51,125,348,570,973,1613,2381,3110,3882,4062,3842,3112,2155,1353,962,13,15,12,4,2,25,87,252,410,726,1155,1707,2202,2614,2652,2463,1990,1352,821,557,13,12,13,1,2,26,38,96,160,247,458,674,908,1268,1410,1379,1122,803,532,405,0]
["Michoacán",3,2,1,0,2,11,27,66,63,136,223,314,434,506,572,518,396,296,242,1,3,1,1,0,1,9,16,44,41,88,153,204,282,291,360,332,264,194,147,1,0,1,0,0,1,2,11,22,22,48,70,110,152,215,212,186,132,102,95,0]
["Morelos",2,2,1,0,4,8,11,29,64,93,150,256,295,403,407,346,296,229,200,0,1,1,1,0,3,6,9,22,47,70,112,183,206,268,278,227,192,152,122,0,1,1,0,0,1,2,2,7,17,23,38,73,89,135,129,119,104,77,78,0]
["Nayarit",1,0,0,0,0,4,8,15,22,28,52,76,132,149,182,216,160,130,111,0,1,0,0,0,0,2,6,14,16,17,40,47,88,94,128,135,104,76,67,0,0,0,0,0,0,2,2,1,6,11,12,29,44,55,54,81,56,54,44,0]
["Nuevo León",6,7,6,8,23,32,58,119,210,367,631,852,1101,1285,1212,1098,931,678,603,0,4,4,5,6,12,19,35,71,151,254,433,597,704,786,745,652,524,405,322,0,2,3,1,2,11,13,23,48,59,113,198,255,397,499,467,446,407,273,281,0]
["Oaxaca",18,5,2,2,6,9,23,58,82,122,201,331,410,457,474,391,338,227,188,0,10,3,2,2,3,7,15,42,63,80,149,229,289,307,326,252,213,153,113,0,8,2,0,0,3,2,8,16,19,42,52,102,121,150,148,139,125,74,75,0]
["Puebla",11,4,3,6,11,23,87,136,228,417,669,893,1098,1172,1168,933,678,473,358,3,7,2,2,3,6,15,64,98,173,314,494,611,725,755,735,569,418,275,219,2,4,2,1,3,5,8,23,38,55,103,175,282,373,417,433,364,260,198,139,1]
["Querétaro",0,0,2,0,2,9,25,47,62,107,212,242,353,417,400,332,258,188,156,0,0,0,2,0,0,6,18,41,46,80,155,167,230,251,246,210,148,115,90,0,0,0,0,0,2,3,7,6,16,27,57,75,123,166,154,122,110,73,66,0]
["Quintana Roo",1,2,0,0,3,10,22,39,99,144,235,288,387,336,346,309,230,139,110,0,1,0,0,0,1,5,13,32,70,105,168,212,269,224,206,197,145,85,70,0,0,2,0,0,2,5,9,7,29,39,67,76,118,112,140,112,85,54,40,0]
["San Luis Potosí",4,0,0,2,2,19,28,48,91,151,256,332,465,553,537,529,431,321,269,1,3,0,0,1,0,10,18,36,63,108,157,201,293,346,333,311,254,195,148,1,1,0,0,1,2,9,10,12,28,43,99,131,172,207,204,218,177,126,121,0]
["Sinaloa",3,2,3,4,3,19,25,53,93,156,307,431,542,692,768,825,693,516,366,4,1,0,3,2,2,11,19,34,60,95,199,253,330,413,433,490,408,317,205,4,2,2,0,2,1,8,6,19,33,61,108,178,212,279,335,335,285,199,161,0]
["Sonora",1,0,0,1,5,14,44,75,124,240,361,500,673,822,849,819,713,545,450,6,0,0,0,0,0,7,26,44,82,142,213,308,414,485,542,458,396,308,249,5,1,0,0,1,5,7,18,31,42,98,148,192,259,337,307,361,317,237,201,1]
["Tabasco",7,3,1,3,4,17,29,70,116,180,316,402,571,619,610,443,330,286,191,3,5,0,1,0,1,9,26,40,85,128,222,253,355,389,363,250,208,176,108,2,2,3,0,3,3,8,3,30,31,52,94,149,216,230,247,193,122,110,83,1]
["Tamaulipas",1,1,1,0,3,17,38,76,141,236,365,511,596,663,644,554,463,308,269,1,1,1,0,0,2,6,21,51,96,157,228,338,360,405,354,329,269,190,142,1,0,0,1,0,1,11,17,25,45,79,137,173,236,258,290,225,194,118,127,0]
["Tlaxcala",4,0,0,2,2,6,12,35,43,66,117,182,209,221,174,174,116,77,64,0,1,0,0,0,0,4,5,28,32,46,78,130,143,149,116,107,66,46,40,0,3,0,0,2,2,2,7,7,11,20,39,52,66,72,58,67,50,31,24,0]
["Veracruz",6,8,1,2,10,20,50,112,203,333,606,887,1125,1379,1357,1183,886,670,502,3,3,4,0,1,5,10,35,83,148,245,407,631,738,887,883,743,552,393,287,3,3,4,1,1,5,10,15,29,55,88,199,256,387,492,474,440,334,277,215,0]
["Yucatán",4,2,1,3,2,11,12,38,69,94,158,220,329,426,485,488,361,272,189,1,3,0,0,3,0,6,7,25,56,67,117,152,201,244,301,308,235,181,109,1,1,2,1,0,2,5,5,13,13,27,41,68,128,182,184,180,126,91,80,0]
["Zacatecas",1,1,0,0,3,6,16,23,39,66,130,186,260,317,319,322,269,195,176,0,0,1,0,0,1,2,11,10,26,33,89,115,147,180,200,196,177,115,116,0,1,0,0,0,2,4,5,13,13,33,41,71,113,137,119,126,92,80,60,0]

{"sheet":"2T-GCM-R_Edad2021","index":61,"n_rows":34,"n_cols":61,"rows_kept":34,"cut":false,"hidden":true,"merged":[]}
[1,2,3,4,5,6,7,8,9,10,11,12,13,14,15,16,17,18,19,20,21,22,23,24,25,26,27,28,29,30,31,32,33,34,35,36,37,38,39,40,41,42,43,44,45,46,47,48,49,50,51,52,53,54,55,56,57,58,59,60,61]
["ESTADO","Menores de 1 año","1-4 años","5-9 años","10-14 años","15-19 años","20-24 años","25-29 años","30-34 años","35-39 años","40-44 años","45-49 años","50-54 años","55-59 años","60-64 años","65-69 años","70-74 años","75-79 años","80-84 años","85 años y más","No especificado","H Menores de 1 año","H 1-4 años","H 5-9 años","H 10-14 años","H 15-19 años","H 20-24 años","H 25-29 años","H 30-34 años","H 35-39 años","H 40-44 años","H 45-49 años","H 50-54 años","H 55-59 años","H 60-64 años","H 65-69 años","H 70-74 años","H 75-79 años","H 80-84 años","H 85 años y más","H No especificado","   M Menores de 1 año ","M 1-4 años","M 5-9 años","M 10-14 años","M 15-19 años","M 20-24 años","M 25-29 años","M 30-34 años","M 35-39 años","M 40-44 años","M 45-49 años","M 50-54 años","M 55-59 años","M 60-64 años","M 65-69 años","M 70-74 años","M 75-79 años","M 80-84 años","M 85 años y    ás","M No especificado"]
["Aguascalientes",1,0,0,2,5,14,23,50,66,86,131,143,236,270,316,284,238,173,162,0,1,0,0,1,3,6,11,31,45,54,83,87,130,151,185,161,146,97,89,0,0,0,0,1,2,8,12,19,21,32,48,56,106,119,131,123,92,76,73,0]
["Baja California",6,1,2,4,15,19,40,97,172,259,415,455,591,755,699,644,558,432,404,17,4,0,2,3,9,12,28,65,122,175,270,300,375,474,418,395,316,246,212,16,2,1,0,1,6,7,12,32,50,84,145,155,216,281,281,249,242,186,192,1]
["Baja California Sur",2,1,2,1,9,16,49,70,109,148,255,186,237,191,241,163,154,101,118,4,1,0,1,0,3,8,34,47,72,103,152,125,135,115,138,95,96,62,75,1,1,1,1,1,6,8,15,23,37,45,103,61,102,76,103,68,58,39,43,3]
["Campeche",0,0,0,0,3,3,13,32,51,65,100,121,162,182,193,196,162,125,125,0,0,0,0,0,2,2,9,18,31,39,57,78,96,99,110,115,100,77,78,0,0,0,0,0,1,1,4,14,20,26,43,43,66,83,83,81,62,48,47,0]
["Coahuila",5,0,2,3,4,22,40,61,114,187,288,336,465,591,642,637,530,366,314,1,5,0,0,2,2,13,21,40,80,100,169,179,261,341,375,350,324,217,190,1,0,0,2,1,2,9,19,21,34,87,119,157,204,250,267,287,206,149,124,0]
["Colima",1,1,0,0,2,5,16,39,66,70,84,145,173,176,231,205,192,135,143,1,1,1,0,0,0,4,12,26,43,45,52,87,110,102,138,121,114,87,87,1,0,0,0,0,2,1,4,13,23,25,32,58,63,74,93,84,78,48,56,0]
["Chiapas",6,4,4,3,5,5,28,60,94,123,230,237,342,370,440,372,344,257,195,0,4,3,3,2,5,4,16,43,54,78,148,129,213,209,256,223,217,157,128,0,2,1,1,1,0,1,12,17,40,45,82,108,129,161,184,149,127,100,67,0]
["Chihuahua",2,7,3,4,10,15,42,59,96,147,232,326,431,537,459,492,452,352,345,1,0,3,3,2,5,5,25,37,56,79,144,201,227,289,245,274,262,198,184,0,2,4,0,2,5,10,17,22,40,68,88,125,204,248,214,218,190,154,161,1]
["Ciudad de México",36,9,11,24,69,156,414,735,1323,1884,3077,3599,4840,5318,5487,5080,4241,2907,3062,0,19,3,5,16,44,95,272,546,982,1329,2137,2440,3076,3277,3271,3018,2440,1612,1564,0,17,6,6,8,25,61,142,189,341,555,940,1159,1764,2041,2216,2062,1801,1295,1498,0]
["Durango",1,1,0,1,2,12,24,40,65,97,173,159,228,276,264,243,243,186,174,0,0,1,0,0,1,7,16,21,36,50,100,95,129,147,135,122,148,113,85,0,1,0,0,1,1,5,8,19,29,47,73,64,99,129,129,121,95,73,89,0]
["Guanajuato",3,3,1,5,18,55,102,156,266,405,587,868,1082,1258,1389,1263,1115,766,767,2,2,2,0,4,6,29,62,89,172,269,374,537,619,709,791,732,665,465,436,2,1,1,1,1,12,26,40,67,94,136,213,331,463,549,598,531,450,301,331,0]
["Guerrero",8,2,1,3,14,21,55,85,177,246,379,395,601,764,870,858,789,694,731,1,5,0,1,1,8,11,37,61,120,157,239,252,364,472,516,535,482,421,440,1,3,2,0,2,6,10,18,24,57,89,140,143,237,292,354,323,307,273,291,0]
["Hidalgo",3,3,2,0,10,36,92,161,246,349,463,560,679,786,760,632,528,355,367,2,1,2,2,0,1,22,59,118,169,235,320,371,410,475,468,374,320,212,198,2,2,1,0,0,9,14,33,43,77,114,143,189,269,311,292,258,208,143,169,0]
["Jalisco",12,6,6,9,18,59,176,266,504,597,982,1127,1570,1963,2234,2222,1992,1412,1509,8,7,4,3,5,13,37,109,177,348,369,628,711,929,1169,1357,1362,1187,832,857,8,5,2,3,4,5,22,67,89,156,228,354,416,641,794,877,860,805,580,652,0]
["México",25,10,4,9,61,155,457,731,1286,1652,2583,3086,3862,4023,3847,3226,2395,1659,1483,27,11,6,2,1,30,101,313,549,955,1148,1766,2041,2446,2372,2324,1908,1436,994,784,22,14,4,2,8,31,54,144,182,331,504,817,1045,1416,1651,1523,1318,959,665,699,5]
["Michoacán",8,2,4,5,17,33,83,139,233,361,547,716,900,1143,1210,1181,1015,785,861,3,6,0,0,3,10,28,51,84,153,236,357,462,505,684,761,706,598,463,488,2,2,2,4,2,7,5,32,55,80,125,190,254,395,459,449,475,417,322,373,1]
["Morelos",2,2,1,1,6,19,54,62,153,208,382,464,633,782,809,770,622,489,488,0,1,0,0,0,2,12,40,46,105,143,274,301,400,482,513,481,389,312,287,0,1,2,1,1,4,7,14,16,48,65,108,163,233,300,296,289,233,177,201,0]
["Nayarit",1,0,1,0,4,13,24,35,59,92,136,139,227,288,290,331,281,214,197,1,0,0,0,0,2,6,14,23,42,63,79,82,118,172,179,208,168,136,120,1,1,0,1,0,2,7,10,12,17,29,57,57,109,116,111,123,113,78,77,0]
["Nuevo León",12,5,1,7,26,65,153,246,433,539,875,999,1197,1270,1349,1301,1049,812,841,2,7,3,0,3,13,36,96,165,306,356,568,616,723,758,774,761,602,470,454,2,5,2,1,4,13,29,57,81,127,183,307,383,474,512,575,540,447,342,387,0]
["Oaxaca",12,8,0,9,11,19,55,115,202,307,430,489,737,815,901,798,704,523,595,1,7,4,0,4,8,11,38,80,144,217,283,323,462,482,560,479,437,321,341,1,5,4,0,5,3,8,17,35,58,90,147,166,275,333,341,319,267,202,254,0]
["Puebla",10,12,7,11,24,68,206,295,528,672,960,1269,1472,1790,1745,1379,1166,794,762,8,5,6,3,5,12,44,150,217,374,445,648,846,925,1057,1038,816,693,442,440,8,5,6,4,6,12,24,56,78,154,227,312,423,547,733,707,563,473,352,322,0]
["Querétaro",3,1,3,2,4,19,79,136,206,278,400,452,579,658,594,515,399,291,300,0,3,0,1,1,2,10,50,99,151,193,287,296,353,395,353,321,233,169,168,0,0,1,2,1,2,9,29,37,55,85,113,156,226,263,241,194,166,122,132,0]
["Quintana Roo",3,2,0,4,4,14,34,98,136,195,289,265,305,285,265,291,175,122,110,0,1,1,0,2,3,9,22,78,89,143,194,171,187,168,163,165,102,76,65,0,2,1,0,2,1,5,12,20,47,52,95,94,118,117,102,126,73,46,45,0]
["San Luis Potosí",3,2,1,4,7,22,67,98,146,189,313,370,480,579,570,498,461,349,395,0,2,1,1,2,4,13,42,61,94,130,200,217,288,340,323,278,264,218,236,0,1,1,0,2,3,9,25,37,52,59,113,153,192,239,247,220,197,131,159,0]
["Sinaloa",4,2,2,4,8,34,87,129,249,288,482,411,533,568,609,646,624,483,420,0,2,1,0,3,5,22,56,76,163,178,276,233,283,299,356,359,361,284,222,0,2,1,2,1,3,12,31,53,86,110,206,178,250,269,253,287,263,199,198,0]
["Sonora",0,7,2,2,11,21,43,94,127,194,281,349,437,559,660,572,546,436,435,4,0,5,1,1,4,14,20,58,76,115,164,197,235,322,362,324,321,259,229,4,0,2,1,1,7,7,23,36,51,79,117,152,202,237,298,248,225,177,206,0]
["Tabasco",6,1,1,1,10,23,40,75,119,142,208,270,375,426,413,366,278,229,202,0,5,1,0,0,7,16,26,52,71,97,132,156,211,235,240,214,168,124,121,0,1,0,1,1,3,7,14,23,48,45,76,114,164,191,173,152,110,105,81,0]
["Tamaulipas",5,2,2,2,10,24,64,124,200,279,343,451,581,598,604,540,487,376,350,0,3,2,1,0,7,21,37,71,128,179,218,270,320,332,344,325,288,217,193,0,2,0,1,2,3,3,27,53,72,100,125,181,261,266,260,215,199,159,157,0]
["Tlaxcala",3,0,0,2,3,11,26,48,80,121,175,192,274,313,267,227,195,148,119,0,2,0,0,2,1,9,18,33,56,77,119,124,170,174,160,131,104,73,69,0,1,0,0,0,2,2,8,15,24,44,56,68,104,139,107,96,91,75,50,0]
["Veracruz",8,9,6,5,26,42,121,187,370,507,773,1023,1368,1529,1569,1343,1148,935,851,3,3,6,1,4,8,19,83,108,248,312,434,630,781,877,885,766,676,543,483,3,5,3,5,1,18,23,38,79,122,195,339,393,587,652,684,577,472,392,368,0]
["Yucatán",2,3,1,3,8,16,37,73,165,188,298,288,387,451,491,544,436,323,348,0,0,2,0,2,1,11,31,46,103,127,192,175,230,260,268,328,268,199,195,0,2,1,1,1,7,5,6,27,62,61,106,113,157,191,223,216,168,124,153,0]
["Zacatecas",2,1,2,0,3,6,21,30,40,56,118,146,177,246,261,247,268,207,227,0,2,0,0,0,0,4,15,16,23,32,67,81,97,134,160,147,160,132,127,0,0,1,2,0,3,2,6,14,17,24,51,65,80,112,101,100,108,75,100,0]

{"sheet":"2T-GCM-R_Edad2022","index":62,"n_rows":34,"n_cols":61,"rows_kept":34,"cut":false,"hidden":true,"merged":[]}
[1,2,3,4,5,6,7,8,9,10,11,12,13,14,15,16,17,18,19,20,21,22,23,24,25,26,27,28,29,30,31,32,33,34,35,36,37,38,39,40,41,42,43,44,45,46,47,48,49,50,51,52,53,54,55,56,57,58,59,60,61]
["ESTADO","Menores de 1 año","1-4 años","5-9 años","10-14 años","15-19 años","20-24 años","25-29 años","30-34 años","35-39 años","40-44 años","45-49 años","50-54 años","55-59 años","60-64 años","65-69 años","70-74 años","75-79 años","80-84 años","85 años y más","No especificado","H Menores de 1 año","H 1-4 años","H 5-9 años","H 10-14 años","H 15-19 años","H 20-24 años","H 25-29 años","H 30-34 años","H 35-39 años","H 40-44 años","H 45-49 años","H 50-54 años","H 55-59 años","H 60-64 años","H 65-69 años","H 70-74 años","H 75-79 años","H 80-84 años","H 85 años y más","H No especificado","   M Menores de 1 año ","M 1-4 años","M 5-9 años","M 10-14 años","M 15-19 años","M 20-24 años","M 25-29 años","M 30-34 años","M 35-39 años","M 40-44 años","M 45-49 años","M 50-54 años","M 55-59 años","M 60-64 años","M 65-69 años","M 70-74 años","M 75-79 años","M 80-84 años","M 85 años y    ás","M No especificado"]
["Aguascalientes",0,3,1,1,4,3,11,6,19,14,27,37,58,67,71,89,77,70,88,0,0,2,1,1,2,2,6,5,12,7,18,22,41,46,41,48,52,49,57,0,0,1,0,0,2,1,5,1,7,7,9,15,17,21,30,41,25,21,31,0]
["Baja California",2,1,0,3,2,10,9,22,38,39,76,111,106,149,178,155,158,147,206,1,1,1,0,3,2,4,8,16,28,26,45,73,70,89,100,96,84,81,104,1,1,0,0,0,0,6,1,6,10,13,31,38,36,60,78,59,74,66,102,0]
["Baja California Sur",2,2,0,4,1,2,2,3,6,9,17,24,21,56,45,47,58,38,59,3,1,0,0,2,1,1,1,3,3,6,12,13,10,37,31,27,42,27,33,3,1,2,0,2,0,1,1,0,3,3,5,11,11,19,14,20,16,11,26,0]
["Campeche",1,1,0,0,1,1,2,3,2,6,9,5,10,24,23,25,19,16,49,0,0,0,0,0,1,1,1,2,1,4,4,2,6,15,14,16,13,11,27,0,1,1,0,0,0,0,1,1,1,2,5,3,4,9,9,9,6,5,22,0]
["Coahuila",1,0,1,1,5,2,8,16,19,40,58,93,108,149,198,197,167,161,216,1,0,0,0,0,2,0,6,6,14,19,33,46,63,92,115,112,111,101,121,0,1,0,1,1,3,2,2,10,5,21,25,47,45,57,83,85,56,60,95,1]
["Colima",0,0,0,0,2,2,3,3,8,7,9,6,19,27,27,21,33,36,53,0,0,0,0,0,1,1,2,3,5,4,7,4,13,16,19,12,19,26,35,0,0,0,0,0,1,1,1,0,3,3,2,2,6,11,8,9,14,10,18,0]
["Chiapas",5,3,1,3,2,3,4,1,5,4,15,17,20,35,37,37,46,47,51,0,1,2,1,0,1,1,3,1,2,2,10,10,13,16,25,26,33,30,36,0,4,1,0,3,1,2,1,0,3,2,5,7,7,19,12,11,13,17,15,0]
["Chihuahua",3,2,4,1,6,9,17,16,31,43,41,105,119,176,196,201,224,207,255,0,1,2,2,1,4,5,10,10,17,25,24,62,60,109,116,118,124,117,146,0,2,0,2,0,2,4,7,6,14,18,17,43,59,67,80,83,100,90,109,0]
["Ciudad de México",14,14,5,12,14,27,54,61,92,120,192,309,398,443,592,623,700,686,1071,1,8,7,2,9,5,19,27,36,57,73,119,189,265,265,370,390,439,411,582,0,6,7,3,3,9,8,27,25,35,47,73,120,133,178,222,233,261,275,489,1]
["Durango",1,1,0,0,2,2,4,9,10,10,21,39,56,57,70,76,68,90,92,0,0,0,0,0,1,1,3,4,5,8,11,22,35,32,41,42,39,66,51,0,1,1,0,0,1,1,1,5,5,2,10,17,21,25,29,34,29,24,41,0]
["Guanajuato",10,1,1,7,10,6,25,20,40,44,72,111,129,180,198,198,225,206,292,2,5,0,0,2,3,3,17,10,26,23,47,65,74,106,123,114,144,113,190,2,5,1,1,5,7,3,8,10,14,21,25,46,55,74,75,84,81,93,102,0]
["Guerrero",1,1,1,0,4,5,7,7,6,12,22,41,47,63,75,99,93,100,155,1,1,1,0,0,2,3,4,4,3,9,13,26,26,41,46,62,64,66,98,1,0,0,1,0,2,2,3,3,3,3,9,15,21,22,29,37,29,34,57,0]
["Hidalgo",1,2,1,4,1,2,10,14,18,14,31,33,62,63,56,63,59,69,87,1,1,0,0,3,0,2,7,7,10,10,14,17,45,37,40,35,41,45,48,0,0,2,1,1,1,0,3,7,8,4,17,16,17,26,16,28,18,24,39,1]
["Jalisco",6,1,1,3,7,10,26,40,50,51,90,123,168,247,330,401,462,397,541,1,3,0,0,1,2,9,17,26,32,33,49,78,102,156,213,241,282,258,319,0,3,1,1,2,5,1,9,14,18,18,41,45,66,91,117,160,180,139,222,1]
["México",18,6,6,6,17,24,44,47,60,82,147,206,338,319,405,394,400,344,459,14,13,4,2,5,10,11,25,27,40,48,99,128,213,183,240,266,251,230,271,12,5,2,4,1,7,13,19,20,20,34,48,78,125,136,165,128,149,114,188,2]
["Michoacán",1,2,1,1,1,8,9,12,15,19,32,45,68,89,101,118,115,119,200,0,1,2,1,1,0,5,4,10,11,13,20,25,43,52,67,69,74,73,129,0,0,0,0,0,1,3,5,2,4,6,12,20,25,37,34,49,41,46,71,0]
["Morelos",1,1,0,1,2,2,6,4,13,16,19,48,50,76,93,92,112,90,144,0,0,0,0,1,2,2,4,3,11,11,12,30,30,51,59,57,77,54,92,0,1,1,0,0,0,0,2,1,2,5,7,18,20,25,34,35,35,36,52,0]
["Nayarit",1,3,0,0,0,4,2,2,4,4,11,16,14,16,46,48,53,55,82,0,0,2,0,0,0,0,2,1,3,3,5,5,9,12,28,30,32,35,60,0,1,1,0,0,0,4,0,1,1,1,6,11,5,4,18,18,21,20,22,0]
["Nuevo León",5,3,3,0,8,11,14,18,27,50,78,127,173,165,186,234,259,250,389,2,3,2,2,0,4,7,8,10,15,29,55,81,106,94,105,141,170,139,212,1,2,1,1,0,4,4,6,8,12,21,23,46,67,71,81,93,89,111,177,1]
["Oaxaca",4,2,0,3,3,5,7,7,17,21,25,38,65,80,98,106,130,126,174,0,2,1,0,1,3,3,3,4,11,13,10,25,42,54,66,79,83,78,110,0,2,1,0,2,0,2,4,3,6,8,15,13,23,26,32,27,47,48,64,0]
["Puebla",4,3,1,2,5,7,12,19,21,20,47,66,102,124,128,133,140,118,203,23,2,3,1,1,1,3,7,9,14,11,30,31,60,74,75,94,86,70,109,21,2,0,0,1,4,4,5,10,7,9,17,35,42,50,53,39,54,48,94,2]
["Querétaro",7,2,2,2,2,2,4,16,18,29,33,48,71,87,98,118,96,91,138,0,5,0,1,0,0,1,3,13,15,21,19,33,43,53,64,82,69,58,75,0,2,2,1,2,2,1,1,3,3,8,14,15,28,34,34,36,27,33,63,0]
["Quintana Roo",1,1,1,0,1,1,4,4,3,7,9,15,27,28,42,42,42,33,50,1,1,1,0,0,0,1,2,2,3,3,5,8,18,16,27,29,31,22,34,0,0,0,1,0,1,0,2,2,0,4,4,7,9,12,15,13,11,11,16,1]
["San Luis Potosí",1,2,0,0,2,7,7,9,20,31,38,58,65,89,99,90,115,114,153,0,0,2,0,0,2,6,3,7,11,16,27,34,41,48,52,52,79,78,107,0,1,0,0,0,0,1,4,2,9,15,11,24,24,41,47,38,36,36,46,0]
["Sinaloa",1,0,0,1,3,2,3,10,14,17,28,39,59,72,88,112,123,132,140,0,1,0,0,0,1,1,3,6,10,9,12,24,37,42,51,58,80,85,80,0,0,0,0,1,2,1,0,4,4,8,16,15,22,30,37,54,43,47,60,0]
["Sonora",1,0,1,2,2,4,6,16,9,23,55,60,81,113,177,166,187,158,233,1,1,0,0,2,1,2,3,10,6,12,35,37,44,65,107,105,114,89,129,1,0,0,1,0,1,2,3,6,3,11,20,23,37,48,70,61,73,69,104,0]
["Tabasco",1,2,3,0,5,5,10,10,15,12,17,25,34,33,48,37,46,33,58,1,1,2,2,0,2,5,7,7,9,6,5,17,18,20,19,21,24,16,32,1,0,0,1,0,3,0,3,3,6,6,12,8,16,13,29,16,22,17,26,0]
["Tamaulipas",1,0,2,2,1,2,7,8,18,27,49,84,95,103,137,141,135,151,203,3,0,0,1,0,1,2,5,5,8,15,31,53,53,57,87,84,71,103,126,3,1,0,1,2,0,0,2,3,10,12,18,31,42,46,50,57,64,48,77,0]
["Tlaxcala",1,1,0,0,0,3,2,9,6,3,6,16,16,26,18,19,19,13,42,0,0,1,0,0,0,2,1,5,6,2,3,10,10,20,13,13,17,10,28,0,1,0,0,0,0,1,1,4,0,1,3,6,6,6,5,6,2,3,14,0]
["Veracruz",8,3,3,1,2,4,14,22,26,37,50,82,158,156,185,202,223,173,273,1,4,2,1,0,0,3,9,13,16,18,35,49,93,94,109,125,134,111,145,0,4,1,2,1,2,1,5,9,10,19,15,33,65,62,76,77,89,62,128,1]
["Yucatán",5,3,3,3,1,2,8,13,14,18,33,28,39,66,71,103,85,111,150,0,1,1,1,3,0,1,7,8,10,10,19,16,26,39,42,67,52,64,78,0,4,2,2,0,1,1,1,5,4,8,14,12,13,27,29,36,33,47,72,0]
["Zacatecas",3,1,3,1,2,5,2,7,9,15,17,38,33,61,53,60,72,65,115,0,2,1,2,1,0,4,1,4,5,10,8,23,13,22,31,38,39,40,80,0,1,0,1,0,2,1,1,3,4,5,9,15,20,39,22,22,33,25,35,0]

{"sheet":"2GCM-G_Edad","index":63,"n_rows":24,"n_cols":10,"rows_kept":24,"cut":false,"hidden":false,"merged":[[0,0,0,9]]}
["Asignación provisoria de nuevas afecciones de etiología \nincierta o de uso emergente, sin especificación"]
["SELECCIONE UNA ENTIDAD"]
["Querétaro","2020","H - 2020","M - 2020","2021","H - 2021","M - 2021","2022","H - 2022","M - 2022"]
["Menores de 1 año",{"$f":"VLOOKUP($A$3,'2T-GCM-R_Edad2020'!$A$2:$BI$34,2,0)","v":0},{"$f":"VLOOKUP($A$3,'2T-GCM-R_Edad2020'!$A$2:$BI$34,22,0)","v":0},{"$f":"VLOOKUP($A$3,'2T-GCM-R_Edad2020'!$A$2:$BI$34,42,0)","v":0},{"$f":"VLOOKUP($A$3,'2T-GCM-R_Edad2021'!$A$2:$BI$34,2,0)","v":3},{"$f":"VLOOKUP($A$3,'2T-GCM-R_Edad2021'!$A$2:$BI$34,22,0)","v":3},{"$f":"VLOOKUP($A$3,'2T-GCM-R_Edad2021'!$A$2:$BI$34,42,0)","v":0},{"$f":"VLOOKUP($A$3,'2T-GCM-R_Edad2022'!$A$2:$BI$34,2,0)","v":7},{"$f":"VLOOKUP($A$3,'2T-GCM-R_Edad2022'!$A$2:$BI$34,22,0)","v":5},{"$f":"VLOOKUP($A$3,'2T-GCM-R_Edad2022'!$A$2:$BI$34,42,0)","v":2}]
["1-4 años",{"$f":"VLOOKUP($A$3,'2T-GCM-R_Edad2020'!$A$2:$BI$34,3,0)","v":0},{"$f":"VLOOKUP($A$3,'2T-GCM-R_Edad2020'!$A$2:$BI$34,23,0)","v":0},{"$f":"VLOOKUP($A$3,'2T-GCM-R_Edad2020'!$A$2:$BI$34,43,0)","v":0},{"$f":"VLOOKUP($A$3,'2T-GCM-R_Edad2021'!$A$2:$BI$34,3,0)","v":1},{"$f":"VLOOKUP($A$3,'2T-GCM-R_Edad2021'!$A$2:$BI$34,23,0)","v":0},{"$f":"VLOOKUP($A$3,'2T-GCM-R_Edad2021'!$A$2:$BI$34,43,0)","v":1},{"$f":"VLOOKUP($A$3,'2T-GCM-R_Edad2022'!$A$2:$BI$34,3,0)","v":2},{"$f":"VLOOKUP($A$3,'2T-GCM-R_Edad2022'!$A$2:$BI$34,23,0)","v":0},{"$f":"VLOOKUP($A$3,'2T-GCM-R_Edad2022'!$A$2:$BI$34,43,0)","v":2}]
["5-9 años",{"$f":"VLOOKUP($A$3,'2T-GCM-R_Edad2020'!$A$2:$BI$34,4,0)","v":2},{"$f":"VLOOKUP($A$3,'2T-GCM-R_Edad2020'!$A$2:$BI$34,24,0)","v":2},{"$f":"VLOOKUP($A$3,'2T-GCM-R_Edad2020'!$A$2:$BI$34,44,0)","v":0},{"$f":"VLOOKUP($A$3,'2T-GCM-R_Edad2021'!$A$2:$BI$34,4,0)","v":3},{"$f":"VLOOKUP($A$3,'2T-GCM-R_Edad2021'!$A$2:$BI$34,24,0)","v":1},{"$f":"VLOOKUP($A$3,'2T-GCM-R_Edad2021'!$A$2:$BI$34,44,0)","v":2},{"$f":"VLOOKUP($A$3,'2T-GCM-R_Edad2022'!$A$2:$BI$34,4,0)","v":2},{"$f":"VLOOKUP($A$3,'2T-GCM-R_Edad2022'!$A$2:$BI$34,24,0)","v":1},{"$f":"VLOOKUP($A$3,'2T-GCM-R_Edad2022'!$A$2:$BI$34,44,0)","v":1}]
["10-14 años",{"$f":"VLOOKUP($A$3,'2T-GCM-R_Edad2020'!$A$2:$BI$34,5,0)","v":0},{"$f":"VLOOKUP($A$3,'2T-GCM-R_Edad2020'!$A$2:$BI$34,25,0)","v":0},{"$f":"VLOOKUP($A$3,'2T-GCM-R_Edad2020'!$A$2:$BI$34,45,0)","v":0},{"$f":"VLOOKUP($A$3,'2T-GCM-R_Edad2021'!$A$2:$BI$34,5,0)","v":2},{"$f":"VLOOKUP($A$3,'2T-GCM-R_Edad2021'!$A$2:$BI$34,25,0)","v":1},{"$f":"VLOOKUP($A$3,'2T-GCM-R_Edad2021'!$A$2:$BI$34,45,0)","v":1},{"$f":"VLOOKUP($A$3,'2T-GCM-R_Edad2022'!$A$2:$BI$34,5,0)","v":2},{"$f":"VLOOKUP($A$3,'2T-GCM-R_Edad2022'!$A$2:$BI$34,25,0)","v":0},{"$f":"VLOOKUP($A$3,'2T-GCM-R_Edad2022'!$A$2:$BI$34,45,0)","v":2}]
["15-19 años",{"$f":"VLOOKUP($A$3,'2T-GCM-R_Edad2020'!$A$2:$BI$34,6,0)","v":2},{"$f":"VLOOKUP($A$3,'2T-GCM-R_Edad2020'!$A$2:$BI$34,26,0)","v":0},{"$f":"VLOOKUP($A$3,'2T-GCM-R_Edad2020'!$A$2:$BI$34,46,0)","v":2},{"$f":"VLOOKUP($A$3,'2T-GCM-R_Edad2021'!$A$2:$BI$34,6,0)","v":4},{"$f":"VLOOKUP($A$3,'2T-GCM-R_Edad2021'!$A$2:$BI$34,26,0)","v":2},{"$f":"VLOOKUP($A$3,'2T-GCM-R_Edad2021'!$A$2:$BI$34,46,0)","v":2},{"$f":"VLOOKUP($A$3,'2T-GCM-R_Edad2022'!$A$2:$BI$34,6,0)","v":2},{"$f":"VLOOKUP($A$3,'2T-GCM-R_Edad2022'!$A$2:$BI$34,26,0)","v":0},{"$f":"VLOOKUP($A$3,'2T-GCM-R_Edad2022'!$A$2:$BI$34,46,0)","v":2}]
["20-24 años",{"$f":"VLOOKUP($A$3,'2T-GCM-R_Edad2020'!$A$2:$BI$34,7,0)","v":9},{"$f":"VLOOKUP($A$3,'2T-GCM-R_Edad2020'!$A$2:$BI$34,27,0)","v":6},{"$f":"VLOOKUP($A$3,'2T-GCM-R_Edad2020'!$A$2:$BI$34,47,0)","v":3},{"$f":"VLOOKUP($A$3,'2T-GCM-R_Edad2021'!$A$2:$BI$34,7,0)","v":19},{"$f":"VLOOKUP($A$3,'2T-GCM-R_Edad2021'!$A$2:$BI$34,27,0)","v":10},{"$f":"VLOOKUP($A$3,'2T-GCM-R_Edad2021'!$A$2:$BI$34,47,0)","v":9},{"$f":"VLOOKUP($A$3,'2T-GCM-R_Edad2022'!$A$2:$BI$34,7,0)","v":2},{"$f":"VLOOKUP($A$3,'2T-GCM-R_Edad2022'!$A$2:$BI$34,27,0)","v":1},{"$f":"VLOOKUP($A$3,'2T-GCM-R_Edad2022'!$A$2:$BI$34,47,0)","v":1}]
["25-29 años",{"$f":"VLOOKUP($A$3,'2T-GCM-R_Edad2020'!$A$2:$BI$34,8,0)","v":25},{"$f":"VLOOKUP($A$3,'2T-GCM-R_Edad2020'!$A$2:$BI$34,28,0)","v":18},{"$f":"VLOOKUP($A$3,'2T-GCM-R_Edad2020'!$A$2:$BI$34,48,0)","v":7},{"$f":"VLOOKUP($A$3,'2T-GCM-R_Edad2021'!$A$2:$BI$34,8,0)","v":79},{"$f":"VLOOKUP($A$3,'2T-GCM-R_Edad2021'!$A$2:$BI$34,28,0)","v":50},{"$f":"VLOOKUP($A$3,'2T-GCM-R_Edad2021'!$A$2:$BI$34,48,0)","v":29},{"$f":"VLOOKUP($A$3,'2T-GCM-R_Edad2022'!$A$2:$BI$34,8,0)","v":4},{"$f":"VLOOKUP($A$3,'2T-GCM-R_Edad2022'!$A$2:$BI$34,28,0)","v":3},{"$f":"VLOOKUP($A$3,'2T-GCM-R_Edad2022'!$A$2:$BI$34,48,0)","v":1}]
["30-34 años",{"$f":"VLOOKUP($A$3,'2T-GCM-R_Edad2020'!$A$2:$BI$34,9,0)","v":47},{"$f":"VLOOKUP($A$3,'2T-GCM-R_Edad2020'!$A$2:$BI$34,29,0)","v":41},{"$f":"VLOOKUP($A$3,'2T-GCM-R_Edad2020'!$A$2:$BI$34,49,0)","v":6},{"$f":"VLOOKUP($A$3,'2T-GCM-R_Edad2021'!$A$2:$BI$34,9,0)","v":136},{"$f":"VLOOKUP($A$3,'2T-GCM-R_Edad2021'!$A$2:$BI$34,29,0)","v":99},{"$f":"VLOOKUP($A$3,'2T-GCM-R_Edad2021'!$A$2:$BI$34,49,0)","v":37},{"$f":"VLOOKUP($A$3,'2T-GCM-R_Edad2022'!$A$2:$BI$34,9,0)","v":16},{"$f":"VLOOKUP($A$3,'2T-GCM-R_Edad2022'!$A$2:$BI$34,29,0)","v":13},{"$f":"VLOOKUP($A$3,'2T-GCM-R_Edad2022'!$A$2:$BI$34,49,0)","v":3}]
["35-39 años",{"$f":"VLOOKUP($A$3,'2T-GCM-R_Edad2020'!$A$2:$BI$34,10,0)","v":62},{"$f":"VLOOKUP($A$3,'2T-GCM-R_Edad2020'!$A$2:$BI$34,30,0)","v":46},{"$f":"VLOOKUP($A$3,'2T-GCM-R_Edad2020'!$A$2:$BI$34,50,0)","v":16},{"$f":"VLOOKUP($A$3,'2T-GCM-R_Edad2021'!$A$2:$BI$34,10,0)","v":206},{"$f":"VLOOKUP($A$3,'2T-GCM-R_Edad2021'!$A$2:$BI$34,30,0)","v":151},{"$f":"VLOOKUP($A$3,'2T-GCM-R_Edad2021'!$A$2:$BI$34,50,0)","v":55},{"$f":"VLOOKUP($A$3,'2T-GCM-R_Edad2022'!$A$2:$BI$34,10,0)","v":18},{"$f":"VLOOKUP($A$3,'2T-GCM-R_Edad2022'!$A$2:$BI$34,30,0)","v":15},{"$f":"VLOOKUP($A$3,'2T-GCM-R_Edad2022'!$A$2:$BI$34,50,0)","v":3}]
["40-44 años",{"$f":"VLOOKUP($A$3,'2T-GCM-R_Edad2020'!$A$2:$BI$34,11,0)","v":107},{"$f":"VLOOKUP($A$3,'2T-GCM-R_Edad2020'!$A$2:$BI$34,31,0)","v":80},{"$f":"VLOOKUP($A$3,'2T-GCM-R_Edad2020'!$A$2:$BI$34,51,0)","v":27},{"$f":"VLOOKUP($A$3,'2T-GCM-R_Edad2021'!$A$2:$BI$34,11,0)","v":278},{"$f":"VLOOKUP($A$3,'2T-GCM-R_Edad2021'!$A$2:$BI$34,31,0)","v":193},{"$f":"VLOOKUP($A$3,'2T-GCM-R_Edad2021'!$A$2:$BI$34,51,0)","v":85},{"$f":"VLOOKUP($A$3,'2T-GCM-R_Edad2022'!$A$2:$BI$34,11,0)","v":29},{"$f":"VLOOKUP($A$3,'2T-GCM-R_Edad2022'!$A$2:$BI$34,31,0)","v":21},{"$f":"VLOOKUP($A$3,'2T-GCM-R_Edad2022'!$A$2:$BI$34,51,0)","v":8}]
["45-49 años",{"$f":"VLOOKUP($A$3,'2T-GCM-R_Edad2020'!$A$2:$BI$34,12,0)","v":212},{"$f":"VLOOKUP($A$3,'2T-GCM-R_Edad2020'!$A$2:$BI$34,32,0)","v":155},{"$f":"VLOOKUP($A$3,'2T-GCM-R_Edad2020'!$A$2:$BI$34,52,0)","v":57},{"$f":"VLOOKUP($A$3,'2T-GCM-R_Edad2021'!$A$2:$BI$34,12,0)","v":400},{"$f":"VLOOKUP($A$3,'2T-GCM-R_Edad2021'!$A$2:$BI$34,32,0)","v":287},{"$f":"VLOOKUP($A$3,'2T-GCM-R_Edad2021'!$A$2:$BI$34,52,0)","v":113},{"$f":"VLOOKUP($A$3,'2T-GCM-R_Edad2022'!$A$2:$BI$34,12,0)","v":33},{"$f":"VLOOKUP($A$3,'2T-GCM-R_Edad2022'!$A$2:$BI$34,32,0)","v":19},{"$f":"VLOOKUP($A$3,'2T-GCM-R_Edad2022'!$A$2:$BI$34,52,0)","v":14}]
["50-54 años",{"$f":"VLOOKUP($A$3,'2T-GCM-R_Edad2020'!$A$2:$BI$34,13,0)","v":242},{"$f":"VLOOKUP($A$3,'2T-GCM-R_Edad2020'!$A$2:$BI$34,33,0)","v":167},{"$f":"VLOOKUP($A$3,'2T-GCM-R_Edad2020'!$A$2:$BI$34,53,0)","v":75},{"$f":"VLOOKUP($A$3,'2T-GCM-R_Edad2021'!$A$2:$BI$34,13,0)","v":452},{"$f":"VLOOKUP($A$3,'2T-GCM-R_Edad2021'!$A$2:$BI$34,33,0)","v":296},{"$f":"VLOOKUP($A$3,'2T-GCM-R_Edad2021'!$A$2:$BI$34,53,0)","v":156},{"$f":"VLOOKUP($A$3,'2T-GCM-R_Edad2022'!$A$2:$BI$34,13,0)","v":48},{"$f":"VLOOKUP($A$3,'2T-GCM-R_Edad2022'!$A$2:$BI$34,33,0)","v":33},{"$f":"VLOOKUP($A$3,'2T-GCM-R_Edad2022'!$A$2:$BI$34,53,0)","v":15}]
["55-59 años",{"$f":"VLOOKUP($A$3,'2T-GCM-R_Edad2020'!$A$2:$BI$34,14,0)","v":353},{"$f":"VLOOKUP($A$3,'2T-GCM-R_Edad2020'!$A$2:$BI$34,34,0)","v":230},{"$f":"VLOOKUP($A$3,'2T-GCM-R_Edad2020'!$A$2:$BI$34,54,0)","v":123},{"$f":"VLOOKUP($A$3,'2T-GCM-R_Edad2021'!$A$2:$BI$34,14,0)","v":579},{"$f":"VLOOKUP($A$3,'2T-GCM-R_Edad2021'!$A$2:$BI$34,34,0)","v":353},{"$f":"VLOOKUP($A$3,'2T-GCM-R_Edad2021'!$A$2:$BI$34,54,0)","v":226},{"$f":"VLOOKUP($A$3,'2T-GCM-R_Edad2022'!$A$2:$BI$34,14,0)","v":71},{"$f":"VLOOKUP($A$3,'2T-GCM-R_Edad2022'!$A$2:$BI$34,34,0)","v":43},{"$f":"VLOOKUP($A$3,'2T-GCM-R_Edad2022'!$A$2:$BI$34,54,0)","v":28}]
["60-64 años",{"$f":"VLOOKUP($A$3,'2T-GCM-R_Edad2020'!$A$2:$BI$34,15,0)","v":417},{"$f":"VLOOKUP($A$3,'2T-GCM-R_Edad2020'!$A$2:$BI$34,35,0)","v":251},{"$f":"VLOOKUP($A$3,'2T-GCM-R_Edad2020'!$A$2:$BI$34,55,0)","v":166},{"$f":"VLOOKUP($A$3,'2T-GCM-R_Edad2021'!$A$2:$BI$34,15,0)","v":658},{"$f":"VLOOKUP($A$3,'2T-GCM-R_Edad2021'!$A$2:$BI$34,35,0)","v":395},{"$f":"VLOOKUP($A$3,'2T-GCM-R_Edad2021'!$A$2:$BI$34,55,0)","v":263},{"$f":"VLOOKUP($A$3,'2T-GCM-R_Edad2022'!$A$2:$BI$34,15,0)","v":87},{"$f":"VLOOKUP($A$3,'2T-GCM-R_Edad2022'!$A$2:$BI$34,35,0)","v":53},{"$f":"VLOOKUP($A$3,'2T-GCM-R_Edad2022'!$A$2:$BI$34,55,0)","v":34}]
["65-69 años",{"$f":"VLOOKUP($A$3,'2T-GCM-R_Edad2020'!$A$2:$BI$34,16,0)","v":400},{"$f":"VLOOKUP($A$3,'2T-GCM-R_Edad2020'!$A$2:$BI$34,36,0)","v":246},{"$f":"VLOOKUP($A$3,'2T-GCM-R_Edad2020'!$A$2:$BI$34,56,0)","v":154},{"$f":"VLOOKUP($A$3,'2T-GCM-R_Edad2021'!$A$2:$BI$34,16,0)","v":594},{"$f":"VLOOKUP($A$3,'2T-GCM-R_Edad2021'!$A$2:$BI$34,36,0)","v":353},{"$f":"VLOOKUP($A$3,'2T-GCM-R_Edad2021'!$A$2:$BI$34,56,0)","v":241},{"$f":"VLOOKUP($A$3,'2T-GCM-R_Edad2022'!$A$2:$BI$34,16,0)","v":98},{"$f":"VLOOKUP($A$3,'2T-GCM-R_Edad2022'!$A$2:$BI$34,36,0)","v":64},{"$f":"VLOOKUP($A$3,'2T-GCM-R_Edad2022'!$A$2:$BI$34,56,0)","v":34}]
["70-74 años",{"$f":"VLOOKUP($A$3,'2T-GCM-R_Edad2020'!$A$2:$BI$34,17,0)","v":332},{"$f":"VLOOKUP($A$3,'2T-GCM-R_Edad2020'!$A$2:$BI$34,37,0)","v":210},{"$f":"VLOOKUP($A$3,'2T-GCM-R_Edad2020'!$A$2:$BI$34,57,0)","v":122},{"$f":"VLOOKUP($A$3,'2T-GCM-R_Edad2021'!$A$2:$BI$34,17,0)","v":515},{"$f":"VLOOKUP($A$3,'2T-GCM-R_Edad2021'!$A$2:$BI$34,37,0)","v":321},{"$f":"VLOOKUP($A$3,'2T-GCM-R_Edad2021'!$A$2:$BI$34,57,0)","v":194},{"$f":"VLOOKUP($A$3,'2T-GCM-R_Edad2022'!$A$2:$BI$34,17,0)","v":118},{"$f":"VLOOKUP($A$3,'2T-GCM-R_Edad2022'!$A$2:$BI$34,37,0)","v":82},{"$f":"VLOOKUP($A$3,'2T-GCM-R_Edad2022'!$A$2:$BI$34,57,0)","v":36}]
["75-79 años",{"$f":"VLOOKUP($A$3,'2T-GCM-R_Edad2020'!$A$2:$BI$34,18,0)","v":258},{"$f":"VLOOKUP($A$3,'2T-GCM-R_Edad2020'!$A$2:$BI$34,38,0)","v":148},{"$f":"VLOOKUP($A$3,'2T-GCM-R_Edad2020'!$A$2:$BI$34,58,0)","v":110},{"$f":"VLOOKUP($A$3,'2T-GCM-R_Edad2021'!$A$2:$BI$34,18,0)","v":399},{"$f":"VLOOKUP($A$3,'2T-GCM-R_Edad2021'!$A$2:$BI$34,38,0)","v":233},{"$f":"VLOOKUP($A$3,'2T-GCM-R_Edad2021'!$A$2:$BI$34,58,0)","v":166},{"$f":"VLOOKUP($A$3,'2T-GCM-R_Edad2022'!$A$2:$BI$34,18,0)","v":96},{"$f":"VLOOKUP($A$3,'2T-GCM-R_Edad2022'!$A$2:$BI$34,38,0)","v":69},{"$f":"VLOOKUP($A$3,'2T-GCM-R_Edad2022'!$A$2:$BI$34,58,0)","v":27}]
["80-84 años",{"$f":"VLOOKUP($A$3,'2T-GCM-R_Edad2020'!$A$2:$BI$34,19,0)","v":188},{"$f":"VLOOKUP($A$3,'2T-GCM-R_Edad2020'!$A$2:$BI$34,39,0)","v":115},{"$f":"VLOOKUP($A$3,'2T-GCM-R_Edad2020'!$A$2:$BI$34,59,0)","v":73},{"$f":"VLOOKUP($A$3,'2T-GCM-R_Edad2021'!$A$2:$BI$34,19,0)","v":291},{"$f":"VLOOKUP($A$3,'2T-GCM-R_Edad2021'!$A$2:$BI$34,39,0)","v":169},{"$f":"VLOOKUP($A$3,'2T-GCM-R_Edad2021'!$A$2:$BI$34,59,0)","v":122},{"$f":"VLOOKUP($A$3,'2T-GCM-R_Edad2022'!$A$2:$BI$34,19,0)","v":91},{"$f":"VLOOKUP($A$3,'2T-GCM-R_Edad2022'!$A$2:$BI$34,39,0)","v":58},{"$f":"VLOOKUP($A$3,'2T-GCM-R_Edad2022'!$A$2:$BI$34,59,0)","v":33}]
["85 años y más",{"$f":"VLOOKUP($A$3,'2T-GCM-R_Edad2020'!$A$2:$BI$34,20,0)","v":156},{"$f":"VLOOKUP($A$3,'2T-GCM-R_Edad2020'!$A$2:$BI$34,40,0)","v":90},{"$f":"VLOOKUP($A$3,'2T-GCM-R_Edad2020'!$A$2:$BI$34,60,0)","v":66},{"$f":"VLOOKUP($A$3,'2T-GCM-R_Edad2021'!$A$2:$BI$34,20,0)","v":300},{"$f":"VLOOKUP($A$3,'2T-GCM-R_Edad2021'!$A$2:$BI$34,40,0)","v":168},{"$f":"VLOOKUP($A$3,'2T-GCM-R_Edad2021'!$A$2:$BI$34,60,0)","v":132},{"$f":"VLOOKUP($A$3,'2T-GCM-R_Edad2022'!$A$2:$BI$34,20,0)","v":138},{"$f":"VLOOKUP($A$3,'2T-GCM-R_Edad2022'!$A$2:$BI$34,40,0)","v":75},{"$f":"VLOOKUP($A$3,'2T-GCM-R_Edad2022'!$A$2:$BI$34,60,0)","v":63}]
["No especificado",{"$f":"VLOOKUP($A$3,'2T-GCM-R_Edad2020'!$A$2:$BI$34,21,0)","v":0},{"$f":"VLOOKUP($A$3,'2T-GCM-R_Edad2020'!$A$2:$BI$34,41,0)","v":0},{"$f":"VLOOKUP($A$3,'2T-GCM-R_Edad2020'!$A$2:$BI$34,61,0)","v":0},{"$f":"VLOOKUP($A$3,'2T-GCM-R_Edad2021'!$A$2:$BI$34,21,0)","v":0},{"$f":"VLOOKUP($A$3,'2T-GCM-R_Edad2021'!$A$2:$BI$34,41,0)","v":0},{"$f":"VLOOKUP($A$3,'2T-GCM-R_Edad2021'!$A$2:$BI$34,61,0)","v":0},{"$f":"VLOOKUP($A$3,'2T-GCM-R_Edad2022'!$A$2:$BI$34,21,0)","v":0},{"$f":"VLOOKUP($A$3,'2T-GCM-R_Edad2022'!$A$2:$BI$34,41,0)","v":0},{"$f":"VLOOKUP($A$3,'2T-GCM-R_Edad2022'!$A$2:$BI$34,61,0)","v":0}]
["Total",{"$f":"SUM(B4:B23)","v":2812},1805,1007,4919,3085,1834,864,555,309]

{"sheet":"3T-GCM-R_Edad2020","index":64,"n_rows":34,"n_cols":61,"rows_kept":34,"cut":false,"hidden":true,"merged":[]}
[1,2,3,4,5,6,7,8,9,10,11,12,13,14,15,16,17,18,19,20,21,22,23,24,25,26,27,28,29,30,31,32,33,34,35,36,37,38,39,40,41,42,43,44,45,46,47,48,49,50,51,52,53,54,55,56,57,58,59,60,61]
["ESTADO","Menores de 1 año","1-4 años","5-9 años","10-14 años","15-19 años","20-24 años","25-29 años","30-34 años","35-39 años","40-44 años","45-49 años","50-54 años","55-59 años","60-64 años","65-69 años","70-74 años","75-79 años","80-84 años","85 años y más","No especificado","H Menores de 1 año","H 1-4 años","H 5-9 años","H 10-14 años","H 15-19 años","H 20-24 años","H 25-29 años","H 30-34 años","H 35-39 años","H 40-44 años","H 45-49 años","H 50-54 años","H 55-59 años","H 60-64 años","H 65-69 años","H 70-74 años","H 75-79 años","H 80-84 años","H 85 años y más","H No especificado","   M Menores de 1 año ","M 1-4 años","M 5-9 años","M 10-14 años","M 15-19 años","M 20-24 años","M 25-29 años","M 30-34 años","M 35-39 años","M 40-44 años","M 45-49 años","M 50-54 años","M 55-59 años","M 60-64 años","M 65-69 años","M 70-74 años","M 75-79 años","M 80-84 años","M 85 años y    ás","M No especificado"]
["Aguascalientes",2,2,0,0,0,5,6,5,13,27,53,84,114,129,151,135,109,119,187,0,2,2,0,0,0,2,3,4,7,16,32,51,69,72,77,66,57,54,73,0,0,0,0,0,0,3,3,1,6,11,21,33,45,57,74,69,52,65,114,0]
["Baja California",7,0,1,3,6,9,29,49,58,108,244,347,389,485,532,485,454,374,415,9,3,0,0,1,4,4,15,29,36,69,153,213,262,290,290,265,224,167,168,8,4,0,1,2,2,5,14,20,22,39,91,134,127,195,242,220,230,207,247,1]
["Baja California Sur",1,0,0,0,2,2,2,3,12,14,32,37,54,61,78,68,69,57,86,4,0,0,0,0,0,1,2,1,6,9,18,23,35,37,37,45,33,29,27,3,1,0,0,0,2,1,0,2,6,5,14,14,19,24,41,23,36,28,59,1]
["Campeche",2,1,1,1,0,4,7,11,11,26,52,84,123,143,161,152,153,104,122,0,0,1,1,1,0,1,2,3,8,14,27,44,69,69,75,73,81,50,58,0,2,0,0,0,0,3,5,8,3,12,25,40,54,74,86,79,72,54,64,0]
["Coahuila",6,1,2,0,8,17,20,40,68,113,197,278,476,574,630,579,530,434,447,3,4,0,1,0,3,10,15,20,46,66,126,146,255,294,325,287,261,196,188,0,2,1,1,0,5,7,5,20,22,47,71,132,221,280,305,292,269,238,259,3]
["Colima",2,1,0,1,0,2,2,7,10,28,28,48,78,91,105,110,109,104,112,0,1,1,0,1,0,1,2,3,7,16,20,30,45,54,60,60,55,48,48,0,1,0,0,0,0,1,0,4,3,12,8,18,33,37,45,50,54,56,64,0]
["Chiapas",22,25,5,6,20,36,54,72,147,229,357,519,756,799,943,803,803,653,799,0,11,12,4,4,15,21,32,38,78,130,166,283,387,396,469,410,352,310,340,0,11,13,1,2,5,15,22,34,69,99,191,236,369,403,474,393,451,343,459,0]
["Chihuahua",11,10,6,4,7,17,26,30,72,103,206,319,440,518,585,602,558,497,526,4,7,9,4,2,6,7,13,16,37,57,112,184,248,282,301,314,276,225,204,3,4,1,2,2,1,10,13,14,35,46,94,135,192,236,284,288,282,272,322,1]
["Ciudad de México",31,6,7,4,16,33,98,154,246,465,919,1272,1808,2328,2401,2396,2282,1991,2625,1,16,2,3,2,8,17,63,98,158,306,607,850,1118,1397,1366,1335,1175,907,979,0,15,4,4,2,8,16,35,56,88,159,312,422,690,931,1035,1061,1107,1084,1646,1]
["Durango",6,1,0,2,3,1,8,10,18,41,63,87,137,211,229,241,197,215,177,0,2,1,0,1,0,0,5,8,9,22,32,51,65,108,120,140,92,109,80,0,4,0,0,1,3,1,3,2,9,19,31,36,72,103,109,101,105,106,97,0]
["Guanajuato",13,5,1,3,8,19,42,72,102,203,345,519,723,935,1007,1018,1033,967,1413,3,6,2,0,0,5,12,30,40,55,116,208,304,393,528,532,486,541,448,615,1,7,3,1,3,3,7,12,32,47,87,137,215,330,407,475,532,492,519,798,2]
["Guerrero",3,4,2,4,8,19,17,29,63,117,195,339,441,490,587,601,596,500,619,0,2,1,2,1,5,18,13,17,39,71,108,202,247,265,332,307,284,242,239,0,1,3,0,3,3,1,4,12,24,46,87,137,194,225,255,294,312,258,380,0]
["Hidalgo",1,3,3,1,4,12,10,23,42,88,151,221,317,422,423,425,382,360,510,0,0,3,1,0,2,8,5,16,25,59,84,120,194,257,229,223,184,149,197,0,1,0,2,1,2,4,5,7,17,29,67,101,123,165,194,202,198,211,313,0]
["Jalisco",9,6,4,5,10,20,44,71,102,170,311,480,661,880,984,1142,1073,1086,1411,2,6,4,2,4,5,11,33,46,70,113,199,281,381,495,533,611,560,547,609,1,3,2,2,1,5,9,11,25,32,57,112,199,280,385,451,531,513,539,802,1]
["México",38,9,8,11,27,53,147,225,385,742,1319,2125,2740,3301,3461,3263,2860,2406,2837,0,19,5,5,8,12,27,92,141,265,492,853,1327,1699,1919,1974,1740,1463,1127,1148,0,19,4,3,3,15,26,55,84,120,250,466,798,1041,1382,1487,1523,1397,1279,1689,0]
["Michoacán",13,1,4,9,11,14,22,56,65,123,242,346,518,698,790,805,782,806,1128,4,11,1,3,4,6,3,12,34,37,76,133,198,274,376,444,424,406,341,495,1,2,0,1,5,5,11,10,22,28,47,109,148,244,322,346,381,376,465,633,3]
["Morelos",5,0,2,4,6,11,19,24,35,72,141,203,272,357,353,404,385,326,427,0,2,0,1,1,1,5,10,15,16,43,87,125,165,198,177,228,205,154,180,0,3,0,1,3,5,6,9,9,19,29,54,78,107,159,176,176,180,172,247,0]
["Nayarit",10,9,0,2,1,6,6,7,5,20,48,57,94,106,143,155,162,152,211,3,4,7,0,0,1,3,3,5,2,11,26,37,53,59,69,88,74,78,90,2,6,2,0,2,0,3,3,2,3,9,22,20,41,47,74,67,88,74,121,1]
["Nuevo León",7,3,1,3,8,16,15,27,62,120,226,318,443,624,619,640,593,479,567,1,4,1,0,1,3,9,8,19,41,67,140,196,287,355,315,347,288,219,242,0,3,2,1,2,5,7,7,8,21,53,86,122,156,269,304,293,305,260,325,1]
["Oaxaca",7,11,5,4,5,20,27,51,88,170,251,429,545,721,738,729,707,683,957,3,3,7,4,3,3,16,19,33,60,106,150,244,283,388,376,351,317,293,409,2,4,4,1,1,2,4,8,18,28,64,101,185,262,333,362,378,390,390,548,1]
["Puebla",18,7,4,13,21,30,46,84,144,327,521,820,1141,1400,1453,1371,1291,1117,1464,6,14,4,3,8,11,12,32,61,83,206,317,484,634,758,785,672,593,519,581,5,4,3,1,5,10,18,14,23,61,121,204,336,507,642,668,699,698,598,883,1]
["Querétaro",4,1,3,1,3,8,17,16,45,68,117,158,253,249,265,255,231,222,306,2,1,0,2,0,1,3,10,12,25,53,72,111,155,133,148,126,111,113,130,2,3,1,1,1,2,5,7,4,20,15,45,47,98,116,117,129,120,109,176,0]
["Quintana Roo",2,1,2,1,1,3,9,16,23,56,97,120,160,193,214,192,144,111,92,2,1,0,0,1,0,1,5,7,10,37,67,67,93,110,113,88,63,52,40,1,1,1,2,0,1,2,4,9,13,19,30,53,67,83,101,104,81,59,52,1]
["San Luis Potosí",3,5,1,1,2,12,16,34,46,98,175,223,378,409,451,466,458,382,576,0,2,4,1,0,0,7,8,15,25,44,94,137,203,213,235,245,236,190,233,0,1,1,0,1,2,5,8,19,21,54,81,86,175,196,216,221,222,192,343,0]
["Sinaloa",5,5,1,2,3,2,10,13,32,45,77,110,162,267,326,339,353,312,337,2,4,5,0,0,1,0,3,8,21,31,46,60,95,146,174,179,183,151,137,1,1,0,1,2,2,2,7,5,11,14,31,50,67,121,152,160,170,161,200,1]
["Sonora",4,2,0,0,6,6,8,23,48,67,105,181,244,311,389,322,309,311,325,6,1,1,0,0,4,4,2,13,29,35,57,110,147,168,202,166,152,129,137,6,3,1,0,0,2,2,6,10,19,32,48,71,97,143,187,156,157,182,188,0]
["Tabasco",10,4,1,3,14,17,25,40,79,151,220,360,550,638,649,558,478,410,400,1,4,2,1,2,10,7,18,26,42,84,114,197,292,327,327,282,234,196,170,0,6,2,0,1,4,10,7,14,37,67,106,163,258,311,322,276,244,214,230,1]
["Tamaulipas",7,2,1,5,6,16,33,38,74,134,257,345,483,567,578,564,487,404,479,5,2,0,1,1,3,12,23,27,49,75,157,188,269,285,298,295,241,166,212,3,5,2,0,4,3,4,10,11,25,59,100,157,214,282,280,269,246,238,267,2]
["Tlaxcala",1,2,0,0,6,6,12,12,33,69,106,144,220,287,302,273,281,265,347,0,0,1,0,0,3,5,7,5,23,43,56,91,137,196,168,145,160,116,152,0,1,1,0,0,3,1,5,7,10,26,50,53,83,91,134,128,121,149,195,0]
["Veracruz",20,14,7,13,25,40,51,109,180,363,609,973,1407,1707,2017,1849,1680,1499,1769,0,6,8,4,4,10,21,27,65,100,205,338,545,759,876,1038,960,792,682,753,0,14,6,3,9,15,19,24,44,80,158,271,428,648,831,979,889,888,817,1016,0]
["Yucatán",6,4,0,0,2,3,6,16,20,42,93,128,193,243,274,306,273,277,267,0,3,4,0,0,0,3,3,11,13,26,52,68,112,107,112,146,122,127,117,0,3,0,0,0,2,0,3,5,7,16,41,60,81,136,162,160,151,150,150,0]
["Zacatecas",7,3,3,2,2,6,6,16,14,34,62,97,130,199,204,244,252,242,407,0,3,2,2,1,1,2,3,7,8,19,38,58,70,103,109,131,130,123,174,0,4,1,1,1,1,4,3,9,6,15,24,39,60,96,95,113,122,119,233,0]

{"sheet":"3T-GCM-R_Edad2021","index":65,"n_rows":34,"n_cols":61,"rows_kept":34,"cut":false,"hidden":true,"merged":[]}
[1,2,3,4,5,6,7,8,9,10,11,12,13,14,15,16,17,18,19,20,21,22,23,24,25,26,27,28,29,30,31,32,33,34,35,36,37,38,39,40,41,42,43,44,45,46,47,48,49,50,51,52,53,54,55,56,57,58,59,60,61]
["ESTADO","Menores de 1 año","1-4 años","5-9 años","10-14 años","15-19 años","20-24 años","25-29 años","30-34 años","35-39 años","40-44 años","45-49 años","50-54 años","55-59 años","60-64 años","65-69 años","70-74 años","75-79 años","80-84 años","85 años y más","No especificado","H Menores de 1 año","H 1-4 años","H 5-9 años","H 10-14 años","H 15-19 años","H 20-24 años","H 25-29 años","H 30-34 años","H 35-39 años","H 40-44 años","H 45-49 años","H 50-54 años","H 55-59 años","H 60-64 años","H 65-69 años","H 70-74 años","H 75-79 años","H 80-84 años","H 85 años y más","H No especificado","   M Menores de 1 año ","M 1-4 años","M 5-9 años","M 10-14 años","M 15-19 años","M 20-24 años","M 25-29 años","M 30-34 años","M 35-39 años","M 40-44 años","M 45-49 años","M 50-54 años","M 55-59 años","M 60-64 años","M 65-69 años","M 70-74 años","M 75-79 años","M 80-84 años","M 85 años y    ás","M No especificado"]
["Aguascalientes",1,1,1,4,3,4,5,10,14,22,52,57,90,119,160,153,149,135,195,0,1,0,1,2,2,2,3,7,10,15,35,36,53,61,89,76,79,66,86,0,0,1,0,2,1,2,2,3,4,7,17,21,37,58,71,77,70,69,109,0]
["Baja California",4,1,4,4,7,16,12,28,70,82,159,266,323,397,384,377,344,300,326,5,3,0,2,2,3,13,7,19,48,58,102,174,210,233,207,200,180,144,135,5,1,1,2,2,4,3,5,9,22,24,57,92,113,164,177,177,164,156,191,0]
["Baja California Sur",1,2,2,3,1,1,6,3,8,12,33,25,47,65,67,56,41,52,67,0,0,1,1,1,0,1,3,1,4,4,20,13,28,36,38,29,21,31,29,0,1,1,1,2,1,0,3,2,4,8,13,12,19,29,29,27,20,21,38,0]
["Campeche",2,1,0,1,2,2,1,9,9,27,60,62,109,100,134,145,112,103,110,0,2,1,0,1,0,2,1,0,5,11,28,32,51,50,59,75,54,45,41,0,0,0,0,0,2,0,0,9,4,16,32,30,58,50,75,70,58,58,69,0]
["Coahuila",2,2,2,1,4,11,21,28,51,92,142,234,365,508,445,506,446,360,400,4,1,0,1,0,2,5,13,17,36,47,76,123,178,253,230,249,195,145,169,3,1,2,1,1,2,6,8,11,15,45,66,111,187,255,215,257,251,215,231,1]
["Colima",0,0,0,2,4,2,2,4,8,13,29,53,72,120,119,132,108,110,138,0,0,0,0,1,3,1,2,3,5,5,19,32,44,74,66,64,57,56,58,0,0,0,0,1,1,1,0,1,3,8,10,21,28,46,53,68,51,54,80,0]
["Chiapas",16,20,4,12,17,32,47,64,128,231,351,494,754,840,855,748,764,602,685,1,9,11,2,5,10,16,28,29,72,111,181,246,352,377,390,348,322,269,308,1,7,9,2,7,7,16,19,35,56,120,170,248,402,463,465,400,442,333,377,0]
["Chihuahua",13,13,2,4,5,12,12,29,38,67,143,226,286,411,454,450,458,384,406,2,8,10,2,2,2,5,8,20,22,34,78,129,139,214,225,225,217,164,163,2,5,3,0,2,3,7,4,9,16,33,65,97,147,197,229,225,241,220,243,0]
["Ciudad de México",19,5,12,11,14,35,65,128,196,390,712,944,1400,1717,1893,1936,1984,1653,2401,0,8,2,6,5,7,20,41,90,126,257,461,612,879,1004,1059,1036,1053,727,942,0,11,3,6,6,7,15,24,38,70,133,251,332,521,713,834,900,931,926,1459,0]
["Durango",6,2,0,0,3,2,8,5,22,40,65,114,145,172,210,220,217,206,173,0,4,2,0,0,1,2,5,1,13,20,36,58,82,93,111,118,92,88,77,0,2,0,0,0,2,0,3,4,9,20,29,56,63,79,99,102,125,118,96,0]
["Guanajuato",9,11,7,6,11,10,52,65,102,187,356,486,740,936,1110,1090,1096,971,1498,2,4,3,4,5,7,5,34,34,66,98,205,296,399,466,546,557,543,463,577,2,5,8,3,1,4,5,18,31,36,89,151,190,341,470,564,533,553,508,921,0]
["Guerrero",4,9,3,3,5,12,19,32,61,118,177,309,378,528,515,545,542,462,674,2,0,2,1,1,2,9,10,20,37,73,108,176,198,285,286,278,260,221,281,2,4,7,2,2,3,3,9,12,24,45,69,133,180,243,229,267,282,241,393,0]
["Hidalgo",4,2,0,3,3,5,12,28,48,78,145,226,301,437,422,407,395,337,535,0,2,1,0,0,1,3,8,16,29,48,90,142,169,252,233,222,183,147,219,0,2,1,0,3,2,2,4,12,19,30,55,84,132,185,189,185,212,190,316,0]
["Jalisco",18,7,9,3,9,23,28,50,94,178,304,463,600,871,972,1110,1191,993,1510,4,12,2,7,2,5,10,19,31,58,99,184,276,334,506,535,605,585,486,632,4,6,5,2,1,4,13,9,19,36,79,120,187,266,365,437,505,606,507,878,0]
["México",26,13,7,19,30,55,120,215,359,659,1265,1739,2435,3006,3126,3015,2750,2459,2991,2,11,8,5,8,17,37,73,143,234,429,772,1073,1405,1711,1654,1544,1387,1199,1113,1,15,5,2,11,13,18,47,72,125,230,493,666,1030,1295,1472,1471,1363,1260,1878,1]
["Michoacán",13,7,4,4,9,18,33,48,84,166,249,437,601,731,901,918,951,854,1208,1,6,6,2,1,8,9,18,29,48,103,149,250,334,354,481,443,468,414,505,1,7,1,2,3,1,9,15,19,36,63,100,187,267,377,420,475,483,440,703,0]
["Morelos",6,4,1,1,2,3,13,18,35,81,130,184,293,339,386,399,375,334,453,10,4,0,0,1,0,2,7,15,18,47,88,91,179,198,205,192,184,140,201,9,2,4,1,0,2,1,6,3,17,34,42,93,114,141,181,207,191,194,252,1]
["Nayarit",4,6,1,0,4,6,2,6,10,19,30,47,87,106,136,175,182,203,242,2,3,2,1,0,2,4,0,5,6,13,12,27,53,53,75,114,96,96,101,2,1,4,0,0,2,2,2,1,4,6,18,20,34,53,61,61,86,107,141,0]
["Nuevo León",7,6,2,6,4,11,14,40,62,114,242,324,473,574,588,615,591,516,670,0,3,0,1,0,4,6,3,26,37,57,150,187,255,334,305,340,281,243,265,0,4,6,1,6,0,5,11,14,25,57,92,137,218,240,283,275,310,273,405,0]
["Oaxaca",14,9,6,6,6,19,29,55,93,169,330,437,610,711,803,837,787,756,1152,1,8,7,2,2,3,9,16,31,58,102,180,221,320,343,392,377,354,312,490,0,6,2,4,4,3,10,13,24,35,67,150,216,290,368,411,460,433,444,662,1]
["Puebla",14,12,8,8,20,43,68,93,179,309,562,847,1167,1445,1493,1346,1331,1225,1545,2,6,4,5,4,13,24,43,52,105,192,329,498,653,758,779,701,643,525,616,2,8,8,3,4,7,19,25,41,74,117,233,349,514,687,714,645,688,700,929,0]
["Querétaro",5,2,3,1,4,9,12,16,43,55,104,155,223,265,236,292,252,240,308,0,4,1,2,1,1,4,7,8,27,32,70,96,123,153,123,149,130,107,123,0,1,1,1,0,3,5,5,8,16,23,34,59,100,112,113,143,122,133,185,0]
["Quintana Roo",6,2,2,0,0,2,6,15,19,53,86,113,163,159,152,158,149,101,99,0,5,1,1,0,0,2,2,11,8,35,45,61,89,89,71,87,72,48,47,0,1,1,1,0,0,0,4,4,11,18,41,52,74,70,81,71,77,53,52,0]
["San Luis Potosí",3,4,1,2,4,7,10,25,43,91,176,233,318,398,413,432,440,442,542,0,1,1,0,1,1,4,8,14,29,53,95,124,171,199,226,207,215,193,228,0,2,3,1,1,3,3,2,11,14,38,81,109,147,199,187,225,225,249,314,0]
["Sinaloa",0,3,2,2,3,4,6,16,23,39,61,104,132,226,277,315,290,243,319,0,0,1,0,2,1,1,4,11,13,23,30,70,85,130,140,173,136,131,156,0,0,2,2,0,2,3,2,5,10,16,31,34,47,96,137,142,154,112,163,0]
["Sonora",5,4,1,1,7,8,18,26,28,49,108,115,191,261,268,293,272,244,230,6,2,3,1,0,4,6,15,15,15,30,60,63,121,143,142,161,118,105,82,5,3,1,0,1,3,2,3,11,13,19,48,52,70,118,126,132,154,139,148,1]
["Tabasco",13,5,1,1,7,10,20,24,44,114,181,278,406,470,516,492,364,319,342,0,10,1,0,0,4,6,12,17,18,59,101,142,209,223,249,230,148,129,147,0,3,4,1,1,3,4,8,7,26,55,80,136,197,247,267,262,216,190,195,0]
["Tamaulipas",5,4,1,0,7,15,21,26,61,91,167,281,418,500,480,534,432,396,459,3,3,0,0,0,7,13,11,16,34,51,93,158,235,249,240,264,203,176,191,2,2,4,1,0,0,2,10,10,27,40,74,123,183,251,240,270,229,220,268,1]
["Tlaxcala",1,1,0,2,1,4,15,16,21,53,96,126,168,257,254,252,230,270,379,0,1,1,0,2,0,2,10,12,12,25,59,87,90,138,144,135,118,116,169,0,0,0,0,0,1,2,5,4,9,28,37,39,78,119,110,117,112,154,210,0]
["Veracruz",23,10,8,9,22,36,70,78,182,316,638,929,1405,1641,1868,1920,1761,1523,1824,1,15,7,3,4,15,20,39,43,94,185,366,532,741,809,919,929,812,674,706,1,8,3,5,5,7,16,31,35,88,131,272,397,664,832,949,991,949,849,1118,0]
["Yucatán",2,2,1,3,0,4,5,10,22,43,77,103,124,210,221,254,218,224,217,0,0,1,0,1,0,2,4,7,13,20,48,49,56,96,101,110,95,93,81,0,2,1,1,2,0,2,1,3,9,23,29,54,68,114,120,144,123,131,136,0]
["Zacatecas",4,4,1,3,3,5,10,11,20,38,71,95,141,196,202,217,252,217,415,0,3,1,1,3,2,1,6,7,8,26,47,48,79,112,119,112,124,103,180,0,1,3,0,0,1,4,4,4,12,12,24,47,62,84,83,105,128,114,235,0]

{"sheet":"3T-GCM-R_Edad2022","index":66,"n_rows":34,"n_cols":61,"rows_kept":34,"cut":false,"hidden":true,"merged":[]}
[1,2,3,4,5,6,7,8,9,10,11,12,13,14,15,16,17,18,19,20,21,22,23,24,25,26,27,28,29,30,31,32,33,34,35,36,37,38,39,40,41,42,43,44,45,46,47,48,49,50,51,52,53,54,55,56,57,58,59,60,61]
["ESTADO","Menores de 1 año","1-4 años","5-9 años","10-14 años","15-19 años","20-24 años","25-29 años","30-34 años","35-39 años","40-44 años","45-49 años","50-54 años","55-59 años","60-64 años","65-69 años","70-74 años","75-79 años","80-84 años","85 años y más","No especificado","H Menores de 1 año","H 1-4 años","H 5-9 años","H 10-14 años","H 15-19 años","H 20-24 años","H 25-29 años","H 30-34 años","H 35-39 años","H 40-44 años","H 45-49 años","H 50-54 años","H 55-59 años","H 60-64 años","H 65-69 años","H 70-74 años","H 75-79 años","H 80-84 años","H 85 años y más","H No especificado","   M Menores de 1 año ","M 1-4 años","M 5-9 años","M 10-14 años","M 15-19 años","M 20-24 años","M 25-29 años","M 30-34 años","M 35-39 años","M 40-44 años","M 45-49 años","M 50-54 años","M 55-59 años","M 60-64 años","M 65-69 años","M 70-74 años","M 75-79 años","M 80-84 años","M 85 años y    ás","M No especificado"]
["Aguascalientes",1,2,0,1,0,4,2,11,21,34,38,75,96,117,147,141,160,133,236,0,0,1,0,1,0,2,1,7,14,22,18,43,54,68,77,62,81,65,95,0,1,1,0,0,0,2,1,4,7,12,20,32,42,49,70,79,79,68,141,0]
["Baja California",6,2,2,3,8,14,17,25,67,108,158,239,313,349,389,349,312,300,352,10,2,0,1,3,5,8,9,16,45,68,106,154,194,226,229,174,147,117,145,7,4,2,1,0,3,6,8,9,22,40,52,85,119,123,160,175,165,183,207,3]
["Baja California Sur",0,1,1,1,0,4,2,3,7,18,32,28,45,63,45,87,52,42,48,0,0,1,0,0,0,3,2,2,5,10,19,17,27,39,25,40,27,18,18,0,0,0,1,1,0,1,0,1,2,8,13,11,18,24,20,47,25,24,30,0]
["Campeche",6,1,1,4,2,1,3,12,14,22,44,58,69,105,119,109,89,99,89,0,5,0,1,2,2,1,0,7,6,7,26,31,31,44,59,47,43,36,41,0,1,1,0,2,0,0,3,5,8,15,18,27,38,61,60,62,46,63,48,0]
["Coahuila",4,1,1,7,4,16,17,27,42,73,154,229,306,431,494,489,432,380,440,2,1,1,0,5,2,9,10,15,28,48,86,125,162,226,258,245,193,177,186,2,3,0,1,2,2,7,7,12,14,25,68,104,144,205,236,244,239,203,254,0]
["Colima",1,0,1,0,2,2,3,6,11,19,27,47,53,72,103,94,106,101,105,1,1,0,0,0,0,2,2,3,5,11,17,28,26,41,55,47,49,44,48,1,0,0,1,0,2,0,1,3,6,8,10,19,27,31,48,47,57,57,57,0]
["Chiapas",23,24,9,7,20,23,69,50,107,178,287,404,563,619,671,586,620,489,499,1,12,15,3,4,8,14,36,29,62,90,135,180,243,277,286,273,264,196,224,1,11,9,6,3,12,9,33,21,45,88,152,224,320,342,385,313,356,293,275,0]
["Chihuahua",8,20,7,3,7,17,25,29,53,70,146,212,315,434,436,434,457,383,451,0,3,9,3,1,3,9,16,20,38,55,97,119,167,235,228,217,214,168,205,0,5,11,4,2,4,8,9,9,15,15,49,93,148,199,208,217,243,215,246,0]
["Ciudad de México",23,13,15,7,18,26,41,89,144,226,456,702,937,1260,1366,1500,1401,1404,2081,2,13,7,10,7,8,11,24,56,99,145,305,442,572,757,751,816,664,630,721,2,10,6,5,0,10,15,17,33,45,81,151,260,365,503,615,684,737,774,1360,0]
["Durango",1,2,0,3,2,1,4,10,23,22,51,86,112,160,188,202,188,160,184,0,0,2,0,3,1,1,1,6,13,11,28,53,55,92,94,98,87,74,79,0,1,0,0,0,1,0,3,4,10,11,23,33,57,68,94,104,101,86,105,0]
["Guanajuato",10,5,7,8,11,18,27,39,75,149,263,377,564,709,831,933,957,866,1425,1,5,4,4,5,6,8,17,22,43,77,153,213,302,360,456,461,438,406,605,0,5,1,3,3,5,10,10,17,32,72,110,164,262,349,375,472,519,460,820,1]
["Guerrero",1,7,4,2,5,13,20,36,55,107,160,231,365,428,446,487,483,434,566,2,1,5,3,2,2,9,15,21,30,69,98,125,204,223,233,247,209,208,226,2,0,2,1,0,3,4,5,15,25,38,62,106,161,205,213,240,274,226,340,0]
["Hidalgo",3,2,3,2,4,7,15,14,31,68,133,165,261,298,347,340,357,339,512,0,1,1,0,0,2,5,8,9,20,40,80,89,146,164,173,174,177,149,198,0,2,1,3,2,2,2,7,5,11,28,53,76,115,134,174,166,180,190,314,0]
["Jalisco",20,11,4,8,12,22,36,43,82,143,223,373,548,677,853,893,991,913,1415,6,7,7,3,4,7,11,22,27,54,84,131,223,345,369,460,496,511,425,569,3,13,4,1,4,5,11,14,16,28,59,92,150,203,308,393,397,480,488,846,3]
["México",31,18,11,14,30,59,87,167,254,442,861,1239,1777,2175,2378,2330,2222,2051,2844,2,14,11,6,6,15,34,53,114,154,272,542,723,1030,1219,1260,1205,1067,906,1091,1,17,7,5,8,15,25,34,53,100,170,319,516,747,956,1118,1125,1155,1145,1753,1]
["Michoacán",8,6,1,5,6,16,16,35,54,97,169,265,390,553,618,704,742,697,993,1,3,3,0,2,5,13,14,25,34,50,105,154,242,295,321,357,364,334,434,0,5,3,1,3,1,3,2,10,20,47,64,111,148,258,297,347,378,363,559,1]
["Morelos",0,4,2,2,4,3,14,13,33,72,107,146,195,288,354,297,325,304,468,1,0,1,2,0,1,2,9,9,20,42,54,76,98,136,185,154,141,124,191,0,0,3,0,2,3,1,5,4,13,30,53,70,97,152,169,143,184,180,277,1]
["Nayarit",3,1,1,3,2,3,7,7,8,10,29,47,66,88,124,142,138,147,218,0,3,1,0,2,2,1,2,2,3,7,21,27,39,45,62,76,72,73,100,0,0,0,1,1,0,2,5,5,5,3,8,20,27,43,62,66,66,74,118,0]
["Nuevo León",6,4,3,3,8,14,18,37,47,101,187,305,427,554,616,597,593,528,625,2,3,1,1,2,2,9,12,24,29,54,121,185,255,298,325,323,293,237,245,0,3,3,2,1,6,5,6,13,18,47,66,120,172,256,291,274,300,291,380,2]
["Oaxaca",15,17,5,4,8,18,34,54,82,140,218,317,474,547,655,656,614,683,1033,3,9,10,2,3,5,8,18,28,49,83,118,164,248,266,317,290,285,290,435,2,6,7,3,1,3,10,16,26,33,57,100,153,226,281,338,366,329,393,598,1]
["Puebla",19,17,3,13,18,22,38,74,107,220,342,555,763,900,1079,1050,1020,981,1429,7,9,6,2,8,15,14,25,49,67,129,196,322,405,464,543,477,474,411,566,6,10,11,1,5,3,8,13,25,40,91,146,233,358,436,536,573,546,570,863,1]
["Querétaro",4,2,4,2,3,8,15,13,23,41,85,112,165,168,236,201,205,185,288,0,3,2,4,2,1,4,7,8,15,25,65,69,91,90,110,97,88,75,110,0,1,0,0,0,2,4,8,5,8,16,20,43,74,78,126,104,117,110,178,0]
["Quintana Roo",4,5,2,2,6,8,5,7,20,39,70,112,162,173,146,150,121,111,121,0,3,4,1,1,4,5,3,4,11,25,45,64,94,92,69,71,53,60,55,0,1,1,1,1,2,3,2,3,9,14,25,48,68,81,77,79,68,51,66,0]
["San Luis Potosí",7,9,3,4,5,9,16,26,38,66,132,187,269,313,360,391,406,365,565,0,6,5,2,2,1,3,13,16,22,37,72,107,138,161,187,208,189,178,233,0,1,4,1,2,4,6,3,10,16,29,60,80,131,152,173,183,217,187,332,0]
["Sinaloa",6,1,1,0,4,7,10,9,21,40,56,99,139,199,278,277,289,248,320,0,2,0,0,0,2,4,9,3,12,24,34,69,85,118,153,144,144,114,150,0,4,1,1,0,2,3,1,6,9,16,22,30,54,81,125,133,145,134,170,0]
["Sonora",6,3,4,3,9,4,13,14,30,45,78,140,161,225,279,274,254,233,240,7,4,2,3,2,3,3,12,10,20,26,52,65,91,120,143,129,133,98,96,7,2,1,1,1,6,1,1,4,10,19,26,75,70,105,136,145,121,135,144,0]
["Tabasco",7,4,8,1,6,5,22,23,51,90,139,223,330,409,468,424,342,277,295,0,6,3,5,0,3,5,16,15,26,54,73,131,171,216,243,202,142,109,103,0,1,1,3,1,3,0,6,8,25,36,66,92,159,193,225,222,200,168,192,0]
["Tamaulipas",7,3,0,3,1,8,11,22,48,73,160,208,338,442,460,485,432,349,478,8,5,3,0,1,1,4,6,15,33,37,85,126,179,254,254,251,214,168,183,6,2,0,0,2,0,4,5,7,15,36,75,82,159,188,206,234,218,181,295,2]
["Tlaxcala",8,1,1,3,4,1,10,11,17,26,40,86,110,176,175,168,218,170,278,0,4,0,1,1,2,0,8,6,9,19,24,46,54,95,97,91,99,66,103,0,4,1,0,2,2,1,2,5,8,7,16,40,56,81,78,77,119,104,175,0]
["Veracruz",17,14,7,11,18,28,55,77,149,255,459,726,1120,1374,1466,1544,1503,1304,1756,6,14,9,1,6,7,15,33,44,84,138,247,405,583,713,710,739,687,558,673,5,3,5,6,5,11,13,22,33,65,117,212,321,537,661,756,805,816,746,1083,1]
["Yucatán",2,5,0,2,5,3,4,13,14,31,67,77,143,183,229,234,204,194,204,0,1,3,0,0,4,2,2,8,7,17,33,37,73,86,99,108,93,73,71,0,1,2,0,2,1,1,2,5,7,14,34,40,70,97,130,126,111,121,133,0]
["Zacatecas",4,1,4,3,1,4,4,7,17,25,47,69,117,152,198,201,211,218,394,3,4,0,1,1,1,0,3,5,8,11,23,43,65,74,103,94,108,99,170,2,0,1,3,2,0,4,1,2,9,14,24,26,52,78,95,107,103,119,224,1]

{"sheet":"3GCM-G_Edad","index":67,"n_rows":24,"n_cols":10,"rows_kept":24,"cut":false,"hidden":false,"merged":[[0,0,0,9]]}
["Enfermedades endocrinas, nutricionales y metabólicas"]
["SELECCIONE UNA ENTIDAD"]
["Quintana Roo","2020","H - 2020","M - 2020","2021","H - 2021","M - 2021","2022","H - 2022","M - 2022"]
["Menores de 1 año",{"$f":"VLOOKUP($A$3,'3T-GCM-R_Edad2020'!$A$2:$BI$34,2,0)","v":2},{"$f":"VLOOKUP($A$3,'3T-GCM-R_Edad2020'!$A$2:$BI$34,22,0)","v":1},{"$f":"VLOOKUP($A$3,'3T-GCM-R_Edad2020'!$A$2:$BI$34,42,0)","v":1},{"$f":"VLOOKUP($A$3,'3T-GCM-R_Edad2021'!$A$2:$BI$34,2,0)","v":6},{"$f":"VLOOKUP($A$3,'3T-GCM-R_Edad2021'!$A$2:$BI$34,22,0)","v":5},{"$f":"VLOOKUP($A$3,'3T-GCM-R_Edad2021'!$A$2:$BI$34,42,0)","v":1},{"$f":"VLOOKUP($A$3,'3T-GCM-R_Edad2022'!$A$2:$BI$34,2,0)","v":4},{"$f":"VLOOKUP($A$3,'3T-GCM-R_Edad2022'!$A$2:$BI$34,22,0)","v":3},{"$f":"VLOOKUP($A$3,'3T-GCM-R_Edad2022'!$A$2:$BI$34,42,0)","v":1}]
["1-4 años",{"$f":"VLOOKUP($A$3,'3T-GCM-R_Edad2020'!$A$2:$BI$34,3,0)","v":1},{"$f":"VLOOKUP($A$3,'3T-GCM-R_Edad2020'!$A$2:$BI$34,23,0)","v":0},{"$f":"VLOOKUP($A$3,'3T-GCM-R_Edad2020'!$A$2:$BI$34,43,0)","v":1},{"$f":"VLOOKUP($A$3,'3T-GCM-R_Edad2021'!$A$2:$BI$34,3,0)","v":2},{"$f":"VLOOKUP($A$3,'3T-GCM-R_Edad2021'!$A$2:$BI$34,23,0)","v":1},{"$f":"VLOOKUP($A$3,'3T-GCM-R_Edad2021'!$A$2:$BI$34,43,0)","v":1},{"$f":"VLOOKUP($A$3,'3T-GCM-R_Edad2022'!$A$2:$BI$34,3,0)","v":5},{"$f":"VLOOKUP($A$3,'3T-GCM-R_Edad2022'!$A$2:$BI$34,23,0)","v":4},{"$f":"VLOOKUP($A$3,'3T-GCM-R_Edad2022'!$A$2:$BI$34,43,0)","v":1}]
["5-9 años",{"$f":"VLOOKUP($A$3,'3T-GCM-R_Edad2020'!$A$2:$BI$34,4,0)","v":2},{"$f":"VLOOKUP($A$3,'3T-GCM-R_Edad2020'!$A$2:$BI$34,24,0)","v":0},{"$f":"VLOOKUP($A$3,'3T-GCM-R_Edad2020'!$A$2:$BI$34,44,0)","v":2},{"$f":"VLOOKUP($A$3,'3T-GCM-R_Edad2021'!$A$2:$BI$34,4,0)","v":2},{"$f":"VLOOKUP($A$3,'3T-GCM-R_Edad2021'!$A$2:$BI$34,24,0)","v":1},{"$f":"VLOOKUP($A$3,'3T-GCM-R_Edad2021'!$A$2:$BI$34,44,0)","v":1},{"$f":"VLOOKUP($A$3,'3T-GCM-R_Edad2022'!$A$2:$BI$34,4,0)","v":2},{"$f":"VLOOKUP($A$3,'3T-GCM-R_Edad2022'!$A$2:$BI$34,24,0)","v":1},{"$f":"VLOOKUP($A$3,'3T-GCM-R_Edad2022'!$A$2:$BI$34,44,0)","v":1}]
["10-14 años",{"$f":"VLOOKUP($A$3,'3T-GCM-R_Edad2020'!$A$2:$BI$34,5,0)","v":1},{"$f":"VLOOKUP($A$3,'3T-GCM-R_Edad2020'!$A$2:$BI$34,25,0)","v":1},{"$f":"VLOOKUP($A$3,'3T-GCM-R_Edad2020'!$A$2:$BI$34,45,0)","v":0},{"$f":"VLOOKUP($A$3,'3T-GCM-R_Edad2021'!$A$2:$BI$34,5,0)","v":0},{"$f":"VLOOKUP($A$3,'3T-GCM-R_Edad2021'!$A$2:$BI$34,25,0)","v":0},{"$f":"VLOOKUP($A$3,'3T-GCM-R_Edad2021'!$A$2:$BI$34,45,0)","v":0},{"$f":"VLOOKUP($A$3,'3T-GCM-R_Edad2022'!$A$2:$BI$34,5,0)","v":2},{"$f":"VLOOKUP($A$3,'3T-GCM-R_Edad2022'!$A$2:$BI$34,25,0)","v":1},{"$f":"VLOOKUP($A$3,'3T-GCM-R_Edad2022'!$A$2:$BI$34,45,0)","v":1}]
["15-19 años",{"$f":"VLOOKUP($A$3,'3T-GCM-R_Edad2020'!$A$2:$BI$34,6,0)","v":1},{"$f":"VLOOKUP($A$3,'3T-GCM-R_Edad2020'!$A$2:$BI$34,26,0)","v":0},{"$f":"VLOOKUP($A$3,'3T-GCM-R_Edad2020'!$A$2:$BI$34,46,0)","v":1},{"$f":"VLOOKUP($A$3,'3T-GCM-R_Edad2021'!$A$2:$BI$34,6,0)","v":0},{"$f":"VLOOKUP($A$3,'3T-GCM-R_Edad2021'!$A$2:$BI$34,26,0)","v":0},{"$f":"VLOOKUP($A$3,'3T-GCM-R_Edad2021'!$A$2:$BI$34,46,0)","v":0},{"$f":"VLOOKUP($A$3,'3T-GCM-R_Edad2022'!$A$2:$BI$34,6,0)","v":6},{"$f":"VLOOKUP($A$3,'3T-GCM-R_Edad2022'!$A$2:$BI$34,26,0)","v":4},{"$f":"VLOOKUP($A$3,'3T-GCM-R_Edad2022'!$A$2:$BI$34,46,0)","v":2}]
["20-24 años",{"$f":"VLOOKUP($A$3,'3T-GCM-R_Edad2020'!$A$2:$BI$34,7,0)","v":3},{"$f":"VLOOKUP($A$3,'3T-GCM-R_Edad2020'!$A$2:$BI$34,27,0)","v":1},{"$f":"VLOOKUP($A$3,'3T-GCM-R_Edad2020'!$A$2:$BI$34,47,0)","v":2},{"$f":"VLOOKUP($A$3,'3T-GCM-R_Edad2021'!$A$2:$BI$34,7,0)","v":2},{"$f":"VLOOKUP($A$3,'3T-GCM-R_Edad2021'!$A$2:$BI$34,27,0)","v":2},{"$f":"VLOOKUP($A$3,'3T-GCM-R_Edad2021'!$A$2:$BI$34,47,0)","v":0},{"$f":"VLOOKUP($A$3,'3T-GCM-R_Edad2022'!$A$2:$BI$34,7,0)","v":8},{"$f":"VLOOKUP($A$3,'3T-GCM-R_Edad2022'!$A$2:$BI$34,27,0)","v":5},{"$f":"VLOOKUP($A$3,'3T-GCM-R_Edad2022'!$A$2:$BI$34,47,0)","v":3}]
["25-29 años",{"$f":"VLOOKUP($A$3,'3T-GCM-R_Edad2020'!$A$2:$BI$34,8,0)","v":9},{"$f":"VLOOKUP($A$3,'3T-GCM-R_Edad2020'!$A$2:$BI$34,28,0)","v":5},{"$f":"VLOOKUP($A$3,'3T-GCM-R_Edad2020'!$A$2:$BI$34,48,0)","v":4},{"$f":"VLOOKUP($A$3,'3T-GCM-R_Edad2021'!$A$2:$BI$34,8,0)","v":6},{"$f":"VLOOKUP($A$3,'3T-GCM-R_Edad2021'!$A$2:$BI$34,28,0)","v":2},{"$f":"VLOOKUP($A$3,'3T-GCM-R_Edad2021'!$A$2:$BI$34,48,0)","v":4},{"$f":"VLOOKUP($A$3,'3T-GCM-R_Edad2022'!$A$2:$BI$34,8,0)","v":5},{"$f":"VLOOKUP($A$3,'3T-GCM-R_Edad2022'!$A$2:$BI$34,28,0)","v":3},{"$f":"VLOOKUP($A$3,'3T-GCM-R_Edad2022'!$A$2:$BI$34,48,0)","v":2}]
["30-34 años",{"$f":"VLOOKUP($A$3,'3T-GCM-R_Edad2020'!$A$2:$BI$34,9,0)","v":16},{"$f":"VLOOKUP($A$3,'3T-GCM-R_Edad2020'!$A$2:$BI$34,29,0)","v":7},{"$f":"VLOOKUP($A$3,'3T-GCM-R_Edad2020'!$A$2:$BI$34,49,0)","v":9},{"$f":"VLOOKUP($A$3,'3T-GCM-R_Edad2021'!$A$2:$BI$34,9,0)","v":15},{"$f":"VLOOKUP($A$3,'3T-GCM-R_Edad2021'!$A$2:$BI$34,29,0)","v":11},{"$f":"VLOOKUP($A$3,'3T-GCM-R_Edad2021'!$A$2:$BI$34,49,0)","v":4},{"$f":"VLOOKUP($A$3,'3T-GCM-R_Edad2022'!$A$2:$BI$34,9,0)","v":7},{"$f":"VLOOKUP($A$3,'3T-GCM-R_Edad2022'!$A$2:$BI$34,29,0)","v":4},{"$f":"VLOOKUP($A$3,'3T-GCM-R_Edad2022'!$A$2:$BI$34,49,0)","v":3}]
["35-39 años",{"$f":"VLOOKUP($A$3,'3T-GCM-R_Edad2020'!$A$2:$BI$34,10,0)","v":23},{"$f":"VLOOKUP($A$3,'3T-GCM-R_Edad2020'!$A$2:$BI$34,30,0)","v":10},{"$f":"VLOOKUP($A$3,'3T-GCM-R_Edad2020'!$A$2:$BI$34,50,0)","v":13},{"$f":"VLOOKUP($A$3,'3T-GCM-R_Edad2021'!$A$2:$BI$34,10,0)","v":19},{"$f":"VLOOKUP($A$3,'3T-GCM-R_Edad2021'!$A$2:$BI$34,30,0)","v":8},{"$f":"VLOOKUP($A$3,'3T-GCM-R_Edad2021'!$A$2:$BI$34,50,0)","v":11},{"$f":"VLOOKUP($A$3,'3T-GCM-R_Edad2022'!$A$2:$BI$34,10,0)","v":20},{"$f":"VLOOKUP($A$3,'3T-GCM-R_Edad2022'!$A$2:$BI$34,30,0)","v":11},{"$f":"VLOOKUP($A$3,'3T-GCM-R_Edad2022'!$A$2:$BI$34,50,0)","v":9}]
["40-44 años",{"$f":"VLOOKUP($A$3,'3T-GCM-R_Edad2020'!$A$2:$BI$34,11,0)","v":56},{"$f":"VLOOKUP($A$3,'3T-GCM-R_Edad2020'!$A$2:$BI$34,31,0)","v":37},{"$f":"VLOOKUP($A$3,'3T-GCM-R_Edad2020'!$A$2:$BI$34,51,0)","v":19},{"$f":"VLOOKUP($A$3,'3T-GCM-R_Edad2021'!$A$2:$BI$34,11,0)","v":53},{"$f":"VLOOKUP($A$3,'3T-GCM-R_Edad2021'!$A$2:$BI$34,31,0)","v":35},{"$f":"VLOOKUP($A$3,'3T-GCM-R_Edad2021'!$A$2:$BI$34,51,0)","v":18},{"$f":"VLOOKUP($A$3,'3T-GCM-R_Edad2022'!$A$2:$BI$34,11,0)","v":39},{"$f":"VLOOKUP($A$3,'3T-GCM-R_Edad2022'!$A$2:$BI$34,31,0)","v":25},{"$f":"VLOOKUP($A$3,'3T-GCM-R_Edad2022'!$A$2:$BI$34,51,0)","v":14}]
["45-49 años",{"$f":"VLOOKUP($A$3,'3T-GCM-R_Edad2020'!$A$2:$BI$34,12,0)","v":97},{"$f":"VLOOKUP($A$3,'3T-GCM-R_Edad2020'!$A$2:$BI$34,32,0)","v":67},{"$f":"VLOOKUP($A$3,'3T-GCM-R_Edad2020'!$A$2:$BI$34,52,0)","v":30},{"$f":"VLOOKUP($A$3,'3T-GCM-R_Edad2021'!$A$2:$BI$34,12,0)","v":86},{"$f":"VLOOKUP($A$3,'3T-GCM-R_Edad2021'!$A$2:$BI$34,32,0)","v":45},{"$f":"VLOOKUP($A$3,'3T-GCM-R_Edad2021'!$A$2:$BI$34,52,0)","v":41},{"$f":"VLOOKUP($A$3,'3T-GCM-R_Edad2022'!$A$2:$BI$34,12,0)","v":70},{"$f":"VLOOKUP($A$3,'3T-GCM-R_Edad2022'!$A$2:$BI$34,32,0)","v":45},{"$f":"VLOOKUP($A$3,'3T-GCM-R_Edad2022'!$A$2:$BI$34,52,0)","v":25}]
["50-54 años",{"$f":"VLOOKUP($A$3,'3T-GCM-R_Edad2020'!$A$2:$BI$34,13,0)","v":120},{"$f":"VLOOKUP($A$3,'3T-GCM-R_Edad2020'!$A$2:$BI$34,33,0)","v":67},{"$f":"VLOOKUP($A$3,'3T-GCM-R_Edad2020'!$A$2:$BI$34,53,0)","v":53},{"$f":"VLOOKUP($A$3,'3T-GCM-R_Edad2021'!$A$2:$BI$34,13,0)","v":113},{"$f":"VLOOKUP($A$3,'3T-GCM-R_Edad2021'!$A$2:$BI$34,33,0)","v":61},{"$f":"VLOOKUP($A$3,'3T-GCM-R_Edad2021'!$A$2:$BI$34,53,0)","v":52},{"$f":"VLOOKUP($A$3,'3T-GCM-R_Edad2022'!$A$2:$BI$34,13,0)","v":112},{"$f":"VLOOKUP($A$3,'3T-GCM-R_Edad2022'!$A$2:$BI$34,33,0)","v":64},{"$f":"VLOOKUP($A$3,'3T-GCM-R_Edad2022'!$A$2:$BI$34,53,0)","v":48}]
["55-59 años",{"$f":"VLOOKUP($A$3,'3T-GCM-R_Edad2020'!$A$2:$BI$34,14,0)","v":160},{"$f":"VLOOKUP($A$3,'3T-GCM-R_Edad2020'!$A$2:$BI$34,34,0)","v":93},{"$f":"VLOOKUP($A$3,'3T-GCM-R_Edad2020'!$A$2:$BI$34,54,0)","v":67},{"$f":"VLOOKUP($A$3,'3T-GCM-R_Edad2021'!$A$2:$BI$34,14,0)","v":163},{"$f":"VLOOKUP($A$3,'3T-GCM-R_Edad2021'!$A$2:$BI$34,34,0)","v":89},{"$f":"VLOOKUP($A$3,'3T-GCM-R_Edad2021'!$A$2:$BI$34,54,0)","v":74},{"$f":"VLOOKUP($A$3,'3T-GCM-R_Edad2022'!$A$2:$BI$34,14,0)","v":162},{"$f":"VLOOKUP($A$3,'3T-GCM-R_Edad2022'!$A$2:$BI$34,34,0)","v":94},{"$f":"VLOOKUP($A$3,'3T-GCM-R_Edad2022'!$A$2:$BI$34,54,0)","v":68}]
["60-64 años",{"$f":"VLOOKUP($A$3,'3T-GCM-R_Edad2020'!$A$2:$BI$34,15,0)","v":193},{"$f":"VLOOKUP($A$3,'3T-GCM-R_Edad2020'!$A$2:$BI$34,35,0)","v":110},{"$f":"VLOOKUP($A$3,'3T-GCM-R_Edad2020'!$A$2:$BI$34,55,0)","v":83},{"$f":"VLOOKUP($A$3,'3T-GCM-R_Edad2021'!$A$2:$BI$34,15,0)","v":159},{"$f":"VLOOKUP($A$3,'3T-GCM-R_Edad2021'!$A$2:$BI$34,35,0)","v":89},{"$f":"VLOOKUP($A$3,'3T-GCM-R_Edad2021'!$A$2:$BI$34,55,0)","v":70},{"$f":"VLOOKUP($A$3,'3T-GCM-R_Edad2022'!$A$2:$BI$34,15,0)","v":173},{"$f":"VLOOKUP($A$3,'3T-GCM-R_Edad2022'!$A$2:$BI$34,35,0)","v":92},{"$f":"VLOOKUP($A$3,'3T-GCM-R_Edad2022'!$A$2:$BI$34,55,0)","v":81}]
["65-69 años",{"$f":"VLOOKUP($A$3,'3T-GCM-R_Edad2020'!$A$2:$BI$34,16,0)","v":214},{"$f":"VLOOKUP($A$3,'3T-GCM-R_Edad2020'!$A$2:$BI$34,36,0)","v":113},{"$f":"VLOOKUP($A$3,'3T-GCM-R_Edad2020'!$A$2:$BI$34,56,0)","v":101},{"$f":"VLOOKUP($A$3,'3T-GCM-R_Edad2021'!$A$2:$BI$34,16,0)","v":152},{"$f":"VLOOKUP($A$3,'3T-GCM-R_Edad2021'!$A$2:$BI$34,36,0)","v":71},{"$f":"VLOOKUP($A$3,'3T-GCM-R_Edad2021'!$A$2:$BI$34,56,0)","v":81},{"$f":"VLOOKUP($A$3,'3T-GCM-R_Edad2022'!$A$2:$BI$34,16,0)","v":146},{"$f":"VLOOKUP($A$3,'3T-GCM-R_Edad2022'!$A$2:$BI$34,36,0)","v":69},{"$f":"VLOOKUP($A$3,'3T-GCM-R_Edad2022'!$A$2:$BI$34,56,0)","v":77}]
["70-74 años",{"$f":"VLOOKUP($A$3,'3T-GCM-R_Edad2020'!$A$2:$BI$34,17,0)","v":192},{"$f":"VLOOKUP($A$3,'3T-GCM-R_Edad2020'!$A$2:$BI$34,37,0)","v":88},{"$f":"VLOOKUP($A$3,'3T-GCM-R_Edad2020'!$A$2:$BI$34,57,0)","v":104},{"$f":"VLOOKUP($A$3,'3T-GCM-R_Edad2021'!$A$2:$BI$34,17,0)","v":158},{"$f":"VLOOKUP($A$3,'3T-GCM-R_Edad2021'!$A$2:$BI$34,37,0)","v":87},{"$f":"VLOOKUP($A$3,'3T-GCM-R_Edad2021'!$A$2:$BI$34,57,0)","v":71},{"$f":"VLOOKUP($A$3,'3T-GCM-R_Edad2022'!$A$2:$BI$34,17,0)","v":150},{"$f":"VLOOKUP($A$3,'3T-GCM-R_Edad2022'!$A$2:$BI$34,37,0)","v":71},{"$f":"VLOOKUP($A$3,'3T-GCM-R_Edad2022'!$A$2:$BI$34,57,0)","v":79}]
["75-79 años",{"$f":"VLOOKUP($A$3,'3T-GCM-R_Edad2020'!$A$2:$BI$34,18,0)","v":144},{"$f":"VLOOKUP($A$3,'3T-GCM-R_Edad2020'!$A$2:$BI$34,38,0)","v":63},{"$f":"VLOOKUP($A$3,'3T-GCM-R_Edad2020'!$A$2:$BI$34,58,0)","v":81},{"$f":"VLOOKUP($A$3,'3T-GCM-R_Edad2021'!$A$2:$BI$34,18,0)","v":149},{"$f":"VLOOKUP($A$3,'3T-GCM-R_Edad2021'!$A$2:$BI$34,38,0)","v":72},{"$f":"VLOOKUP($A$3,'3T-GCM-R_Edad2021'!$A$2:$BI$34,58,0)","v":77},{"$f":"VLOOKUP($A$3,'3T-GCM-R_Edad2022'!$A$2:$BI$34,18,0)","v":121},{"$f":"VLOOKUP($A$3,'3T-GCM-R_Edad2022'!$A$2:$BI$34,38,0)","v":53},{"$f":"VLOOKUP($A$3,'3T-GCM-R_Edad2022'!$A$2:$BI$34,58,0)","v":68}]
["80-84 años",{"$f":"VLOOKUP($A$3,'3T-GCM-R_Edad2020'!$A$2:$BI$34,19,0)","v":111},{"$f":"VLOOKUP($A$3,'3T-GCM-R_Edad2020'!$A$2:$BI$34,39,0)","v":52},{"$f":"VLOOKUP($A$3,'3T-GCM-R_Edad2020'!$A$2:$BI$34,59,0)","v":59},{"$f":"VLOOKUP($A$3,'3T-GCM-R_Edad2021'!$A$2:$BI$34,19,0)","v":101},{"$f":"VLOOKUP($A$3,'3T-GCM-R_Edad2021'!$A$2:$BI$34,39,0)","v":48},{"$f":"VLOOKUP($A$3,'3T-GCM-R_Edad2021'!$A$2:$BI$34,59,0)","v":53},{"$f":"VLOOKUP($A$3,'3T-GCM-R_Edad2022'!$A$2:$BI$34,19,0)","v":111},{"$f":"VLOOKUP($A$3,'3T-GCM-R_Edad2022'!$A$2:$BI$34,39,0)","v":60},{"$f":"VLOOKUP($A$3,'3T-GCM-R_Edad2022'!$A$2:$BI$34,59,0)","v":51}]
["85 años y más",{"$f":"VLOOKUP($A$3,'3T-GCM-R_Edad2020'!$A$2:$BI$34,20,0)","v":92},{"$f":"VLOOKUP($A$3,'3T-GCM-R_Edad2020'!$A$2:$BI$34,40,0)","v":40},{"$f":"VLOOKUP($A$3,'3T-GCM-R_Edad2020'!$A$2:$BI$34,60,0)","v":52},{"$f":"VLOOKUP($A$3,'3T-GCM-R_Edad2021'!$A$2:$BI$34,20,0)","v":99},{"$f":"VLOOKUP($A$3,'3T-GCM-R_Edad2021'!$A$2:$BI$34,40,0)","v":47},{"$f":"VLOOKUP($A$3,'3T-GCM-R_Edad2021'!$A$2:$BI$34,60,0)","v":52},{"$f":"VLOOKUP($A$3,'3T-GCM-R_Edad2022'!$A$2:$BI$34,20,0)","v":121},{"$f":"VLOOKUP($A$3,'3T-GCM-R_Edad2022'!$A$2:$BI$34,40,0)","v":55},{"$f":"VLOOKUP($A$3,'3T-GCM-R_Edad2022'!$A$2:$BI$34,60,0)","v":66}]
["No especificado",{"$f":"VLOOKUP($A$3,'3T-GCM-R_Edad2020'!$A$2:$BI$34,21,0)","v":2},{"$f":"VLOOKUP($A$3,'3T-GCM-R_Edad2020'!$A$2:$BI$34,41,0)","v":1},{"$f":"VLOOKUP($A$3,'3T-GCM-R_Edad2020'!$A$2:$BI$34,61,0)","v":1},{"$f":"VLOOKUP($A$3,'3T-GCM-R_Edad2021'!$A$2:$BI$34,21,0)","v":0},{"$f":"VLOOKUP($A$3,'3T-GCM-R_Edad2021'!$A$2:$BI$34,41,0)","v":0},{"$f":"VLOOKUP($A$3,'3T-GCM-R_Edad2021'!$A$2:$BI$34,61,0)","v":0},{"$f":"VLOOKUP($A$3,'3T-GCM-R_Edad2022'!$A$2:$BI$34,21,0)","v":0},{"$f":"VLOOKUP($A$3,'3T-GCM-R_Edad2022'!$A$2:$BI$34,41,0)","v":0},{"$f":"VLOOKUP($A$3,'3T-GCM-R_Edad2022'!$A$2:$BI$34,61,0)","v":0}]
["Total",{"$f":"SUM(B4:B23)","v":1439},756,683,1285,674,611,1264,664,600]

{"sheet":"4T-GCM-R_Edad2020","index":68,"n_rows":34,"n_cols":61,"rows_kept":34,"cut":false,"hidden":true,"merged":[]}
[1,2,3,4,5,6,7,8,9,10,11,12,13,14,15,16,17,18,19,20,21,22,23,24,25,26,27,28,29,30,31,32,33,34,35,36,37,38,39,40,41,42,43,44,45,46,47,48,49,50,51,52,53,54,55,56,57,58,59,60,61]
["ESTADO","Menores de 1 año","1-4 años","5-9 años","10-14 años","15-19 años","20-24 años","25-29 años","30-34 años","35-39 años","40-44 años","45-49 años","50-54 años","55-59 años","60-64 años","65-69 años","70-74 años","75-79 años","80-84 años","85 años y más","No especificado","H Menores de 1 año","H 1-4 años","H 5-9 años","H 10-14 años","H 15-19 años","H 20-24 años","H 25-29 años","H 30-34 años","H 35-39 años","H 40-44 años","H 45-49 años","H 50-54 años","H 55-59 años","H 60-64 años","H 65-69 años","H 70-74 años","H 75-79 años","H 80-84 años","H 85 años y más","H No especificado","   M Menores de 1 año ","M 1-4 años","M 5-9 años","M 10-14 años","M 15-19 años","M 20-24 años","M 25-29 años","M 30-34 años","M 35-39 años","M 40-44 años","M 45-49 años","M 50-54 años","M 55-59 años","M 60-64 años","M 65-69 años","M 70-74 años","M 75-79 años","M 80-84 años","M 85 años y    ás","M No especificado"]
["Aguascalientes",0,2,4,6,13,10,14,11,22,33,57,68,85,106,127,122,118,93,127,0,0,2,2,5,7,7,8,5,7,12,24,26,39,53,61,77,62,58,78,0,0,0,2,1,6,3,6,6,15,21,33,42,46,53,66,45,56,35,49,0]
["Baja California",3,17,18,18,24,28,42,49,75,137,190,213,292,369,374,339,306,240,236,2,2,7,12,12,12,17,21,22,31,45,71,94,145,192,195,165,161,125,127,2,1,10,6,6,12,11,21,27,44,92,119,119,147,177,179,174,145,115,109,0]
["Baja California Sur",2,3,0,1,7,8,10,6,10,23,30,51,60,79,74,83,77,50,44,1,1,1,0,1,3,5,5,2,4,9,13,23,30,45,37,43,45,29,25,1,1,2,0,0,4,3,5,4,6,14,17,28,30,34,37,40,32,21,19,0]
["Campeche",1,1,3,5,5,1,8,18,19,27,40,35,58,79,62,83,63,67,70,1,1,1,1,3,3,0,5,5,7,13,17,17,26,38,33,50,37,37,45,1,0,0,2,2,2,1,3,13,12,14,23,18,32,41,29,33,26,30,25,0]
["Coahuila",5,10,6,13,18,19,22,41,57,95,147,185,255,290,284,303,318,232,220,0,3,6,5,8,7,14,13,15,19,31,56,67,110,129,160,175,178,140,139,0,2,4,1,5,11,5,9,26,38,64,91,118,145,161,124,128,140,92,81,0]
["Colima",1,3,0,1,4,9,5,7,17,24,30,52,48,92,67,82,75,60,65,0,1,0,0,1,0,4,3,2,10,4,5,15,16,48,38,46,45,37,30,0,0,3,0,0,4,5,2,5,7,20,25,37,32,44,29,36,30,23,35,0]
["Chiapas",9,34,36,47,60,66,94,96,118,161,218,221,299,370,413,428,399,347,330,0,5,23,21,26,42,39,48,44,51,56,78,65,118,156,205,224,237,204,192,0,4,11,15,21,18,27,46,52,67,105,140,156,181,214,208,204,162,143,138,0]
["Chihuahua",1,10,16,15,29,31,49,53,78,122,179,239,326,434,392,389,393,321,272,1,1,3,7,6,24,19,24,28,38,46,64,90,152,203,227,211,202,183,143,1,0,7,9,9,5,12,25,25,40,76,115,149,174,231,165,178,191,138,129,0]
["Ciudad de México",12,64,82,96,140,151,157,222,278,440,697,920,1145,1390,1585,1548,1378,1070,1157,0,8,34,46,55,79,106,91,129,121,171,222,350,491,608,744,801,709,586,585,0,4,30,36,41,61,45,66,93,157,269,475,570,654,782,841,747,669,484,572,0]
["Durango",3,7,4,3,5,4,22,18,32,51,84,80,108,121,151,139,133,106,122,1,0,6,2,2,4,3,12,8,16,10,26,30,46,67,75,74,84,57,70,0,3,1,2,1,1,1,10,10,16,41,58,50,62,54,76,65,49,49,52,1]
["Guanajuato",6,24,16,35,50,56,50,53,109,120,225,316,328,430,502,491,449,394,447,0,4,14,8,18,33,33,27,32,37,45,81,128,103,196,265,259,259,214,246,0,2,10,8,17,17,23,23,21,72,75,144,188,225,234,237,232,190,180,201,0]
["Guerrero",3,7,2,9,12,22,26,34,59,67,105,114,160,206,232,208,248,219,223,0,1,4,1,6,9,15,11,16,18,19,38,42,69,102,108,116,147,118,132,0,2,3,1,3,3,7,15,18,41,48,67,72,91,104,124,92,101,101,91,0]
["Hidalgo",1,11,10,13,22,25,28,33,58,74,111,129,174,225,246,286,259,229,248,0,0,8,4,8,15,21,13,10,26,26,40,49,69,114,103,152,150,135,147,0,1,3,6,5,7,4,15,23,32,48,71,80,105,111,143,134,109,94,101,0]
["Jalisco",5,17,30,36,55,67,73,115,144,221,347,486,615,788,853,890,875,652,833,6,5,9,14,19,34,36,44,60,51,83,138,212,267,360,415,465,507,359,468,4,0,8,16,17,21,31,29,55,93,138,209,274,348,428,438,425,368,293,365,2]
["México",10,23,31,35,73,77,134,144,214,370,560,704,918,1133,1101,1108,1046,818,806,0,4,11,18,13,49,51,79,65,94,132,195,245,386,514,554,581,546,455,437,0,6,12,13,22,24,26,55,79,120,238,365,459,532,619,547,527,500,363,369,0]
["Michoacán",1,10,17,13,24,36,33,59,99,110,167,210,293,356,409,411,421,382,488,0,1,8,5,6,14,18,21,25,33,43,62,79,118,155,215,209,246,215,297,0,0,2,12,7,10,18,12,34,66,67,105,131,175,201,194,202,175,167,191,0]
["Morelos",2,7,12,12,12,13,21,22,27,52,98,120,130,161,220,195,225,172,199,0,0,3,7,9,7,12,15,10,10,17,34,48,50,80,113,108,117,99,95,0,2,4,5,3,5,1,6,12,17,35,64,72,80,81,107,87,108,73,104,0]
["Nayarit",1,2,2,2,6,6,10,10,17,28,43,59,82,83,119,118,137,117,128,0,1,1,1,0,5,3,4,1,5,9,13,23,34,41,67,71,80,80,82,0,0,1,1,2,1,3,6,9,12,19,30,36,48,42,52,47,57,37,46,0]
["Nuevo León",5,30,34,27,35,38,47,65,102,180,249,355,465,542,569,633,540,431,439,1,4,21,18,18,21,22,23,25,39,67,100,143,206,273,328,354,291,243,234,1,1,9,16,9,14,16,24,40,63,113,149,212,259,269,241,279,249,188,205,0]
["Oaxaca",3,11,18,20,32,41,33,47,80,92,140,156,256,303,301,360,374,327,367,0,2,6,10,11,21,27,18,25,33,31,46,73,89,135,129,178,194,182,210,0,1,5,8,9,11,14,15,22,47,61,94,83,167,168,172,182,180,145,157,0]
["Puebla",7,34,31,39,70,56,94,58,141,196,275,317,404,474,463,515,511,433,448,0,5,12,14,27,43,34,55,31,50,74,72,114,163,213,208,257,259,229,236,0,2,22,17,12,27,22,39,27,91,122,203,203,241,261,255,258,252,204,212,0]
["Querétaro",3,11,5,11,16,18,27,26,42,51,87,121,138,169,185,195,195,144,158,0,2,7,4,6,9,11,19,12,18,19,26,38,62,79,96,114,103,74,81,0,1,4,1,5,7,7,8,14,24,32,61,83,76,90,89,81,92,70,77,0]
["Quintana Roo",1,4,7,6,7,10,21,20,31,47,39,71,86,95,105,105,93,68,46,0,1,4,5,3,4,5,12,6,8,11,14,29,42,43,49,61,52,36,26,0,0,0,2,3,3,5,9,14,23,36,25,42,44,52,56,44,41,32,20,0]
["San Luis Potosí",3,7,17,12,19,19,19,32,48,62,96,139,148,207,252,252,257,239,269,1,2,5,11,4,11,12,14,13,18,20,24,51,61,95,125,124,155,137,141,1,1,2,6,8,8,7,5,19,30,42,72,88,87,112,127,128,102,102,128,0]
["Sinaloa",2,6,5,4,13,20,24,35,50,65,121,156,206,268,303,313,337,258,252,1,0,4,2,2,9,10,9,14,18,29,50,66,90,143,162,191,210,163,156,1,2,2,3,2,4,10,15,21,32,36,71,90,116,125,141,122,127,95,96,0]
["Sonora",1,14,11,8,21,15,33,47,62,101,153,186,269,340,353,335,333,262,236,2,1,8,6,3,12,11,23,23,25,33,61,80,129,184,194,203,201,145,132,1,0,6,5,5,9,4,10,24,37,68,92,106,140,156,159,132,132,117,104,1]
["Tabasco",1,7,9,15,27,29,43,38,67,78,98,111,170,179,196,149,176,151,144,0,0,4,5,9,16,17,21,20,26,26,31,43,79,94,106,79,108,90,99,0,1,3,4,6,11,12,22,18,41,52,67,68,91,85,90,70,68,61,45,0]
["Tamaulipas",3,9,7,8,17,21,29,36,74,102,156,186,258,332,306,334,340,276,262,1,1,7,4,5,9,14,16,14,26,38,51,81,120,165,166,185,196,156,145,1,2,2,3,3,8,7,13,22,48,64,105,105,138,167,140,149,144,120,117,0]
["Tlaxcala",3,5,2,6,4,14,10,10,19,36,52,63,69,83,100,86,89,74,96,0,3,2,1,1,2,9,5,1,9,17,15,22,20,48,37,43,42,43,60,0,0,3,1,5,2,5,5,9,10,19,37,41,49,35,63,43,47,31,36,0]
["Veracruz",8,18,28,27,74,64,80,105,160,234,361,461,607,709,826,849,861,705,718,2,4,7,20,17,44,40,45,41,62,74,123,171,266,329,396,424,450,395,427,1,4,11,8,10,30,24,35,64,98,160,238,290,341,380,430,425,411,310,291,1]
["Yucatán",2,9,16,6,21,18,26,22,48,63,91,104,134,192,195,211,190,150,146,0,0,6,10,4,12,14,15,12,20,22,34,38,60,93,103,101,111,76,90,0,2,3,6,2,9,4,11,10,28,41,57,66,74,99,92,110,79,74,56,0]
["Zacatecas",2,5,2,2,9,10,19,15,26,40,53,80,93,119,113,172,163,164,183,0,1,2,0,1,7,5,9,6,12,15,21,26,40,48,66,96,106,105,120,0,1,3,2,1,2,5,10,9,14,25,32,54,53,71,47,76,57,59,63,0]

{"sheet":"4T-GCM-R_Edad2021","index":69,"n_rows":34,"n_cols":61,"rows_kept":34,"cut":false,"hidden":true,"merged":[]}
[1,2,3,4,5,6,7,8,9,10,11,12,13,14,15,16,17,18,19,20,21,22,23,24,25,26,27,28,29,30,31,32,33,34,35,36,37,38,39,40,41,42,43,44,45,46,47,48,49,50,51,52,53,54,55,56,57,58,59,60,61]
["ESTADO","Menores de 1 año","1-4 años","5-9 años","10-14 años","15-19 años","20-24 años","25-29 años","30-34 años","35-39 años","40-44 años","45-49 años","50-54 años","55-59 años","60-64 años","65-69 años","70-74 años","75-79 años","80-84 años","85 años y más","No especificado","H Menores de 1 año","H 1-4 años","H 5-9 años","H 10-14 años","H 15-19 años","H 20-24 años","H 25-29 años","H 30-34 años","H 35-39 años","H 40-44 años","H 45-49 años","H 50-54 años","H 55-59 años","H 60-64 años","H 65-69 años","H 70-74 años","H 75-79 años","H 80-84 años","H 85 años y más","H No especificado","   M Menores de 1 año ","M 1-4 años","M 5-9 años","M 10-14 años","M 15-19 años","M 20-24 años","M 25-29 años","M 30-34 años","M 35-39 años","M 40-44 años","M 45-49 años","M 50-54 años","M 55-59 años","M 60-64 años","M 65-69 años","M 70-74 años","M 75-79 años","M 80-84 años","M 85 años y    ás","M No especificado"]
["Aguascalientes",0,4,6,7,11,16,7,16,25,43,53,75,90,126,146,122,117,82,102,0,0,1,3,3,10,10,3,7,6,14,18,23,30,54,68,64,57,46,56,0,0,3,3,4,1,6,4,9,19,29,35,52,60,72,78,58,60,36,46,0]
["Baja California",3,10,15,21,19,24,48,55,88,122,197,259,288,368,368,326,320,249,243,3,0,7,10,12,13,17,23,22,33,45,81,115,129,199,204,177,159,139,127,3,3,3,5,9,6,7,25,33,55,77,116,144,159,169,164,149,161,110,116,0]
["Baja California Sur",0,2,2,3,1,7,7,3,13,25,36,31,70,76,84,76,79,49,49,0,0,1,1,2,0,3,6,0,3,9,7,18,41,41,52,51,49,23,26,0,0,1,1,1,1,4,1,3,10,16,29,13,29,35,32,25,30,26,23,0]
["Campeche",1,3,3,4,5,5,7,16,20,26,32,53,57,80,84,77,60,50,57,0,1,1,1,2,2,4,4,5,10,9,10,19,28,38,49,38,38,29,31,0,0,2,2,2,3,1,3,11,10,17,22,34,29,42,35,39,22,21,26,0]
["Coahuila",4,17,15,11,11,31,26,45,64,82,149,196,253,294,296,304,261,216,199,1,2,13,8,8,8,21,15,15,20,28,48,79,107,149,175,169,140,118,107,0,2,4,7,3,3,10,11,30,44,54,101,117,146,145,121,135,121,98,92,1]
["Colima",1,1,5,2,10,6,11,9,14,22,41,43,71,82,77,72,97,51,84,1,0,1,3,2,4,4,4,1,7,8,14,18,31,40,37,37,56,28,50,1,1,0,2,0,6,2,7,8,7,14,27,25,40,42,40,35,41,23,34,0]
["Chiapas",7,36,26,42,75,80,78,86,135,178,237,268,297,345,423,366,443,362,360,0,5,25,12,26,50,49,50,35,48,61,87,111,113,150,193,205,242,213,209,0,2,11,14,16,25,31,28,51,87,117,150,157,184,195,230,161,201,149,151,0]
["Chihuahua",1,8,22,24,20,29,31,43,59,113,175,255,345,400,399,420,357,338,270,1,0,3,11,16,9,17,17,17,21,40,71,100,147,190,221,227,183,176,149,0,1,5,11,8,11,12,14,26,38,73,104,155,198,210,178,193,174,162,121,1]
["Ciudad de México",10,52,82,80,131,146,162,198,284,428,679,845,1140,1370,1517,1484,1389,1062,1133,0,3,36,36,46,85,96,103,103,125,160,266,325,469,609,730,730,689,524,533,0,7,16,46,34,46,50,59,95,159,268,413,520,671,761,787,754,700,538,600,0]
["Durango",3,6,6,8,8,8,16,19,26,42,82,87,113,114,155,168,144,116,106,0,1,2,5,6,6,6,12,10,14,12,25,30,45,58,85,92,78,61,62,0,2,4,1,2,2,2,4,9,12,30,57,57,68,56,70,76,66,55,44,0]
["Guanajuato",7,16,21,30,33,34,69,92,118,151,225,285,354,424,497,491,442,375,466,0,3,6,14,16,23,23,34,39,47,51,83,114,158,187,247,258,227,225,264,0,4,10,7,14,10,11,35,53,71,100,142,171,196,237,250,233,215,150,202,0]
["Guerrero",1,4,7,5,14,34,27,25,44,72,100,119,141,187,255,226,207,207,224,0,1,3,6,1,9,19,18,12,22,23,39,40,65,78,115,125,102,117,124,0,0,1,1,4,5,15,9,13,22,49,61,79,76,109,140,101,105,90,100,0]
["Hidalgo",1,8,6,11,9,14,24,31,57,78,111,133,167,207,233,299,277,209,235,0,1,3,3,3,4,9,13,20,21,31,51,45,74,96,120,161,166,124,125,0,0,5,3,8,5,5,11,11,36,47,60,88,93,111,113,138,111,85,110,0]
["Jalisco",9,21,28,30,64,68,53,109,151,227,348,513,622,715,885,894,845,706,797,5,5,11,14,15,39,53,31,58,56,81,129,204,262,327,453,463,477,404,450,4,4,10,14,15,25,15,22,51,95,146,219,309,360,388,432,431,368,302,347,1]
["México",1,25,22,40,70,97,124,146,227,335,541,737,928,1059,1207,1164,997,833,819,0,0,16,13,20,43,72,74,71,76,97,174,266,363,442,591,596,513,435,436,0,1,9,9,20,27,25,50,75,151,238,367,471,565,617,616,568,484,398,383,0]
["Michoacán",4,10,13,14,32,37,42,47,68,117,165,234,277,346,432,429,450,365,468,1,1,4,10,8,14,27,26,27,23,46,63,95,105,171,233,232,236,229,268,1,3,6,3,6,18,10,16,20,45,71,102,139,172,175,199,197,214,136,200,0]
["Morelos",0,4,8,9,9,17,11,22,31,52,76,103,150,146,205,225,215,166,196,0,0,2,3,5,6,13,7,12,12,15,27,42,64,60,104,116,116,97,93,0,0,2,5,4,3,4,4,10,19,37,49,61,86,86,101,109,99,69,103,0]
["Nayarit",0,6,2,1,5,6,16,9,22,23,38,47,74,93,121,135,158,131,144,2,0,3,1,1,1,4,8,5,7,9,14,23,37,39,67,74,89,86,99,2,0,3,1,0,4,2,8,4,15,14,24,24,37,54,54,61,69,45,45,0]
["Nuevo León",3,28,35,29,35,55,59,64,102,188,286,384,461,542,568,567,508,448,429,0,1,14,18,16,26,28,30,30,31,62,112,157,237,257,298,312,283,245,229,0,2,14,17,13,9,27,29,34,71,126,174,227,224,285,270,255,225,203,200,0]
["Oaxaca",2,14,18,20,18,20,43,58,96,127,150,217,271,309,320,393,406,316,393,0,2,9,8,11,9,13,20,31,31,52,59,73,104,137,163,201,204,164,212,0,0,5,10,9,9,7,23,27,65,75,91,144,167,172,157,192,202,152,181,0]
["Puebla",7,28,31,56,51,54,78,72,126,151,271,304,366,462,484,487,477,366,421,1,4,14,16,34,35,35,47,40,62,46,91,109,146,199,242,242,229,179,222,0,3,14,15,22,16,19,31,32,64,105,180,195,220,263,242,245,248,187,199,1]
["Querétaro",4,10,5,14,11,13,19,22,38,67,83,125,137,167,213,200,180,163,164,0,3,9,4,11,6,9,7,12,11,26,27,44,58,73,101,100,97,87,86,0,1,1,1,3,5,4,12,10,27,41,56,81,79,94,112,100,83,76,78,0]
["Quintana Roo",1,3,1,8,8,9,12,21,22,37,53,64,84,122,120,117,82,71,58,1,1,3,0,5,5,7,9,8,11,11,13,19,40,53,67,64,42,41,35,0,0,0,1,3,3,2,3,13,11,26,40,45,44,69,53,53,40,30,23,1]
["San Luis Potosí",1,11,8,9,19,18,20,30,46,70,117,156,180,200,268,264,270,233,298,0,0,7,3,5,7,12,8,11,14,23,50,53,66,92,134,150,146,130,188,0,1,4,5,4,12,6,12,19,32,47,67,103,114,108,134,114,124,103,110,0]
["Sinaloa",0,7,6,5,10,17,24,34,55,68,116,156,197,284,321,340,344,285,261,0,0,2,4,4,9,11,11,13,21,26,39,59,96,145,183,181,211,175,136,0,0,5,2,1,1,6,13,21,34,42,77,97,101,139,138,159,133,110,125,0]
["Sonora",2,9,11,15,17,30,31,36,57,90,138,204,221,296,358,317,305,250,241,0,1,4,4,6,11,23,16,16,28,28,49,75,104,144,193,174,168,137,125,0,1,5,7,9,6,7,15,20,29,62,89,129,117,152,165,143,137,113,116,0]
["Tabasco",3,11,15,15,27,13,30,43,51,75,79,124,175,186,200,201,179,156,147,0,2,4,8,8,20,11,14,21,17,22,28,46,78,102,99,107,99,106,85,0,1,7,7,7,7,2,16,22,34,53,51,78,97,84,101,94,80,50,62,0]
["Tamaulipas",2,8,5,11,12,24,32,45,66,117,159,212,256,319,331,313,329,241,249,0,2,7,2,3,8,15,15,15,27,28,48,83,118,138,169,160,178,133,139,0,0,1,3,8,4,9,17,30,39,89,111,129,138,181,162,153,151,108,110,0]
["Tlaxcala",1,2,1,6,4,10,16,14,17,34,32,52,72,70,83,79,64,56,85,0,1,2,1,3,2,5,8,6,4,12,12,13,30,34,36,39,32,32,37,0,0,0,0,3,2,5,8,8,13,22,20,39,42,36,47,40,32,24,48,0]
["Veracruz",7,18,22,44,55,72,78,136,181,242,352,451,608,709,812,872,827,697,761,0,4,10,14,19,36,38,44,66,58,67,125,166,217,322,390,415,440,390,426,0,3,8,8,25,19,34,34,70,123,175,227,285,391,387,422,457,387,307,335,0]
["Yucatán",0,9,8,12,20,17,33,32,36,55,111,115,166,185,249,238,235,166,152,0,0,5,4,9,14,12,18,16,20,20,42,50,65,92,133,113,116,84,79,0,0,4,4,3,6,5,15,16,16,35,69,65,101,93,116,125,119,82,73,0]
["Zacatecas",0,5,5,9,14,7,13,18,17,43,58,83,106,126,145,140,159,172,191,0,0,2,2,5,10,4,7,8,6,18,12,28,39,53,66,74,103,90,113,0,0,3,3,4,4,3,6,10,11,25,46,55,67,73,79,66,56,82,78,0]

{"sheet":"4T-GCM-R_Edad2022","index":70,"n_rows":34,"n_cols":61,"rows_kept":34,"cut":false,"hidden":true,"merged":[]}
[1,2,3,4,5,6,7,8,9,10,11,12,13,14,15,16,17,18,19,20,21,22,23,24,25,26,27,28,29,30,31,32,33,34,35,36,37,38,39,40,41,42,43,44,45,46,47,48,49,50,51,52,53,54,55,56,57,58,59,60,61]
["ESTADO","Menores de 1 año","1-4 años","5-9 años","10-14 años","15-19 años","20-24 años","25-29 años","30-34 años","35-39 años","40-44 años","45-49 años","50-54 años","55-59 años","60-64 años","65-69 años","70-74 años","75-79 años","80-84 años","85 años y más","No especificado","H Menores de 1 año","H 1-4 años","H 5-9 años","H 10-14 años","H 15-19 años","H 20-24 años","H 25-29 años","H 30-34 años","H 35-39 años","H 40-44 años","H 45-49 años","H 50-54 años","H 55-59 años","H 60-64 años","H 65-69 años","H 70-74 años","H 75-79 años","H 80-84 años","H 85 años y más","H No especificado","   M Menores de 1 año ","M 1-4 años","M 5-9 años","M 10-14 años","M 15-19 años","M 20-24 años","M 25-29 años","M 30-34 años","M 35-39 años","M 40-44 años","M 45-49 años","M 50-54 años","M 55-59 años","M 60-64 años","M 65-69 años","M 70-74 años","M 75-79 años","M 80-84 años","M 85 años y    ás","M No especificado"]
["Aguascalientes",1,2,5,6,8,14,12,13,18,31,49,62,110,104,116,141,124,100,96,0,0,0,2,4,4,11,4,6,4,11,24,26,43,36,57,77,69,61,43,0,1,2,3,2,4,3,8,7,14,20,25,36,67,68,59,64,55,39,53,0]
["Baja California",4,19,20,22,22,30,36,65,79,140,184,213,344,376,375,326,316,229,222,5,4,8,15,12,9,21,18,20,25,41,72,84,172,188,191,171,169,114,109,3,0,11,5,10,13,9,18,45,54,99,112,129,172,188,184,155,147,115,113,2]
["Baja California Sur",0,5,2,4,7,4,14,16,17,21,38,44,67,64,82,68,77,54,44,2,0,3,2,2,7,3,10,9,9,9,20,18,32,34,44,40,48,30,26,2,0,2,0,2,0,1,4,7,8,12,18,26,35,30,38,28,29,24,18,0]
["Campeche",0,3,2,2,4,8,9,20,17,25,43,45,61,79,85,90,87,58,56,1,0,2,1,2,4,5,5,11,5,13,14,18,29,43,36,51,44,29,34,1,0,1,1,0,0,3,4,9,12,12,29,27,32,36,49,39,43,29,22,0]
["Coahuila",2,9,6,22,15,19,35,43,59,90,165,181,257,285,322,332,301,200,196,0,1,5,1,12,13,12,21,11,18,35,53,72,106,135,171,180,159,103,109,0,1,4,5,10,2,7,14,32,41,55,112,109,151,150,151,152,142,97,87,0]
["Colima",0,0,1,2,5,3,13,5,23,18,40,33,58,80,76,85,78,70,65,0,0,0,0,0,4,3,6,1,8,7,12,15,20,41,42,53,38,42,41,0,0,0,1,2,1,0,7,4,15,11,28,18,38,39,34,32,40,28,24,0]
["Chiapas",6,30,29,52,61,55,79,105,117,180,201,268,281,350,382,364,343,318,285,0,2,14,20,31,30,37,45,53,50,63,70,104,110,150,194,184,183,165,163,0,4,16,9,21,31,18,34,52,67,117,131,164,171,200,188,180,160,153,122,0]
["Chihuahua",3,16,11,12,33,36,35,56,80,89,182,260,310,390,395,421,382,307,287,0,3,6,5,3,21,23,22,30,25,33,70,111,123,199,203,218,211,161,151,0,0,10,6,9,12,13,13,26,55,56,112,149,187,191,192,203,171,146,136,0]
["Ciudad de México",12,58,68,95,136,128,157,232,305,394,667,861,1160,1376,1553,1521,1409,1078,1156,1,6,35,39,50,84,81,94,118,119,158,232,348,453,603,716,721,711,523,536,0,6,23,29,45,52,47,63,114,186,236,435,513,707,773,837,800,698,555,620,1]
["Durango",2,4,3,5,7,8,10,14,23,56,57,99,119,152,161,155,181,111,119,1,1,3,2,3,7,4,4,7,12,15,19,45,53,62,81,86,102,69,69,1,1,1,1,2,0,4,6,7,11,41,38,54,66,90,80,69,79,42,50,0]
["Guanajuato",5,11,25,26,30,53,41,79,104,158,241,292,377,430,460,466,498,366,429,1,2,7,18,15,21,30,22,31,41,51,90,112,150,180,215,241,260,188,253,0,3,4,7,11,9,23,19,48,63,107,151,180,227,250,245,225,238,178,176,1]
["Guerrero",1,3,5,5,14,26,31,27,46,71,88,149,174,231,243,220,233,211,216,0,1,1,2,4,9,16,16,9,16,26,29,52,65,112,123,112,134,119,107,0,0,2,3,1,5,10,15,18,30,45,59,97,109,119,120,108,99,92,109,0]
["Hidalgo",4,3,10,14,15,20,22,34,52,77,98,148,186,236,284,267,234,209,244,0,3,2,5,10,11,12,12,13,21,27,35,62,74,118,150,120,133,110,133,0,1,1,5,4,4,8,10,21,31,50,63,86,112,118,134,147,101,99,111,0]
["Jalisco",14,26,34,32,46,61,96,102,178,216,328,473,573,758,836,895,854,663,747,1,5,8,17,22,31,47,56,54,62,76,133,167,250,350,435,475,480,387,415,1,9,18,17,10,15,14,40,48,116,140,195,306,323,408,401,420,374,276,332,0]
["México",3,24,44,42,70,90,139,149,209,376,546,794,1018,1188,1224,1227,1075,877,890,3,2,14,23,23,42,59,85,63,87,138,185,298,417,499,567,608,569,454,399,2,1,10,21,19,28,31,54,86,122,238,361,496,601,689,657,619,506,423,491,1]
["Michoacán",1,11,7,21,30,36,45,46,83,125,173,212,258,335,382,455,429,345,511,0,0,4,4,15,18,24,28,22,27,42,56,83,111,166,179,232,242,220,295,0,1,7,3,6,12,12,17,24,56,83,117,129,147,169,203,223,187,125,216,0]
["Morelos",2,6,12,8,13,15,13,28,35,61,64,95,150,173,214,199,191,169,172,0,0,4,7,4,8,7,8,9,15,22,26,34,58,67,104,101,108,86,86,0,2,2,5,4,5,8,5,19,20,39,38,61,92,106,110,98,83,83,86,0]
["Nayarit",0,0,5,5,4,9,6,11,22,27,45,57,93,103,108,141,119,91,125,4,0,0,3,3,2,5,3,3,10,5,14,24,34,49,53,82,88,61,79,3,0,0,2,2,2,4,3,8,12,22,31,33,59,54,55,59,31,30,46,1]
["Nuevo León",3,19,33,35,30,52,59,84,107,224,329,405,525,574,621,606,621,490,471,3,1,12,21,26,16,28,35,44,44,81,125,183,241,272,313,340,338,276,253,3,2,7,12,9,14,24,24,40,63,143,204,222,284,302,308,266,283,214,218,0]
["Oaxaca",4,17,15,23,25,36,33,52,61,105,150,185,222,288,369,366,330,346,362,1,1,9,11,10,14,23,16,22,26,39,50,60,81,130,173,183,150,184,162,1,3,8,4,13,11,13,17,30,35,66,100,125,141,158,196,183,180,162,200,0]
["Puebla",10,31,30,34,41,65,54,74,120,153,234,307,450,482,450,521,474,374,410,1,6,18,19,20,24,46,35,35,47,47,81,116,168,209,216,258,227,195,202,1,4,13,11,14,17,19,19,39,73,106,153,191,282,273,234,263,247,179,208,0]
["Querétaro",1,9,13,17,17,20,25,21,44,57,83,128,157,202,200,199,163,171,160,0,1,3,9,9,13,14,18,13,17,21,26,50,70,94,90,109,92,94,82,0,0,6,4,8,4,6,7,8,27,36,57,78,87,108,110,90,71,77,78,0]
["Quintana Roo",1,7,3,11,16,11,16,24,35,36,64,81,115,123,103,104,92,70,57,2,1,5,2,6,7,8,11,12,13,9,27,32,53,66,48,54,54,38,31,1,0,2,1,5,9,3,5,12,22,27,37,49,62,57,55,50,38,32,26,1]
["San Luis Potosí",0,7,10,13,16,19,22,35,56,48,103,130,170,233,256,271,269,231,284,0,0,4,5,6,10,13,12,20,23,17,39,49,77,105,127,156,155,135,154,0,0,3,5,7,6,6,10,15,33,31,64,81,93,128,129,115,114,96,130,0]
["Sinaloa",1,3,7,14,13,18,24,34,49,91,113,170,210,271,339,300,313,275,232,1,1,2,5,6,10,11,12,11,22,35,48,75,97,162,179,181,192,175,129,1,0,1,2,8,3,7,12,23,27,56,65,95,113,109,160,119,121,100,103,0]
["Sonora",1,7,9,15,17,28,24,40,48,80,125,202,267,298,378,368,315,283,267,0,1,2,7,9,13,18,12,16,19,31,52,91,132,145,200,194,173,170,151,0,0,5,2,6,4,10,12,24,29,49,73,111,135,153,178,174,142,113,116,0]
["Tabasco",1,14,12,17,22,22,26,29,60,83,98,126,182,175,202,191,171,137,131,0,1,8,6,7,14,12,17,9,20,30,37,52,77,89,115,88,102,78,73,0,0,6,6,10,8,10,9,20,40,53,61,74,105,86,87,103,69,59,58,0]
["Tamaulipas",1,8,4,7,13,20,32,51,53,89,145,209,277,323,344,331,313,266,269,1,1,4,3,4,11,15,17,21,15,33,49,88,138,168,183,178,179,154,138,1,0,4,1,3,2,5,15,30,38,56,96,121,139,155,161,153,134,112,131,0]
["Tlaxcala",0,4,4,5,8,6,7,13,23,30,37,69,70,102,102,88,82,62,66,0,0,2,4,4,5,4,4,5,8,17,13,28,28,49,49,40,43,31,36,0,0,2,0,1,3,2,3,8,15,13,24,41,42,53,53,48,39,31,30,0]
["Veracruz",3,26,30,33,52,52,81,104,187,257,301,464,624,720,839,843,846,675,702,1,1,17,17,19,34,31,42,47,72,81,107,164,266,315,399,427,454,352,392,0,2,9,13,14,18,21,39,57,115,176,194,300,358,405,440,416,392,323,310,1]
["Yucatán",0,10,10,11,16,31,24,31,56,74,99,118,160,185,241,216,221,172,151,0,0,7,5,4,10,19,9,18,23,19,35,43,72,82,118,93,124,87,78,0,0,3,5,7,6,12,15,13,33,55,64,75,88,103,123,123,97,85,73,0]
["Zacatecas",1,9,5,9,10,9,18,18,24,27,50,66,99,126,110,134,150,149,172,0,0,2,3,1,5,4,10,11,6,10,22,27,41,57,50,65,75,93,98,0,1,7,2,8,5,5,8,7,18,17,28,39,58,69,60,69,75,56,74,0]

{"sheet":"4GCM-G_Edad","index":71,"n_rows":24,"n_cols":10,"rows_kept":24,"cut":false,"hidden":false,"merged":[[0,0,0,9]]}
["Tumores (neoplasias)"]
["SELECCIONE UNA ENTIDAD"]
["Tabasco","2020","H - 2020","M - 2020","2021","H - 2021","M - 2021","2022","H - 2022","M - 2022"]
["Menores de 1 año",{"$f":"VLOOKUP($A$3,'4T-GCM-R_Edad2020'!$A$2:$BI$34,2,0)","v":1},{"$f":"VLOOKUP($A$3,'4T-GCM-R_Edad2020'!$A$2:$BI$34,22,0)","v":0},{"$f":"VLOOKUP($A$3,'4T-GCM-R_Edad2020'!$A$2:$BI$34,42,0)","v":1},{"$f":"VLOOKUP($A$3,'4T-GCM-R_Edad2021'!$A$2:$BI$34,2,0)","v":3},{"$f":"VLOOKUP($A$3,'4T-GCM-R_Edad2021'!$A$2:$BI$34,22,0)","v":2},{"$f":"VLOOKUP($A$3,'4T-GCM-R_Edad2021'!$A$2:$BI$34,42,0)","v":1},{"$f":"VLOOKUP($A$3,'4T-GCM-R_Edad2022'!$A$2:$BI$34,2,0)","v":1},{"$f":"VLOOKUP($A$3,'4T-GCM-R_Edad2022'!$A$2:$BI$34,22,0)","v":1},{"$f":"VLOOKUP($A$3,'4T-GCM-R_Edad2022'!$A$2:$BI$34,42,0)","v":0}]
["1-4 años",{"$f":"VLOOKUP($A$3,'4T-GCM-R_Edad2020'!$A$2:$BI$34,3,0)","v":7},{"$f":"VLOOKUP($A$3,'4T-GCM-R_Edad2020'!$A$2:$BI$34,23,0)","v":4},{"$f":"VLOOKUP($A$3,'4T-GCM-R_Edad2020'!$A$2:$BI$34,43,0)","v":3},{"$f":"VLOOKUP($A$3,'4T-GCM-R_Edad2021'!$A$2:$BI$34,3,0)","v":11},{"$f":"VLOOKUP($A$3,'4T-GCM-R_Edad2021'!$A$2:$BI$34,23,0)","v":4},{"$f":"VLOOKUP($A$3,'4T-GCM-R_Edad2021'!$A$2:$BI$34,43,0)","v":7},{"$f":"VLOOKUP($A$3,'4T-GCM-R_Edad2022'!$A$2:$BI$34,3,0)","v":14},{"$f":"VLOOKUP($A$3,'4T-GCM-R_Edad2022'!$A$2:$BI$34,23,0)","v":8},{"$f":"VLOOKUP($A$3,'4T-GCM-R_Edad2022'!$A$2:$BI$34,43,0)","v":6}]
["5-9 años",{"$f":"VLOOKUP($A$3,'4T-GCM-R_Edad2020'!$A$2:$BI$34,4,0)","v":9},{"$f":"VLOOKUP($A$3,'4T-GCM-R_Edad2020'!$A$2:$BI$34,24,0)","v":5},{"$f":"VLOOKUP($A$3,'4T-GCM-R_Edad2020'!$A$2:$BI$34,44,0)","v":4},{"$f":"VLOOKUP($A$3,'4T-GCM-R_Edad2021'!$A$2:$BI$34,4,0)","v":15},{"$f":"VLOOKUP($A$3,'4T-GCM-R_Edad2021'!$A$2:$BI$34,24,0)","v":8},{"$f":"VLOOKUP($A$3,'4T-GCM-R_Edad2021'!$A$2:$BI$34,44,0)","v":7},{"$f":"VLOOKUP($A$3,'4T-GCM-R_Edad2022'!$A$2:$BI$34,4,0)","v":12},{"$f":"VLOOKUP($A$3,'4T-GCM-R_Edad2022'!$A$2:$BI$34,24,0)","v":6},{"$f":"VLOOKUP($A$3,'4T-GCM-R_Edad2022'!$A$2:$BI$34,44,0)","v":6}]
["10-14 años",{"$f":"VLOOKUP($A$3,'4T-GCM-R_Edad2020'!$A$2:$BI$34,5,0)","v":15},{"$f":"VLOOKUP($A$3,'4T-GCM-R_Edad2020'!$A$2:$BI$34,25,0)","v":9},{"$f":"VLOOKUP($A$3,'4T-GCM-R_Edad2020'!$A$2:$BI$34,45,0)","v":6},{"$f":"VLOOKUP($A$3,'4T-GCM-R_Edad2021'!$A$2:$BI$34,5,0)","v":15},{"$f":"VLOOKUP($A$3,'4T-GCM-R_Edad2021'!$A$2:$BI$34,25,0)","v":8},{"$f":"VLOOKUP($A$3,'4T-GCM-R_Edad2021'!$A$2:$BI$34,45,0)","v":7},{"$f":"VLOOKUP($A$3,'4T-GCM-R_Edad2022'!$A$2:$BI$34,5,0)","v":17},{"$f":"VLOOKUP($A$3,'4T-GCM-R_Edad2022'!$A$2:$BI$34,25,0)","v":7},{"$f":"VLOOKUP($A$3,'4T-GCM-R_Edad2022'!$A$2:$BI$34,45,0)","v":10}]
["15-19 años",{"$f":"VLOOKUP($A$3,'4T-GCM-R_Edad2020'!$A$2:$BI$34,6,0)","v":27},{"$f":"VLOOKUP($A$3,'4T-GCM-R_Edad2020'!$A$2:$BI$34,26,0)","v":16},{"$f":"VLOOKUP($A$3,'4T-GCM-R_Edad2020'!$A$2:$BI$34,46,0)","v":11},{"$f":"VLOOKUP($A$3,'4T-GCM-R_Edad2021'!$A$2:$BI$34,6,0)","v":27},{"$f":"VLOOKUP($A$3,'4T-GCM-R_Edad2021'!$A$2:$BI$34,26,0)","v":20},{"$f":"VLOOKUP($A$3,'4T-GCM-R_Edad2021'!$A$2:$BI$34,46,0)","v":7},{"$f":"VLOOKUP($A$3,'4T-GCM-R_Edad2022'!$A$2:$BI$34,6,0)","v":22},{"$f":"VLOOKUP($A$3,'4T-GCM-R_Edad2022'!$A$2:$BI$34,26,0)","v":14},{"$f":"VLOOKUP($A$3,'4T-GCM-R_Edad2022'!$A$2:$BI$34,46,0)","v":8}]
["20-24 años",{"$f":"VLOOKUP($A$3,'4T-GCM-R_Edad2020'!$A$2:$BI$34,7,0)","v":29},{"$f":"VLOOKUP($A$3,'4T-GCM-R_Edad2020'!$A$2:$BI$34,27,0)","v":17},{"$f":"VLOOKUP($A$3,'4T-GCM-R_Edad2020'!$A$2:$BI$34,47,0)","v":12},{"$f":"VLOOKUP($A$3,'4T-GCM-R_Edad2021'!$A$2:$BI$34,7,0)","v":13},{"$f":"VLOOKUP($A$3,'4T-GCM-R_Edad2021'!$A$2:$BI$34,27,0)","v":11},{"$f":"VLOOKUP($A$3,'4T-GCM-R_Edad2021'!$A$2:$BI$34,47,0)","v":2},{"$f":"VLOOKUP($A$3,'4T-GCM-R_Edad2022'!$A$2:$BI$34,7,0)","v":22},{"$f":"VLOOKUP($A$3,'4T-GCM-R_Edad2022'!$A$2:$BI$34,27,0)","v":12},{"$f":"VLOOKUP($A$3,'4T-GCM-R_Edad2022'!$A$2:$BI$34,47,0)","v":10}]
["25-29 años",{"$f":"VLOOKUP($A$3,'4T-GCM-R_Edad2020'!$A$2:$BI$34,8,0)","v":43},{"$f":"VLOOKUP($A$3,'4T-GCM-R_Edad2020'!$A$2:$BI$34,28,0)","v":21},{"$f":"VLOOKUP($A$3,'4T-GCM-R_Edad2020'!$A$2:$BI$34,48,0)","v":22},{"$f":"VLOOKUP($A$3,'4T-GCM-R_Edad2021'!$A$2:$BI$34,8,0)","v":30},{"$f":"VLOOKUP($A$3,'4T-GCM-R_Edad2021'!$A$2:$BI$34,28,0)","v":14},{"$f":"VLOOKUP($A$3,'4T-GCM-R_Edad2021'!$A$2:$BI$34,48,0)","v":16},{"$f":"VLOOKUP($A$3,'4T-GCM-R_Edad2022'!$A$2:$BI$34,8,0)","v":26},{"$f":"VLOOKUP($A$3,'4T-GCM-R_Edad2022'!$A$2:$BI$34,28,0)","v":17},{"$f":"VLOOKUP($A$3,'4T-GCM-R_Edad2022'!$A$2:$BI$34,48,0)","v":9}]
["30-34 años",{"$f":"VLOOKUP($A$3,'4T-GCM-R_Edad2020'!$A$2:$BI$34,9,0)","v":38},{"$f":"VLOOKUP($A$3,'4T-GCM-R_Edad2020'!$A$2:$BI$34,29,0)","v":20},{"$f":"VLOOKUP($A$3,'4T-GCM-R_Edad2020'!$A$2:$BI$34,49,0)","v":18},{"$f":"VLOOKUP($A$3,'4T-GCM-R_Edad2021'!$A$2:$BI$34,9,0)","v":43},{"$f":"VLOOKUP($A$3,'4T-GCM-R_Edad2021'!$A$2:$BI$34,29,0)","v":21},{"$f":"VLOOKUP($A$3,'4T-GCM-R_Edad2021'!$A$2:$BI$34,49,0)","v":22},{"$f":"VLOOKUP($A$3,'4T-GCM-R_Edad2022'!$A$2:$BI$34,9,0)","v":29},{"$f":"VLOOKUP($A$3,'4T-GCM-R_Edad2022'!$A$2:$BI$34,29,0)","v":9},{"$f":"VLOOKUP($A$3,'4T-GCM-R_Edad2022'!$A$2:$BI$34,49,0)","v":20}]
["35-39 años",{"$f":"VLOOKUP($A$3,'4T-GCM-R_Edad2020'!$A$2:$BI$34,10,0)","v":67},{"$f":"VLOOKUP($A$3,'4T-GCM-R_Edad2020'!$A$2:$BI$34,30,0)","v":26},{"$f":"VLOOKUP($A$3,'4T-GCM-R_Edad2020'!$A$2:$BI$34,50,0)","v":41},{"$f":"VLOOKUP($A$3,'4T-GCM-R_Edad2021'!$A$2:$BI$34,10,0)","v":51},{"$f":"VLOOKUP($A$3,'4T-GCM-R_Edad2021'!$A$2:$BI$34,30,0)","v":17},{"$f":"VLOOKUP($A$3,'4T-GCM-R_Edad2021'!$A$2:$BI$34,50,0)","v":34},{"$f":"VLOOKUP($A$3,'4T-GCM-R_Edad2022'!$A$2:$BI$34,10,0)","v":60},{"$f":"VLOOKUP($A$3,'4T-GCM-R_Edad2022'!$A$2:$BI$34,30,0)","v":20},{"$f":"VLOOKUP($A$3,'4T-GCM-R_Edad2022'!$A$2:$BI$34,50,0)","v":40}]
["40-44 años",{"$f":"VLOOKUP($A$3,'4T-GCM-R_Edad2020'!$A$2:$BI$34,11,0)","v":78},{"$f":"VLOOKUP($A$3,'4T-GCM-R_Edad2020'!$A$2:$BI$34,31,0)","v":26},{"$f":"VLOOKUP($A$3,'4T-GCM-R_Edad2020'!$A$2:$BI$34,51,0)","v":52},{"$f":"VLOOKUP($A$3,'4T-GCM-R_Edad2021'!$A$2:$BI$34,11,0)","v":75},{"$f":"VLOOKUP($A$3,'4T-GCM-R_Edad2021'!$A$2:$BI$34,31,0)","v":22},{"$f":"VLOOKUP($A$3,'4T-GCM-R_Edad2021'!$A$2:$BI$34,51,0)","v":53},{"$f":"VLOOKUP($A$3,'4T-GCM-R_Edad2022'!$A$2:$BI$34,11,0)","v":83},{"$f":"VLOOKUP($A$3,'4T-GCM-R_Edad2022'!$A$2:$BI$34,31,0)","v":30},{"$f":"VLOOKUP($A$3,'4T-GCM-R_Edad2022'!$A$2:$BI$34,51,0)","v":53}]
["45-49 años",{"$f":"VLOOKUP($A$3,'4T-GCM-R_Edad2020'!$A$2:$BI$34,12,0)","v":98},{"$f":"VLOOKUP($A$3,'4T-GCM-R_Edad2020'!$A$2:$BI$34,32,0)","v":31},{"$f":"VLOOKUP($A$3,'4T-GCM-R_Edad2020'!$A$2:$BI$34,52,0)","v":67},{"$f":"VLOOKUP($A$3,'4T-GCM-R_Edad2021'!$A$2:$BI$34,12,0)","v":79},{"$f":"VLOOKUP($A$3,'4T-GCM-R_Edad2021'!$A$2:$BI$34,32,0)","v":28},{"$f":"VLOOKUP($A$3,'4T-GCM-R_Edad2021'!$A$2:$BI$34,52,0)","v":51},{"$f":"VLOOKUP($A$3,'4T-GCM-R_Edad2022'!$A$2:$BI$34,12,0)","v":98},{"$f":"VLOOKUP($A$3,'4T-GCM-R_Edad2022'!$A$2:$BI$34,32,0)","v":37},{"$f":"VLOOKUP($A$3,'4T-GCM-R_Edad2022'!$A$2:$BI$34,52,0)","v":61}]
["50-54 años",{"$f":"VLOOKUP($A$3,'4T-GCM-R_Edad2020'!$A$2:$BI$34,13,0)","v":111},{"$f":"VLOOKUP($A$3,'4T-GCM-R_Edad2020'!$A$2:$BI$34,33,0)","v":43},{"$f":"VLOOKUP($A$3,'4T-GCM-R_Edad2020'!$A$2:$BI$34,53,0)","v":68},{"$f":"VLOOKUP($A$3,'4T-GCM-R_Edad2021'!$A$2:$BI$34,13,0)","v":124},{"$f":"VLOOKUP($A$3,'4T-GCM-R_Edad2021'!$A$2:$BI$34,33,0)","v":46},{"$f":"VLOOKUP($A$3,'4T-GCM-R_Edad2021'!$A$2:$BI$34,53,0)","v":78},{"$f":"VLOOKUP($A$3,'4T-GCM-R_Edad2022'!$A$2:$BI$34,13,0)","v":126},{"$f":"VLOOKUP($A$3,'4T-GCM-R_Edad2022'!$A$2:$BI$34,33,0)","v":52},{"$f":"VLOOKUP($A$3,'4T-GCM-R_Edad2022'!$A$2:$BI$34,53,0)","v":74}]
["55-59 años",{"$f":"VLOOKUP($A$3,'4T-GCM-R_Edad2020'!$A$2:$BI$34,14,0)","v":170},{"$f":"VLOOKUP($A$3,'4T-GCM-R_Edad2020'!$A$2:$BI$34,34,0)","v":79},{"$f":"VLOOKUP($A$3,'4T-GCM-R_Edad2020'!$A$2:$BI$34,54,0)","v":91},{"$f":"VLOOKUP($A$3,'4T-GCM-R_Edad2021'!$A$2:$BI$34,14,0)","v":175},{"$f":"VLOOKUP($A$3,'4T-GCM-R_Edad2021'!$A$2:$BI$34,34,0)","v":78},{"$f":"VLOOKUP($A$3,'4T-GCM-R_Edad2021'!$A$2:$BI$34,54,0)","v":97},{"$f":"VLOOKUP($A$3,'4T-GCM-R_Edad2022'!$A$2:$BI$34,14,0)","v":182},{"$f":"VLOOKUP($A$3,'4T-GCM-R_Edad2022'!$A$2:$BI$34,34,0)","v":77},{"$f":"VLOOKUP($A$3,'4T-GCM-R_Edad2022'!$A$2:$BI$34,54,0)","v":105}]
["60-64 años",{"$f":"VLOOKUP($A$3,'4T-GCM-R_Edad2020'!$A$2:$BI$34,15,0)","v":179},{"$f":"VLOOKUP($A$3,'4T-GCM-R_Edad2020'!$A$2:$BI$34,35,0)","v":94},{"$f":"VLOOKUP($A$3,'4T-GCM-R_Edad2020'!$A$2:$BI$34,55,0)","v":85},{"$f":"VLOOKUP($A$3,'4T-GCM-R_Edad2021'!$A$2:$BI$34,15,0)","v":186},{"$f":"VLOOKUP($A$3,'4T-GCM-R_Edad2021'!$A$2:$BI$34,35,0)","v":102},{"$f":"VLOOKUP($A$3,'4T-GCM-R_Edad2021'!$A$2:$BI$34,55,0)","v":84},{"$f":"VLOOKUP($A$3,'4T-GCM-R_Edad2022'!$A$2:$BI$34,15,0)","v":175},{"$f":"VLOOKUP($A$3,'4T-GCM-R_Edad2022'!$A$2:$BI$34,35,0)","v":89},{"$f":"VLOOKUP($A$3,'4T-GCM-R_Edad2022'!$A$2:$BI$34,55,0)","v":86}]
["65-69 años",{"$f":"VLOOKUP($A$3,'4T-GCM-R_Edad2020'!$A$2:$BI$34,16,0)","v":196},{"$f":"VLOOKUP($A$3,'4T-GCM-R_Edad2020'!$A$2:$BI$34,36,0)","v":106},{"$f":"VLOOKUP($A$3,'4T-GCM-R_Edad2020'!$A$2:$BI$34,56,0)","v":90},{"$f":"VLOOKUP($A$3,'4T-GCM-R_Edad2021'!$A$2:$BI$34,16,0)","v":200},{"$f":"VLOOKUP($A$3,'4T-GCM-R_Edad2021'!$A$2:$BI$34,36,0)","v":99},{"$f":"VLOOKUP($A$3,'4T-GCM-R_Edad2021'!$A$2:$BI$34,56,0)","v":101},{"$f":"VLOOKUP($A$3,'4T-GCM-R_Edad2022'!$A$2:$BI$34,16,0)","v":202},{"$f":"VLOOKUP($A$3,'4T-GCM-R_Edad2022'!$A$2:$BI$34,36,0)","v":115},{"$f":"VLOOKUP($A$3,'4T-GCM-R_Edad2022'!$A$2:$BI$34,56,0)","v":87}]
["70-74 años",{"$f":"VLOOKUP($A$3,'4T-GCM-R_Edad2020'!$A$2:$BI$34,17,0)","v":149},{"$f":"VLOOKUP($A$3,'4T-GCM-R_Edad2020'!$A$2:$BI$34,37,0)","v":79},{"$f":"VLOOKUP($A$3,'4T-GCM-R_Edad2020'!$A$2:$BI$34,57,0)","v":70},{"$f":"VLOOKUP($A$3,'4T-GCM-R_Edad2021'!$A$2:$BI$34,17,0)","v":201},{"$f":"VLOOKUP($A$3,'4T-GCM-R_Edad2021'!$A$2:$BI$34,37,0)","v":107},{"$f":"VLOOKUP($A$3,'4T-GCM-R_Edad2021'!$A$2:$BI$34,57,0)","v":94},{"$f":"VLOOKUP($A$3,'4T-GCM-R_Edad2022'!$A$2:$BI$34,17,0)","v":191},{"$f":"VLOOKUP($A$3,'4T-GCM-R_Edad2022'!$A$2:$BI$34,37,0)","v":88},{"$f":"VLOOKUP($A$3,'4T-GCM-R_Edad2022'!$A$2:$BI$34,57,0)","v":103}]
["75-79 años",{"$f":"VLOOKUP($A$3,'4T-GCM-R_Edad2020'!$A$2:$BI$34,18,0)","v":176},{"$f":"VLOOKUP($A$3,'4T-GCM-R_Edad2020'!$A$2:$BI$34,38,0)","v":108},{"$f":"VLOOKUP($A$3,'4T-GCM-R_Edad2020'!$A$2:$BI$34,58,0)","v":68},{"$f":"VLOOKUP($A$3,'4T-GCM-R_Edad2021'!$A$2:$BI$34,18,0)","v":179},{"$f":"VLOOKUP($A$3,'4T-GCM-R_Edad2021'!$A$2:$BI$34,38,0)","v":99},{"$f":"VLOOKUP($A$3,'4T-GCM-R_Edad2021'!$A$2:$BI$34,58,0)","v":80},{"$f":"VLOOKUP($A$3,'4T-GCM-R_Edad2022'!$A$2:$BI$34,18,0)","v":171},{"$f":"VLOOKUP($A$3,'4T-GCM-R_Edad2022'!$A$2:$BI$34,38,0)","v":102},{"$f":"VLOOKUP($A$3,'4T-GCM-R_Edad2022'!$A$2:$BI$34,58,0)","v":69}]
["80-84 años",{"$f":"VLOOKUP($A$3,'4T-GCM-R_Edad2020'!$A$2:$BI$34,19,0)","v":151},{"$f":"VLOOKUP($A$3,'4T-GCM-R_Edad2020'!$A$2:$BI$34,39,0)","v":90},{"$f":"VLOOKUP($A$3,'4T-GCM-R_Edad2020'!$A$2:$BI$34,59,0)","v":61},{"$f":"VLOOKUP($A$3,'4T-GCM-R_Edad2021'!$A$2:$BI$34,19,0)","v":156},{"$f":"VLOOKUP($A$3,'4T-GCM-R_Edad2021'!$A$2:$BI$34,39,0)","v":106},{"$f":"VLOOKUP($A$3,'4T-GCM-R_Edad2021'!$A$2:$BI$34,59,0)","v":50},{"$f":"VLOOKUP($A$3,'4T-GCM-R_Edad2022'!$A$2:$BI$34,19,0)","v":137},{"$f":"VLOOKUP($A$3,'4T-GCM-R_Edad2022'!$A$2:$BI$34,39,0)","v":78},{"$f":"VLOOKUP($A$3,'4T-GCM-R_Edad2022'!$A$2:$BI$34,59,0)","v":59}]
["85 años y más",{"$f":"VLOOKUP($A$3,'4T-GCM-R_Edad2020'!$A$2:$BI$34,20,0)","v":144},{"$f":"VLOOKUP($A$3,'4T-GCM-R_Edad2020'!$A$2:$BI$34,40,0)","v":99},{"$f":"VLOOKUP($A$3,'4T-GCM-R_Edad2020'!$A$2:$BI$34,60,0)","v":45},{"$f":"VLOOKUP($A$3,'4T-GCM-R_Edad2021'!$A$2:$BI$34,20,0)","v":147},{"$f":"VLOOKUP($A$3,'4T-GCM-R_Edad2021'!$A$2:$BI$34,40,0)","v":85},{"$f":"VLOOKUP($A$3,'4T-GCM-R_Edad2021'!$A$2:$BI$34,60,0)","v":62},{"$f":"VLOOKUP($A$3,'4T-GCM-R_Edad2022'!$A$2:$BI$34,20,0)","v":131},{"$f":"VLOOKUP($A$3,'4T-GCM-R_Edad2022'!$A$2:$BI$34,40,0)","v":73},{"$f":"VLOOKUP($A$3,'4T-GCM-R_Edad2022'!$A$2:$BI$34,60,0)","v":58}]
["No especificado",{"$f":"VLOOKUP($A$3,'4T-GCM-R_Edad2020'!$A$2:$BI$34,21,0)","v":0},{"$f":"VLOOKUP($A$3,'4T-GCM-R_Edad2020'!$A$2:$BI$34,41,0)","v":0},{"$f":"VLOOKUP($A$3,'4T-GCM-R_Edad2020'!$A$2:$BI$34,61,0)","v":0},{"$f":"VLOOKUP($A$3,'4T-GCM-R_Edad2021'!$A$2:$BI$34,21,0)","v":0},{"$f":"VLOOKUP($A$3,'4T-GCM-R_Edad2021'!$A$2:$BI$34,41,0)","v":0},{"$f":"VLOOKUP($A$3,'4T-GCM-R_Edad2021'!$A$2:$BI$34,61,0)","v":0},{"$f":"VLOOKUP($A$3,'4T-GCM-R_Edad2022'!$A$2:$BI$34,21,0)","v":0},{"$f":"VLOOKUP($A$3,'4T-GCM-R_Edad2022'!$A$2:$BI$34,41,0)","v":0},{"$f":"VLOOKUP($A$3,'4T-GCM-R_Edad2022'!$A$2:$BI$34,61,0)","v":0}]
["Total",{"$f":"SUM(B4:B23)","v":1688},873,815,1730,877,853,1699,835,864]

{"sheet":"5T-GCM-R_Edad2020","index":72,"n_rows":34,"n_cols":61,"rows_kept":34,"cut":false,"hidden":true,"merged":[]}
[1,2,3,4,5,6,7,8,9,10,11,12,13,14,15,16,17,18,19,20,21,22,23,24,25,26,27,28,29,30,31,32,33,34,35,36,37,38,39,40,41,42,43,44,45,46,47,48,49,50,51,52,53,54,55,56,57,58,59,60,61]
["ESTADO","Menores de 1 año","1-4 años","5-9 años","10-14 años","15-19 años","20-24 años","25-29 años","30-34 años","35-39 años","40-44 años","45-49 años","50-54 años","55-59 años","60-64 años","65-69 años","70-74 años","75-79 años","80-84 años","85 años y más","No especificado","H Menores de 1 año","H 1-4 años","H 5-9 años","H 10-14 años","H 15-19 años","H 20-24 años","H 25-29 años","H 30-34 años","H 35-39 años","H 40-44 años","H 45-49 años","H 50-54 años","H 55-59 años","H 60-64 años","H 65-69 años","H 70-74 años","H 75-79 años","H 80-84 años","H 85 años y más","H No especificado","   M Menores de 1 año ","M 1-4 años","M 5-9 años","M 10-14 años","M 15-19 años","M 20-24 años","M 25-29 años","M 30-34 años","M 35-39 años","M 40-44 años","M 45-49 años","M 50-54 años","M 55-59 años","M 60-64 años","M 65-69 años","M 70-74 años","M 75-79 años","M 80-84 años","M 85 años y    ás","M No especificado"]
["Aguascalientes",15,6,3,1,4,8,9,15,18,28,48,52,56,80,114,118,121,141,200,0,9,3,1,0,3,6,6,11,12,18,34,35,38,47,58,64,67,72,104,0,6,3,2,1,1,2,3,4,6,10,14,17,18,33,56,54,54,69,96,0]
["Baja California",50,14,10,11,14,51,80,95,142,145,232,213,291,272,300,282,276,266,401,53,32,9,7,7,11,38,55,80,111,114,181,164,186,189,188,175,178,134,215,46,18,5,3,4,3,13,25,15,31,31,51,49,105,83,112,107,98,132,186,7]
["Baja California Sur",6,1,3,0,1,1,3,5,5,19,13,22,36,51,61,50,47,62,84,1,5,1,1,0,0,1,2,4,4,12,10,16,20,31,39,33,20,37,39,1,1,0,2,0,1,0,1,1,1,7,3,6,16,20,22,17,27,25,45,0]
["Campeche",3,3,0,1,3,5,8,12,16,9,33,42,57,71,79,71,82,89,114,0,0,2,0,0,2,3,4,7,11,7,22,24,36,43,42,44,48,57,64,0,3,1,0,1,1,2,4,5,5,2,11,18,21,28,37,27,34,32,50,0]
["Coahuila",20,6,3,5,4,10,17,34,44,68,118,149,205,259,271,307,312,267,325,1,14,2,2,3,3,3,8,25,25,43,71,94,116,172,177,200,181,153,158,1,6,4,1,2,1,7,9,9,19,25,47,55,89,87,94,107,131,114,167,0]
["Colima",7,1,2,1,1,3,3,16,13,11,19,26,46,44,47,68,66,72,110,1,4,0,2,1,0,2,2,10,10,7,16,11,30,29,31,43,38,39,59,1,3,1,0,0,1,1,1,6,3,4,3,15,16,15,16,25,28,33,51,0]
["Chiapas",108,86,13,16,17,27,36,41,56,69,115,167,227,274,351,372,428,356,494,4,61,47,8,10,9,16,22,30,38,40,70,117,143,171,217,242,271,226,268,3,47,39,5,6,8,11,14,11,18,29,45,50,84,103,134,130,157,130,226,1]
["Chihuahua",55,25,6,5,13,23,23,53,66,110,148,207,274,320,372,401,455,482,547,7,26,14,3,2,7,12,17,38,49,75,95,129,163,196,224,235,286,286,294,7,29,11,3,3,6,11,6,15,17,35,53,78,111,124,148,166,169,196,253,0]
["Ciudad de México",53,25,13,12,25,62,116,129,219,327,547,726,969,1103,1309,1320,1219,1279,2024,6,29,14,7,5,17,43,80,95,163,219,367,504,645,712,800,793,693,675,953,5,24,11,6,7,8,19,36,34,56,108,180,222,324,391,509,527,526,604,1071,1]
["Durango",30,4,3,2,4,9,5,12,13,25,33,57,72,109,148,124,187,183,240,0,14,3,1,1,3,6,5,9,10,16,19,35,42,65,81,79,119,109,129,0,16,1,2,1,1,3,0,3,3,9,14,22,30,44,67,45,68,74,111,0]
["Guanajuato",65,24,9,13,19,32,38,43,68,100,148,215,261,359,416,453,547,537,1041,2,34,13,7,8,15,19,25,32,44,69,96,128,152,225,247,283,316,317,513,1,31,11,2,5,4,13,13,11,24,31,52,87,109,134,169,170,231,220,528,1]
["Guerrero",21,25,2,3,4,15,20,45,28,41,47,75,145,150,189,197,250,260,392,0,10,13,1,2,2,11,15,27,22,28,32,48,98,98,121,128,157,147,222,0,11,12,1,1,2,4,5,18,6,13,15,27,47,52,68,69,93,113,170,0]
["Hidalgo",10,8,1,4,4,6,15,20,28,36,59,57,107,119,168,154,175,210,365,0,3,4,1,1,2,3,9,11,16,26,45,33,71,75,96,85,90,111,156,0,7,4,0,3,2,3,6,9,12,10,14,24,36,44,72,69,85,99,209,0]
["Jalisco",71,44,13,13,17,53,76,77,110,126,211,273,367,534,649,837,893,969,1837,50,39,25,10,3,12,28,60,52,72,86,131,167,222,319,376,475,527,515,850,43,32,19,3,10,5,25,16,25,38,40,80,106,145,215,273,362,366,454,987,7]
["México",80,21,5,13,39,57,118,181,252,420,612,787,974,1192,1184,1205,1111,1149,1734,30,45,7,4,8,25,30,78,131,175,301,409,529,647,765,712,717,668,648,831,23,35,14,1,5,14,27,40,50,77,119,203,258,327,427,472,488,443,501,903,7]
["Michoacán",42,24,3,2,9,14,27,18,41,54,74,108,160,185,265,331,361,414,918,3,19,13,1,2,4,8,20,11,29,36,44,66,102,122,152,202,213,246,479,3,23,11,2,0,5,6,7,7,12,18,30,42,58,63,113,129,148,168,439,0]
["Morelos",9,10,3,2,8,11,21,21,20,35,47,76,95,114,166,199,194,205,357,1,5,5,2,2,7,7,12,12,10,24,38,55,61,76,98,133,116,110,185,1,4,5,1,0,1,4,9,9,10,11,9,21,34,38,68,66,78,95,172,0]
["Nayarit",7,3,1,1,1,0,4,8,8,12,16,22,34,40,63,80,105,112,199,2,2,3,1,1,1,0,2,3,5,9,12,12,17,24,45,46,60,65,106,2,5,0,0,0,0,0,2,5,3,3,4,10,17,16,18,34,45,47,93,0]
["Nuevo León",66,12,11,7,12,18,39,52,86,122,203,247,354,421,451,521,570,491,810,6,40,6,4,5,3,11,29,31,61,78,142,160,233,265,297,310,324,285,385,5,26,6,7,2,9,7,10,21,25,44,61,87,121,156,154,211,246,206,425,1]
["Oaxaca",49,29,4,3,10,9,24,15,27,35,64,60,115,150,200,240,269,299,526,4,33,16,1,1,9,5,16,11,19,29,42,43,76,84,121,140,163,160,263,3,16,13,3,2,1,4,8,4,8,6,22,17,39,66,79,100,106,139,263,1]
["Puebla",68,35,21,12,15,24,59,65,114,188,244,306,382,476,515,542,550,509,811,15,36,19,12,6,9,17,46,56,75,127,170,195,241,301,302,312,303,279,389,13,32,16,9,6,6,7,13,9,39,61,74,111,141,175,213,230,247,230,422,2]
["Querétaro",10,7,3,0,4,9,17,22,29,21,45,52,94,102,109,107,145,156,311,0,4,4,2,0,1,7,9,16,21,14,33,32,65,61,66,63,86,92,152,0,6,3,1,0,3,2,8,6,8,7,12,20,29,41,43,44,59,64,159,0]
["Quintana Roo",9,8,1,0,0,10,18,14,19,34,50,72,79,102,107,104,98,83,103,0,4,4,0,0,0,7,13,11,15,23,43,53,47,68,64,65,58,51,54,0,5,4,1,0,0,3,5,3,4,11,7,19,32,34,43,39,40,32,49,0]
["San Luis Potosí",16,12,3,3,10,8,21,34,33,46,92,101,162,185,214,249,281,318,591,3,10,8,2,3,6,7,11,25,23,28,57,66,98,110,112,141,166,177,317,2,6,4,1,0,4,1,10,9,10,18,35,35,64,75,102,108,115,141,274,1]
["Sinaloa",17,11,2,4,8,21,22,21,33,45,99,116,195,224,273,310,359,340,437,1,14,8,1,3,6,18,16,13,25,30,67,76,114,136,178,189,219,192,237,1,3,3,1,1,2,3,6,8,8,15,32,40,81,88,95,121,140,148,200,0]
["Sonora",21,9,2,3,11,15,35,40,48,87,115,151,183,240,269,296,324,366,455,9,13,4,1,1,4,9,23,29,36,52,75,96,123,150,170,194,198,225,235,9,8,5,1,2,7,6,12,11,12,35,40,55,60,90,99,102,126,141,220,0]
["Tabasco",29,12,2,3,9,15,36,35,36,61,91,118,154,230,187,199,195,183,250,1,15,6,2,1,7,11,28,25,23,33,60,71,107,156,106,123,124,103,138,1,14,6,0,2,2,4,8,10,13,28,31,47,47,74,81,76,71,80,112,0]
["Tamaulipas",20,5,4,9,6,17,24,34,82,108,160,231,278,332,374,314,341,304,478,1,10,2,2,4,2,10,17,24,53,79,107,151,182,201,229,181,211,172,264,1,10,3,2,5,4,7,7,10,29,29,53,80,96,131,145,133,130,132,214,0]
["Tlaxcala",12,6,2,1,5,8,18,39,52,84,116,167,194,215,215,187,203,199,273,0,4,3,1,0,3,5,12,27,40,64,88,118,124,142,145,116,123,105,144,0,8,3,1,1,2,3,6,12,12,20,28,49,70,73,70,71,80,94,129,0]
["Veracruz",60,27,11,18,24,30,52,65,72,133,187,246,351,459,532,655,665,733,1147,0,28,17,4,8,13,20,40,45,44,85,114,151,220,272,328,383,389,403,590,0,32,10,7,10,11,10,12,20,28,48,73,95,131,187,204,272,276,330,557,0]
["Yucatán",20,11,5,8,5,7,15,20,23,59,78,66,140,154,207,258,264,261,359,2,10,7,2,6,3,4,10,15,15,41,52,46,90,95,120,142,161,141,184,2,10,4,3,2,2,3,5,5,8,18,26,20,50,59,87,116,103,120,175,0]
["Zacatecas",15,3,1,0,7,4,5,15,12,20,28,40,73,82,117,139,167,200,485,1,8,2,0,0,5,3,2,9,8,8,16,23,51,48,65,83,107,113,271,1,7,1,1,0,2,1,3,6,4,12,12,17,22,34,52,56,60,87,214,0]

{"sheet":"5T-GCM-R_Edad2021","index":73,"n_rows":34,"n_cols":61,"rows_kept":34,"cut":false,"hidden":true,"merged":[]}
[1,2,3,4,5,6,7,8,9,10,11,12,13,14,15,16,17,18,19,20,21,22,23,24,25,26,27,28,29,30,31,32,33,34,35,36,37,38,39,40,41,42,43,44,45,46,47,48,49,50,51,52,53,54,55,56,57,58,59,60,61]
["ESTADO","Menores de 1 año","1-4 años","5-9 años","10-14 años","15-19 años","20-24 años","25-29 años","30-34 años","35-39 años","40-44 años","45-49 años","50-54 años","55-59 años","60-64 años","65-69 años","70-74 años","75-79 años","80-84 años","85 años y más","No especificado","H Menores de 1 año","H 1-4 años","H 5-9 años","H 10-14 años","H 15-19 años","H 20-24 años","H 25-29 años","H 30-34 años","H 35-39 años","H 40-44 años","H 45-49 años","H 50-54 años","H 55-59 años","H 60-64 años","H 65-69 años","H 70-74 años","H 75-79 años","H 80-84 años","H 85 años y más","H No especificado","   M Menores de 1 año ","M 1-4 años","M 5-9 años","M 10-14 años","M 15-19 años","M 20-24 años","M 25-29 años","M 30-34 años","M 35-39 años","M 40-44 años","M 45-49 años","M 50-54 años","M 55-59 años","M 60-64 años","M 65-69 años","M 70-74 años","M 75-79 años","M 80-84 años","M 85 años y    ás","M No especificado"]
["Aguascalientes",14,2,0,0,4,1,9,12,19,24,42,38,44,87,108,112,129,117,207,0,11,2,0,0,1,0,7,6,12,16,21,26,27,54,59,59,76,64,99,0,3,0,0,0,3,1,2,6,7,8,21,12,17,33,49,53,53,53,108,0]
["Baja California",36,11,3,9,15,46,56,82,98,92,155,148,180,228,232,215,198,200,297,44,18,6,1,6,10,31,41,56,80,75,119,108,129,167,131,145,119,122,129,40,18,5,2,3,5,15,15,26,18,17,36,40,51,61,101,70,79,78,168,4]
["Baja California Sur",5,3,0,0,0,3,3,5,10,9,13,26,30,28,33,28,39,44,64,4,4,2,0,0,0,1,2,4,7,5,10,17,23,18,23,16,24,28,37,4,1,1,0,0,0,2,1,1,3,4,3,9,7,10,10,12,15,16,27,0]
["Campeche",4,4,1,0,2,1,8,5,11,16,20,27,34,41,37,52,55,75,94,1,1,3,0,0,1,0,4,2,6,10,14,18,20,16,23,31,36,45,60,1,3,1,1,0,1,1,4,3,5,6,6,9,14,25,14,21,19,30,34,0]
["Coahuila",11,4,3,1,4,12,11,22,26,52,87,85,114,159,171,228,217,178,233,0,9,2,1,0,1,8,5,14,16,35,51,42,73,98,105,145,139,93,127,0,2,2,2,1,3,4,6,8,10,17,36,43,41,61,66,83,78,85,106,0]
["Colima",3,1,0,1,0,0,7,19,10,14,22,28,39,45,69,79,63,90,112,2,1,1,0,0,0,0,6,15,7,8,14,22,23,30,50,47,42,52,49,2,2,0,0,1,0,0,1,4,3,6,8,6,16,15,19,32,21,38,63,0]
["Chiapas",112,77,13,11,23,30,42,50,71,79,126,155,197,272,316,361,389,369,515,0,49,33,6,7,14,19,25,29,44,50,84,92,121,144,190,230,242,223,281,0,63,44,7,4,9,11,17,21,27,29,42,63,76,128,126,131,147,146,234,0]
["Chihuahua",28,15,1,7,14,12,32,36,40,67,104,132,162,204,229,294,327,300,416,3,18,5,1,3,10,9,19,26,27,49,57,87,94,118,135,158,192,162,224,3,10,10,0,4,4,3,13,10,13,18,47,45,68,86,94,136,135,138,192,0]
["Ciudad de México",46,33,9,11,20,35,79,118,186,252,387,502,611,824,906,962,1010,940,1611,1,19,14,6,8,10,22,55,92,133,175,273,330,392,515,548,558,575,480,762,1,27,19,3,3,10,13,24,26,53,77,114,172,219,309,358,404,435,460,849,0]
["Durango",10,2,1,1,4,3,11,9,23,23,39,48,75,100,111,146,163,141,244,0,6,2,0,1,3,1,6,6,14,13,22,25,47,56,62,83,104,73,144,0,4,0,1,0,1,2,5,3,9,10,17,23,28,44,49,63,59,68,100,0]
["Guanajuato",30,23,8,8,11,18,38,61,66,108,166,218,302,381,445,517,544,527,900,5,18,11,5,8,7,11,27,44,43,65,102,144,195,213,271,291,337,309,461,5,12,12,3,0,4,7,11,17,23,43,64,74,107,168,174,226,207,218,439,0]
["Guerrero",26,10,1,2,3,12,17,20,28,41,61,64,101,142,184,182,214,209,405,0,14,5,1,1,2,9,13,16,18,32,38,37,64,97,112,117,123,129,231,0,12,5,0,1,1,3,4,4,10,9,23,27,37,45,72,65,91,80,174,0]
["Hidalgo",7,11,4,3,1,6,27,28,36,35,73,86,99,137,131,185,177,182,315,0,3,5,2,3,0,4,15,22,24,24,51,51,64,78,89,108,97,100,169,0,4,6,2,0,1,2,12,6,12,11,22,35,35,59,42,77,80,82,146,0]
["Jalisco",52,29,8,13,21,47,68,92,101,141,202,312,426,539,715,937,1003,913,1784,42,30,12,6,6,15,31,40,62,70,98,145,186,248,324,409,532,558,494,875,36,22,17,2,7,6,16,28,30,31,43,57,126,178,215,306,405,445,419,909,6]
["México",64,15,9,11,29,83,131,191,318,422,615,682,912,1033,1132,1174,1107,1018,1561,32,33,6,3,6,19,52,96,140,227,293,428,454,548,614,690,719,623,532,743,30,31,9,6,5,10,31,35,51,91,129,187,228,364,419,442,455,484,486,818,2]
["Michoacán",37,25,4,5,12,15,27,40,70,109,136,175,207,314,372,404,449,467,879,4,16,14,3,2,6,10,18,28,55,72,87,103,131,187,212,240,277,250,470,4,21,11,1,3,6,5,9,12,15,37,49,72,76,127,160,164,172,217,409,0]
["Morelos",12,5,1,3,2,6,14,12,24,31,59,63,100,134,142,138,182,182,295,14,7,3,1,2,1,5,8,10,15,22,37,36,67,74,75,80,108,102,154,12,5,2,0,1,1,1,6,2,9,9,22,27,33,60,67,58,74,80,141,2]
["Nayarit",6,3,3,0,3,3,5,11,18,23,26,33,44,60,78,94,102,125,222,3,3,3,1,0,2,3,5,7,15,15,13,24,29,36,54,59,64,80,123,3,3,0,2,0,1,0,0,4,3,8,13,9,15,24,24,35,38,45,99,0]
["Nuevo León",55,16,5,11,22,26,50,59,93,126,211,269,302,423,440,475,513,420,694,1,30,9,2,8,11,13,38,43,59,85,143,175,186,256,253,297,308,243,362,1,25,7,3,3,11,13,12,16,34,41,68,94,116,167,187,178,205,177,332,0]
["Oaxaca",29,16,7,2,11,12,22,26,37,55,80,94,125,175,224,270,324,368,625,0,18,9,5,0,6,8,17,16,25,30,52,70,72,106,130,153,194,231,345,0,11,7,2,2,5,4,5,10,12,25,28,24,53,69,94,117,130,137,280,0]
["Puebla",58,33,2,9,16,28,84,102,139,223,305,378,483,581,614,602,659,576,898,11,35,15,1,6,11,17,55,74,101,169,197,251,306,352,365,327,355,309,454,8,23,18,1,3,5,11,29,28,38,54,108,127,177,229,249,275,304,267,444,3]
["Querétaro",8,5,3,3,1,9,11,18,21,31,59,55,90,121,108,139,141,150,312,0,6,1,2,0,0,5,9,10,14,22,45,37,49,80,59,82,71,90,154,0,2,4,1,3,1,4,2,8,7,9,14,18,41,41,49,57,70,60,158,0]
["Quintana Roo",11,11,3,1,0,3,12,17,25,24,51,53,51,62,94,72,73,77,91,0,5,3,1,0,0,1,11,13,17,16,30,37,33,39,60,43,45,45,57,0,6,8,2,1,0,2,1,4,8,8,21,16,18,23,34,29,28,32,34,0]
["San Luis Potosí",24,12,2,2,6,7,31,22,50,53,81,96,141,172,178,232,305,312,488,1,18,4,0,1,5,5,17,16,36,35,54,61,86,107,103,149,183,190,271,1,6,8,2,1,1,2,14,6,14,18,27,35,55,65,75,83,122,122,217,0]
["Sinaloa",21,9,3,3,5,17,27,45,50,60,101,105,166,172,211,277,278,302,398,1,15,5,2,3,3,14,20,33,25,38,57,79,107,107,119,171,165,198,224,0,6,4,1,0,2,3,7,12,25,22,44,26,59,65,92,106,113,104,174,1]
["Sonora",14,6,4,2,7,17,31,43,42,62,86,124,153,208,233,253,305,291,428,4,10,3,1,1,3,12,23,32,26,40,62,86,89,125,128,163,177,177,217,4,4,3,3,1,4,5,8,11,16,22,24,38,64,83,105,90,128,114,211,0]
["Tabasco",30,18,2,3,3,17,25,43,31,51,60,67,84,91,152,126,115,182,242,2,20,13,2,1,1,13,18,31,24,30,38,44,61,50,77,62,64,98,123,2,10,5,0,2,2,4,7,12,7,21,22,23,23,41,75,64,51,84,119,0]
["Tamaulipas",20,10,1,2,6,18,20,45,53,66,86,140,163,175,237,230,226,233,378,4,12,4,0,1,3,9,11,34,33,38,60,95,95,104,137,141,138,132,197,4,8,6,1,1,3,9,9,11,20,28,26,45,68,71,100,89,88,101,181,0]
["Tlaxcala",10,6,0,2,3,8,16,29,51,72,92,125,179,214,188,221,181,151,242,0,7,4,0,0,2,7,12,23,39,43,63,89,111,130,115,131,111,85,131,0,3,2,0,2,1,1,4,6,12,29,29,36,68,84,73,90,70,66,111,0]
["Veracruz",45,31,9,9,21,21,64,70,110,145,210,232,408,485,607,644,692,777,1159,0,28,12,3,4,11,15,42,45,60,94,131,149,239,272,361,370,397,405,576,0,17,19,6,5,10,6,22,25,50,51,79,83,169,213,246,274,295,372,583,0]
["Yucatán",16,21,2,3,5,8,7,17,34,51,70,66,101,146,160,213,195,200,289,0,8,15,1,2,3,4,4,13,25,38,40,47,58,77,93,129,102,117,164,0,8,6,1,1,2,4,3,4,9,13,30,19,43,69,67,84,93,83,125,0]
["Zacatecas",16,1,0,0,4,1,6,8,8,14,33,39,54,107,94,118,161,184,352,0,7,0,0,0,2,1,4,5,2,8,23,23,35,64,55,70,94,122,189,0,9,1,0,0,2,0,2,3,6,6,10,16,19,43,39,48,67,62,163,0]

{"sheet":"5T-GCM-R_Edad2022","index":74,"n_rows":34,"n_cols":61,"rows_kept":34,"cut":false,"hidden":true,"merged":[]}
[1,2,3,4,5,6,7,8,9,10,11,12,13,14,15,16,17,18,19,20,21,22,23,24,25,26,27,28,29,30,31,32,33,34,35,36,37,38,39,40,41,42,43,44,45,46,47,48,49,50,51,52,53,54,55,56,57,58,59,60,61]
["ESTADO","Menores de 1 año","1-4 años","5-9 años","10-14 años","15-19 años","20-24 años","25-29 años","30-34 años","35-39 años","40-44 años","45-49 años","50-54 años","55-59 años","60-64 años","65-69 años","70-74 años","75-79 años","80-84 años","85 años y más","No especificado","H Menores de 1 año","H 1-4 años","H 5-9 años","H 10-14 años","H 15-19 años","H 20-24 años","H 25-29 años","H 30-34 años","H 35-39 años","H 40-44 años","H 45-49 años","H 50-54 años","H 55-59 años","H 60-64 años","H 65-69 años","H 70-74 años","H 75-79 años","H 80-84 años","H 85 años y más","H No especificado","   M Menores de 1 año ","M 1-4 años","M 5-9 años","M 10-14 años","M 15-19 años","M 20-24 años","M 25-29 años","M 30-34 años","M 35-39 años","M 40-44 años","M 45-49 años","M 50-54 años","M 55-59 años","M 60-64 años","M 65-69 años","M 70-74 años","M 75-79 años","M 80-84 años","M 85 años y    ás","M No especificado"]
["Aguascalientes",4,3,0,1,1,4,4,7,10,16,17,19,31,48,62,93,112,97,215,0,4,2,0,1,0,3,3,5,7,11,12,15,16,31,31,49,56,55,102,0,0,1,0,0,1,1,1,2,3,5,5,4,15,17,31,44,56,42,113,0]
["Baja California",42,9,3,8,8,35,59,75,75,90,112,143,125,147,180,193,190,194,310,41,24,6,1,5,3,19,47,61,62,69,96,103,88,99,127,125,109,105,143,40,18,3,2,3,5,16,12,14,13,21,16,40,37,48,53,68,81,89,167,1]
["Baja California Sur",3,2,0,1,1,3,2,8,6,7,10,14,20,29,23,42,51,49,85,3,1,1,0,0,0,2,2,5,4,4,4,9,12,21,12,27,31,26,46,3,2,1,0,1,1,1,0,3,2,3,6,5,8,8,11,15,20,23,39,0]
["Campeche",4,2,0,0,0,4,4,2,2,6,13,11,15,17,31,29,39,44,87,4,1,0,0,0,0,2,4,2,0,5,7,6,11,10,21,18,23,29,47,4,3,2,0,0,0,2,0,0,2,1,6,5,4,7,10,11,16,15,40,0]
["Coahuila",19,7,5,1,9,11,13,21,23,21,50,59,65,105,143,152,199,255,305,1,8,4,1,1,7,4,10,17,11,11,30,28,34,51,82,97,117,143,163,0,11,3,4,0,2,7,3,4,12,10,20,31,31,54,61,55,82,112,142,1]
["Colima",5,3,0,0,0,0,0,5,2,5,12,9,24,28,35,54,63,51,116,0,2,1,0,0,0,0,0,3,2,2,8,6,14,17,24,34,31,30,55,0,3,2,0,0,0,0,0,2,0,3,4,3,10,11,11,20,32,21,61,0]
["Chiapas",71,72,15,22,21,27,27,42,37,51,49,68,89,129,160,193,269,304,410,2,35,40,7,13,15,19,22,26,22,33,26,41,44,75,101,108,161,177,226,2,36,32,8,9,6,8,5,16,15,18,23,27,45,54,59,85,108,127,184,0]
["Chihuahua",40,17,1,3,10,16,12,24,30,35,53,74,103,142,206,253,311,351,490,1,23,15,1,0,8,12,6,15,25,26,28,50,55,83,117,156,193,195,246,1,17,2,0,3,2,4,6,9,5,9,25,24,48,59,89,97,118,156,244,0]
["Ciudad de México",50,26,12,11,21,27,41,57,81,127,159,211,358,469,611,751,847,964,1920,7,30,14,5,5,7,13,26,41,62,81,96,128,229,280,352,422,456,495,865,5,20,12,7,6,14,14,15,16,19,46,63,83,129,189,259,329,391,469,1055,2]
["Durango",8,1,0,1,2,6,5,16,11,21,15,32,51,71,69,113,142,150,310,2,5,0,0,0,1,6,3,10,6,15,10,19,36,44,38,64,88,99,170,1,3,1,0,1,1,0,2,6,5,6,5,13,15,27,31,49,54,51,140,1]
["Guanajuato",31,16,8,6,12,13,21,29,36,43,58,85,130,184,200,294,367,409,775,2,20,9,7,2,8,7,13,20,20,26,35,51,75,95,118,177,215,223,366,2,11,7,1,4,4,6,8,9,16,17,23,34,55,89,82,117,152,186,409,0]
["Guerrero",7,6,3,1,6,5,5,3,8,18,20,31,38,65,81,93,129,183,392,0,2,2,1,1,3,4,4,2,7,13,14,14,21,42,52,58,78,118,212,0,5,4,2,0,3,1,1,1,1,5,6,17,17,23,29,35,51,65,180,0]
["Hidalgo",9,5,6,4,6,3,6,10,21,10,27,43,53,70,88,109,170,179,375,0,7,3,2,4,2,3,5,8,13,8,23,23,30,43,50,67,97,99,175,0,2,2,4,0,4,0,1,2,8,2,4,20,23,27,38,42,73,80,200,0]
["Jalisco",56,32,8,10,17,30,54,55,75,68,133,174,260,370,515,666,829,885,1853,22,35,17,4,4,13,22,41,35,52,46,83,115,157,209,285,391,454,458,869,20,21,15,4,6,4,8,13,20,23,22,50,59,103,161,230,275,375,427,984,2]
["México",106,30,6,9,28,39,77,79,99,133,186,256,342,440,607,675,801,967,1822,24,52,15,4,4,15,21,61,55,67,91,108,153,179,236,342,402,447,484,813,24,54,15,2,5,13,18,16,24,32,42,78,103,163,204,265,273,354,483,1009,0]
["Michoacán",27,18,3,2,10,7,18,17,27,30,28,46,78,113,155,198,295,361,885,5,18,9,2,1,4,7,11,12,17,19,14,28,53,66,89,123,164,203,460,5,9,9,1,1,6,0,7,5,10,11,14,18,25,47,66,75,131,158,425,0]
["Morelos",5,2,0,0,7,7,7,11,11,14,31,24,38,46,97,110,153,156,320,0,3,2,0,0,4,4,5,10,9,11,23,11,22,22,59,49,87,85,161,0,2,0,0,0,3,3,2,1,2,3,8,13,16,24,38,61,66,71,159,0]
["Nayarit",11,5,0,3,3,2,7,7,12,7,8,15,24,41,52,80,103,115,228,2,6,4,0,2,2,2,6,5,9,3,5,9,11,26,28,51,68,68,137,2,5,1,0,1,1,0,1,2,3,4,3,6,13,15,24,29,35,47,91,0]
["Nuevo León",69,11,9,12,12,24,35,40,46,58,111,153,182,273,304,357,408,471,908,2,47,3,4,7,5,15,23,24,37,34,74,97,104,178,190,217,248,270,399,1,22,8,5,5,7,9,12,16,9,24,37,56,78,95,114,140,160,201,509,1]
["Oaxaca",33,19,7,3,11,12,14,20,14,14,25,46,49,98,130,192,237,287,624,1,22,4,7,1,8,9,9,10,11,9,13,24,23,60,82,115,133,152,311,0,11,15,0,2,3,3,5,10,3,5,12,22,26,38,48,77,104,135,313,1]
["Puebla",67,30,3,6,13,22,26,25,30,38,48,88,130,175,246,316,353,372,756,22,32,21,1,4,6,16,18,18,16,26,29,51,67,81,125,167,204,183,339,19,35,9,2,2,7,6,8,7,14,12,19,37,63,94,121,149,149,189,417,3]
["Querétaro",10,9,2,2,5,5,12,17,14,22,25,49,55,60,91,116,152,159,345,0,4,4,1,1,2,1,9,13,8,15,14,31,34,31,47,72,92,89,178,0,6,5,1,1,3,4,3,4,6,7,11,18,21,29,44,44,60,70,167,0]
["Quintana Roo",10,3,1,2,2,8,6,11,13,16,28,28,18,38,43,61,56,59,112,0,4,1,0,2,1,6,5,7,7,11,20,14,9,25,25,42,39,32,66,0,6,2,1,0,1,2,1,4,6,5,8,14,9,13,18,19,17,27,46,0]
["San Luis Potosí",19,13,6,4,6,8,7,10,16,21,30,42,56,83,118,151,177,238,535,1,11,5,0,3,4,4,5,6,10,15,20,25,41,38,65,92,105,129,281,1,8,8,6,1,2,4,2,4,6,6,10,17,15,45,53,59,72,109,254,0]
["Sinaloa",11,1,4,1,7,11,7,11,14,17,28,43,60,77,123,154,200,233,392,0,7,0,2,0,6,7,4,5,6,9,18,34,32,47,81,95,125,123,195,0,4,1,2,1,1,4,3,6,8,8,10,9,28,30,42,59,75,110,197,0]
["Sonora",23,6,4,5,3,21,25,31,36,44,53,64,93,128,182,203,248,279,470,4,15,5,2,2,3,15,21,27,28,30,33,40,60,84,116,127,146,158,244,4,8,1,2,3,0,6,4,4,8,14,20,24,33,44,66,76,102,121,226,0]
["Tabasco",22,12,5,4,4,8,9,17,14,24,18,26,34,61,71,79,90,117,233,1,14,6,1,2,4,7,6,11,9,13,12,17,20,33,44,46,49,57,112,0,8,6,4,2,0,1,3,6,5,11,6,9,14,28,27,33,41,60,121,1]
["Tamaulipas",17,6,4,5,6,11,13,12,16,28,40,51,94,126,140,168,201,208,396,2,9,4,2,2,3,8,4,9,9,24,27,28,52,75,82,104,125,131,198,2,8,2,2,3,3,3,9,3,7,4,13,23,42,51,58,64,76,77,198,0]
["Tlaxcala",8,4,0,0,4,3,1,7,11,7,9,15,26,30,32,39,51,69,167,0,4,3,0,0,4,1,1,6,7,4,6,11,16,17,17,23,24,40,86,0,4,1,0,0,0,2,0,1,4,3,3,4,10,13,15,16,27,29,81,0]
["Veracruz",50,21,10,10,15,16,39,35,34,56,85,117,162,246,332,456,530,624,1162,1,24,8,5,6,11,11,29,23,23,33,47,62,96,144,182,260,302,331,556,0,26,13,5,4,4,5,10,12,11,23,38,55,66,102,150,196,228,293,606,1]
["Yucatán",15,7,2,3,5,4,9,21,18,20,30,50,61,88,108,141,167,181,349,0,7,2,2,2,3,1,7,12,14,15,16,38,31,49,68,78,94,82,168,0,8,5,0,1,2,3,2,9,4,5,14,12,30,39,40,63,73,99,181,0]
["Zacatecas",15,8,2,3,1,4,5,5,11,8,21,25,33,50,64,97,117,161,388,2,6,4,2,1,1,2,1,1,7,3,16,18,24,33,41,64,74,95,193,2,9,4,0,2,0,2,4,4,4,5,5,7,9,17,23,33,43,66,195,0]

{"sheet":"5GCM-G_Edad","index":75,"n_rows":24,"n_cols":10,"rows_kept":24,"cut":false,"hidden":false,"merged":[[0,0,0,9]]}
["Enfermedades del sistema respiratorio"]
["SELECCIONE UNA ENTIDAD"]
["Oaxaca","2020","H - 2020","M - 2020","2021","H - 2021","M - 2021","2022","H - 2022","M - 2022"]
["Menores de 1 año",{"$f":"VLOOKUP($A$3,'5T-GCM-R_Edad2020'!$A$2:$BI$34,2,0)","v":49},{"$f":"VLOOKUP($A$3,'5T-GCM-R_Edad2020'!$A$2:$BI$34,22,0)","v":33},{"$f":"VLOOKUP($A$3,'5T-GCM-R_Edad2020'!$A$2:$BI$34,42,0)","v":16},{"$f":"VLOOKUP($A$3,'5T-GCM-R_Edad2021'!$A$2:$BI$34,2,0)","v":29},{"$f":"VLOOKUP($A$3,'5T-GCM-R_Edad2021'!$A$2:$BI$34,22,0)","v":18},{"$f":"VLOOKUP($A$3,'5T-GCM-R_Edad2021'!$A$2:$BI$34,42,0)","v":11},{"$f":"VLOOKUP($A$3,'5T-GCM-R_Edad2022'!$A$2:$BI$34,2,0)","v":33},{"$f":"VLOOKUP($A$3,'5T-GCM-R_Edad2022'!$A$2:$BI$34,22,0)","v":22},{"$f":"VLOOKUP($A$3,'5T-GCM-R_Edad2022'!$A$2:$BI$34,42,0)","v":11}]
["1-4 años",{"$f":"VLOOKUP($A$3,'5T-GCM-R_Edad2020'!$A$2:$BI$34,3,0)","v":29},{"$f":"VLOOKUP($A$3,'5T-GCM-R_Edad2020'!$A$2:$BI$34,23,0)","v":16},{"$f":"VLOOKUP($A$3,'5T-GCM-R_Edad2020'!$A$2:$BI$34,43,0)","v":13},{"$f":"VLOOKUP($A$3,'5T-GCM-R_Edad2021'!$A$2:$BI$34,3,0)","v":16},{"$f":"VLOOKUP($A$3,'5T-GCM-R_Edad2021'!$A$2:$BI$34,23,0)","v":9},{"$f":"VLOOKUP($A$3,'5T-GCM-R_Edad2021'!$A$2:$BI$34,43,0)","v":7},{"$f":"VLOOKUP($A$3,'5T-GCM-R_Edad2022'!$A$2:$BI$34,3,0)","v":19},{"$f":"VLOOKUP($A$3,'5T-GCM-R_Edad2022'!$A$2:$BI$34,23,0)","v":4},{"$f":"VLOOKUP($A$3,'5T-GCM-R_Edad2022'!$A$2:$BI$34,43,0)","v":15}]
["5-9 años",{"$f":"VLOOKUP($A$3,'5T-GCM-R_Edad2020'!$A$2:$BI$34,4,0)","v":4},{"$f":"VLOOKUP($A$3,'5T-GCM-R_Edad2020'!$A$2:$BI$34,24,0)","v":1},{"$f":"VLOOKUP($A$3,'5T-GCM-R_Edad2020'!$A$2:$BI$34,44,0)","v":3},{"$f":"VLOOKUP($A$3,'5T-GCM-R_Edad2021'!$A$2:$BI$34,4,0)","v":7},{"$f":"VLOOKUP($A$3,'5T-GCM-R_Edad2021'!$A$2:$BI$34,24,0)","v":5},{"$f":"VLOOKUP($A$3,'5T-GCM-R_Edad2021'!$A$2:$BI$34,44,0)","v":2},{"$f":"VLOOKUP($A$3,'5T-GCM-R_Edad2022'!$A$2:$BI$34,4,0)","v":7},{"$f":"VLOOKUP($A$3,'5T-GCM-R_Edad2022'!$A$2:$BI$34,24,0)","v":7},{"$f":"VLOOKUP($A$3,'5T-GCM-R_Edad2022'!$A$2:$BI$34,44,0)","v":0}]
["10-14 años",{"$f":"VLOOKUP($A$3,'5T-GCM-R_Edad2020'!$A$2:$BI$34,5,0)","v":3},{"$f":"VLOOKUP($A$3,'5T-GCM-R_Edad2020'!$A$2:$BI$34,25,0)","v":1},{"$f":"VLOOKUP($A$3,'5T-GCM-R_Edad2020'!$A$2:$BI$34,45,0)","v":2},{"$f":"VLOOKUP($A$3,'5T-GCM-R_Edad2021'!$A$2:$BI$34,5,0)","v":2},{"$f":"VLOOKUP($A$3,'5T-GCM-R_Edad2021'!$A$2:$BI$34,25,0)","v":0},{"$f":"VLOOKUP($A$3,'5T-GCM-R_Edad2021'!$A$2:$BI$34,45,0)","v":2},{"$f":"VLOOKUP($A$3,'5T-GCM-R_Edad2022'!$A$2:$BI$34,5,0)","v":3},{"$f":"VLOOKUP($A$3,'5T-GCM-R_Edad2022'!$A$2:$BI$34,25,0)","v":1},{"$f":"VLOOKUP($A$3,'5T-GCM-R_Edad2022'!$A$2:$BI$34,45,0)","v":2}]
["15-19 años",{"$f":"VLOOKUP($A$3,'5T-GCM-R_Edad2020'!$A$2:$BI$34,6,0)","v":10},{"$f":"VLOOKUP($A$3,'5T-GCM-R_Edad2020'!$A$2:$BI$34,26,0)","v":9},{"$f":"VLOOKUP($A$3,'5T-GCM-R_Edad2020'!$A$2:$BI$34,46,0)","v":1},{"$f":"VLOOKUP($A$3,'5T-GCM-R_Edad2021'!$A$2:$BI$34,6,0)","v":11},{"$f":"VLOOKUP($A$3,'5T-GCM-R_Edad2021'!$A$2:$BI$34,26,0)","v":6},{"$f":"VLOOKUP($A$3,'5T-GCM-R_Edad2021'!$A$2:$BI$34,46,0)","v":5},{"$f":"VLOOKUP($A$3,'5T-GCM-R_Edad2022'!$A$2:$BI$34,6,0)","v":11},{"$f":"VLOOKUP($A$3,'5T-GCM-R_Edad2022'!$A$2:$BI$34,26,0)","v":8},{"$f":"VLOOKUP($A$3,'5T-GCM-R_Edad2022'!$A$2:$BI$34,46,0)","v":3}]
["20-24 años",{"$f":"VLOOKUP($A$3,'5T-GCM-R_Edad2020'!$A$2:$BI$34,7,0)","v":9},{"$f":"VLOOKUP($A$3,'5T-GCM-R_Edad2020'!$A$2:$BI$34,27,0)","v":5},{"$f":"VLOOKUP($A$3,'5T-GCM-R_Edad2020'!$A$2:$BI$34,47,0)","v":4},{"$f":"VLOOKUP($A$3,'5T-GCM-R_Edad2021'!$A$2:$BI$34,7,0)","v":12},{"$f":"VLOOKUP($A$3,'5T-GCM-R_Edad2021'!$A$2:$BI$34,27,0)","v":8},{"$f":"VLOOKUP($A$3,'5T-GCM-R_Edad2021'!$A$2:$BI$34,47,0)","v":4},{"$f":"VLOOKUP($A$3,'5T-GCM-R_Edad2022'!$A$2:$BI$34,7,0)","v":12},{"$f":"VLOOKUP($A$3,'5T-GCM-R_Edad2022'!$A$2:$BI$34,27,0)","v":9},{"$f":"VLOOKUP($A$3,'5T-GCM-R_Edad2022'!$A$2:$BI$34,47,0)","v":3}]
["25-29 años",{"$f":"VLOOKUP($A$3,'5T-GCM-R_Edad2020'!$A$2:$BI$34,8,0)","v":24},{"$f":"VLOOKUP($A$3,'5T-GCM-R_Edad2020'!$A$2:$BI$34,28,0)","v":16},{"$f":"VLOOKUP($A$3,'5T-GCM-R_Edad2020'!$A$2:$BI$34,48,0)","v":8},{"$f":"VLOOKUP($A$3,'5T-GCM-R_Edad2021'!$A$2:$BI$34,8,0)","v":22},{"$f":"VLOOKUP($A$3,'5T-GCM-R_Edad2021'!$A$2:$BI$34,28,0)","v":17},{"$f":"VLOOKUP($A$3,'5T-GCM-R_Edad2021'!$A$2:$BI$34,48,0)","v":5},{"$f":"VLOOKUP($A$3,'5T-GCM-R_Edad2022'!$A$2:$BI$34,8,0)","v":14},{"$f":"VLOOKUP($A$3,'5T-GCM-R_Edad2022'!$A$2:$BI$34,28,0)","v":9},{"$f":"VLOOKUP($A$3,'5T-GCM-R_Edad2022'!$A$2:$BI$34,48,0)","v":5}]
["30-34 años",{"$f":"VLOOKUP($A$3,'5T-GCM-R_Edad2020'!$A$2:$BI$34,9,0)","v":15},{"$f":"VLOOKUP($A$3,'5T-GCM-R_Edad2020'!$A$2:$BI$34,29,0)","v":11},{"$f":"VLOOKUP($A$3,'5T-GCM-R_Edad2020'!$A$2:$BI$34,49,0)","v":4},{"$f":"VLOOKUP($A$3,'5T-GCM-R_Edad2021'!$A$2:$BI$34,9,0)","v":26},{"$f":"VLOOKUP($A$3,'5T-GCM-R_Edad2021'!$A$2:$BI$34,29,0)","v":16},{"$f":"VLOOKUP($A$3,'5T-GCM-R_Edad2021'!$A$2:$BI$34,49,0)","v":10},{"$f":"VLOOKUP($A$3,'5T-GCM-R_Edad2022'!$A$2:$BI$34,9,0)","v":20},{"$f":"VLOOKUP($A$3,'5T-GCM-R_Edad2022'!$A$2:$BI$34,29,0)","v":10},{"$f":"VLOOKUP($A$3,'5T-GCM-R_Edad2022'!$A$2:$BI$34,49,0)","v":10}]
["35-39 años",{"$f":"VLOOKUP($A$3,'5T-GCM-R_Edad2020'!$A$2:$BI$34,10,0)","v":27},{"$f":"VLOOKUP($A$3,'5T-GCM-R_Edad2020'!$A$2:$BI$34,30,0)","v":19},{"$f":"VLOOKUP($A$3,'5T-GCM-R_Edad2020'!$A$2:$BI$34,50,0)","v":8},{"$f":"VLOOKUP($A$3,'5T-GCM-R_Edad2021'!$A$2:$BI$34,10,0)","v":37},{"$f":"VLOOKUP($A$3,'5T-GCM-R_Edad2021'!$A$2:$BI$34,30,0)","v":25},{"$f":"VLOOKUP($A$3,'5T-GCM-R_Edad2021'!$A$2:$BI$34,50,0)","v":12},{"$f":"VLOOKUP($A$3,'5T-GCM-R_Edad2022'!$A$2:$BI$34,10,0)","v":14},{"$f":"VLOOKUP($A$3,'5T-GCM-R_Edad2022'!$A$2:$BI$34,30,0)","v":11},{"$f":"VLOOKUP($A$3,'5T-GCM-R_Edad2022'!$A$2:$BI$34,50,0)","v":3}]
["40-44 años",{"$f":"VLOOKUP($A$3,'5T-GCM-R_Edad2020'!$A$2:$BI$34,11,0)","v":35},{"$f":"VLOOKUP($A$3,'5T-GCM-R_Edad2020'!$A$2:$BI$34,31,0)","v":29},{"$f":"VLOOKUP($A$3,'5T-GCM-R_Edad2020'!$A$2:$BI$34,51,0)","v":6},{"$f":"VLOOKUP($A$3,'5T-GCM-R_Edad2021'!$A$2:$BI$34,11,0)","v":55},{"$f":"VLOOKUP($A$3,'5T-GCM-R_Edad2021'!$A$2:$BI$34,31,0)","v":30},{"$f":"VLOOKUP($A$3,'5T-GCM-R_Edad2021'!$A$2:$BI$34,51,0)","v":25},{"$f":"VLOOKUP($A$3,'5T-GCM-R_Edad2022'!$A$2:$BI$34,11,0)","v":14},{"$f":"VLOOKUP($A$3,'5T-GCM-R_Edad2022'!$A$2:$BI$34,31,0)","v":9},{"$f":"VLOOKUP($A$3,'5T-GCM-R_Edad2022'!$A$2:$BI$34,51,0)","v":5}]
["45-49 años",{"$f":"VLOOKUP($A$3,'5T-GCM-R_Edad2020'!$A$2:$BI$34,12,0)","v":64},{"$f":"VLOOKUP($A$3,'5T-GCM-R_Edad2020'!$A$2:$BI$34,32,0)","v":42},{"$f":"VLOOKUP($A$3,'5T-GCM-R_Edad2020'!$A$2:$BI$34,52,0)","v":22},{"$f":"VLOOKUP($A$3,'5T-GCM-R_Edad2021'!$A$2:$BI$34,12,0)","v":80},{"$f":"VLOOKUP($A$3,'5T-GCM-R_Edad2021'!$A$2:$BI$34,32,0)","v":52},{"$f":"VLOOKUP($A$3,'5T-GCM-R_Edad2021'!$A$2:$BI$34,52,0)","v":28},{"$f":"VLOOKUP($A$3,'5T-GCM-R_Edad2022'!$A$2:$BI$34,12,0)","v":25},{"$f":"VLOOKUP($A$3,'5T-GCM-R_Edad2022'!$A$2:$BI$34,32,0)","v":13},{"$f":"VLOOKUP($A$3,'5T-GCM-R_Edad2022'!$A$2:$BI$34,52,0)","v":12}]
["50-54 años",{"$f":"VLOOKUP($A$3,'5T-GCM-R_Edad2020'!$A$2:$BI$34,13,0)","v":60},{"$f":"VLOOKUP($A$3,'5T-GCM-R_Edad2020'!$A$2:$BI$34,33,0)","v":43},{"$f":"VLOOKUP($A$3,'5T-GCM-R_Edad2020'!$A$2:$BI$34,53,0)","v":17},{"$f":"VLOOKUP($A$3,'5T-GCM-R_Edad2021'!$A$2:$BI$34,13,0)","v":94},{"$f":"VLOOKUP($A$3,'5T-GCM-R_Edad2021'!$A$2:$BI$34,33,0)","v":70},{"$f":"VLOOKUP($A$3,'5T-GCM-R_Edad2021'!$A$2:$BI$34,53,0)","v":24},{"$f":"VLOOKUP($A$3,'5T-GCM-R_Edad2022'!$A$2:$BI$34,13,0)","v":46},{"$f":"VLOOKUP($A$3,'5T-GCM-R_Edad2022'!$A$2:$BI$34,33,0)","v":24},{"$f":"VLOOKUP($A$3,'5T-GCM-R_Edad2022'!$A$2:$BI$34,53,0)","v":22}]
["55-59 años",{"$f":"VLOOKUP($A$3,'5T-GCM-R_Edad2020'!$A$2:$BI$34,14,0)","v":115},{"$f":"VLOOKUP($A$3,'5T-GCM-R_Edad2020'!$A$2:$BI$34,34,0)","v":76},{"$f":"VLOOKUP($A$3,'5T-GCM-R_Edad2020'!$A$2:$BI$34,54,0)","v":39},{"$f":"VLOOKUP($A$3,'5T-GCM-R_Edad2021'!$A$2:$BI$34,14,0)","v":125},{"$f":"VLOOKUP($A$3,'5T-GCM-R_Edad2021'!$A$2:$BI$34,34,0)","v":72},{"$f":"VLOOKUP($A$3,'5T-GCM-R_Edad2021'!$A$2:$BI$34,54,0)","v":53},{"$f":"VLOOKUP($A$3,'5T-GCM-R_Edad2022'!$A$2:$BI$34,14,0)","v":49},{"$f":"VLOOKUP($A$3,'5T-GCM-R_Edad2022'!$A$2:$BI$34,34,0)","v":23},{"$f":"VLOOKUP($A$3,'5T-GCM-R_Edad2022'!$A$2:$BI$34,54,0)","v":26}]
["60-64 años",{"$f":"VLOOKUP($A$3,'5T-GCM-R_Edad2020'!$A$2:$BI$34,15,0)","v":150},{"$f":"VLOOKUP($A$3,'5T-GCM-R_Edad2020'!$A$2:$BI$34,35,0)","v":84},{"$f":"VLOOKUP($A$3,'5T-GCM-R_Edad2020'!$A$2:$BI$34,55,0)","v":66},{"$f":"VLOOKUP($A$3,'5T-GCM-R_Edad2021'!$A$2:$BI$34,15,0)","v":175},{"$f":"VLOOKUP($A$3,'5T-GCM-R_Edad2021'!$A$2:$BI$34,35,0)","v":106},{"$f":"VLOOKUP($A$3,'5T-GCM-R_Edad2021'!$A$2:$BI$34,55,0)","v":69},{"$f":"VLOOKUP($A$3,'5T-GCM-R_Edad2022'!$A$2:$BI$34,15,0)","v":98},{"$f":"VLOOKUP($A$3,'5T-GCM-R_Edad2022'!$A$2:$BI$34,35,0)","v":60},{"$f":"VLOOKUP($A$3,'5T-GCM-R_Edad2022'!$A$2:$BI$34,55,0)","v":38}]
["65-69 años",{"$f":"VLOOKUP($A$3,'5T-GCM-R_Edad2020'!$A$2:$BI$34,16,0)","v":200},{"$f":"VLOOKUP($A$3,'5T-GCM-R_Edad2020'!$A$2:$BI$34,36,0)","v":121},{"$f":"VLOOKUP($A$3,'5T-GCM-R_Edad2020'!$A$2:$BI$34,56,0)","v":79},{"$f":"VLOOKUP($A$3,'5T-GCM-R_Edad2021'!$A$2:$BI$34,16,0)","v":224},{"$f":"VLOOKUP($A$3,'5T-GCM-R_Edad2021'!$A$2:$BI$34,36,0)","v":130},{"$f":"VLOOKUP($A$3,'5T-GCM-R_Edad2021'!$A$2:$BI$34,56,0)","v":94},{"$f":"VLOOKUP($A$3,'5T-GCM-R_Edad2022'!$A$2:$BI$34,16,0)","v":130},{"$f":"VLOOKUP($A$3,'5T-GCM-R_Edad2022'!$A$2:$BI$34,36,0)","v":82},{"$f":"VLOOKUP($A$3,'5T-GCM-R_Edad2022'!$A$2:$BI$34,56,0)","v":48}]
["70-74 años",{"$f":"VLOOKUP($A$3,'5T-GCM-R_Edad2020'!$A$2:$BI$34,17,0)","v":240},{"$f":"VLOOKUP($A$3,'5T-GCM-R_Edad2020'!$A$2:$BI$34,37,0)","v":140},{"$f":"VLOOKUP($A$3,'5T-GCM-R_Edad2020'!$A$2:$BI$34,57,0)","v":100},{"$f":"VLOOKUP($A$3,'5T-GCM-R_Edad2021'!$A$2:$BI$34,17,0)","v":270},{"$f":"VLOOKUP($A$3,'5T-GCM-R_Edad2021'!$A$2:$BI$34,37,0)","v":153},{"$f":"VLOOKUP($A$3,'5T-GCM-R_Edad2021'!$A$2:$BI$34,57,0)","v":117},{"$f":"VLOOKUP($A$3,'5T-GCM-R_Edad2022'!$A$2:$BI$34,17,0)","v":192},{"$f":"VLOOKUP($A$3,'5T-GCM-R_Edad2022'!$A$2:$BI$34,37,0)","v":115},{"$f":"VLOOKUP($A$3,'5T-GCM-R_Edad2022'!$A$2:$BI$34,57,0)","v":77}]
["75-79 años",{"$f":"VLOOKUP($A$3,'5T-GCM-R_Edad2020'!$A$2:$BI$34,18,0)","v":269},{"$f":"VLOOKUP($A$3,'5T-GCM-R_Edad2020'!$A$2:$BI$34,38,0)","v":163},{"$f":"VLOOKUP($A$3,'5T-GCM-R_Edad2020'!$A$2:$BI$34,58,0)","v":106},{"$f":"VLOOKUP($A$3,'5T-GCM-R_Edad2021'!$A$2:$BI$34,18,0)","v":324},{"$f":"VLOOKUP($A$3,'5T-GCM-R_Edad2021'!$A$2:$BI$34,38,0)","v":194},{"$f":"VLOOKUP($A$3,'5T-GCM-R_Edad2021'!$A$2:$BI$34,58,0)","v":130},{"$f":"VLOOKUP($A$3,'5T-GCM-R_Edad2022'!$A$2:$BI$34,18,0)","v":237},{"$f":"VLOOKUP($A$3,'5T-GCM-R_Edad2022'!$A$2:$BI$34,38,0)","v":133},{"$f":"VLOOKUP($A$3,'5T-GCM-R_Edad2022'!$A$2:$BI$34,58,0)","v":104}]
["80-84 años",{"$f":"VLOOKUP($A$3,'5T-GCM-R_Edad2020'!$A$2:$BI$34,19,0)","v":299},{"$f":"VLOOKUP($A$3,'5T-GCM-R_Edad2020'!$A$2:$BI$34,39,0)","v":160},{"$f":"VLOOKUP($A$3,'5T-GCM-R_Edad2020'!$A$2:$BI$34,59,0)","v":139},{"$f":"VLOOKUP($A$3,'5T-GCM-R_Edad2021'!$A$2:$BI$34,19,0)","v":368},{"$f":"VLOOKUP($A$3,'5T-GCM-R_Edad2021'!$A$2:$BI$34,39,0)","v":231},{"$f":"VLOOKUP($A$3,'5T-GCM-R_Edad2021'!$A$2:$BI$34,59,0)","v":137},{"$f":"VLOOKUP($A$3,'5T-GCM-R_Edad2022'!$A$2:$BI$34,19,0)","v":287},{"$f":"VLOOKUP($A$3,'5T-GCM-R_Edad2022'!$A$2:$BI$34,39,0)","v":152},{"$f":"VLOOKUP($A$3,'5T-GCM-R_Edad2022'!$A$2:$BI$34,59,0)","v":135}]
["85 años y más",{"$f":"VLOOKUP($A$3,'5T-GCM-R_Edad2020'!$A$2:$BI$34,20,0)","v":526},{"$f":"VLOOKUP($A$3,'5T-GCM-R_Edad2020'!$A$2:$BI$34,40,0)","v":263},{"$f":"VLOOKUP($A$3,'5T-GCM-R_Edad2020'!$A$2:$BI$34,60,0)","v":263},{"$f":"VLOOKUP($A$3,'5T-GCM-R_Edad2021'!$A$2:$BI$34,20,0)","v":625},{"$f":"VLOOKUP($A$3,'5T-GCM-R_Edad2021'!$A$2:$BI$34,40,0)","v":345},{"$f":"VLOOKUP($A$3,'5T-GCM-R_Edad2021'!$A$2:$BI$34,60,0)","v":280},{"$f":"VLOOKUP($A$3,'5T-GCM-R_Edad2022'!$A$2:$BI$34,20,0)","v":624},{"$f":"VLOOKUP($A$3,'5T-GCM-R_Edad2022'!$A$2:$BI$34,40,0)","v":311},{"$f":"VLOOKUP($A$3,'5T-GCM-R_Edad2022'!$A$2:$BI$34,60,0)","v":313}]
["No especificado",{"$f":"VLOOKUP($A$3,'5T-GCM-R_Edad2020'!$A$2:$BI$34,21,0)","v":4},{"$f":"VLOOKUP($A$3,'5T-GCM-R_Edad2020'!$A$2:$BI$34,41,0)","v":3},{"$f":"VLOOKUP($A$3,'5T-GCM-R_Edad2020'!$A$2:$BI$34,61,0)","v":1},{"$f":"VLOOKUP($A$3,'5T-GCM-R_Edad2021'!$A$2:$BI$34,21,0)","v":0},{"$f":"VLOOKUP($A$3,'5T-GCM-R_Edad2021'!$A$2:$BI$34,41,0)","v":0},{"$f":"VLOOKUP($A$3,'5T-GCM-R_Edad2021'!$A$2:$BI$34,61,0)","v":0},{"$f":"VLOOKUP($A$3,'5T-GCM-R_Edad2022'!$A$2:$BI$34,21,0)","v":1},{"$f":"VLOOKUP($A$3,'5T-GCM-R_Edad2022'!$A$2:$BI$34,41,0)","v":0},{"$f":"VLOOKUP($A$3,'5T-GCM-R_Edad2022'!$A$2:$BI$34,61,0)","v":1}]
["Total",{"$f":"SUM(B4:B23)","v":2132},1235,897,2502,1487,1015,1836,1003,833]

{"sheet":"6T-GCM-R_Edad2020","index":76,"n_rows":34,"n_cols":61,"rows_kept":34,"cut":false,"hidden":true,"merged":[]}
[1,2,3,4,5,6,7,8,9,10,11,12,13,14,15,16,17,18,19,20,21,22,23,24,25,26,27,28,29,30,31,32,33,34,35,36,37,38,39,40,41,42,43,44,45,46,47,48,49,50,51,52,53,54,55,56,57,58,59,60,61]
["ESTADO","Menores de 1 año","1-4 años","5-9 años","10-14 años","15-19 años","20-24 años","25-29 años","30-34 años","35-39 años","40-44 años","45-49 años","50-54 años","55-59 años","60-64 años","65-69 años","70-74 años","75-79 años","80-84 años","85 años y más","No especificado","H Menores de 1 año","H 1-4 años","H 5-9 años","H 10-14 años","H 15-19 años","H 20-24 años","H 25-29 años","H 30-34 años","H 35-39 años","H 40-44 años","H 45-49 años","H 50-54 años","H 55-59 años","H 60-64 años","H 65-69 años","H 70-74 años","H 75-79 años","H 80-84 años","H 85 años y más","H No especificado","   M Menores de 1 año ","M 1-4 años","M 5-9 años","M 10-14 años","M 15-19 años","M 20-24 años","M 25-29 años","M 30-34 años","M 35-39 años","M 40-44 años","M 45-49 años","M 50-54 años","M 55-59 años","M 60-64 años","M 65-69 años","M 70-74 años","M 75-79 años","M 80-84 años","M 85 años y    ás","M No especificado"]
["Aguascalientes",8,13,9,13,51,81,70,63,61,58,46,39,34,26,26,20,23,25,59,17,4,6,6,8,43,75,60,55,57,52,39,36,28,21,18,11,15,8,21,17,4,7,3,5,8,6,10,8,4,6,7,3,6,5,8,9,8,17,38,0]
["Baja California",20,35,20,19,193,441,537,562,537,491,376,298,179,123,101,47,48,35,47,711,10,21,16,9,154,372,478,494,481,443,331,261,164,108,81,35,29,21,24,640,10,14,4,10,39,69,59,68,56,48,45,37,15,15,20,12,19,14,23,71]
["Baja California Sur",9,7,2,3,17,28,32,41,29,27,27,24,23,23,16,12,13,8,9,19,8,6,1,3,10,19,28,36,25,25,24,21,19,17,15,9,13,4,5,19,1,1,1,0,7,9,4,5,4,2,3,3,4,6,1,3,0,4,4,0]
["Campeche",2,7,8,10,27,53,48,30,34,42,23,26,17,18,19,11,12,10,13,5,1,2,6,8,21,42,41,27,29,37,20,22,11,14,14,7,8,5,7,4,1,5,2,2,6,11,7,3,5,5,3,4,6,4,5,4,4,5,6,1]
["Coahuila",19,21,16,26,92,137,144,123,127,120,96,83,63,57,43,50,46,28,38,10,11,10,12,15,73,126,124,111,108,104,87,67,50,45,28,39,30,21,17,10,8,11,4,11,19,11,20,12,19,16,9,16,13,12,15,11,16,7,21,0]
["Colima",4,7,3,1,59,111,154,112,116,110,78,46,28,36,22,15,14,13,23,88,4,5,1,0,43,93,133,95,98,91,71,42,22,34,18,13,8,8,10,77,0,2,2,1,16,18,21,17,18,19,7,4,6,2,4,2,6,5,13,11]
["Chiapas",11,28,25,48,133,207,195,159,140,141,106,90,86,65,47,38,43,45,49,89,7,18,13,30,100,175,178,140,130,129,92,76,74,51,39,27,32,31,22,78,4,10,12,18,33,32,17,19,10,12,14,14,12,14,8,11,11,14,27,11]
["Chihuahua",52,63,31,63,372,696,776,598,503,464,348,253,212,142,109,97,65,48,72,661,29,38,17,40,322,598,673,545,433,391,307,216,192,122,82,72,41,30,37,598,23,25,14,23,50,98,103,53,70,73,41,37,20,20,27,25,24,18,35,63]
["Ciudad de México",30,45,25,50,224,424,515,542,423,370,293,269,225,222,167,126,115,98,110,22,13,21,18,37,177,359,447,473,377,328,245,233,189,181,118,88,78,68,53,14,17,24,7,13,47,65,68,69,46,42,48,36,36,41,49,38,37,30,57,8]
["Durango",11,17,12,13,80,106,99,85,82,67,70,47,36,30,39,24,27,32,30,8,4,12,9,6,64,92,85,72,72,56,58,39,29,28,32,18,18,20,11,6,7,5,3,7,16,14,14,13,10,11,12,8,7,2,7,6,9,12,19,2]
["Guanajuato",26,69,37,91,696,1103,1150,978,830,642,493,325,242,154,106,113,86,68,117,424,15,39,24,70,598,963,1009,858,725,579,435,287,218,126,93,81,59,40,54,371,11,30,13,21,98,140,141,120,105,63,58,38,24,28,13,32,27,28,63,53]
["Guerrero",4,20,9,24,130,577,273,244,232,195,170,149,78,92,55,53,38,63,111,8,4,12,6,15,106,520,228,217,207,170,151,138,68,76,46,38,23,38,51,6,0,8,3,9,24,57,45,27,25,25,19,11,10,16,9,15,15,25,60,2]
["Hidalgo",6,21,8,34,117,147,169,131,109,145,106,87,58,54,58,46,52,35,61,5,4,13,5,22,88,127,144,115,97,121,92,77,53,44,48,41,38,23,26,4,2,8,3,12,29,20,25,16,12,24,14,10,5,10,10,5,14,12,35,1]
["Jalisco",51,78,43,73,431,696,790,641,580,463,428,315,240,174,154,156,129,107,160,287,27,45,28,51,348,592,680,564,509,400,383,276,211,138,119,116,91,65,86,256,24,33,15,22,83,104,110,77,71,63,45,39,29,36,35,40,38,42,74,31]
["México",159,140,57,140,605,922,993,864,728,677,500,399,337,281,219,164,158,96,147,302,91,91,37,82,468,761,855,736,647,588,416,342,283,238,176,118,99,56,72,264,68,49,20,58,137,161,138,128,81,89,84,57,54,43,43,46,59,40,75,38]
["Michoacán",14,59,33,62,344,543,565,532,511,414,316,196,151,147,99,80,61,63,136,200,6,38,22,43,287,476,492,470,454,377,284,174,131,126,83,58,46,34,81,182,8,21,11,19,57,67,73,62,57,37,32,22,20,21,16,22,15,29,55,18]
["Morelos",6,17,5,12,128,233,231,225,179,153,110,87,64,54,46,26,30,37,60,3,2,8,3,8,108,212,207,196,167,135,100,75,59,48,33,15,21,17,28,3,4,9,2,4,20,21,24,29,12,18,10,12,5,6,13,11,9,20,32,0]
["Nayarit",2,24,10,11,56,77,63,74,53,58,47,56,26,24,21,29,23,124,32,18,1,14,9,8,44,59,51,61,42,51,43,47,21,20,15,19,17,106,16,17,1,10,1,3,12,18,12,13,11,7,4,9,5,4,6,10,6,18,16,1]
["Nuevo León",13,25,10,13,142,274,339,272,247,211,207,138,107,88,66,71,51,55,87,12,9,11,6,11,117,241,284,246,222,189,184,124,91,72,53,53,26,31,35,12,4,14,4,2,25,33,55,26,25,22,23,14,16,16,13,18,25,24,52,0]
["Oaxaca",2,28,20,29,155,214,253,240,224,175,184,130,116,68,82,77,63,62,112,10,2,13,12,18,123,194,220,217,197,156,161,114,103,60,67,64,43,35,52,9,0,15,8,11,32,20,33,23,27,19,23,16,13,8,15,13,20,27,60,1]
["Puebla",20,38,31,64,244,340,405,329,276,220,189,169,162,136,94,70,65,58,87,264,12,22,21,43,198,295,351,272,248,189,166,139,140,111,75,48,44,33,40,236,8,16,10,21,46,45,54,57,28,31,23,30,22,25,19,22,21,25,47,28]
["Querétaro",17,13,5,33,80,121,115,113,93,87,81,52,42,44,22,32,22,24,21,8,11,7,5,23,66,103,101,105,82,84,72,44,36,36,20,21,17,12,11,8,6,6,0,10,14,18,14,8,11,3,9,8,6,8,2,11,5,12,10,0]
["Quintana Roo",13,12,5,7,84,209,201,160,123,130,94,76,66,32,34,22,20,20,30,2,5,2,2,7,72,183,171,141,111,110,86,69,60,27,29,20,11,13,15,2,8,10,3,0,12,26,30,19,12,20,8,7,6,5,5,2,9,7,15,0]
["San Luis Potosí",23,21,17,36,174,238,269,224,178,149,167,87,83,57,65,42,45,49,89,20,12,13,11,26,144,212,235,201,163,131,148,80,71,44,57,33,28,26,46,19,11,8,6,10,30,26,34,23,15,18,19,7,12,13,8,9,17,23,43,1]
["Sinaloa",8,21,9,28,184,229,257,248,241,216,177,124,96,85,73,52,43,30,48,202,5,15,7,19,160,203,226,226,223,200,164,112,83,76,60,44,30,19,27,199,3,6,2,9,24,26,31,22,18,16,13,12,13,9,13,8,13,11,21,3]
["Sonora",9,13,12,24,163,339,400,392,321,298,219,165,120,151,60,48,46,42,51,145,6,8,7,17,139,305,366,365,288,277,199,147,111,136,48,41,30,25,28,135,3,5,5,7,24,34,34,27,33,21,20,18,9,15,12,7,16,17,23,10]
["Tabasco",2,9,8,19,90,161,195,177,134,118,106,77,61,62,34,23,11,19,24,11,2,6,4,13,71,148,168,157,122,102,92,69,54,54,29,19,5,11,16,11,0,3,4,6,19,13,27,20,12,16,14,8,7,8,5,4,6,8,8,0]
["Tamaulipas",17,9,17,28,125,239,200,169,158,152,127,104,78,338,52,46,38,44,65,49,10,4,8,18,104,210,181,149,135,138,111,86,73,285,41,32,27,26,31,46,7,5,9,10,21,29,19,20,23,14,16,18,5,53,11,14,11,18,34,3]
["Tlaxcala",7,9,6,9,33,40,71,71,45,59,48,31,19,27,14,19,13,15,42,16,5,6,5,6,24,31,58,68,34,46,44,24,16,20,12,13,10,7,18,15,2,3,1,3,9,9,13,3,11,13,4,7,3,7,2,6,3,8,24,1]
["Veracruz",10,41,22,60,205,399,465,363,334,279,291,219,184,149,134,119,79,67,104,12,6,27,13,39,164,331,399,327,304,243,262,192,153,130,104,85,56,33,50,12,4,14,9,21,41,68,66,36,30,36,29,27,31,19,30,34,23,34,54,0]
["Yucatán",7,7,0,8,41,67,88,73,70,59,58,56,36,38,46,34,27,26,44,4,2,4,0,4,32,56,75,67,59,48,45,47,27,26,34,22,21,15,15,4,5,3,0,4,9,11,13,6,11,11,13,9,9,12,12,12,6,11,29,0]
["Zacatecas",10,20,10,35,206,317,269,182,169,146,132,75,53,72,39,28,31,45,83,145,6,14,7,26,182,278,248,159,154,131,110,60,47,62,31,21,24,25,34,130,4,6,3,9,24,39,21,23,15,15,22,15,6,10,8,7,7,20,49,15]

{"sheet":"6T-GCM-R_Edad2021","index":77,"n_rows":34,"n_cols":61,"rows_kept":34,"cut":false,"hidden":true,"merged":[]}
[1,2,3,4,5,6,7,8,9,10,11,12,13,14,15,16,17,18,19,20,21,22,23,24,25,26,27,28,29,30,31,32,33,34,35,36,37,38,39,40,41,42,43,44,45,46,47,48,49,50,51,52,53,54,55,56,57,58,59,60,61]
["ESTADO","Menores de 1 año","1-4 años","5-9 años","10-14 años","15-19 años","20-24 años","25-29 años","30-34 años","35-39 años","40-44 años","45-49 años","50-54 años","55-59 años","60-64 años","65-69 años","70-74 años","75-79 años","80-84 años","85 años y más","No especificado","H Menores de 1 año","H 1-4 años","H 5-9 años","H 10-14 años","H 15-19 años","H 20-24 años","H 25-29 años","H 30-34 años","H 35-39 años","H 40-44 años","H 45-49 años","H 50-54 años","H 55-59 años","H 60-64 años","H 65-69 años","H 70-74 años","H 75-79 años","H 80-84 años","H 85 años y más","H No especificado","   M Menores de 1 año ","M 1-4 años","M 5-9 años","M 10-14 años","M 15-19 años","M 20-24 años","M 25-29 años","M 30-34 años","M 35-39 años","M 40-44 años","M 45-49 años","M 50-54 años","M 55-59 años","M 60-64 años","M 65-69 años","M 70-74 años","M 75-79 años","M 80-84 años","M 85 años y    ás","M No especificado"]
["Aguascalientes",7,12,8,19,56,74,91,84,61,44,49,27,45,29,17,26,28,20,39,10,4,9,5,11,47,62,75,70,56,33,42,19,35,22,14,21,19,9,24,9,3,3,3,8,9,12,16,14,5,11,7,8,10,7,3,5,9,11,15,1]
["Baja California",30,30,21,19,203,503,555,588,586,513,449,362,225,129,82,43,48,44,60,950,13,17,12,11,158,433,480,508,519,459,412,319,202,112,64,32,31,23,23,842,17,13,9,8,45,70,75,80,67,54,37,43,23,17,18,11,17,21,37,108]
["Baja California Sur",6,4,3,5,14,43,40,39,24,40,31,30,25,21,12,8,10,9,7,10,1,2,2,2,10,38,34,32,20,35,27,27,19,18,7,4,7,4,1,10,5,2,1,3,4,5,6,7,4,5,4,3,6,3,5,4,3,5,6,0]
["Campeche",6,6,2,8,28,44,56,66,55,39,35,33,24,25,27,11,20,10,26,4,3,3,1,2,23,39,49,53,52,33,28,28,21,16,22,6,16,8,18,4,3,3,1,6,5,5,7,13,3,6,7,5,3,9,5,5,4,2,8,0]
["Coahuila",17,28,16,14,87,136,162,127,144,129,93,83,66,60,44,33,47,38,63,16,8,14,10,9,65,109,142,107,118,110,75,72,50,43,39,26,33,23,26,16,9,14,6,5,22,27,20,20,26,19,18,11,16,17,5,7,14,15,37,0]
["Colima",3,9,10,5,46,125,140,109,110,93,71,56,39,26,26,18,11,11,29,49,2,6,4,1,37,112,125,93,95,88,62,51,33,23,20,14,9,5,12,43,1,3,6,4,9,13,15,16,15,5,9,5,6,3,6,4,2,6,17,6]
["Chiapas",15,34,20,35,143,201,235,215,194,151,124,98,88,62,49,51,40,28,55,58,10,16,13,19,117,171,195,193,158,134,102,81,69,51,39,42,23,17,23,51,5,18,7,16,26,30,40,22,36,17,22,17,19,11,10,9,17,11,32,7]
["Chihuahua",63,50,23,61,356,608,664,613,536,444,333,272,197,138,117,97,58,64,67,205,34,36,13,38,301,497,579,510,459,390,295,236,164,110,88,75,35,35,30,182,29,14,10,23,55,111,85,103,77,54,38,36,33,28,29,22,23,29,37,23]
["Ciudad de México",29,32,21,43,230,380,474,444,409,327,313,255,226,196,162,119,115,79,115,10,19,19,14,24,179,314,409,384,347,285,283,208,187,156,121,83,74,48,60,6,10,13,7,19,51,66,65,60,62,42,30,47,39,40,41,36,41,31,55,4]
["Durango",9,18,13,15,69,117,119,101,93,74,68,59,47,37,39,28,32,33,25,3,6,11,10,4,59,98,100,91,84,64,58,48,41,34,27,20,26,25,10,3,3,7,3,11,10,19,19,10,9,10,10,11,6,3,12,8,6,8,15,0]
["Guanajuato",27,43,40,103,628,1089,986,819,697,580,400,270,204,143,132,85,75,86,106,285,12,30,21,67,528,936,853,722,614,486,333,237,171,118,109,61,58,54,45,242,15,13,19,36,100,153,133,97,83,94,67,33,33,25,23,24,17,32,61,43]
["Guerrero",11,22,13,26,136,297,282,268,274,231,198,146,108,82,71,54,49,52,111,96,5,9,6,14,113,266,247,229,251,195,171,127,91,70,51,36,33,27,57,86,6,13,7,12,23,31,35,39,23,36,27,19,17,12,20,18,16,25,54,10]
["Hidalgo",15,23,20,22,104,162,177,142,126,122,100,92,76,62,59,48,38,35,57,0,9,14,13,16,75,129,145,125,102,103,84,75,61,47,45,40,24,24,32,0,6,9,7,6,29,33,32,17,24,19,16,17,15,15,14,8,14,11,25,0]
["Jalisco",45,86,52,98,419,724,802,687,576,533,459,347,249,192,169,129,102,87,156,280,27,56,33,58,322,622,685,606,499,465,394,305,209,149,135,105,69,53,79,247,18,30,19,40,97,102,117,81,77,68,65,42,40,43,34,24,33,34,77,33]
["México",169,113,75,157,574,974,1032,938,761,596,503,408,335,301,217,181,139,106,124,267,95,65,53,86,434,817,880,800,652,512,426,348,272,237,161,139,94,67,57,231,74,48,22,71,140,157,152,138,109,84,77,60,63,64,56,42,45,39,67,36]
["Michoacán",23,39,38,60,411,617,618,576,490,422,376,255,182,130,117,85,66,69,114,252,8,20,25,43,345,532,546,505,432,385,325,225,154,108,98,67,44,38,46,235,15,19,13,17,66,85,72,71,58,37,51,30,28,22,19,18,22,31,68,17]
["Morelos",6,14,12,22,123,269,300,280,228,173,125,100,70,65,53,40,29,28,64,237,3,11,10,16,105,233,275,255,197,161,113,90,60,55,45,32,23,18,29,217,3,3,2,6,18,36,25,25,31,12,12,10,10,10,8,8,6,10,35,20]
["Nayarit",5,16,12,18,69,99,84,92,83,67,64,51,45,36,35,35,27,23,49,39,2,9,4,12,52,80,67,83,72,57,55,47,41,30,30,26,18,18,28,39,3,7,8,6,17,19,17,9,11,10,9,4,4,6,5,9,9,5,21,0]
["Nuevo León",27,25,14,23,152,282,371,317,329,262,218,168,144,107,94,101,61,65,82,34,16,16,7,14,127,240,326,285,296,240,191,146,126,84,67,76,43,36,35,27,11,9,7,9,25,42,45,32,33,22,27,22,18,23,27,25,18,29,47,7]
["Oaxaca",10,24,14,46,145,210,240,219,189,205,172,143,108,101,85,66,64,57,136,24,4,13,10,31,117,181,208,196,165,171,155,125,95,89,71,59,44,35,59,23,6,11,4,15,28,29,32,23,24,34,17,18,13,12,14,7,20,22,77,1]
["Puebla",23,47,44,70,205,345,363,312,266,220,195,156,125,105,96,83,74,62,106,89,9,26,30,42,156,293,327,272,228,188,157,133,101,83,76,59,42,29,46,80,14,21,14,28,49,52,36,40,38,32,38,23,24,22,20,24,32,33,60,9]
["Querétaro",21,22,15,15,71,146,157,131,126,88,74,70,45,39,37,33,17,20,30,13,11,11,11,9,58,127,126,113,106,77,61,57,39,34,34,26,11,7,13,13,10,11,4,6,13,19,31,18,20,11,13,13,6,5,3,7,6,13,17,0]
["Quintana Roo",7,12,9,27,100,205,246,206,163,140,114,90,62,33,35,18,19,8,17,2,5,5,6,15,81,172,210,175,135,124,103,72,53,28,29,13,14,5,10,1,2,7,3,12,19,33,36,31,28,16,11,18,9,5,6,5,5,3,7,1]
["San Luis Potosí",21,26,13,42,185,250,295,222,216,162,130,91,90,71,61,71,42,48,72,26,12,17,10,30,166,209,254,199,184,146,117,83,82,61,47,56,28,29,34,22,9,9,3,12,19,41,41,23,32,16,13,8,8,10,14,15,14,19,38,4]
["Sinaloa",8,16,15,30,146,257,241,235,196,193,185,146,101,82,80,55,46,46,66,149,6,7,8,22,128,235,215,208,169,172,169,124,85,73,66,41,31,27,29,142,2,9,7,8,18,22,26,27,27,21,16,22,16,9,14,14,15,19,37,7]
["Sonora",16,27,7,20,230,407,472,433,383,356,272,198,138,114,89,74,77,41,71,200,8,17,5,17,193,368,413,393,334,327,243,173,125,98,70,59,56,23,28,188,8,10,2,3,37,39,59,40,49,29,29,25,13,16,19,15,21,18,43,12]
["Tabasco",2,8,13,15,85,164,167,169,144,107,100,98,47,46,41,21,15,21,27,20,1,4,8,10,72,142,147,148,123,93,89,85,42,42,37,18,9,15,15,19,1,4,5,5,13,22,20,21,21,14,11,13,5,4,4,3,6,6,12,1]
["Tamaulipas",20,24,11,15,135,248,207,185,156,141,140,112,112,67,87,71,47,42,74,155,11,17,5,11,104,225,179,164,141,122,127,96,89,57,62,54,32,22,31,150,9,7,6,4,31,23,28,21,15,19,13,16,23,10,25,17,15,20,43,5]
["Tlaxcala",3,9,5,13,33,65,79,51,52,50,40,35,26,20,21,18,14,18,35,7,2,3,3,8,29,54,61,45,38,39,32,30,23,15,16,12,12,9,13,6,1,6,2,5,4,11,18,6,14,11,8,5,3,5,5,6,2,9,22,1]
["Veracruz",21,34,18,48,217,346,385,379,323,270,233,222,179,155,132,96,84,65,107,3,7,21,10,35,180,306,326,344,280,243,204,204,151,130,109,76,52,37,49,3,14,13,8,13,37,40,59,35,43,27,29,18,28,25,23,20,32,28,58,0]
["Yucatán",3,8,5,6,46,104,126,99,97,75,71,52,39,39,47,50,46,31,36,2,1,5,3,5,35,92,106,83,80,66,59,41,35,33,34,37,28,21,17,1,2,3,2,1,11,12,20,16,17,9,12,11,4,6,13,13,18,10,19,1]
["Zacatecas",17,27,19,42,266,362,352,293,240,207,172,107,88,62,50,39,33,38,72,141,9,17,8,30,232,332,321,262,215,182,153,92,71,55,45,31,20,23,27,128,8,10,11,12,34,30,31,31,25,25,19,15,17,7,5,8,13,15,45,13]

{"sheet":"6T-GCM-R_Edad2022","index":78,"n_rows":34,"n_cols":61,"rows_kept":34,"cut":false,"hidden":true,"merged":[]}
[1,2,3,4,5,6,7,8,9,10,11,12,13,14,15,16,17,18,19,20,21,22,23,24,25,26,27,28,29,30,31,32,33,34,35,36,37,38,39,40,41,42,43,44,45,46,47,48,49,50,51,52,53,54,55,56,57,58,59,60,61]
["ESTADO","Menores de 1 año","1-4 años","5-9 años","10-14 años","15-19 años","20-24 años","25-29 años","30-34 años","35-39 años","40-44 años","45-49 años","50-54 años","55-59 años","60-64 años","65-69 años","70-74 años","75-79 años","80-84 años","85 años y más","No especificado","H Menores de 1 año","H 1-4 años","H 5-9 años","H 10-14 años","H 15-19 años","H 20-24 años","H 25-29 años","H 30-34 años","H 35-39 años","H 40-44 años","H 45-49 años","H 50-54 años","H 55-59 años","H 60-64 años","H 65-69 años","H 70-74 años","H 75-79 años","H 80-84 años","H 85 años y más","H No especificado","   M Menores de 1 año ","M 1-4 años","M 5-9 años","M 10-14 años","M 15-19 años","M 20-24 años","M 25-29 años","M 30-34 años","M 35-39 años","M 40-44 años","M 45-49 años","M 50-54 años","M 55-59 años","M 60-64 años","M 65-69 años","M 70-74 años","M 75-79 años","M 80-84 años","M 85 años y    ás","M No especificado"]
["Aguascalientes",5,9,6,9,60,75,68,81,64,47,41,41,39,38,26,28,37,20,39,11,2,6,6,6,48,63,56,67,51,39,35,30,33,32,19,22,29,11,17,8,3,3,0,3,12,12,12,14,13,8,6,11,6,6,7,6,8,9,22,3]
["Baja California",19,25,14,25,191,429,523,516,535,504,422,305,235,140,82,67,59,46,83,668,12,13,8,19,151,361,453,432,456,447,379,278,211,120,65,45,34,25,45,584,7,12,6,6,40,68,70,84,79,57,43,27,24,20,17,22,25,21,38,84]
["Baja California Sur",5,4,3,8,18,35,63,42,37,32,34,27,15,21,12,12,14,10,11,22,4,0,2,5,16,29,52,30,32,28,29,22,12,21,9,10,6,7,5,22,1,4,1,3,2,6,11,12,5,4,5,5,3,0,3,2,8,3,6,0]
["Campeche",2,8,5,4,25,43,71,62,60,52,39,28,28,18,23,14,13,3,17,7,1,5,3,4,23,35,60,56,49,43,34,26,23,16,18,9,5,2,8,7,1,3,2,0,2,8,11,6,11,9,5,2,5,2,5,5,8,1,9,0]
["Coahuila",15,22,13,26,77,150,178,140,137,112,108,89,90,67,65,56,51,41,85,49,12,12,9,15,58,127,151,112,122,93,86,68,77,50,47,39,28,21,39,49,3,10,4,11,19,23,27,28,15,19,22,21,13,17,18,17,23,20,46,0]
["Colima",1,6,3,9,92,153,188,151,133,126,104,81,53,32,28,23,14,16,34,43,0,4,3,6,78,133,164,136,105,108,96,71,46,24,22,18,9,11,16,37,1,2,0,3,14,20,24,15,28,18,8,10,7,8,6,5,5,5,18,6]
["Chiapas",7,18,18,44,147,217,210,222,181,178,119,118,75,76,57,46,44,33,53,32,4,11,9,27,112,184,197,198,157,144,103,104,57,66,47,38,32,14,29,28,3,7,9,17,35,33,13,24,24,34,16,14,18,10,10,8,12,19,24,4]
["Chihuahua",50,45,34,79,276,514,566,485,460,367,350,240,192,174,117,95,75,67,85,129,24,25,21,50,201,432,461,425,402,317,308,205,166,139,86,71,51,44,43,118,26,20,13,29,75,82,105,60,58,50,42,35,26,35,31,24,24,23,42,11]
["Ciudad de México",39,30,23,42,253,376,464,451,386,314,292,272,223,205,171,166,130,97,152,19,26,19,19,17,195,313,394,371,324,259,256,235,172,170,123,110,74,50,65,18,13,11,4,25,58,63,70,80,62,55,36,37,51,35,48,56,56,47,87,1]
["Durango",9,15,13,21,84,97,107,74,84,71,77,66,47,48,52,44,16,18,30,2,7,7,10,9,61,76,88,65,69,63,65,56,38,39,43,33,10,7,16,2,2,8,3,12,23,21,19,9,15,8,12,10,9,9,9,11,6,11,14,0]
["Guanajuato",61,56,37,111,669,942,922,850,683,533,421,340,226,172,130,103,80,84,116,367,29,42,24,77,551,802,784,743,576,464,359,296,181,136,106,89,52,42,55,309,32,14,13,34,118,140,138,107,107,69,62,44,45,36,24,14,28,42,61,58]
["Guerrero",9,20,21,33,178,258,273,276,265,214,201,133,91,86,66,63,56,41,92,132,7,13,15,21,149,231,236,242,227,187,171,112,76,70,51,49,39,26,38,121,2,7,6,12,29,27,37,34,38,27,30,21,15,16,15,14,17,15,54,11]
["Hidalgo",14,17,15,19,116,161,180,171,137,118,98,88,74,61,71,73,54,33,47,50,9,8,8,15,87,129,152,142,111,96,79,69,62,50,53,54,38,22,24,43,5,9,7,4,29,32,28,29,26,22,19,19,12,11,18,19,16,11,23,7]
["Jalisco",39,57,33,64,406,714,689,597,539,485,408,313,297,216,182,137,111,89,137,215,27,36,22,42,317,600,571,518,472,401,347,268,246,170,140,96,71,58,55,195,12,21,11,22,89,114,118,79,67,84,61,45,51,46,42,41,40,31,82,20]
["México",164,107,65,139,643,1038,1037,959,822,689,595,468,380,283,254,168,157,99,170,210,96,62,42,77,491,875,887,812,682,583,506,393,313,236,205,125,108,55,81,180,68,45,23,62,152,163,150,147,140,106,89,75,67,47,49,43,49,44,89,30]
["Michoacán",18,51,34,86,384,523,621,523,469,402,330,198,174,125,111,78,86,62,103,233,9,33,15,61,314,454,541,459,413,367,283,171,149,100,89,55,61,32,53,218,9,18,19,25,70,69,80,64,56,35,47,27,25,25,22,23,25,30,50,15]
["Morelos",9,13,6,21,165,237,309,268,233,158,126,95,81,69,46,37,46,31,76,2,5,9,6,11,145,207,283,235,207,141,110,88,68,56,40,32,23,20,27,2,4,4,0,10,20,30,26,33,26,17,16,7,13,13,6,5,23,11,49,0]
["Nayarit",7,13,15,16,66,64,102,98,72,60,71,70,46,37,38,19,31,21,43,40,4,7,12,12,53,57,83,87,63,52,61,57,39,31,31,14,23,14,19,39,3,6,3,4,13,7,19,11,9,8,10,13,7,6,7,5,8,7,24,1]
["Nuevo León",27,32,18,27,197,368,410,400,338,305,263,204,162,93,93,75,80,77,108,23,17,22,7,16,155,320,358,338,294,263,235,166,135,77,67,50,57,46,38,18,10,10,11,11,42,48,52,62,44,42,28,38,27,16,26,25,23,31,70,5]
["Oaxaca",9,25,23,44,138,205,237,226,225,217,188,129,110,90,71,69,60,44,73,11,8,11,13,25,106,171,209,196,192,183,163,115,86,70,59,54,49,27,36,8,1,14,10,19,32,34,28,30,33,34,25,14,24,20,12,15,11,17,37,3]
["Puebla",26,60,26,69,270,366,394,326,324,230,220,201,132,130,121,75,79,48,110,251,18,35,16,51,213,308,341,276,268,196,190,165,111,110,96,55,45,31,51,217,8,25,10,18,57,58,53,50,56,34,30,36,21,20,25,20,34,17,59,34]
["Querétaro",26,23,6,23,85,138,136,129,103,90,88,59,57,63,38,42,15,26,33,26,12,14,5,12,70,117,120,106,88,75,79,47,50,58,29,27,8,14,7,25,14,9,1,11,15,21,16,23,15,15,9,12,7,5,9,15,7,12,26,1]
["Quintana Roo",6,12,9,15,106,187,258,214,159,141,102,74,50,36,33,24,17,8,21,4,3,4,7,7,92,165,223,188,138,125,95,60,42,30,28,16,11,2,8,3,3,8,2,8,14,22,35,26,21,16,7,14,8,6,5,8,6,6,13,1]
["San Luis Potosí",9,24,16,36,160,240,268,246,214,154,135,104,101,74,60,55,60,44,78,26,4,14,10,24,140,205,234,217,199,133,121,85,89,64,49,49,49,30,33,22,5,10,6,12,20,35,34,29,15,21,14,19,12,10,11,6,11,14,45,4]
["Sinaloa",4,13,8,23,140,238,208,225,140,177,153,135,104,95,60,66,54,62,100,129,2,10,4,18,121,200,184,200,128,162,136,123,92,81,53,53,40,38,58,127,2,3,4,5,19,38,24,25,12,15,17,12,12,14,7,13,14,24,42,2]
["Sonora",20,24,21,25,189,340,431,425,353,311,262,209,128,107,77,61,58,47,73,129,11,14,14,15,162,290,380,380,313,273,231,184,109,88,59,40,41,24,35,125,9,10,7,10,27,50,51,45,40,38,31,25,19,19,18,21,17,23,38,4]
["Tabasco",7,8,10,22,120,159,159,161,135,129,112,80,65,68,48,30,20,25,21,20,2,5,7,12,99,140,135,138,117,111,98,72,60,56,31,24,12,17,8,18,5,3,3,10,21,19,24,23,18,18,14,8,5,12,17,6,8,8,13,2]
["Tamaulipas",26,23,19,14,118,193,212,161,148,168,153,127,106,65,71,59,51,46,80,77,11,13,11,7,97,154,183,126,132,137,130,116,92,49,53,46,33,25,37,72,15,10,8,7,21,39,29,35,16,31,23,11,14,16,18,13,18,21,43,5]
["Tlaxcala",4,11,7,10,54,71,61,56,56,50,43,37,31,24,29,13,19,29,37,6,2,7,2,6,39,59,51,46,49,43,35,33,25,19,23,10,11,16,20,6,2,4,5,4,15,12,10,10,7,7,8,4,6,5,6,3,8,13,17,0]
["Veracruz",17,24,22,52,206,304,313,338,308,243,231,178,168,162,116,92,106,101,118,1,7,16,12,29,165,265,276,292,269,210,202,156,145,135,91,70,81,59,60,1,10,8,10,23,41,39,37,46,39,33,29,22,23,27,25,22,25,42,58,0]
["Yucatán",8,10,4,12,59,100,118,119,84,97,91,60,63,46,47,38,34,31,53,10,1,6,3,10,49,85,103,103,74,84,75,50,52,40,35,32,20,17,23,10,7,4,1,2,10,15,15,16,10,13,16,10,11,6,12,6,14,14,30,0]
["Zacatecas",14,28,11,47,283,335,282,229,193,156,132,118,86,57,46,50,38,46,74,116,9,19,5,37,239,299,242,194,168,124,119,103,73,51,38,38,23,35,33,105,5,9,6,10,44,36,40,35,25,32,13,15,13,6,8,12,15,11,41,11]

{"sheet":"6GCM-G_Edad","index":79,"n_rows":24,"n_cols":10,"rows_kept":24,"cut":false,"hidden":false,"merged":[[0,0,0,9]]}
["Causas externas de mortalidad"]
["SELECCIONE UNA ENTIDAD"]
["Tamaulipas","2020","H - 2020","M - 2020","2021","H - 2021","M - 2021","2022","H - 2022","M - 2022"]
["Menores de 1 año",{"$f":"VLOOKUP($A$3,'6T-GCM-R_Edad2020'!$A$2:$BI$34,2,0)","v":17},{"$f":"VLOOKUP($A$3,'6T-GCM-R_Edad2020'!$A$2:$BI$34,22,0)","v":10},{"$f":"VLOOKUP($A$3,'6T-GCM-R_Edad2020'!$A$2:$BI$34,42,0)","v":7},{"$f":"VLOOKUP($A$3,'6T-GCM-R_Edad2021'!$A$2:$BI$34,2,0)","v":20},{"$f":"VLOOKUP($A$3,'6T-GCM-R_Edad2021'!$A$2:$BI$34,22,0)","v":11},{"$f":"VLOOKUP($A$3,'6T-GCM-R_Edad2021'!$A$2:$BI$34,42,0)","v":9},{"$f":"VLOOKUP($A$3,'6T-GCM-R_Edad2022'!$A$2:$BI$34,2,0)","v":26},{"$f":"VLOOKUP($A$3,'6T-GCM-R_Edad2022'!$A$2:$BI$34,22,0)","v":11},{"$f":"VLOOKUP($A$3,'6T-GCM-R_Edad2022'!$A$2:$BI$34,42,0)","v":15}]
["1-4 años",{"$f":"VLOOKUP($A$3,'6T-GCM-R_Edad2020'!$A$2:$BI$34,3,0)","v":9},{"$f":"VLOOKUP($A$3,'6T-GCM-R_Edad2020'!$A$2:$BI$34,23,0)","v":4},{"$f":"VLOOKUP($A$3,'6T-GCM-R_Edad2020'!$A$2:$BI$34,43,0)","v":5},{"$f":"VLOOKUP($A$3,'6T-GCM-R_Edad2021'!$A$2:$BI$34,3,0)","v":24},{"$f":"VLOOKUP($A$3,'6T-GCM-R_Edad2021'!$A$2:$BI$34,23,0)","v":17},{"$f":"VLOOKUP($A$3,'6T-GCM-R_Edad2021'!$A$2:$BI$34,43,0)","v":7},{"$f":"VLOOKUP($A$3,'6T-GCM-R_Edad2022'!$A$2:$BI$34,3,0)","v":23},{"$f":"VLOOKUP($A$3,'6T-GCM-R_Edad2022'!$A$2:$BI$34,23,0)","v":13},{"$f":"VLOOKUP($A$3,'6T-GCM-R_Edad2022'!$A$2:$BI$34,43,0)","v":10}]
["5-9 años",{"$f":"VLOOKUP($A$3,'6T-GCM-R_Edad2020'!$A$2:$BI$34,4,0)","v":17},{"$f":"VLOOKUP($A$3,'6T-GCM-R_Edad2020'!$A$2:$BI$34,24,0)","v":8},{"$f":"VLOOKUP($A$3,'6T-GCM-R_Edad2020'!$A$2:$BI$34,44,0)","v":9},{"$f":"VLOOKUP($A$3,'6T-GCM-R_Edad2021'!$A$2:$BI$34,4,0)","v":11},{"$f":"VLOOKUP($A$3,'6T-GCM-R_Edad2021'!$A$2:$BI$34,24,0)","v":5},{"$f":"VLOOKUP($A$3,'6T-GCM-R_Edad2021'!$A$2:$BI$34,44,0)","v":6},{"$f":"VLOOKUP($A$3,'6T-GCM-R_Edad2022'!$A$2:$BI$34,4,0)","v":19},{"$f":"VLOOKUP($A$3,'6T-GCM-R_Edad2022'!$A$2:$BI$34,24,0)","v":11},{"$f":"VLOOKUP($A$3,'6T-GCM-R_Edad2022'!$A$2:$BI$34,44,0)","v":8}]
["10-14 años",{"$f":"VLOOKUP($A$3,'6T-GCM-R_Edad2020'!$A$2:$BI$34,5,0)","v":28},{"$f":"VLOOKUP($A$3,'6T-GCM-R_Edad2020'!$A$2:$BI$34,25,0)","v":18},{"$f":"VLOOKUP($A$3,'6T-GCM-R_Edad2020'!$A$2:$BI$34,45,0)","v":10},{"$f":"VLOOKUP($A$3,'6T-GCM-R_Edad2021'!$A$2:$BI$34,5,0)","v":15},{"$f":"VLOOKUP($A$3,'6T-GCM-R_Edad2021'!$A$2:$BI$34,25,0)","v":11},{"$f":"VLOOKUP($A$3,'6T-GCM-R_Edad2021'!$A$2:$BI$34,45,0)","v":4},{"$f":"VLOOKUP($A$3,'6T-GCM-R_Edad2022'!$A$2:$BI$34,5,0)","v":14},{"$f":"VLOOKUP($A$3,'6T-GCM-R_Edad2022'!$A$2:$BI$34,25,0)","v":7},{"$f":"VLOOKUP($A$3,'6T-GCM-R_Edad2022'!$A$2:$BI$34,45,0)","v":7}]
["15-19 años",{"$f":"VLOOKUP($A$3,'6T-GCM-R_Edad2020'!$A$2:$BI$34,6,0)","v":125},{"$f":"VLOOKUP($A$3,'6T-GCM-R_Edad2020'!$A$2:$BI$34,26,0)","v":104},{"$f":"VLOOKUP($A$3,'6T-GCM-R_Edad2020'!$A$2:$BI$34,46,0)","v":21},{"$f":"VLOOKUP($A$3,'6T-GCM-R_Edad2021'!$A$2:$BI$34,6,0)","v":135},{"$f":"VLOOKUP($A$3,'6T-GCM-R_Edad2021'!$A$2:$BI$34,26,0)","v":104},{"$f":"VLOOKUP($A$3,'6T-GCM-R_Edad2021'!$A$2:$BI$34,46,0)","v":31},{"$f":"VLOOKUP($A$3,'6T-GCM-R_Edad2022'!$A$2:$BI$34,6,0)","v":118},{"$f":"VLOOKUP($A$3,'6T-GCM-R_Edad2022'!$A$2:$BI$34,26,0)","v":97},{"$f":"VLOOKUP($A$3,'6T-GCM-R_Edad2022'!$A$2:$BI$34,46,0)","v":21}]
["20-24 años",{"$f":"VLOOKUP($A$3,'6T-GCM-R_Edad2020'!$A$2:$BI$34,7,0)","v":239},{"$f":"VLOOKUP($A$3,'6T-GCM-R_Edad2020'!$A$2:$BI$34,27,0)","v":210},{"$f":"VLOOKUP($A$3,'6T-GCM-R_Edad2020'!$A$2:$BI$34,47,0)","v":29},{"$f":"VLOOKUP($A$3,'6T-GCM-R_Edad2021'!$A$2:$BI$34,7,0)","v":248},{"$f":"VLOOKUP($A$3,'6T-GCM-R_Edad2021'!$A$2:$BI$34,27,0)","v":225},{"$f":"VLOOKUP($A$3,'6T-GCM-R_Edad2021'!$A$2:$BI$34,47,0)","v":23},{"$f":"VLOOKUP($A$3,'6T-GCM-R_Edad2022'!$A$2:$BI$34,7,0)","v":193},{"$f":"VLOOKUP($A$3,'6T-GCM-R_Edad2022'!$A$2:$BI$34,27,0)","v":154},{"$f":"VLOOKUP($A$3,'6T-GCM-R_Edad2022'!$A$2:$BI$34,47,0)","v":39}]
["25-29 años",{"$f":"VLOOKUP($A$3,'6T-GCM-R_Edad2020'!$A$2:$BI$34,8,0)","v":200},{"$f":"VLOOKUP($A$3,'6T-GCM-R_Edad2020'!$A$2:$BI$34,28,0)","v":181},{"$f":"VLOOKUP($A$3,'6T-GCM-R_Edad2020'!$A$2:$BI$34,48,0)","v":19},{"$f":"VLOOKUP($A$3,'6T-GCM-R_Edad2021'!$A$2:$BI$34,8,0)","v":207},{"$f":"VLOOKUP($A$3,'6T-GCM-R_Edad2021'!$A$2:$BI$34,28,0)","v":179},{"$f":"VLOOKUP($A$3,'6T-GCM-R_Edad2021'!$A$2:$BI$34,48,0)","v":28},{"$f":"VLOOKUP($A$3,'6T-GCM-R_Edad2022'!$A$2:$BI$34,8,0)","v":212},{"$f":"VLOOKUP($A$3,'6T-GCM-R_Edad2022'!$A$2:$BI$34,28,0)","v":183},{"$f":"VLOOKUP($A$3,'6T-GCM-R_Edad2022'!$A$2:$BI$34,48,0)","v":29}]
["30-34 años",{"$f":"VLOOKUP($A$3,'6T-GCM-R_Edad2020'!$A$2:$BI$34,9,0)","v":169},{"$f":"VLOOKUP($A$3,'6T-GCM-R_Edad2020'!$A$2:$BI$34,29,0)","v":149},{"$f":"VLOOKUP($A$3,'6T-GCM-R_Edad2020'!$A$2:$BI$34,49,0)","v":20},{"$f":"VLOOKUP($A$3,'6T-GCM-R_Edad2021'!$A$2:$BI$34,9,0)","v":185},{"$f":"VLOOKUP($A$3,'6T-GCM-R_Edad2021'!$A$2:$BI$34,29,0)","v":164},{"$f":"VLOOKUP($A$3,'6T-GCM-R_Edad2021'!$A$2:$BI$34,49,0)","v":21},{"$f":"VLOOKUP($A$3,'6T-GCM-R_Edad2022'!$A$2:$BI$34,9,0)","v":161},{"$f":"VLOOKUP($A$3,'6T-GCM-R_Edad2022'!$A$2:$BI$34,29,0)","v":126},{"$f":"VLOOKUP($A$3,'6T-GCM-R_Edad2022'!$A$2:$BI$34,49,0)","v":35}]
["35-39 años",{"$f":"VLOOKUP($A$3,'6T-GCM-R_Edad2020'!$A$2:$BI$34,10,0)","v":158},{"$f":"VLOOKUP($A$3,'6T-GCM-R_Edad2020'!$A$2:$BI$34,30,0)","v":135},{"$f":"VLOOKUP($A$3,'6T-GCM-R_Edad2020'!$A$2:$BI$34,50,0)","v":23},{"$f":"VLOOKUP($A$3,'6T-GCM-R_Edad2021'!$A$2:$BI$34,10,0)","v":156},{"$f":"VLOOKUP($A$3,'6T-GCM-R_Edad2021'!$A$2:$BI$34,30,0)","v":141},{"$f":"VLOOKUP($A$3,'6T-GCM-R_Edad2021'!$A$2:$BI$34,50,0)","v":15},{"$f":"VLOOKUP($A$3,'6T-GCM-R_Edad2022'!$A$2:$BI$34,10,0)","v":148},{"$f":"VLOOKUP($A$3,'6T-GCM-R_Edad2022'!$A$2:$BI$34,30,0)","v":132},{"$f":"VLOOKUP($A$3,'6T-GCM-R_Edad2022'!$A$2:$BI$34,50,0)","v":16}]
["40-44 años",{"$f":"VLOOKUP($A$3,'6T-GCM-R_Edad2020'!$A$2:$BI$34,11,0)","v":152},{"$f":"VLOOKUP($A$3,'6T-GCM-R_Edad2020'!$A$2:$BI$34,31,0)","v":138},{"$f":"VLOOKUP($A$3,'6T-GCM-R_Edad2020'!$A$2:$BI$34,51,0)","v":14},{"$f":"VLOOKUP($A$3,'6T-GCM-R_Edad2021'!$A$2:$BI$34,11,0)","v":141},{"$f":"VLOOKUP($A$3,'6T-GCM-R_Edad2021'!$A$2:$BI$34,31,0)","v":122},{"$f":"VLOOKUP($A$3,'6T-GCM-R_Edad2021'!$A$2:$BI$34,51,0)","v":19},{"$f":"VLOOKUP($A$3,'6T-GCM-R_Edad2022'!$A$2:$BI$34,11,0)","v":168},{"$f":"VLOOKUP($A$3,'6T-GCM-R_Edad2022'!$A$2:$BI$34,31,0)","v":137},{"$f":"VLOOKUP($A$3,'6T-GCM-R_Edad2022'!$A$2:$BI$34,51,0)","v":31}]
["45-49 años",{"$f":"VLOOKUP($A$3,'6T-GCM-R_Edad2020'!$A$2:$BI$34,12,0)","v":127},{"$f":"VLOOKUP($A$3,'6T-GCM-R_Edad2020'!$A$2:$BI$34,32,0)","v":111},{"$f":"VLOOKUP($A$3,'6T-GCM-R_Edad2020'!$A$2:$BI$34,52,0)","v":16},{"$f":"VLOOKUP($A$3,'6T-GCM-R_Edad2021'!$A$2:$BI$34,12,0)","v":140},{"$f":"VLOOKUP($A$3,'6T-GCM-R_Edad2021'!$A$2:$BI$34,32,0)","v":127},{"$f":"VLOOKUP($A$3,'6T-GCM-R_Edad2021'!$A$2:$BI$34,52,0)","v":13},{"$f":"VLOOKUP($A$3,'6T-GCM-R_Edad2022'!$A$2:$BI$34,12,0)","v":153},{"$f":"VLOOKUP($A$3,'6T-GCM-R_Edad2022'!$A$2:$BI$34,32,0)","v":130},{"$f":"VLOOKUP($A$3,'6T-GCM-R_Edad2022'!$A$2:$BI$34,52,0)","v":23}]
["50-54 años",{"$f":"VLOOKUP($A$3,'6T-GCM-R_Edad2020'!$A$2:$BI$34,13,0)","v":104},{"$f":"VLOOKUP($A$3,'6T-GCM-R_Edad2020'!$A$2:$BI$34,33,0)","v":86},{"$f":"VLOOKUP($A$3,'6T-GCM-R_Edad2020'!$A$2:$BI$34,53,0)","v":18},{"$f":"VLOOKUP($A$3,'6T-GCM-R_Edad2021'!$A$2:$BI$34,13,0)","v":112},{"$f":"VLOOKUP($A$3,'6T-GCM-R_Edad2021'!$A$2:$BI$34,33,0)","v":96},{"$f":"VLOOKUP($A$3,'6T-GCM-R_Edad2021'!$A$2:$BI$34,53,0)","v":16},{"$f":"VLOOKUP($A$3,'6T-GCM-R_Edad2022'!$A$2:$BI$34,13,0)","v":127},{"$f":"VLOOKUP($A$3,'6T-GCM-R_Edad2022'!$A$2:$BI$34,33,0)","v":116},{"$f":"VLOOKUP($A$3,'6T-GCM-R_Edad2022'!$A$2:$BI$34,53,0)","v":11}]
["55-59 años",{"$f":"VLOOKUP($A$3,'6T-GCM-R_Edad2020'!$A$2:$BI$34,14,0)","v":78},{"$f":"VLOOKUP($A$3,'6T-GCM-R_Edad2020'!$A$2:$BI$34,34,0)","v":73},{"$f":"VLOOKUP($A$3,'6T-GCM-R_Edad2020'!$A$2:$BI$34,54,0)","v":5},{"$f":"VLOOKUP($A$3,'6T-GCM-R_Edad2021'!$A$2:$BI$34,14,0)","v":112},{"$f":"VLOOKUP($A$3,'6T-GCM-R_Edad2021'!$A$2:$BI$34,34,0)","v":89},{"$f":"VLOOKUP($A$3,'6T-GCM-R_Edad2021'!$A$2:$BI$34,54,0)","v":23},{"$f":"VLOOKUP($A$3,'6T-GCM-R_Edad2022'!$A$2:$BI$34,14,0)","v":106},{"$f":"VLOOKUP($A$3,'6T-GCM-R_Edad2022'!$A$2:$BI$34,34,0)","v":92},{"$f":"VLOOKUP($A$3,'6T-GCM-R_Edad2022'!$A$2:$BI$34,54,0)","v":14}]
["60-64 años",{"$f":"VLOOKUP($A$3,'6T-GCM-R_Edad2020'!$A$2:$BI$34,15,0)","v":338},{"$f":"VLOOKUP($A$3,'6T-GCM-R_Edad2020'!$A$2:$BI$34,35,0)","v":285},{"$f":"VLOOKUP($A$3,'6T-GCM-R_Edad2020'!$A$2:$BI$34,55,0)","v":53},{"$f":"VLOOKUP($A$3,'6T-GCM-R_Edad2021'!$A$2:$BI$34,15,0)","v":67},{"$f":"VLOOKUP($A$3,'6T-GCM-R_Edad2021'!$A$2:$BI$34,35,0)","v":57},{"$f":"VLOOKUP($A$3,'6T-GCM-R_Edad2021'!$A$2:$BI$34,55,0)","v":10},{"$f":"VLOOKUP($A$3,'6T-GCM-R_Edad2022'!$A$2:$BI$34,15,0)","v":65},{"$f":"VLOOKUP($A$3,'6T-GCM-R_Edad2022'!$A$2:$BI$34,35,0)","v":49},{"$f":"VLOOKUP($A$3,'6T-GCM-R_Edad2022'!$A$2:$BI$34,55,0)","v":16}]
["65-69 años",{"$f":"VLOOKUP($A$3,'6T-GCM-R_Edad2020'!$A$2:$BI$34,16,0)","v":52},{"$f":"VLOOKUP($A$3,'6T-GCM-R_Edad2020'!$A$2:$BI$34,36,0)","v":41},{"$f":"VLOOKUP($A$3,'6T-GCM-R_Edad2020'!$A$2:$BI$34,56,0)","v":11},{"$f":"VLOOKUP($A$3,'6T-GCM-R_Edad2021'!$A$2:$BI$34,16,0)","v":87},{"$f":"VLOOKUP($A$3,'6T-GCM-R_Edad2021'!$A$2:$BI$34,36,0)","v":62},{"$f":"VLOOKUP($A$3,'6T-GCM-R_Edad2021'!$A$2:$BI$34,56,0)","v":25},{"$f":"VLOOKUP($A$3,'6T-GCM-R_Edad2022'!$A$2:$BI$34,16,0)","v":71},{"$f":"VLOOKUP($A$3,'6T-GCM-R_Edad2022'!$A$2:$BI$34,36,0)","v":53},{"$f":"VLOOKUP($A$3,'6T-GCM-R_Edad2022'!$A$2:$BI$34,56,0)","v":18}]
["70-74 años",{"$f":"VLOOKUP($A$3,'6T-GCM-R_Edad2020'!$A$2:$BI$34,17,0)","v":46},{"$f":"VLOOKUP($A$3,'6T-GCM-R_Edad2020'!$A$2:$BI$34,37,0)","v":32},{"$f":"VLOOKUP($A$3,'6T-GCM-R_Edad2020'!$A$2:$BI$34,57,0)","v":14},{"$f":"VLOOKUP($A$3,'6T-GCM-R_Edad2021'!$A$2:$BI$34,17,0)","v":71},{"$f":"VLOOKUP($A$3,'6T-GCM-R_Edad2021'!$A$2:$BI$34,37,0)","v":54},{"$f":"VLOOKUP($A$3,'6T-GCM-R_Edad2021'!$A$2:$BI$34,57,0)","v":17},{"$f":"VLOOKUP($A$3,'6T-GCM-R_Edad2022'!$A$2:$BI$34,17,0)","v":59},{"$f":"VLOOKUP($A$3,'6T-GCM-R_Edad2022'!$A$2:$BI$34,37,0)","v":46},{"$f":"VLOOKUP($A$3,'6T-GCM-R_Edad2022'!$A$2:$BI$34,57,0)","v":13}]
["75-79 años",{"$f":"VLOOKUP($A$3,'6T-GCM-R_Edad2020'!$A$2:$BI$34,18,0)","v":38},{"$f":"VLOOKUP($A$3,'6T-GCM-R_Edad2020'!$A$2:$BI$34,38,0)","v":27},{"$f":"VLOOKUP($A$3,'6T-GCM-R_Edad2020'!$A$2:$BI$34,58,0)","v":11},{"$f":"VLOOKUP($A$3,'6T-GCM-R_Edad2021'!$A$2:$BI$34,18,0)","v":47},{"$f":"VLOOKUP($A$3,'6T-GCM-R_Edad2021'!$A$2:$BI$34,38,0)","v":32},{"$f":"VLOOKUP($A$3,'6T-GCM-R_Edad2021'!$A$2:$BI$34,58,0)","v":15},{"$f":"VLOOKUP($A$3,'6T-GCM-R_Edad2022'!$A$2:$BI$34,18,0)","v":51},{"$f":"VLOOKUP($A$3,'6T-GCM-R_Edad2022'!$A$2:$BI$34,38,0)","v":33},{"$f":"VLOOKUP($A$3,'6T-GCM-R_Edad2022'!$A$2:$BI$34,58,0)","v":18}]
["80-84 años",{"$f":"VLOOKUP($A$3,'6T-GCM-R_Edad2020'!$A$2:$BI$34,19,0)","v":44},{"$f":"VLOOKUP($A$3,'6T-GCM-R_Edad2020'!$A$2:$BI$34,39,0)","v":26},{"$f":"VLOOKUP($A$3,'6T-GCM-R_Edad2020'!$A$2:$BI$34,59,0)","v":18},{"$f":"VLOOKUP($A$3,'6T-GCM-R_Edad2021'!$A$2:$BI$34,19,0)","v":42},{"$f":"VLOOKUP($A$3,'6T-GCM-R_Edad2021'!$A$2:$BI$34,39,0)","v":22},{"$f":"VLOOKUP($A$3,'6T-GCM-R_Edad2021'!$A$2:$BI$34,59,0)","v":20},{"$f":"VLOOKUP($A$3,'6T-GCM-R_Edad2022'!$A$2:$BI$34,19,0)","v":46},{"$f":"VLOOKUP($A$3,'6T-GCM-R_Edad2022'!$A$2:$BI$34,39,0)","v":25},{"$f":"VLOOKUP($A$3,'6T-GCM-R_Edad2022'!$A$2:$BI$34,59,0)","v":21}]
["85 años y más",{"$f":"VLOOKUP($A$3,'6T-GCM-R_Edad2020'!$A$2:$BI$34,20,0)","v":65},{"$f":"VLOOKUP($A$3,'6T-GCM-R_Edad2020'!$A$2:$BI$34,40,0)","v":31},{"$f":"VLOOKUP($A$3,'6T-GCM-R_Edad2020'!$A$2:$BI$34,60,0)","v":34},{"$f":"VLOOKUP($A$3,'6T-GCM-R_Edad2021'!$A$2:$BI$34,20,0)","v":74},{"$f":"VLOOKUP($A$3,'6T-GCM-R_Edad2021'!$A$2:$BI$34,40,0)","v":31},{"$f":"VLOOKUP($A$3,'6T-GCM-R_Edad2021'!$A$2:$BI$34,60,0)","v":43},{"$f":"VLOOKUP($A$3,'6T-GCM-R_Edad2022'!$A$2:$BI$34,20,0)","v":80},{"$f":"VLOOKUP($A$3,'6T-GCM-R_Edad2022'!$A$2:$BI$34,40,0)","v":37},{"$f":"VLOOKUP($A$3,'6T-GCM-R_Edad2022'!$A$2:$BI$34,60,0)","v":43}]
["No especificado",{"$f":"VLOOKUP($A$3,'6T-GCM-R_Edad2020'!$A$2:$BI$34,21,0)","v":49},{"$f":"VLOOKUP($A$3,'6T-GCM-R_Edad2020'!$A$2:$BI$34,41,0)","v":46},{"$f":"VLOOKUP($A$3,'6T-GCM-R_Edad2020'!$A$2:$BI$34,61,0)","v":3},{"$f":"VLOOKUP($A$3,'6T-GCM-R_Edad2021'!$A$2:$BI$34,21,0)","v":155},{"$f":"VLOOKUP($A$3,'6T-GCM-R_Edad2021'!$A$2:$BI$34,41,0)","v":150},{"$f":"VLOOKUP($A$3,'6T-GCM-R_Edad2021'!$A$2:$BI$34,61,0)","v":5},{"$f":"VLOOKUP($A$3,'6T-GCM-R_Edad2022'!$A$2:$BI$34,21,0)","v":77},{"$f":"VLOOKUP($A$3,'6T-GCM-R_Edad2022'!$A$2:$BI$34,41,0)","v":72},{"$f":"VLOOKUP($A$3,'6T-GCM-R_Edad2022'!$A$2:$BI$34,61,0)","v":5}]
["Total",{"$f":"SUM(B4:B23)","v":2055},1715,340,2049,1699,350,1917,1524,393]

{"sheet":"7T-GCM-R_Edad2020","index":80,"n_rows":34,"n_cols":61,"rows_kept":34,"cut":false,"hidden":true,"merged":[]}
[1,2,3,4,5,6,7,8,9,10,11,12,13,14,15,16,17,18,19,20,21,22,23,24,25,26,27,28,29,30,31,32,33,34,35,36,37,38,39,40,41,42,43,44,45,46,47,48,49,50,51,52,53,54,55,56,57,58,59,60,61]
["ESTADO","Menores de 1 año","1-4 años","5-9 años","10-14 años","15-19 años","20-24 años","25-29 años","30-34 años","35-39 años","40-44 años","45-49 años","50-54 años","55-59 años","60-64 años","65-69 años","70-74 años","75-79 años","80-84 años","85 años y más","No especificado","H Menores de 1 año","H 1-4 años","H 5-9 años","H 10-14 años","H 15-19 años","H 20-24 años","H 25-29 años","H 30-34 años","H 35-39 años","H 40-44 años","H 45-49 años","H 50-54 años","H 55-59 años","H 60-64 años","H 65-69 años","H 70-74 años","H 75-79 años","H 80-84 años","H 85 años y más","H No especificado","   M Menores de 1 año ","M 1-4 años","M 5-9 años","M 10-14 años","M 15-19 años","M 20-24 años","M 25-29 años","M 30-34 años","M 35-39 años","M 40-44 años","M 45-49 años","M 50-54 años","M 55-59 años","M 60-64 años","M 65-69 años","M 70-74 años","M 75-79 años","M 80-84 años","M 85 años y    ás","M No especificado"]
["Aguascalientes",4,2,1,0,1,3,6,5,4,5,10,9,8,18,15,21,17,17,16,0,0,1,0,0,1,3,4,5,4,3,8,9,2,13,9,6,9,9,12,0,4,1,1,0,0,0,2,0,0,2,2,0,6,5,6,15,8,8,4,0]
["Baja California",16,8,9,10,15,43,73,61,86,112,106,116,90,93,60,62,38,38,55,13,8,4,4,3,8,32,51,43,66,84,85,88,70,65,39,40,21,16,34,11,8,4,5,7,7,11,22,18,20,28,21,28,20,28,21,22,17,22,21,2]
["Baja California Sur",2,0,1,0,1,3,5,9,17,11,22,11,21,10,8,6,7,3,13,1,1,0,1,0,1,2,4,7,16,9,20,7,16,6,7,5,6,3,3,0,1,0,0,0,0,1,1,2,1,2,2,4,5,4,1,1,1,0,10,1]
["Campeche",8,2,2,0,1,6,15,19,10,12,7,8,7,5,1,5,8,5,12,1,7,2,1,0,1,3,13,17,10,9,5,6,6,3,0,2,4,1,4,1,1,0,1,0,0,3,2,2,0,3,2,2,1,2,1,3,4,4,8,0]
["Coahuila",11,4,5,5,4,6,20,22,24,22,25,31,31,32,26,24,31,23,31,0,6,3,2,4,4,5,15,16,19,19,19,20,16,18,16,14,16,11,14,0,5,1,3,1,0,1,5,6,5,3,6,11,15,14,10,10,15,12,17,0]
["Colima",2,2,4,1,3,2,6,18,16,12,11,16,10,6,10,8,9,6,7,1,1,2,1,1,2,1,6,17,15,10,9,11,8,4,8,4,5,4,3,1,1,0,3,0,1,1,0,1,1,2,2,5,2,2,2,4,4,2,4,0]
["Chiapas",103,70,18,7,12,47,82,85,72,61,54,68,64,60,75,69,73,66,85,2,59,38,12,4,6,33,58,63,51,34,37,35,41,30,46,33,43,35,51,1,44,32,6,3,6,14,24,22,21,27,17,33,23,30,29,36,30,31,34,1]
["Chihuahua",32,21,14,13,16,22,21,28,43,37,51,60,66,53,56,43,45,35,60,3,16,13,5,5,10,17,15,16,27,23,35,37,41,27,25,19,24,16,27,3,16,8,9,8,6,5,6,12,16,14,16,23,25,26,31,24,21,19,33,0]
["Ciudad de México",71,18,10,9,9,38,68,94,109,111,112,167,179,176,167,186,161,127,206,2,32,9,7,6,4,24,59,79,81,91,84,118,121,105,96,94,80,49,70,1,39,9,3,3,5,14,9,15,28,20,28,49,58,71,71,92,81,78,136,1]
["Durango",6,0,1,0,1,2,7,8,3,4,6,20,8,17,21,18,18,8,14,0,5,0,0,0,1,2,3,6,3,3,4,17,4,9,13,11,8,3,9,0,1,0,1,0,0,0,4,2,0,1,2,3,4,8,8,7,10,5,5,0]
["Guanajuato",28,6,3,3,5,8,26,14,24,30,24,26,42,55,41,40,49,31,68,1,18,3,3,2,3,7,22,10,18,19,14,17,25,32,15,18,20,13,30,1,10,3,0,1,2,1,4,4,6,11,10,9,17,23,26,22,29,18,38,0]
["Guerrero",21,11,5,4,4,9,17,23,23,20,22,24,23,26,20,28,33,29,52,0,13,6,3,2,3,7,17,17,18,13,10,16,12,10,9,17,20,16,31,0,8,5,2,2,1,2,0,6,5,7,12,8,11,16,11,11,13,13,21,0]
["Hidalgo",7,5,4,2,4,8,11,12,25,15,12,23,14,20,25,21,21,16,34,0,4,1,1,0,2,6,8,8,17,13,9,12,5,13,11,8,9,5,14,0,3,4,3,2,2,2,3,4,8,2,3,11,9,7,14,13,12,11,20,0]
["Jalisco",44,10,12,7,6,26,79,75,88,70,93,80,92,103,83,96,86,75,129,5,21,5,8,4,4,18,62,59,68,50,65,63,50,53,42,48,44,30,61,5,23,5,4,3,2,8,17,16,20,20,28,17,42,50,41,48,42,45,68,0]
["México",72,12,3,9,6,37,73,75,65,75,102,85,113,91,96,83,97,82,123,6,38,8,1,2,5,28,64,60,52,60,70,54,63,44,40,32,43,36,49,5,34,4,2,7,1,9,9,15,13,15,32,31,50,47,56,51,54,46,74,1]
["Michoacán",29,14,6,7,3,7,16,27,17,27,27,18,35,36,35,40,42,40,88,0,15,7,3,4,2,6,14,18,12,20,11,13,23,19,16,23,21,26,37,0,14,7,3,3,1,1,2,9,5,7,16,5,12,17,19,17,21,14,51,0]
["Morelos",3,7,0,2,4,13,17,16,17,14,6,18,19,21,13,21,20,16,28,0,3,5,0,1,4,11,14,14,16,12,3,12,10,14,4,12,12,9,14,0,0,2,0,1,0,2,3,2,1,2,3,6,9,7,9,9,8,7,14,0]
["Nayarit",6,5,0,5,5,7,13,7,9,16,9,15,13,9,18,14,16,13,16,1,3,3,0,2,3,4,11,6,7,11,4,8,8,5,13,10,10,9,6,1,3,2,0,3,2,3,2,1,2,5,5,7,5,4,5,4,6,4,10,0]
["Nuevo León",14,3,5,3,9,26,59,36,67,62,66,73,53,50,39,49,42,34,41,1,8,2,3,1,5,17,46,32,54,53,52,56,40,36,19,24,21,22,10,0,6,1,2,2,4,9,13,4,13,9,14,17,13,14,20,25,21,12,31,1]
["Oaxaca",19,19,15,7,4,15,24,27,33,23,29,20,26,38,42,41,54,52,90,0,12,14,9,5,3,12,18,19,22,17,18,11,10,22,22,26,30,27,41,0,7,5,6,2,1,3,6,8,11,6,11,9,16,16,20,15,24,25,49,0]
["Puebla",48,25,12,10,5,18,40,32,32,34,36,50,38,44,36,39,42,46,64,11,29,12,7,5,3,13,35,24,26,28,26,32,21,25,18,17,21,24,25,11,19,13,5,5,2,5,5,8,6,6,10,18,17,19,18,22,21,22,39,0]
["Querétaro",11,4,2,3,5,8,14,18,16,20,23,21,16,23,25,24,15,17,24,2,5,1,1,2,3,7,12,16,13,13,17,14,8,13,11,12,7,5,9,2,6,3,1,1,2,1,2,2,3,7,6,7,8,10,14,12,8,12,15,0]
["Quintana Roo",11,7,1,1,1,13,34,36,46,25,47,36,21,26,18,16,8,7,11,0,8,4,1,0,1,7,31,29,36,19,38,25,13,16,10,8,4,3,4,0,3,3,0,1,0,6,3,7,10,6,9,11,8,10,8,8,4,4,7,0]
["San Luis Potosí",9,4,1,3,1,9,7,19,25,16,29,22,30,29,41,25,29,37,54,0,5,4,1,1,0,7,5,15,20,10,26,14,19,15,22,13,11,19,25,0,4,0,0,2,1,2,2,4,5,6,3,8,11,14,19,12,18,18,29,0]
["Sinaloa",9,4,3,3,4,3,16,19,21,35,37,35,34,28,35,22,38,29,31,2,7,2,1,2,3,3,14,14,17,31,28,26,19,16,20,8,17,11,15,1,2,2,2,1,1,0,2,5,4,4,9,9,15,12,15,14,21,18,16,1]
["Sonora",17,12,6,7,15,16,37,52,38,36,48,55,52,43,44,46,34,31,29,9,9,7,2,4,13,15,33,40,32,26,38,42,33,26,21,23,19,13,17,8,8,5,4,3,2,1,4,12,6,10,10,13,19,17,23,23,15,18,12,1]
["Tabasco",27,9,3,2,3,8,30,40,26,17,23,18,26,21,19,16,10,11,11,0,11,5,3,2,1,6,20,29,21,10,17,10,20,9,10,10,6,4,4,0,16,4,0,0,2,2,10,11,5,7,6,8,6,12,9,6,4,7,7,0]
["Tamaulipas",14,3,2,0,5,15,33,37,45,36,31,38,44,30,30,33,34,26,37,2,9,1,0,0,2,9,24,26,36,21,16,27,31,15,17,19,11,12,16,2,5,2,2,0,3,6,9,11,9,15,15,11,13,15,13,14,23,14,21,0]
["Tlaxcala",3,2,0,0,0,2,0,2,4,4,2,3,8,7,7,11,7,12,17,0,1,1,0,0,0,1,0,2,3,2,0,3,4,2,5,7,3,9,7,0,2,1,0,0,0,1,0,0,1,2,2,0,4,5,2,4,4,3,10,0]
["Veracruz",41,21,12,11,12,55,116,136,111,98,109,108,112,102,97,93,80,80,91,1,22,13,6,5,5,41,97,111,80,67,67,73,69,53,46,43,42,37,43,1,19,8,6,6,7,14,19,25,31,31,42,35,43,49,51,50,38,43,48,0]
["Yucatán",32,6,2,4,0,10,18,29,27,31,19,20,33,29,33,45,35,31,51,1,17,0,2,4,0,8,16,25,20,23,14,12,16,19,18,19,18,18,27,1,15,6,0,0,0,2,2,4,7,8,5,8,17,10,15,26,17,13,24,0]
["Zacatecas",10,1,1,1,2,0,6,5,6,4,9,9,11,11,10,24,19,14,33,0,7,1,1,1,1,0,3,2,6,3,6,6,4,2,4,13,9,10,16,0,3,0,0,0,1,0,3,3,0,1,3,3,7,9,6,11,10,4,17,0]

{"sheet":"7T-GCM-R_Edad2021","index":81,"n_rows":34,"n_cols":61,"rows_kept":34,"cut":false,"hidden":true,"merged":[]}
[1,2,3,4,5,6,7,8,9,10,11,12,13,14,15,16,17,18,19,20,21,22,23,24,25,26,27,28,29,30,31,32,33,34,35,36,37,38,39,40,41,42,43,44,45,46,47,48,49,50,51,52,53,54,55,56,57,58,59,60,61]
["ESTADO","Menores de 1 año","1-4 años","5-9 años","10-14 años","15-19 años","20-24 años","25-29 años","30-34 años","35-39 años","40-44 años","45-49 años","50-54 años","55-59 años","60-64 años","65-69 años","70-74 años","75-79 años","80-84 años","85 años y más","No especificado","H Menores de 1 año","H 1-4 años","H 5-9 años","H 10-14 años","H 15-19 años","H 20-24 años","H 25-29 años","H 30-34 años","H 35-39 años","H 40-44 años","H 45-49 años","H 50-54 años","H 55-59 años","H 60-64 años","H 65-69 años","H 70-74 años","H 75-79 años","H 80-84 años","H 85 años y más","H No especificado","   M Menores de 1 año ","M 1-4 años","M 5-9 años","M 10-14 años","M 15-19 años","M 20-24 años","M 25-29 años","M 30-34 años","M 35-39 años","M 40-44 años","M 45-49 años","M 50-54 años","M 55-59 años","M 60-64 años","M 65-69 años","M 70-74 años","M 75-79 años","M 80-84 años","M 85 años y    ás","M No especificado"]
["Aguascalientes",9,2,1,1,2,2,5,5,7,9,7,10,9,13,22,13,12,17,20,0,5,1,1,1,2,2,3,5,7,6,6,4,6,7,13,8,5,9,9,0,4,1,0,0,0,0,2,0,0,3,1,6,3,6,9,5,7,8,11,0]
["Baja California",17,7,5,7,19,45,78,94,86,91,106,107,98,89,68,53,52,17,28,24,10,4,3,5,11,32,66,71,64,73,79,83,71,61,44,24,26,8,11,21,7,3,2,2,8,13,12,23,22,18,27,24,27,28,24,29,26,9,17,3]
["Baja California Sur",5,0,0,1,1,6,7,6,10,15,10,14,15,9,13,12,6,4,13,5,4,0,0,1,0,5,7,6,8,13,8,9,10,7,7,6,3,1,9,5,1,0,0,0,1,1,0,0,2,2,2,5,5,2,6,6,3,3,4,0]
["Campeche",3,6,0,0,4,5,15,16,14,10,12,11,10,8,14,8,6,5,6,1,2,4,0,0,2,5,11,13,13,6,10,9,6,6,10,3,1,1,2,1,1,2,0,0,2,0,4,3,1,4,2,2,4,2,4,5,5,4,4,0]
["Coahuila",12,4,3,3,5,18,13,22,20,24,32,30,35,33,32,25,20,26,35,0,10,2,1,3,1,11,12,18,12,18,21,15,22,23,18,13,12,14,8,0,2,2,2,0,4,7,1,4,8,6,11,15,13,10,14,12,8,12,27,0]
["Colima",2,1,1,0,1,3,6,7,7,8,8,9,7,10,12,11,18,6,5,1,2,0,1,0,1,3,6,4,4,5,5,6,5,6,7,5,8,1,2,1,0,1,0,0,0,0,0,3,3,3,3,3,2,4,5,6,10,5,3,0]
["Chiapas",121,80,17,16,22,51,65,79,69,50,52,68,64,66,65,73,79,54,67,1,77,44,8,10,15,39,46,60,54,42,38,45,43,32,39,44,36,30,34,1,44,36,9,6,7,12,19,19,15,8,14,23,21,34,26,29,43,24,33,0]
["Chihuahua",36,33,14,6,15,26,36,39,37,33,54,43,56,53,46,65,43,48,53,1,18,18,4,6,11,20,26,30,25,21,43,30,30,27,21,33,24,25,18,1,18,15,10,0,4,6,10,9,12,12,11,13,26,26,25,32,19,23,35,0]
["Ciudad de México",49,14,7,11,13,35,82,102,90,102,117,127,134,147,150,149,160,123,185,1,26,7,5,8,6,28,74,81,74,73,91,78,84,83,79,68,72,51,63,1,23,7,2,3,7,7,8,21,16,29,26,49,50,64,71,81,88,72,122,0]
["Durango",12,6,1,0,4,3,13,10,5,6,16,11,18,14,16,16,25,9,11,0,9,4,1,0,2,1,12,7,4,4,12,8,10,8,8,7,12,4,3,0,3,2,0,0,2,2,1,3,1,2,4,3,8,6,8,9,13,5,8,0]
["Guanajuato",25,13,4,11,6,7,22,17,22,31,33,33,24,42,48,59,58,54,63,1,12,7,3,5,3,6,20,15,17,22,20,25,13,19,24,24,27,27,21,1,13,6,1,6,3,1,2,2,5,9,13,8,11,23,24,35,31,27,42,0]
["Guerrero",15,12,3,7,3,8,23,19,23,17,28,39,28,18,37,31,46,36,49,0,12,8,1,1,1,2,20,14,18,12,20,24,16,9,16,19,27,18,24,0,3,4,2,6,2,6,3,5,5,5,8,15,12,9,21,12,19,18,25,0]
["Hidalgo",14,7,1,1,2,7,15,19,18,19,21,17,24,25,16,16,23,19,31,0,8,7,0,1,1,6,11,17,14,13,14,15,9,12,8,8,12,12,12,0,6,0,1,0,1,1,4,2,4,6,7,2,15,13,8,8,11,7,19,0]
["Jalisco",50,18,10,11,19,28,59,80,78,95,93,118,109,119,110,95,95,101,146,7,24,14,5,6,15,23,51,65,58,76,71,88,60,68,49,53,48,39,63,7,26,4,5,5,4,5,8,15,20,19,22,30,49,51,61,42,47,62,83,0]
["México",60,20,9,7,12,21,54,64,80,84,97,103,92,106,106,91,131,90,124,5,36,10,3,5,12,13,48,50,67,59,64,69,56,56,55,49,62,46,51,4,24,10,6,2,0,8,6,14,13,25,33,34,36,50,51,42,69,44,73,1]
["Michoacán",32,15,3,4,4,18,19,20,20,26,32,30,37,34,45,43,54,35,84,5,23,9,0,1,3,12,17,18,15,17,25,23,19,20,20,26,26,15,36,4,9,6,3,3,1,6,2,2,5,9,7,7,18,14,25,17,28,20,48,1]
["Morelos",5,6,0,0,5,9,12,21,21,8,23,12,20,16,19,24,22,36,18,7,3,2,0,0,4,7,10,18,18,8,18,9,12,8,11,7,11,12,7,6,2,4,0,0,1,2,2,3,3,0,5,3,8,8,8,17,11,24,11,1]
["Nayarit",10,4,3,0,3,7,19,12,15,8,9,14,21,10,15,23,12,15,22,0,7,1,3,0,1,4,14,9,11,5,7,10,14,5,12,10,6,11,13,0,3,3,0,0,2,3,5,3,4,3,2,4,7,5,3,13,6,4,9,0]
["Nuevo León",24,6,6,9,14,28,38,60,48,61,76,89,71,64,61,53,46,38,50,2,8,3,3,4,9,16,32,49,38,45,54,64,50,42,34,33,22,18,22,2,16,3,3,5,5,12,6,11,10,16,22,25,21,22,27,20,24,20,28,0]
["Oaxaca",24,16,6,8,10,13,35,20,41,32,35,29,36,27,41,53,53,53,77,1,12,11,4,5,8,10,30,17,28,26,26,15,20,14,25,28,27,27,31,1,12,5,2,3,2,3,5,3,13,6,9,14,16,13,16,25,26,26,46,0]
["Puebla",42,21,5,5,9,26,29,46,26,36,36,37,35,39,48,55,39,39,52,1,26,11,5,3,6,21,22,38,21,26,26,21,24,15,27,25,19,12,16,1,16,10,0,2,3,5,7,8,5,10,10,16,11,24,21,30,20,27,36,0]
["Querétaro",12,2,2,0,5,9,16,18,15,26,26,13,21,24,22,29,34,27,29,0,7,2,1,0,4,6,16,15,11,22,12,8,11,15,11,11,16,9,12,0,5,0,1,0,1,3,0,3,4,4,14,5,10,9,11,18,18,18,17,0]
["Quintana Roo",9,4,1,0,8,10,44,35,37,40,40,27,30,23,24,20,13,11,18,1,3,4,0,0,6,9,40,28,27,31,26,21,20,14,12,8,7,9,5,1,6,0,1,0,2,1,4,7,10,9,14,6,10,9,12,12,6,2,13,0]
["San Luis Potosí",14,6,0,4,2,9,15,18,12,18,22,26,33,38,20,23,29,28,52,0,7,4,0,2,1,6,12,13,8,9,20,16,25,24,11,14,16,5,25,0,7,2,0,2,1,3,3,5,4,9,2,10,8,14,9,9,13,23,27,0]
["Sinaloa",15,5,3,6,10,18,20,25,32,24,51,33,44,46,48,50,45,33,58,0,10,4,3,2,6,11,11,24,25,17,33,26,33,27,30,21,18,14,23,0,5,1,0,4,4,7,9,1,7,7,18,7,11,19,18,29,27,19,35,0]
["Sonora",21,9,12,11,20,26,38,46,44,46,56,56,77,66,49,53,40,28,45,5,11,8,5,6,11,15,31,34,33,30,40,41,57,36,30,25,18,7,24,5,10,1,7,5,9,11,7,12,11,16,16,15,20,30,19,28,22,21,21,0]
["Tabasco",20,9,2,4,2,7,26,21,32,28,26,20,19,24,22,18,17,12,23,4,13,6,1,2,2,6,26,16,26,22,17,13,11,14,6,7,9,6,9,4,7,3,1,2,0,1,0,5,6,6,9,7,8,10,16,11,8,6,14,0]
["Tamaulipas",11,8,2,2,9,12,39,41,33,42,49,43,60,43,35,31,35,27,37,1,6,7,1,1,6,8,30,27,20,36,33,29,37,16,20,17,18,10,15,0,5,1,1,1,3,4,9,14,13,6,16,14,23,27,15,14,17,17,22,1]
["Tlaxcala",5,2,0,1,0,1,4,4,1,6,7,6,9,7,4,12,5,2,16,0,3,0,0,1,0,1,2,2,1,4,3,4,8,6,2,6,3,1,7,0,2,2,0,0,0,0,2,2,0,2,4,2,1,1,2,6,2,1,9,0]
["Veracruz",31,23,6,8,13,66,119,128,113,104,128,103,102,102,103,101,82,84,99,0,17,11,2,4,9,54,101,99,85,80,89,63,67,56,65,56,52,46,40,0,14,12,4,4,4,12,18,29,28,24,39,40,35,46,38,45,30,38,59,0]
["Yucatán",18,10,2,5,7,10,28,38,26,26,29,27,30,30,46,30,38,28,37,2,10,3,2,2,6,8,24,30,21,19,21,18,22,12,22,12,22,12,17,2,8,7,0,3,1,2,4,8,5,7,8,9,8,18,24,18,16,16,20,0]
["Zacatecas",3,1,0,0,0,1,7,6,8,3,11,9,7,14,9,9,18,26,32,0,1,1,0,0,0,1,6,5,7,1,3,5,5,7,3,5,8,15,15,0,2,0,0,0,0,0,1,1,1,2,8,4,2,7,6,4,10,11,17,0]

{"sheet":"7T-GCM-R_Edad2022","index":82,"n_rows":34,"n_cols":61,"rows_kept":34,"cut":false,"hidden":true,"merged":[]}
[1,2,3,4,5,6,7,8,9,10,11,12,13,14,15,16,17,18,19,20,21,22,23,24,25,26,27,28,29,30,31,32,33,34,35,36,37,38,39,40,41,42,43,44,45,46,47,48,49,50,51,52,53,54,55,56,57,58,59,60,61]
["ESTADO","Menores de 1 año","1-4 años","5-9 años","10-14 años","15-19 años","20-24 años","25-29 años","30-34 años","35-39 años","40-44 años","45-49 años","50-54 años","55-59 años","60-64 años","65-69 años","70-74 años","75-79 años","80-84 años","85 años y más","No especificado","H Menores de 1 año","H 1-4 años","H 5-9 años","H 10-14 años","H 15-19 años","H 20-24 años","H 25-29 años","H 30-34 años","H 35-39 años","H 40-44 años","H 45-49 años","H 50-54 años","H 55-59 años","H 60-64 años","H 65-69 años","H 70-74 años","H 75-79 años","H 80-84 años","H 85 años y más","H No especificado","   M Menores de 1 año ","M 1-4 años","M 5-9 años","M 10-14 años","M 15-19 años","M 20-24 años","M 25-29 años","M 30-34 años","M 35-39 años","M 40-44 años","M 45-49 años","M 50-54 años","M 55-59 años","M 60-64 años","M 65-69 años","M 70-74 años","M 75-79 años","M 80-84 años","M 85 años y    ás","M No especificado"]
["Aguascalientes",4,1,0,0,0,2,5,6,9,6,8,9,10,18,11,11,16,18,25,2,3,0,0,0,0,0,4,3,7,4,4,4,5,7,8,3,6,4,4,2,1,1,0,0,0,2,1,3,2,2,4,5,5,11,3,8,10,14,21,0]
["Baja California",12,9,7,14,14,48,64,77,100,104,110,103,92,84,58,45,54,47,49,28,5,2,5,8,6,31,52,55,77,79,83,89,71,58,41,28,30,22,18,25,7,7,2,6,8,17,12,22,23,25,27,14,21,26,17,17,24,25,31,3]
["Baja California Sur",2,0,1,0,2,5,7,13,7,16,7,13,13,13,3,9,9,6,8,2,1,0,0,0,0,3,5,9,5,13,3,10,8,10,3,3,4,3,3,2,1,0,1,0,2,2,2,4,2,3,4,3,5,3,0,6,5,3,5,0]
["Campeche",3,2,2,0,0,5,15,25,14,14,13,12,11,5,14,12,9,3,10,1,2,0,1,0,0,5,13,22,10,12,9,9,9,3,12,6,7,2,6,1,1,2,1,0,0,0,2,3,4,2,4,3,2,2,2,6,2,1,4,0]
["Coahuila",3,5,7,1,5,13,17,21,21,30,32,32,39,40,34,32,26,24,27,0,0,3,3,1,3,9,11,17,16,22,22,21,21,21,15,17,13,10,10,0,3,2,4,0,2,4,6,4,5,8,10,11,18,19,19,15,13,14,17,0]
["Colima",2,0,0,1,3,6,6,14,12,11,9,14,10,16,11,13,8,5,12,0,1,0,0,1,3,2,4,11,10,8,7,9,8,7,4,4,5,3,4,0,1,0,0,0,0,4,2,3,2,3,2,5,2,9,7,9,3,2,8,0]
["Chiapas",60,70,19,14,21,47,66,69,65,53,48,44,50,38,60,55,42,48,41,4,40,36,10,10,9,37,55,51,49,37,31,27,23,20,28,30,21,25,15,3,20,34,9,4,12,10,11,18,16,16,17,17,27,18,32,25,21,23,26,1]
["Chihuahua",31,30,17,18,13,27,39,33,46,44,63,61,47,77,60,55,45,45,52,2,19,18,7,10,9,22,26,24,32,26,46,43,27,47,31,31,21,18,23,1,12,12,10,8,4,5,13,9,14,18,17,18,20,30,29,24,24,27,29,1]
["Ciudad de México",46,30,13,8,22,30,80,109,118,123,115,152,148,182,191,164,170,152,200,1,24,19,6,4,13,21,66,91,93,91,78,105,85,94,97,79,79,65,77,1,22,11,7,4,9,9,14,18,25,32,37,47,63,88,94,85,91,87,123,0]
["Durango",2,3,3,0,4,2,5,4,6,13,12,17,18,15,18,19,17,24,16,0,1,0,0,0,2,0,3,1,4,9,9,15,10,8,7,13,6,9,9,0,1,3,3,0,2,2,2,3,2,4,3,2,8,7,11,6,11,15,7,0]
["Guanajuato",26,6,3,5,8,18,15,27,19,30,30,40,41,54,41,43,59,53,68,0,17,2,2,3,7,11,13,22,15,24,22,23,22,32,20,19,29,21,30,0,9,4,1,2,1,7,2,5,4,6,8,17,19,22,21,24,30,32,38,0]
["Guerrero",14,4,3,4,2,11,13,20,26,25,28,26,25,42,22,27,19,37,59,0,9,2,1,2,2,4,10,16,16,14,17,17,16,22,12,16,13,18,28,0,5,2,2,2,0,7,3,4,10,11,11,9,9,20,10,11,6,19,31,0]
["Hidalgo",8,4,3,1,3,6,13,13,16,19,16,21,23,16,25,27,22,28,37,1,3,2,2,1,2,4,10,12,9,15,10,11,14,9,16,15,12,15,9,0,5,2,1,0,1,2,3,1,7,4,6,10,9,7,9,12,10,13,28,1]
["Jalisco",40,17,11,10,10,37,67,86,109,84,83,97,108,117,125,102,122,107,129,1,25,7,7,5,4,28,55,73,89,66,60,68,64,63,56,48,58,38,52,1,15,10,4,5,6,9,12,13,20,18,23,29,44,54,69,54,64,69,77,0]
["México",66,32,11,5,11,30,48,78,92,71,92,95,107,149,139,135,118,104,141,7,42,16,5,4,8,21,40,68,68,52,60,65,56,72,74,52,61,47,65,6,24,16,6,1,3,9,8,10,24,19,32,30,51,77,65,83,57,57,76,1]
["Michoacán",10,6,1,3,9,5,12,26,22,22,35,32,29,30,28,41,39,42,64,3,3,3,0,1,5,2,9,22,14,18,19,21,19,13,16,19,18,22,28,2,7,3,1,2,4,3,3,4,8,4,16,11,10,17,12,22,21,20,36,1]
["Morelos",5,3,3,2,2,10,19,19,18,17,14,17,29,29,27,23,25,24,27,0,4,2,1,1,1,7,16,11,13,15,8,9,17,14,11,14,13,12,9,0,1,1,2,1,1,3,3,8,5,2,6,8,12,15,16,9,12,12,18,0]
["Nayarit",11,7,1,2,4,2,12,17,13,22,11,15,17,20,19,36,19,11,17,0,9,4,1,2,1,0,11,14,12,17,8,7,9,11,13,15,11,5,12,0,2,3,0,0,3,2,1,3,1,5,3,8,8,9,6,21,8,6,5,0]
["Nuevo León",14,19,16,12,9,29,61,66,54,73,65,67,76,78,64,73,65,58,65,2,11,8,9,4,2,20,48,56,40,56,48,48,53,48,36,45,32,29,29,1,3,11,7,8,7,9,13,10,14,17,17,19,23,30,28,28,33,29,36,1]
["Oaxaca",13,24,5,6,5,14,25,21,36,20,33,27,27,40,35,49,49,42,66,0,8,10,1,6,4,13,19,19,24,10,15,18,12,21,16,28,23,17,28,0,5,14,4,0,1,1,6,2,12,10,18,9,15,19,19,21,26,25,38,0]
["Puebla",33,9,5,5,12,15,32,35,27,47,41,40,41,41,56,44,59,49,68,9,17,6,1,3,8,12,24,29,22,37,28,24,20,23,23,23,32,21,24,5,16,3,4,2,4,3,8,6,5,10,13,16,21,18,33,21,27,28,44,4]
["Querétaro",10,6,2,5,5,4,15,18,12,17,20,21,27,32,29,29,21,21,23,0,6,2,0,2,4,3,11,16,9,10,13,9,14,22,19,18,11,9,10,0,4,4,2,3,1,1,4,2,3,7,7,12,13,10,10,11,10,12,13,0]
["Quintana Roo",6,6,1,1,5,17,22,40,31,36,25,28,22,22,23,20,13,10,17,4,3,4,0,1,4,11,18,38,26,29,20,19,18,18,14,13,8,4,3,4,3,2,1,0,1,6,4,2,5,7,5,9,4,4,9,7,5,6,14,0]
["San Luis Potosí",17,6,0,2,5,5,16,19,15,25,28,28,34,31,32,34,38,32,57,0,11,4,0,2,4,3,8,15,12,22,15,16,22,18,18,18,18,10,23,0,6,2,0,0,1,2,8,4,3,3,13,12,12,13,14,16,20,22,34,0]
["Sinaloa",3,2,3,5,5,14,13,22,13,19,29,32,35,40,45,50,36,44,48,1,1,2,3,2,4,9,12,19,9,10,22,22,23,29,27,23,19,18,21,1,2,0,0,3,1,5,1,3,4,9,7,10,12,11,18,27,17,26,27,0]
["Sonora",14,4,8,7,23,40,50,57,62,59,70,74,60,78,69,60,54,66,56,9,8,2,2,2,14,27,42,42,40,41,46,53,43,47,41,32,32,30,26,7,6,2,6,5,9,13,8,15,22,18,24,21,17,31,28,28,22,36,30,2]
["Tabasco",14,7,3,3,8,14,35,42,31,34,29,23,29,28,29,25,16,13,11,2,5,6,2,0,5,13,28,31,21,24,22,17,17,20,20,19,10,7,6,2,9,1,1,3,3,1,7,11,10,10,7,6,12,8,9,6,6,6,5,0]
["Tamaulipas",8,2,1,0,5,12,26,39,29,33,39,43,38,42,35,39,38,37,48,0,4,2,0,0,2,7,20,29,21,20,28,29,32,19,18,20,16,17,16,0,4,0,1,0,3,5,6,10,8,13,11,14,6,23,17,19,22,20,32,0]
["Tlaxcala",4,0,0,0,0,3,5,5,7,7,5,7,8,9,14,8,8,9,9,0,3,0,0,0,0,3,4,3,5,6,4,5,3,4,6,2,5,3,3,0,1,0,0,0,0,0,1,2,2,1,1,2,5,5,8,6,3,6,6,0]
["Veracruz",30,18,6,7,9,50,86,131,108,101,98,100,126,108,105,84,102,79,110,1,15,11,3,3,4,35,71,101,83,81,67,61,68,73,48,47,53,33,39,1,15,7,3,4,5,15,15,30,25,20,31,39,58,35,57,37,49,46,71,0]
["Yucatán",16,3,4,0,4,9,16,25,20,32,28,35,29,36,39,47,43,32,35,0,9,3,3,0,2,7,14,22,16,25,18,18,18,24,21,29,18,12,20,0,7,0,1,0,2,2,2,3,4,7,10,17,11,12,18,18,25,20,15,0]
["Zacatecas",7,5,1,1,2,4,7,2,5,4,7,7,8,11,10,19,11,26,31,1,5,1,0,0,1,0,6,1,4,4,5,5,6,8,7,7,4,10,11,0,2,4,1,1,1,4,1,1,1,0,2,2,2,3,3,12,7,16,20,1]

{"sheet":"7GCM-G_Edad","index":83,"n_rows":24,"n_cols":10,"rows_kept":24,"cut":false,"hidden":false,"merged":[[0,0,0,9]]}
["Ciertas enfermedades infecciosas y parasitarias"]
["SELECCIONE UNA ENTIDAD"]
["Guerrero","2020","H - 2020","M - 2020","2021","H - 2021","M - 2021","2022","H - 2022","M - 2022"]
["Menores de 1 año",{"$f":"VLOOKUP($A$3,'7T-GCM-R_Edad2020'!$A$2:$BI$34,2,0)","v":21},{"$f":"VLOOKUP($A$3,'7T-GCM-R_Edad2020'!$A$2:$BI$34,22,0)","v":13},{"$f":"VLOOKUP($A$3,'7T-GCM-R_Edad2020'!$A$2:$BI$34,42,0)","v":8},{"$f":"VLOOKUP($A$3,'7T-GCM-R_Edad2021'!$A$2:$BI$34,2,0)","v":15},{"$f":"VLOOKUP($A$3,'7T-GCM-R_Edad2021'!$A$2:$BI$34,22,0)","v":12},{"$f":"VLOOKUP($A$3,'7T-GCM-R_Edad2021'!$A$2:$BI$34,42,0)","v":3},{"$f":"VLOOKUP($A$3,'7T-GCM-R_Edad2022'!$A$2:$BI$34,2,0)","v":14},{"$f":"VLOOKUP($A$3,'7T-GCM-R_Edad2022'!$A$2:$BI$34,22,0)","v":9},{"$f":"VLOOKUP($A$3,'7T-GCM-R_Edad2022'!$A$2:$BI$34,42,0)","v":5}]
["1-4 años",{"$f":"VLOOKUP($A$3,'7T-GCM-R_Edad2020'!$A$2:$BI$34,3,0)","v":11},{"$f":"VLOOKUP($A$3,'7T-GCM-R_Edad2020'!$A$2:$BI$34,23,0)","v":6},{"$f":"VLOOKUP($A$3,'7T-GCM-R_Edad2020'!$A$2:$BI$34,43,0)","v":5},{"$f":"VLOOKUP($A$3,'7T-GCM-R_Edad2021'!$A$2:$BI$34,3,0)","v":12},{"$f":"VLOOKUP($A$3,'7T-GCM-R_Edad2021'!$A$2:$BI$34,23,0)","v":8},{"$f":"VLOOKUP($A$3,'7T-GCM-R_Edad2021'!$A$2:$BI$34,43,0)","v":4},{"$f":"VLOOKUP($A$3,'7T-GCM-R_Edad2022'!$A$2:$BI$34,3,0)","v":4},{"$f":"VLOOKUP($A$3,'7T-GCM-R_Edad2022'!$A$2:$BI$34,23,0)","v":2},{"$f":"VLOOKUP($A$3,'7T-GCM-R_Edad2022'!$A$2:$BI$34,43,0)","v":2}]
["5-9 años",{"$f":"VLOOKUP($A$3,'7T-GCM-R_Edad2020'!$A$2:$BI$34,4,0)","v":5},{"$f":"VLOOKUP($A$3,'7T-GCM-R_Edad2020'!$A$2:$BI$34,24,0)","v":3},{"$f":"VLOOKUP($A$3,'7T-GCM-R_Edad2020'!$A$2:$BI$34,44,0)","v":2},{"$f":"VLOOKUP($A$3,'7T-GCM-R_Edad2021'!$A$2:$BI$34,4,0)","v":3},{"$f":"VLOOKUP($A$3,'7T-GCM-R_Edad2021'!$A$2:$BI$34,24,0)","v":1},{"$f":"VLOOKUP($A$3,'7T-GCM-R_Edad2021'!$A$2:$BI$34,44,0)","v":2},{"$f":"VLOOKUP($A$3,'7T-GCM-R_Edad2022'!$A$2:$BI$34,4,0)","v":3},{"$f":"VLOOKUP($A$3,'7T-GCM-R_Edad2022'!$A$2:$BI$34,24,0)","v":1},{"$f":"VLOOKUP($A$3,'7T-GCM-R_Edad2022'!$A$2:$BI$34,44,0)","v":2}]
["10-14 años",{"$f":"VLOOKUP($A$3,'7T-GCM-R_Edad2020'!$A$2:$BI$34,5,0)","v":4},{"$f":"VLOOKUP($A$3,'7T-GCM-R_Edad2020'!$A$2:$BI$34,25,0)","v":2},{"$f":"VLOOKUP($A$3,'7T-GCM-R_Edad2020'!$A$2:$BI$34,45,0)","v":2},{"$f":"VLOOKUP($A$3,'7T-GCM-R_Edad2021'!$A$2:$BI$34,5,0)","v":7},{"$f":"VLOOKUP($A$3,'7T-GCM-R_Edad2021'!$A$2:$BI$34,25,0)","v":1},{"$f":"VLOOKUP($A$3,'7T-GCM-R_Edad2021'!$A$2:$BI$34,45,0)","v":6},{"$f":"VLOOKUP($A$3,'7T-GCM-R_Edad2022'!$A$2:$BI$34,5,0)","v":4},{"$f":"VLOOKUP($A$3,'7T-GCM-R_Edad2022'!$A$2:$BI$34,25,0)","v":2},{"$f":"VLOOKUP($A$3,'7T-GCM-R_Edad2022'!$A$2:$BI$34,45,0)","v":2}]
["15-19 años",{"$f":"VLOOKUP($A$3,'7T-GCM-R_Edad2020'!$A$2:$BI$34,6,0)","v":4},{"$f":"VLOOKUP($A$3,'7T-GCM-R_Edad2020'!$A$2:$BI$34,26,0)","v":3},{"$f":"VLOOKUP($A$3,'7T-GCM-R_Edad2020'!$A$2:$BI$34,46,0)","v":1},{"$f":"VLOOKUP($A$3,'7T-GCM-R_Edad2021'!$A$2:$BI$34,6,0)","v":3},{"$f":"VLOOKUP($A$3,'7T-GCM-R_Edad2021'!$A$2:$BI$34,26,0)","v":1},{"$f":"VLOOKUP($A$3,'7T-GCM-R_Edad2021'!$A$2:$BI$34,46,0)","v":2},{"$f":"VLOOKUP($A$3,'7T-GCM-R_Edad2022'!$A$2:$BI$34,6,0)","v":2},{"$f":"VLOOKUP($A$3,'7T-GCM-R_Edad2022'!$A$2:$BI$34,26,0)","v":2},{"$f":"VLOOKUP($A$3,'7T-GCM-R_Edad2022'!$A$2:$BI$34,46,0)","v":0}]
["20-24 años",{"$f":"VLOOKUP($A$3,'7T-GCM-R_Edad2020'!$A$2:$BI$34,7,0)","v":9},{"$f":"VLOOKUP($A$3,'7T-GCM-R_Edad2020'!$A$2:$BI$34,27,0)","v":7},{"$f":"VLOOKUP($A$3,'7T-GCM-R_Edad2020'!$A$2:$BI$34,47,0)","v":2},{"$f":"VLOOKUP($A$3,'7T-GCM-R_Edad2021'!$A$2:$BI$34,7,0)","v":8},{"$f":"VLOOKUP($A$3,'7T-GCM-R_Edad2021'!$A$2:$BI$34,27,0)","v":2},{"$f":"VLOOKUP($A$3,'7T-GCM-R_Edad2021'!$A$2:$BI$34,47,0)","v":6},{"$f":"VLOOKUP($A$3,'7T-GCM-R_Edad2022'!$A$2:$BI$34,7,0)","v":11},{"$f":"VLOOKUP($A$3,'7T-GCM-R_Edad2022'!$A$2:$BI$34,27,0)","v":4},{"$f":"VLOOKUP($A$3,'7T-GCM-R_Edad2022'!$A$2:$BI$34,47,0)","v":7}]
["25-29 años",{"$f":"VLOOKUP($A$3,'7T-GCM-R_Edad2020'!$A$2:$BI$34,8,0)","v":17},{"$f":"VLOOKUP($A$3,'7T-GCM-R_Edad2020'!$A$2:$BI$34,28,0)","v":17},{"$f":"VLOOKUP($A$3,'7T-GCM-R_Edad2020'!$A$2:$BI$34,48,0)","v":0},{"$f":"VLOOKUP($A$3,'7T-GCM-R_Edad2021'!$A$2:$BI$34,8,0)","v":23},{"$f":"VLOOKUP($A$3,'7T-GCM-R_Edad2021'!$A$2:$BI$34,28,0)","v":20},{"$f":"VLOOKUP($A$3,'7T-GCM-R_Edad2021'!$A$2:$BI$34,48,0)","v":3},{"$f":"VLOOKUP($A$3,'7T-GCM-R_Edad2022'!$A$2:$BI$34,8,0)","v":13},{"$f":"VLOOKUP($A$3,'7T-GCM-R_Edad2022'!$A$2:$BI$34,28,0)","v":10},{"$f":"VLOOKUP($A$3,'7T-GCM-R_Edad2022'!$A$2:$BI$34,48,0)","v":3}]
["30-34 años",{"$f":"VLOOKUP($A$3,'7T-GCM-R_Edad2020'!$A$2:$BI$34,9,0)","v":23},{"$f":"VLOOKUP($A$3,'7T-GCM-R_Edad2020'!$A$2:$BI$34,29,0)","v":17},{"$f":"VLOOKUP($A$3,'7T-GCM-R_Edad2020'!$A$2:$BI$34,49,0)","v":6},{"$f":"VLOOKUP($A$3,'7T-GCM-R_Edad2021'!$A$2:$BI$34,9,0)","v":19},{"$f":"VLOOKUP($A$3,'7T-GCM-R_Edad2021'!$A$2:$BI$34,29,0)","v":14},{"$f":"VLOOKUP($A$3,'7T-GCM-R_Edad2021'!$A$2:$BI$34,49,0)","v":5},{"$f":"VLOOKUP($A$3,'7T-GCM-R_Edad2022'!$A$2:$BI$34,9,0)","v":20},{"$f":"VLOOKUP($A$3,'7T-GCM-R_Edad2022'!$A$2:$BI$34,29,0)","v":16},{"$f":"VLOOKUP($A$3,'7T-GCM-R_Edad2022'!$A$2:$BI$34,49,0)","v":4}]
["35-39 años",{"$f":"VLOOKUP($A$3,'7T-GCM-R_Edad2020'!$A$2:$BI$34,10,0)","v":23},{"$f":"VLOOKUP($A$3,'7T-GCM-R_Edad2020'!$A$2:$BI$34,30,0)","v":18},{"$f":"VLOOKUP($A$3,'7T-GCM-R_Edad2020'!$A$2:$BI$34,50,0)","v":5},{"$f":"VLOOKUP($A$3,'7T-GCM-R_Edad2021'!$A$2:$BI$34,10,0)","v":23},{"$f":"VLOOKUP($A$3,'7T-GCM-R_Edad2021'!$A$2:$BI$34,30,0)","v":18},{"$f":"VLOOKUP($A$3,'7T-GCM-R_Edad2021'!$A$2:$BI$34,50,0)","v":5},{"$f":"VLOOKUP($A$3,'7T-GCM-R_Edad2022'!$A$2:$BI$34,10,0)","v":26},{"$f":"VLOOKUP($A$3,'7T-GCM-R_Edad2022'!$A$2:$BI$34,30,0)","v":16},{"$f":"VLOOKUP($A$3,'7T-GCM-R_Edad2022'!$A$2:$BI$34,50,0)","v":10}]
["40-44 años",{"$f":"VLOOKUP($A$3,'7T-GCM-R_Edad2020'!$A$2:$BI$34,11,0)","v":20},{"$f":"VLOOKUP($A$3,'7T-GCM-R_Edad2020'!$A$2:$BI$34,31,0)","v":13},{"$f":"VLOOKUP($A$3,'7T-GCM-R_Edad2020'!$A$2:$BI$34,51,0)","v":7},{"$f":"VLOOKUP($A$3,'7T-GCM-R_Edad2021'!$A$2:$BI$34,11,0)","v":17},{"$f":"VLOOKUP($A$3,'7T-GCM-R_Edad2021'!$A$2:$BI$34,31,0)","v":12},{"$f":"VLOOKUP($A$3,'7T-GCM-R_Edad2021'!$A$2:$BI$34,51,0)","v":5},{"$f":"VLOOKUP($A$3,'7T-GCM-R_Edad2022'!$A$2:$BI$34,11,0)","v":25},{"$f":"VLOOKUP($A$3,'7T-GCM-R_Edad2022'!$A$2:$BI$34,31,0)","v":14},{"$f":"VLOOKUP($A$3,'7T-GCM-R_Edad2022'!$A$2:$BI$34,51,0)","v":11}]
["45-49 años",{"$f":"VLOOKUP($A$3,'7T-GCM-R_Edad2020'!$A$2:$BI$34,12,0)","v":22},{"$f":"VLOOKUP($A$3,'7T-GCM-R_Edad2020'!$A$2:$BI$34,32,0)","v":10},{"$f":"VLOOKUP($A$3,'7T-GCM-R_Edad2020'!$A$2:$BI$34,52,0)","v":12},{"$f":"VLOOKUP($A$3,'7T-GCM-R_Edad2021'!$A$2:$BI$34,12,0)","v":28},{"$f":"VLOOKUP($A$3,'7T-GCM-R_Edad2021'!$A$2:$BI$34,32,0)","v":20},{"$f":"VLOOKUP($A$3,'7T-GCM-R_Edad2021'!$A$2:$BI$34,52,0)","v":8},{"$f":"VLOOKUP($A$3,'7T-GCM-R_Edad2022'!$A$2:$BI$34,12,0)","v":28},{"$f":"VLOOKUP($A$3,'7T-GCM-R_Edad2022'!$A$2:$BI$34,32,0)","v":17},{"$f":"VLOOKUP($A$3,'7T-GCM-R_Edad2022'!$A$2:$BI$34,52,0)","v":11}]
["50-54 años",{"$f":"VLOOKUP($A$3,'7T-GCM-R_Edad2020'!$A$2:$BI$34,13,0)","v":24},{"$f":"VLOOKUP($A$3,'7T-GCM-R_Edad2020'!$A$2:$BI$34,33,0)","v":16},{"$f":"VLOOKUP($A$3,'7T-GCM-R_Edad2020'!$A$2:$BI$34,53,0)","v":8},{"$f":"VLOOKUP($A$3,'7T-GCM-R_Edad2021'!$A$2:$BI$34,13,0)","v":39},{"$f":"VLOOKUP($A$3,'7T-GCM-R_Edad2021'!$A$2:$BI$34,33,0)","v":24},{"$f":"VLOOKUP($A$3,'7T-GCM-R_Edad2021'!$A$2:$BI$34,53,0)","v":15},{"$f":"VLOOKUP($A$3,'7T-GCM-R_Edad2022'!$A$2:$BI$34,13,0)","v":26},{"$f":"VLOOKUP($A$3,'7T-GCM-R_Edad2022'!$A$2:$BI$34,33,0)","v":17},{"$f":"VLOOKUP($A$3,'7T-GCM-R_Edad2022'!$A$2:$BI$34,53,0)","v":9}]
["55-59 años",{"$f":"VLOOKUP($A$3,'7T-GCM-R_Edad2020'!$A$2:$BI$34,14,0)","v":23},{"$f":"VLOOKUP($A$3,'7T-GCM-R_Edad2020'!$A$2:$BI$34,34,0)","v":12},{"$f":"VLOOKUP($A$3,'7T-GCM-R_Edad2020'!$A$2:$BI$34,54,0)","v":11},{"$f":"VLOOKUP($A$3,'7T-GCM-R_Edad2021'!$A$2:$BI$34,14,0)","v":28},{"$f":"VLOOKUP($A$3,'7T-GCM-R_Edad2021'!$A$2:$BI$34,34,0)","v":16},{"$f":"VLOOKUP($A$3,'7T-GCM-R_Edad2021'!$A$2:$BI$34,54,0)","v":12},{"$f":"VLOOKUP($A$3,'7T-GCM-R_Edad2022'!$A$2:$BI$34,14,0)","v":25},{"$f":"VLOOKUP($A$3,'7T-GCM-R_Edad2022'!$A$2:$BI$34,34,0)","v":16},{"$f":"VLOOKUP($A$3,'7T-GCM-R_Edad2022'!$A$2:$BI$34,54,0)","v":9}]
["60-64 años",{"$f":"VLOOKUP($A$3,'7T-GCM-R_Edad2020'!$A$2:$BI$34,15,0)","v":26},{"$f":"VLOOKUP($A$3,'7T-GCM-R_Edad2020'!$A$2:$BI$34,35,0)","v":10},{"$f":"VLOOKUP($A$3,'7T-GCM-R_Edad2020'!$A$2:$BI$34,55,0)","v":16},{"$f":"VLOOKUP($A$3,'7T-GCM-R_Edad2021'!$A$2:$BI$34,15,0)","v":18},{"$f":"VLOOKUP($A$3,'7T-GCM-R_Edad2021'!$A$2:$BI$34,35,0)","v":9},{"$f":"VLOOKUP($A$3,'7T-GCM-R_Edad2021'!$A$2:$BI$34,55,0)","v":9},{"$f":"VLOOKUP($A$3,'7T-GCM-R_Edad2022'!$A$2:$BI$34,15,0)","v":42},{"$f":"VLOOKUP($A$3,'7T-GCM-R_Edad2022'!$A$2:$BI$34,35,0)","v":22},{"$f":"VLOOKUP($A$3,'7T-GCM-R_Edad2022'!$A$2:$BI$34,55,0)","v":20}]
["65-69 años",{"$f":"VLOOKUP($A$3,'7T-GCM-R_Edad2020'!$A$2:$BI$34,16,0)","v":20},{"$f":"VLOOKUP($A$3,'7T-GCM-R_Edad2020'!$A$2:$BI$34,36,0)","v":9},{"$f":"VLOOKUP($A$3,'7T-GCM-R_Edad2020'!$A$2:$BI$34,56,0)","v":11},{"$f":"VLOOKUP($A$3,'7T-GCM-R_Edad2021'!$A$2:$BI$34,16,0)","v":37},{"$f":"VLOOKUP($A$3,'7T-GCM-R_Edad2021'!$A$2:$BI$34,36,0)","v":16},{"$f":"VLOOKUP($A$3,'7T-GCM-R_Edad2021'!$A$2:$BI$34,56,0)","v":21},{"$f":"VLOOKUP($A$3,'7T-GCM-R_Edad2022'!$A$2:$BI$34,16,0)","v":22},{"$f":"VLOOKUP($A$3,'7T-GCM-R_Edad2022'!$A$2:$BI$34,36,0)","v":12},{"$f":"VLOOKUP($A$3,'7T-GCM-R_Edad2022'!$A$2:$BI$34,56,0)","v":10}]
["70-74 años",{"$f":"VLOOKUP($A$3,'7T-GCM-R_Edad2020'!$A$2:$BI$34,17,0)","v":28},{"$f":"VLOOKUP($A$3,'7T-GCM-R_Edad2020'!$A$2:$BI$34,37,0)","v":17},{"$f":"VLOOKUP($A$3,'7T-GCM-R_Edad2020'!$A$2:$BI$34,57,0)","v":11},{"$f":"VLOOKUP($A$3,'7T-GCM-R_Edad2021'!$A$2:$BI$34,17,0)","v":31},{"$f":"VLOOKUP($A$3,'7T-GCM-R_Edad2021'!$A$2:$BI$34,37,0)","v":19},{"$f":"VLOOKUP($A$3,'7T-GCM-R_Edad2021'!$A$2:$BI$34,57,0)","v":12},{"$f":"VLOOKUP($A$3,'7T-GCM-R_Edad2022'!$A$2:$BI$34,17,0)","v":27},{"$f":"VLOOKUP($A$3,'7T-GCM-R_Edad2022'!$A$2:$BI$34,37,0)","v":16},{"$f":"VLOOKUP($A$3,'7T-GCM-R_Edad2022'!$A$2:$BI$34,57,0)","v":11}]
["75-79 años",{"$f":"VLOOKUP($A$3,'7T-GCM-R_Edad2020'!$A$2:$BI$34,18,0)","v":33},{"$f":"VLOOKUP($A$3,'7T-GCM-R_Edad2020'!$A$2:$BI$34,38,0)","v":20},{"$f":"VLOOKUP($A$3,'7T-GCM-R_Edad2020'!$A$2:$BI$34,58,0)","v":13},{"$f":"VLOOKUP($A$3,'7T-GCM-R_Edad2021'!$A$2:$BI$34,18,0)","v":46},{"$f":"VLOOKUP($A$3,'7T-GCM-R_Edad2021'!$A$2:$BI$34,38,0)","v":27},{"$f":"VLOOKUP($A$3,'7T-GCM-R_Edad2021'!$A$2:$BI$34,58,0)","v":19},{"$f":"VLOOKUP($A$3,'7T-GCM-R_Edad2022'!$A$2:$BI$34,18,0)","v":19},{"$f":"VLOOKUP($A$3,'7T-GCM-R_Edad2022'!$A$2:$BI$34,38,0)","v":13},{"$f":"VLOOKUP($A$3,'7T-GCM-R_Edad2022'!$A$2:$BI$34,58,0)","v":6}]
["80-84 años",{"$f":"VLOOKUP($A$3,'7T-GCM-R_Edad2020'!$A$2:$BI$34,19,0)","v":29},{"$f":"VLOOKUP($A$3,'7T-GCM-R_Edad2020'!$A$2:$BI$34,39,0)","v":16},{"$f":"VLOOKUP($A$3,'7T-GCM-R_Edad2020'!$A$2:$BI$34,59,0)","v":13},{"$f":"VLOOKUP($A$3,'7T-GCM-R_Edad2021'!$A$2:$BI$34,19,0)","v":36},{"$f":"VLOOKUP($A$3,'7T-GCM-R_Edad2021'!$A$2:$BI$34,39,0)","v":18},{"$f":"VLOOKUP($A$3,'7T-GCM-R_Edad2021'!$A$2:$BI$34,59,0)","v":18},{"$f":"VLOOKUP($A$3,'7T-GCM-R_Edad2022'!$A$2:$BI$34,19,0)","v":37},{"$f":"VLOOKUP($A$3,'7T-GCM-R_Edad2022'!$A$2:$BI$34,39,0)","v":18},{"$f":"VLOOKUP($A$3,'7T-GCM-R_Edad2022'!$A$2:$BI$34,59,0)","v":19}]
["85 años y más",{"$f":"VLOOKUP($A$3,'7T-GCM-R_Edad2020'!$A$2:$BI$34,20,0)","v":52},{"$f":"VLOOKUP($A$3,'7T-GCM-R_Edad2020'!$A$2:$BI$34,40,0)","v":31},{"$f":"VLOOKUP($A$3,'7T-GCM-R_Edad2020'!$A$2:$BI$34,60,0)","v":21},{"$f":"VLOOKUP($A$3,'7T-GCM-R_Edad2021'!$A$2:$BI$34,20,0)","v":49},{"$f":"VLOOKUP($A$3,'7T-GCM-R_Edad2021'!$A$2:$BI$34,40,0)","v":24},{"$f":"VLOOKUP($A$3,'7T-GCM-R_Edad2021'!$A$2:$BI$34,60,0)","v":25},{"$f":"VLOOKUP($A$3,'7T-GCM-R_Edad2022'!$A$2:$BI$34,20,0)","v":59},{"$f":"VLOOKUP($A$3,'7T-GCM-R_Edad2022'!$A$2:$BI$34,40,0)","v":28},{"$f":"VLOOKUP($A$3,'7T-GCM-R_Edad2022'!$A$2:$BI$34,60,0)","v":31}]
["No especificado",{"$f":"VLOOKUP($A$3,'7T-GCM-R_Edad2020'!$A$2:$BI$34,21,0)","v":0},{"$f":"VLOOKUP($A$3,'7T-GCM-R_Edad2020'!$A$2:$BI$34,41,0)","v":0},{"$f":"VLOOKUP($A$3,'7T-GCM-R_Edad2020'!$A$2:$BI$34,61,0)","v":0},{"$f":"VLOOKUP($A$3,'7T-GCM-R_Edad2021'!$A$2:$BI$34,21,0)","v":0},{"$f":"VLOOKUP($A$3,'7T-GCM-R_Edad2021'!$A$2:$BI$34,41,0)","v":0},{"$f":"VLOOKUP($A$3,'7T-GCM-R_Edad2021'!$A$2:$BI$34,61,0)","v":0},{"$f":"VLOOKUP($A$3,'7T-GCM-R_Edad2022'!$A$2:$BI$34,21,0)","v":0},{"$f":"VLOOKUP($A$3,'7T-GCM-R_Edad2022'!$A$2:$BI$34,41,0)","v":0},{"$f":"VLOOKUP($A$3,'7T-GCM-R_Edad2022'!$A$2:$BI$34,61,0)","v":0}]
["Total",{"$f":"SUM(B4:B23)","v":394},240,154,442,262,180,407,235,172]

{"sheet":"8T-GCM-R_Edad2020","index":84,"n_rows":34,"n_cols":61,"rows_kept":34,"cut":false,"hidden":true,"merged":[]}
[1,2,3,4,5,6,7,8,9,10,11,12,13,14,15,16,17,18,19,20,21,22,23,24,25,26,27,28,29,30,31,32,33,34,35,36,37,38,39,40,41,42,43,44,45,46,47,48,49,50,51,52,53,54,55,56,57,58,59,60,61]
["ESTADO","Menores de 1 año","1-4 años","5-9 años","10-14 años","15-19 años","20-24 años","25-29 años","30-34 años","35-39 años","40-44 años","45-49 años","50-54 años","55-59 años","60-64 años","65-69 años","70-74 años","75-79 años","80-84 años","85 años y más","No especificado","H Menores de 1 año","H 1-4 años","H 5-9 años","H 10-14 años","H 15-19 años","H 20-24 años","H 25-29 años","H 30-34 años","H 35-39 años","H 40-44 años","H 45-49 años","H 50-54 años","H 55-59 años","H 60-64 años","H 65-69 años","H 70-74 años","H 75-79 años","H 80-84 años","H 85 años y más","H No especificado","   M Menores de 1 año ","M 1-4 años","M 5-9 años","M 10-14 años","M 15-19 años","M 20-24 años","M 25-29 años","M 30-34 años","M 35-39 años","M 40-44 años","M 45-49 años","M 50-54 años","M 55-59 años","M 60-64 años","M 65-69 años","M 70-74 años","M 75-79 años","M 80-84 años","M 85 años y    ás","M No especificado"]
["Aguascalientes",0,2,0,2,0,0,2,0,0,0,2,0,0,2,6,6,4,6,4,0,0,1,0,1,0,0,1,0,0,0,1,0,0,1,3,3,2,3,2,0,0,1,0,1,0,0,1,0,0,0,1,0,0,1,3,3,2,3,2,0]
["Baja California",4,4,2,2,0,6,4,8,18,16,10,22,6,10,18,10,6,0,8,0,2,2,1,1,0,3,2,4,9,8,5,11,3,5,9,5,3,0,4,0,2,2,1,1,0,3,2,4,9,8,5,11,3,5,9,5,3,0,4,0]
["Baja California Sur",2,0,0,0,0,0,2,2,0,0,0,4,0,0,0,2,0,0,0,0,1,0,0,0,0,0,1,1,0,0,0,2,0,0,0,1,0,0,0,0,1,0,0,0,0,0,1,1,0,0,0,2,0,0,0,1,0,0,0,0]
["Campeche",0,0,2,0,0,0,0,0,0,0,0,0,0,4,4,4,0,0,8,0,0,0,1,0,0,0,0,0,0,0,0,0,0,2,2,2,0,0,4,0,0,0,1,0,0,0,0,0,0,0,0,0,0,2,2,2,0,0,4,0]
["Coahuila",2,6,2,2,0,6,2,6,2,6,10,2,8,4,8,6,14,6,12,0,1,3,1,1,0,3,1,3,1,3,5,1,4,2,4,3,7,3,6,0,1,3,1,1,0,3,1,3,1,3,5,1,4,2,4,3,7,3,6,0]
["Colima",0,0,0,0,0,2,0,0,0,0,0,2,0,2,4,4,0,0,2,0,0,0,0,0,0,1,0,0,0,0,0,1,0,1,2,2,0,0,1,0,0,0,0,0,0,1,0,0,0,0,0,1,0,1,2,2,0,0,1,0]
["Chiapas",4,14,6,4,10,2,4,6,10,10,10,12,26,18,30,30,38,58,108,2,2,7,3,2,5,1,2,3,5,5,5,6,13,9,15,15,19,29,54,1,2,7,3,2,5,1,2,3,5,5,5,6,13,9,15,15,19,29,54,1]
["Chihuahua",0,4,2,2,0,2,2,4,6,2,10,4,2,8,16,14,12,24,6,0,0,2,1,1,0,1,1,2,3,1,5,2,1,4,8,7,6,12,3,0,0,2,1,1,0,1,1,2,3,1,5,2,1,4,8,7,6,12,3,0]
["Ciudad de México",20,16,14,8,16,8,16,8,12,18,18,24,22,28,18,46,46,48,114,0,10,8,7,4,8,4,8,4,6,9,9,12,11,14,9,23,23,24,57,0,10,8,7,4,8,4,8,4,6,9,9,12,11,14,9,23,23,24,57,0]
["Durango",2,0,0,0,0,4,2,2,6,0,2,4,2,4,2,2,2,12,16,0,1,0,0,0,0,2,1,1,3,0,1,2,1,2,1,1,1,6,8,0,1,0,0,0,0,2,1,1,3,0,1,2,1,2,1,1,1,6,8,0]
["Guanajuato",0,4,0,0,6,0,6,6,6,4,6,4,12,6,10,24,12,24,40,0,0,2,0,0,3,0,3,3,3,2,3,2,6,3,5,12,6,12,20,0,0,2,0,0,3,0,3,3,3,2,3,2,6,3,5,12,6,12,20,0]
["Guerrero",0,2,0,4,10,2,0,2,0,10,4,6,10,18,14,34,28,42,90,0,0,1,0,2,5,1,0,1,0,5,2,3,5,9,7,17,14,21,45,0,0,1,0,2,5,1,0,1,0,5,2,3,5,9,7,17,14,21,45,0]
["Hidalgo",0,2,0,2,0,4,6,6,2,4,0,6,4,8,12,10,12,20,26,0,0,1,0,1,0,2,3,3,1,2,0,3,2,4,6,5,6,10,13,0,0,1,0,1,0,2,3,3,1,2,0,3,2,4,6,5,6,10,13,0]
["Jalisco",4,2,0,0,4,6,8,6,6,10,14,8,6,22,22,26,28,36,64,0,2,1,0,0,2,3,4,3,3,5,7,4,3,11,11,13,14,18,32,0,2,1,0,0,2,3,4,3,3,5,7,4,3,11,11,13,14,18,32,0]
["México",6,10,8,6,4,8,16,12,4,26,8,10,10,10,30,16,16,36,50,0,3,5,4,3,2,4,8,6,2,13,4,5,5,5,15,8,8,18,25,0,3,5,4,3,2,4,8,6,2,13,4,5,5,5,15,8,8,18,25,0]
["Michoacán",2,4,4,2,0,2,4,6,2,8,10,2,8,6,10,18,12,26,52,0,1,2,2,1,0,1,2,3,1,4,5,1,4,3,5,9,6,13,26,0,1,2,2,1,0,1,2,3,1,4,5,1,4,3,5,9,6,13,26,0]
["Morelos",4,0,0,0,2,0,6,6,2,0,6,6,8,4,4,8,18,16,28,0,2,0,0,0,1,0,3,3,1,0,3,3,4,2,2,4,9,8,14,0,2,0,0,0,1,0,3,3,1,0,3,3,4,2,2,4,9,8,14,0]
["Nayarit",2,0,0,0,0,0,0,0,0,0,4,0,2,0,2,6,8,10,0,0,1,0,0,0,0,0,0,0,0,0,2,0,1,0,1,3,4,5,0,0,1,0,0,0,0,0,0,0,0,0,2,0,1,0,1,3,4,5,0,0]
["Nuevo León",6,0,2,2,6,2,8,2,12,12,4,4,2,6,8,10,12,6,12,0,3,0,1,1,3,1,4,1,6,6,2,2,1,3,4,5,6,3,6,0,3,0,1,1,3,1,4,1,6,6,2,2,1,3,4,5,6,3,6,0]
["Oaxaca",6,2,4,0,8,12,2,8,12,6,14,14,4,14,16,28,26,60,126,0,3,1,2,0,4,6,1,4,6,3,7,7,2,7,8,14,13,30,63,0,3,1,2,0,4,6,1,4,6,3,7,7,2,7,8,14,13,30,63,0]
["Puebla",14,4,2,8,6,8,12,8,8,10,10,8,14,20,20,18,26,42,110,0,7,2,1,4,3,4,6,4,4,5,5,4,7,10,10,9,13,21,55,0,7,2,1,4,3,4,6,4,4,5,5,4,7,10,10,9,13,21,55,0]
["Querétaro",2,0,0,2,2,2,0,0,0,2,2,0,2,6,6,4,0,6,18,0,1,0,0,1,1,1,0,0,0,1,1,0,1,3,3,2,0,3,9,0,1,0,0,1,1,1,0,0,0,1,1,0,1,3,3,2,0,3,9,0]
["Quintana Roo",6,2,0,0,2,0,4,0,8,0,4,2,0,4,6,2,0,10,10,0,3,1,0,0,1,0,2,0,4,0,2,1,0,2,3,1,0,5,5,0,3,1,0,0,1,0,2,0,4,0,2,1,0,2,3,1,0,5,5,0]
["San Luis Potosí",4,0,0,0,6,2,4,6,0,4,0,2,2,6,8,14,10,6,28,0,2,0,0,0,3,1,2,3,0,2,0,1,1,3,4,7,5,3,14,0,2,0,0,0,3,1,2,3,0,2,0,1,1,3,4,7,5,3,14,0]
["Sinaloa",0,2,0,2,2,0,2,2,0,0,4,4,4,6,8,10,6,18,12,0,0,1,0,1,1,0,1,1,0,0,2,2,2,3,4,5,3,9,6,0,0,1,0,1,1,0,1,1,0,0,2,2,2,3,4,5,3,9,6,0]
["Sonora",6,0,0,0,6,0,2,2,2,8,6,6,8,8,8,18,12,10,14,0,3,0,0,0,3,0,1,1,1,4,3,3,4,4,4,9,6,5,7,0,3,0,0,0,3,0,1,1,1,4,3,3,4,4,4,9,6,5,7,0]
["Tabasco",4,4,0,0,4,6,6,4,6,8,8,6,8,6,10,8,4,8,16,0,2,2,0,0,2,3,3,2,3,4,4,3,4,3,5,4,2,4,8,0,2,2,0,0,2,3,3,2,3,4,4,3,4,3,5,4,2,4,8,0]
["Tamaulipas",0,2,2,2,0,2,0,2,4,0,2,10,4,14,4,12,14,10,16,0,0,1,1,1,0,1,0,1,2,0,1,5,2,7,2,6,7,5,8,0,0,1,1,1,0,1,0,1,2,0,1,5,2,7,2,6,7,5,8,0]
["Tlaxcala",2,0,0,0,0,0,2,0,2,0,0,6,4,2,0,0,6,10,20,0,1,0,0,0,0,0,1,0,1,0,0,3,2,1,0,0,3,5,10,0,1,0,0,0,0,0,1,0,1,0,0,3,2,1,0,0,3,5,10,0]
["Veracruz",10,6,4,6,4,8,12,14,18,14,26,16,22,30,30,52,52,52,176,2,5,3,2,3,2,4,6,7,9,7,13,8,11,15,15,26,26,26,88,1,5,3,2,3,2,4,6,7,9,7,13,8,11,15,15,26,26,26,88,1]
["Yucatán",4,0,0,2,0,0,4,2,2,0,6,8,10,6,4,4,12,4,24,0,2,0,0,1,0,0,2,1,1,0,3,4,5,3,2,2,6,2,12,0,2,0,0,1,0,0,2,1,1,0,3,4,5,3,2,2,6,2,12,0]
["Zacatecas",0,0,2,0,0,0,2,0,2,4,0,2,2,2,2,6,14,12,40,0,0,0,1,0,0,0,1,0,1,2,0,1,1,1,1,3,7,6,20,0,0,0,1,0,0,0,1,0,1,2,0,1,1,1,1,3,7,6,20,0]

{"sheet":"8T-GCM-R_Edad2021","index":85,"n_rows":34,"n_cols":61,"rows_kept":34,"cut":false,"hidden":true,"merged":[]}
[1,2,3,4,5,6,7,8,9,10,11,12,13,14,15,16,17,18,19,20,21,22,23,24,25,26,27,28,29,30,31,32,33,34,35,36,37,38,39,40,41,42,43,44,45,46,47,48,49,50,51,52,53,54,55,56,57,58,59,60,61]
["ESTADO","Menores de 1 año","1-4 años","5-9 años","10-14 años","15-19 años","20-24 años","25-29 años","30-34 años","35-39 años","40-44 años","45-49 años","50-54 años","55-59 años","60-64 años","65-69 años","70-74 años","75-79 años","80-84 años","85 años y más","No especificado","H Menores de 1 año","H 1-4 años","H 5-9 años","H 10-14 años","H 15-19 años","H 20-24 años","H 25-29 años","H 30-34 años","H 35-39 años","H 40-44 años","H 45-49 años","H 50-54 años","H 55-59 años","H 60-64 años","H 65-69 años","H 70-74 años","H 75-79 años","H 80-84 años","H 85 años y más","H No especificado","   M Menores de 1 año ","M 1-4 años","M 5-9 años","M 10-14 años","M 15-19 años","M 20-24 años","M 25-29 años","M 30-34 años","M 35-39 años","M 40-44 años","M 45-49 años","M 50-54 años","M 55-59 años","M 60-64 años","M 65-69 años","M 70-74 años","M 75-79 años","M 80-84 años","M 85 años y    ás","M No especificado"]
["Aguascalientes",1,1,0,0,1,1,2,1,1,3,2,3,2,3,4,6,2,7,17,0,1,0,0,0,0,0,2,0,1,1,1,2,1,0,1,2,2,3,2,0,0,1,0,0,1,1,0,1,0,2,1,1,1,3,3,4,0,4,15,0]
["Baja California",1,2,0,2,1,4,1,3,2,2,12,6,9,4,9,10,8,6,13,1,1,1,0,1,0,2,1,2,1,0,8,4,5,1,4,4,5,2,7,1,0,1,0,1,1,2,0,1,1,2,4,2,4,3,5,6,3,4,6,0]
["Baja California Sur",2,0,0,0,2,2,0,0,0,1,1,0,1,2,1,0,0,2,4,0,1,0,0,0,1,1,0,0,0,1,1,0,0,2,1,0,0,0,1,0,1,0,0,0,1,1,0,0,0,0,0,0,1,0,0,0,0,2,3,0]
["Campeche",0,1,2,0,0,0,1,2,2,3,2,3,2,2,2,6,2,2,1,0,0,0,1,0,0,0,1,2,1,1,1,1,0,1,2,5,2,1,0,0,0,1,1,0,0,0,0,0,1,2,1,2,2,1,0,1,0,1,1,0]
["Coahuila",2,0,2,0,0,0,3,4,1,4,3,2,5,10,11,8,9,10,9,0,2,0,1,0,0,0,0,1,1,1,2,2,4,5,3,5,5,7,3,0,0,0,1,0,0,0,3,3,0,3,1,0,1,5,8,3,4,3,6,0]
["Colima",0,0,0,0,0,0,2,1,0,1,2,3,1,3,2,4,5,2,4,0,0,0,0,0,0,0,1,0,0,1,1,1,0,0,2,2,1,1,1,0,0,0,0,0,0,0,1,1,0,0,1,2,1,3,0,2,4,1,3,0]
["Chiapas",10,8,3,6,6,11,11,12,11,16,14,13,16,18,25,26,34,52,131,0,5,5,1,4,3,6,4,7,9,6,6,4,10,8,13,15,22,27,66,0,5,3,2,2,3,5,7,5,2,10,8,9,6,10,12,11,12,25,65,0]
["Chihuahua",1,3,1,4,2,1,2,7,2,7,9,9,11,9,12,16,24,15,24,0,0,2,1,2,1,0,2,4,0,4,3,4,5,4,3,6,12,4,8,0,1,1,0,2,1,1,0,3,2,3,6,5,6,5,9,10,12,11,16,0]
["Ciudad de México",15,14,7,14,20,6,16,11,13,19,23,32,35,37,45,37,39,43,152,0,7,7,5,5,11,3,8,8,6,14,11,16,16,16,23,15,24,25,61,0,8,7,2,9,9,3,8,3,7,5,12,16,19,21,22,22,15,18,91,0]
["Durango",3,2,0,0,2,2,1,1,1,1,1,3,1,3,3,4,7,6,9,0,2,2,0,0,2,2,1,1,0,0,1,2,0,2,1,2,4,2,3,0,1,0,0,0,0,0,0,0,1,1,0,1,1,1,2,2,3,4,6,0]
["Guanajuato",2,5,5,4,4,4,6,7,2,4,8,7,4,10,11,14,22,27,49,0,2,1,2,1,2,3,5,4,1,2,3,6,3,5,5,7,9,11,17,0,0,4,3,3,2,1,1,3,1,2,5,1,1,5,6,7,13,16,32,0]
["Guerrero",0,3,0,2,2,8,4,2,4,2,2,8,13,12,14,21,26,32,89,0,0,1,0,1,1,5,4,0,0,0,1,3,8,4,10,10,14,20,37,0,0,2,0,1,1,3,0,2,4,2,1,5,5,8,4,11,12,12,52,0]
["Hidalgo",1,1,2,3,3,4,5,6,2,6,7,4,7,8,10,14,10,14,20,0,1,1,1,0,2,3,3,4,2,5,2,1,3,5,5,9,7,9,8,0,0,0,1,3,1,1,2,2,0,1,5,3,4,3,5,5,3,5,12,0]
["Jalisco",14,2,5,6,8,8,6,9,10,9,14,16,12,25,15,22,26,25,44,0,6,1,4,2,8,5,3,5,6,8,8,3,6,12,8,12,11,10,11,0,8,1,1,4,0,3,3,4,4,1,6,13,6,13,7,10,15,15,33,0]
["México",11,2,3,5,5,8,13,16,12,6,22,20,40,29,26,24,24,44,91,0,6,2,3,3,2,6,7,9,8,3,12,11,23,9,12,14,7,22,39,0,5,0,0,2,3,2,6,7,4,3,10,9,17,20,14,10,17,22,52,0]
["Michoacán",2,0,0,1,2,2,2,4,1,5,9,4,13,22,18,17,14,32,102,0,1,0,0,1,0,2,1,3,0,4,5,1,8,8,6,8,6,11,40,0,1,0,0,0,2,0,1,1,1,1,4,3,5,14,12,9,8,21,62,0]
["Morelos",3,2,0,3,0,1,4,4,2,3,5,5,9,4,12,9,15,19,51,0,2,0,0,1,0,0,2,4,0,0,3,3,4,4,5,6,9,8,20,0,1,2,0,2,0,1,2,0,2,3,2,2,5,0,7,3,6,11,31,0]
["Nayarit",0,0,0,0,0,1,3,2,1,2,0,3,4,1,3,4,2,5,8,0,0,0,0,0,0,0,1,1,1,0,0,0,2,0,3,2,2,3,3,0,0,0,0,0,0,1,2,1,0,2,0,3,2,1,0,2,0,2,5,0]
["Nuevo León",0,2,0,1,4,3,3,4,4,5,6,9,11,6,2,7,11,6,19,0,0,1,0,0,2,1,3,3,3,2,2,3,5,2,1,4,7,4,7,0,0,1,0,1,2,2,0,1,1,3,4,6,6,4,1,3,4,2,12,0]
["Oaxaca",1,3,3,3,5,5,11,13,4,12,10,12,13,18,19,30,28,56,161,0,1,1,1,1,3,2,6,8,2,5,7,4,7,11,9,9,14,28,66,0,0,2,2,2,2,3,5,5,2,7,3,8,6,7,10,21,14,28,95,0]
["Puebla",4,7,4,4,4,7,8,8,8,8,7,14,11,17,24,25,28,58,136,1,4,4,3,1,2,4,5,3,3,5,3,8,6,6,14,12,17,23,58,1,0,3,1,3,2,3,3,5,5,3,4,6,5,11,10,13,11,35,78,0]
["Querétaro",1,1,0,4,2,2,4,1,0,4,3,2,8,3,5,4,5,1,10,0,0,0,0,1,1,1,2,1,0,1,3,1,3,2,3,1,2,1,7,0,1,1,0,3,1,1,2,0,0,3,0,1,5,1,2,3,3,0,3,0]
["Quintana Roo",1,0,0,2,3,1,1,3,5,2,3,1,6,6,6,3,4,4,4,0,1,0,0,1,2,1,0,1,3,1,1,1,3,2,4,2,3,2,1,0,0,0,0,1,1,0,1,2,2,1,2,0,3,4,2,1,1,2,3,0]
["San Luis Potosí",3,2,1,1,4,1,3,5,2,4,5,2,6,2,10,6,13,13,34,0,1,2,1,1,0,1,0,3,0,2,2,1,1,0,8,2,6,4,17,0,2,0,0,0,4,0,3,2,2,2,3,1,5,2,2,4,7,9,17,0]
["Sinaloa",3,6,0,1,1,2,6,1,3,3,6,3,3,8,10,8,9,15,16,0,2,1,0,0,0,2,2,0,1,1,4,1,2,7,7,5,6,9,5,0,1,5,0,1,1,0,4,1,2,2,2,2,1,1,3,3,3,6,11,0]
["Sonora",2,1,0,1,1,3,0,6,3,5,7,7,5,8,16,13,16,18,10,0,2,0,0,1,1,2,0,4,2,1,5,3,2,7,8,8,9,9,8,0,0,1,0,0,0,1,0,2,1,4,2,4,3,1,8,5,7,9,2,0]
["Tabasco",3,2,1,2,2,3,4,4,1,1,6,4,9,7,7,4,8,8,21,0,2,1,1,0,2,3,4,1,0,1,3,3,3,4,2,4,3,3,7,0,1,1,0,2,0,0,0,3,1,0,3,1,6,3,5,0,5,5,14,0]
["Tamaulipas",4,1,0,0,1,3,2,2,4,4,4,9,5,9,11,12,9,9,19,2,3,1,0,0,1,2,1,2,2,3,2,4,5,6,3,4,4,3,10,2,1,0,0,0,0,1,1,0,2,1,2,5,0,3,8,8,5,6,9,0]
["Tlaxcala",2,1,0,2,1,1,2,4,2,4,1,1,4,1,1,4,3,5,8,0,0,1,0,0,0,0,1,2,0,3,1,0,3,0,1,1,3,5,6,0,2,0,0,2,1,1,1,2,2,1,0,1,1,1,0,3,0,0,2,0]
["Veracruz",9,5,4,9,4,4,12,15,12,13,19,22,24,40,39,41,53,80,249,0,5,5,3,3,3,1,4,9,5,7,8,15,15,22,17,23,27,44,113,0,4,0,1,6,1,3,8,6,7,6,11,7,9,18,22,18,26,36,136,0]
["Yucatán",1,1,1,1,0,4,0,3,4,1,5,2,5,10,10,5,8,7,11,0,1,0,0,1,0,2,0,2,3,1,1,2,0,3,4,3,6,5,5,0,0,1,1,0,0,2,0,1,1,0,4,0,5,7,6,2,2,2,6,0]
["Zacatecas",0,0,0,1,1,2,0,0,2,1,1,2,2,2,9,7,13,13,33,0,0,0,0,0,0,2,0,0,1,0,0,0,1,1,5,5,6,6,18,0,0,0,0,1,1,0,0,0,1,1,1,2,1,1,4,2,7,7,15,0]

{"sheet":"8T-GCM-R_Edad2022","index":86,"n_rows":34,"n_cols":61,"rows_kept":34,"cut":false,"hidden":true,"merged":[]}
[1,2,3,4,5,6,7,8,9,10,11,12,13,14,15,16,17,18,19,20,21,22,23,24,25,26,27,28,29,30,31,32,33,34,35,36,37,38,39,40,41,42,43,44,45,46,47,48,49,50,51,52,53,54,55,56,57,58,59,60,61]
["ESTADO","Menores de 1 año","1-4 años","5-9 años","10-14 años","15-19 años","20-24 años","25-29 años","30-34 años","35-39 años","40-44 años","45-49 años","50-54 años","55-59 años","60-64 años","65-69 años","70-74 años","75-79 años","80-84 años","85 años y más","No especificado","H Menores de 1 año","H 1-4 años","H 5-9 años","H 10-14 años","H 15-19 años","H 20-24 años","H 25-29 años","H 30-34 años","H 35-39 años","H 40-44 años","H 45-49 años","H 50-54 años","H 55-59 años","H 60-64 años","H 65-69 años","H 70-74 años","H 75-79 años","H 80-84 años","H 85 años y más","H No especificado","   M Menores de 1 año ","M 1-4 años","M 5-9 años","M 10-14 años","M 15-19 años","M 20-24 años","M 25-29 años","M 30-34 años","M 35-39 años","M 40-44 años","M 45-49 años","M 50-54 años","M 55-59 años","M 60-64 años","M 65-69 años","M 70-74 años","M 75-79 años","M 80-84 años","M 85 años y    ás","M No especificado"]
["Aguascalientes",0,0,2,1,1,2,1,1,3,2,2,4,3,2,5,3,8,8,24,0,0,0,1,0,1,1,1,0,1,1,1,3,2,2,3,1,3,5,7,0,0,0,1,1,0,1,0,1,2,1,1,1,1,0,2,2,5,3,17,0]
["Baja California",0,3,4,1,2,1,1,4,9,7,15,12,11,14,13,14,17,7,10,1,0,1,1,0,0,1,0,2,6,3,7,3,4,11,9,6,7,2,2,1,0,2,3,1,2,0,1,2,3,4,8,9,7,3,4,8,10,5,8,0]
["Baja California Sur",1,0,1,0,0,0,0,1,0,2,2,1,2,2,3,0,0,2,2,0,0,0,1,0,0,0,0,1,0,1,2,1,2,1,0,0,0,1,0,0,1,0,0,0,0,0,0,0,0,1,0,0,0,1,3,0,0,1,2,0]
["Campeche",0,2,1,3,0,0,0,2,2,1,0,2,1,1,5,3,5,2,2,0,0,1,1,2,0,0,0,2,2,0,0,1,0,1,2,1,2,2,1,0,0,1,0,1,0,0,0,0,0,1,0,1,1,0,3,2,3,0,1,0]
["Coahuila",1,1,0,1,1,3,3,0,3,1,2,3,4,10,11,6,8,4,8,0,0,1,0,0,0,3,1,0,3,0,2,1,1,4,5,2,6,1,3,0,1,0,0,1,1,0,2,0,0,1,0,2,3,6,6,4,2,3,5,0]
["Colima",1,0,0,0,1,1,0,0,0,1,0,1,1,2,1,3,5,2,2,0,0,0,0,0,0,1,0,0,0,1,0,0,1,2,1,1,3,1,0,0,1,0,0,0,1,0,0,0,0,0,0,1,0,0,0,2,2,1,2,0]
["Chiapas",8,13,2,7,8,6,9,5,11,7,8,12,13,13,13,27,28,58,192,0,6,8,1,5,6,4,6,3,4,4,3,3,7,6,7,15,13,34,85,0,2,5,1,2,2,2,3,2,7,3,5,9,6,7,6,12,15,24,107,0]
["Chihuahua",3,8,0,1,5,4,4,2,3,3,6,13,13,15,10,15,13,10,20,0,1,4,0,1,4,0,1,1,2,3,2,8,6,7,10,8,8,6,12,0,2,4,0,0,1,4,3,1,1,0,4,5,7,8,0,7,5,4,8,0]
["Ciudad de México",18,18,8,10,13,8,12,12,17,17,19,24,29,37,34,47,44,50,118,0,8,8,2,5,10,6,8,6,12,6,12,12,10,16,15,20,19,22,48,0,10,10,6,5,3,2,4,6,5,11,7,12,19,21,19,27,25,28,70,0]
["Durango",1,0,0,0,0,3,1,3,0,0,3,2,3,2,7,3,2,6,7,1,1,0,0,0,0,2,0,2,0,0,1,0,1,1,3,2,2,2,5,0,0,0,0,0,0,1,1,1,0,0,2,2,2,1,4,1,0,4,2,1]
["Guanajuato",2,5,2,4,2,2,5,5,8,10,11,6,10,14,11,19,20,25,51,0,1,1,2,2,2,1,3,3,5,6,5,2,5,7,3,13,9,15,25,0,1,4,0,2,0,1,2,2,3,4,6,4,5,7,8,6,11,10,26,0]
["Guerrero",3,0,1,5,2,1,3,2,3,3,6,11,11,9,14,16,22,34,74,0,3,0,0,2,1,0,2,0,1,1,4,8,10,4,7,10,16,15,41,0,0,0,1,3,1,1,1,2,2,2,2,3,1,5,7,6,6,19,33,0]
["Hidalgo",2,1,0,1,2,4,1,6,2,6,2,6,5,8,6,8,16,12,31,0,0,1,0,1,1,1,1,3,2,2,1,0,4,4,0,3,12,8,15,0,2,0,0,0,1,3,0,3,0,4,1,6,1,4,6,5,4,4,16,0]
["Jalisco",4,3,4,5,1,3,9,5,10,10,9,7,10,15,16,24,26,35,56,0,3,2,1,3,1,1,6,1,3,9,4,3,4,12,10,12,15,19,17,0,1,1,3,2,0,2,3,4,7,1,5,4,6,3,6,12,11,16,39,0]
["México",10,3,1,2,9,4,8,8,8,16,19,21,23,36,24,42,32,38,100,1,7,2,0,0,3,2,7,3,6,10,10,9,9,21,11,25,14,18,34,0,3,1,1,2,6,2,1,5,2,6,9,12,14,15,13,17,18,20,66,1]
["Michoacán",1,1,3,0,4,3,7,6,3,2,8,6,10,12,10,18,14,24,69,0,0,0,3,0,2,2,5,1,3,2,6,3,5,8,4,10,9,11,27,0,1,1,0,0,2,1,2,5,0,0,2,3,5,4,6,8,5,13,42,0]
["Morelos",2,0,0,1,0,0,1,4,5,1,4,10,6,10,13,11,18,11,40,0,2,0,0,1,0,0,1,3,4,0,2,7,3,7,9,7,8,3,17,0,0,0,0,0,0,0,0,1,1,1,2,3,3,3,4,4,10,8,23,0]
["Nayarit",1,1,0,1,0,0,2,0,0,1,1,4,2,1,3,2,3,4,7,0,1,1,0,0,0,0,2,0,0,1,1,2,1,1,2,2,2,2,2,0,0,0,0,1,0,0,0,0,0,0,0,2,1,0,1,0,1,2,5,0]
["Nuevo León",5,2,2,9,1,3,5,3,3,5,6,4,12,11,9,7,11,11,19,0,3,1,1,4,0,2,3,3,1,1,2,4,5,5,6,5,3,7,10,0,2,1,1,5,1,1,2,0,2,4,4,0,7,6,3,2,8,4,9,0]
["Oaxaca",5,5,5,4,5,4,5,6,5,10,12,12,12,16,20,28,36,50,134,0,4,3,4,3,0,2,1,0,3,6,5,7,6,9,11,12,17,27,53,0,1,2,1,1,5,2,4,6,2,4,7,5,6,7,9,16,19,23,81,0]
["Puebla",5,6,3,2,6,7,7,7,4,7,10,8,17,12,20,18,30,37,86,1,2,4,2,2,4,4,6,6,0,5,6,3,7,6,10,9,9,20,45,1,3,2,1,0,2,3,1,1,4,2,4,5,10,6,10,9,21,17,41,0]
["Querétaro",2,1,1,3,1,0,2,4,2,2,5,2,6,3,1,3,1,6,10,0,1,0,0,1,1,0,1,1,1,1,4,2,3,1,0,2,1,2,6,0,1,1,1,2,0,0,1,3,1,1,1,0,3,2,1,1,0,4,4,0]
["Quintana Roo",3,1,0,1,2,2,3,0,3,2,1,2,3,2,9,6,3,5,17,1,1,1,0,1,1,2,2,0,2,0,1,1,1,1,4,2,3,3,6,1,2,0,0,0,1,0,1,0,1,2,0,1,2,1,5,4,0,2,11,0]
["San Luis Potosí",4,3,3,1,2,2,3,4,4,3,5,4,5,7,7,6,9,15,34,0,2,3,2,0,0,1,1,2,0,0,2,1,2,5,4,3,4,4,12,0,2,0,1,1,2,1,2,2,4,3,3,3,3,2,3,3,5,11,22,0]
["Sinaloa",0,0,0,0,2,4,0,1,2,7,3,3,8,7,8,8,6,11,12,0,0,0,0,0,1,3,0,0,0,5,2,0,3,3,3,4,2,6,6,0,0,0,0,0,1,1,0,1,2,2,1,3,5,4,5,4,4,5,6,0]
["Sonora",2,1,2,1,3,2,2,1,3,2,7,4,10,9,15,14,7,14,19,0,2,0,2,1,2,0,1,1,2,2,3,3,6,5,8,11,6,10,4,0,0,1,0,0,1,2,1,0,1,0,4,1,4,4,7,3,1,4,15,0]
["Tabasco",0,0,1,2,3,4,6,4,3,3,4,2,8,4,7,5,8,6,14,0,0,0,1,2,2,2,5,3,0,2,2,1,6,3,4,3,5,4,5,0,0,0,0,0,1,2,1,1,3,1,2,1,2,1,3,2,3,2,9,0]
["Tamaulipas",0,2,1,0,4,2,3,4,4,5,8,14,10,9,11,9,13,12,19,0,0,0,1,0,3,1,3,2,0,2,5,6,4,4,6,5,4,6,9,0,0,2,0,0,1,1,0,2,4,3,3,8,6,5,5,4,9,6,10,0]
["Tlaxcala",3,1,0,0,0,0,2,4,3,4,2,0,3,4,3,2,2,6,7,0,2,1,0,0,0,0,1,1,2,1,2,0,0,3,1,2,0,4,3,0,1,0,0,0,0,0,1,3,1,3,0,0,3,1,2,0,2,2,4,0]
["Veracruz",10,2,2,3,6,13,9,11,12,12,14,16,30,28,42,47,55,88,225,0,7,2,1,1,4,4,4,6,4,8,9,9,13,11,23,23,30,35,99,0,3,0,1,2,2,9,5,5,8,4,5,7,17,17,19,24,25,53,126,0]
["Yucatán",1,2,0,0,1,1,3,1,0,4,2,6,3,9,10,12,4,10,11,0,0,1,0,0,1,0,3,1,0,4,2,4,2,3,5,4,1,6,4,0,1,1,0,0,0,1,0,0,0,0,0,2,1,6,5,8,3,4,7,0]
["Zacatecas",0,0,1,0,2,0,1,1,1,1,1,2,2,4,6,4,6,13,28,0,0,0,1,0,1,0,0,0,1,0,1,1,1,4,0,2,2,5,19,0,0,0,0,0,1,0,1,1,0,1,0,1,1,0,6,2,4,8,9,0]

{"sheet":"2T-GCM-G_Edad_EntFed2020","index":87,"n_rows":22,"n_cols":33,"rows_kept":22,"cut":false,"hidden":true,"merged":[]}
[1,2,3,4,5,6,7,8,9,10,11,12,13,14,15,16,17,18,19,20,21,22,23,24,25,26,27,28,29,30,31,32,33]
["ESTADO","Aguascalientes","Baja California","Baja California Sur","Campeche","Coahuila","Colima","Chiapas","Chihuahua","Ciudad de México","Durango","Guanajuato","Guerrero","Hidalgo","Jalisco","México","Michoacán","Morelos","Nayarit","Nuevo León","Oaxaca","Puebla","Querétaro","Quintana Roo","San Luis Potosí","Sinaloa","Sonora","Tabasco","Tamaulipas","Tlaxcala","Veracruz","Yucatán","Zacatecas"]
["Menores de 1 año",9,11,1,1,6,1,6,6,26,3,9,17,0,12,27,3,2,1,6,18,11,0,1,4,3,1,7,1,4,6,4,1]
["1-4 años",4,6,2,0,5,0,1,6,19,0,2,0,0,2,25,2,2,0,7,5,4,0,2,0,2,0,3,1,0,8,2,1]
["5-9 años",1,7,0,0,4,0,2,0,15,0,1,4,0,0,5,1,1,0,6,2,3,2,0,0,3,0,1,1,0,1,1,0]
["10-14 años",1,9,0,0,2,0,3,4,23,0,3,3,0,4,4,0,0,0,8,2,6,0,0,2,4,1,3,0,2,2,3,0]
["15-19 años",9,10,2,3,8,0,5,6,40,2,8,3,2,15,51,2,4,0,23,6,11,2,3,2,3,5,4,3,2,10,2,3]
["20-24 años",11,26,1,4,19,2,8,29,100,5,22,28,15,47,125,11,8,4,32,9,23,9,10,19,19,14,17,17,6,20,11,6]
["25-29 años",34,68,6,7,37,2,19,57,278,19,64,22,40,72,348,27,11,8,58,23,87,25,22,28,25,44,29,38,12,50,12,16]
["30-34 años",45,112,17,14,85,8,30,111,540,22,101,48,66,138,570,66,29,15,119,58,136,47,39,48,53,75,70,76,35,112,38,23]
["35-39 años",62,220,23,37,140,22,51,178,967,57,165,91,124,171,973,63,64,22,210,82,228,62,99,91,93,124,116,141,43,203,69,39]
["40-44 años",85,390,36,48,253,27,108,341,1665,74,253,132,230,291,1613,136,93,28,367,122,417,107,144,151,156,240,180,236,66,333,94,66]
["45-49 años",135,703,70,88,424,49,161,556,2665,145,438,222,325,478,2381,223,150,52,631,201,669,212,235,256,307,361,316,365,117,606,158,130]
["50-54 años",197,833,106,154,557,80,223,725,3525,225,614,340,408,565,3110,314,256,76,852,331,893,242,288,332,431,500,402,511,182,887,220,186]
["55-59 años",237,975,98,184,713,101,330,907,4632,331,850,506,505,879,3882,434,295,132,1101,410,1098,353,387,465,542,673,571,596,209,1125,329,260]
["60-64 años",306,1099,146,197,905,125,407,949,5249,393,988,595,575,1076,4062,506,403,149,1285,457,1172,417,336,553,692,822,619,663,221,1379,426,317]
["65-69 años",315,1010,110,205,874,132,414,941,5264,412,1013,681,570,1305,3842,572,407,182,1212,474,1168,400,346,537,768,849,610,644,174,1357,485,319]
["70-74 años",317,941,94,184,854,134,332,830,4622,384,1001,586,524,1250,3112,518,346,216,1098,391,933,332,309,529,825,819,443,554,174,1183,488,322]
["75-79 años",282,781,103,136,703,109,293,769,3639,307,768,515,379,1101,2155,396,296,160,931,338,678,258,230,431,693,713,330,463,116,886,361,269]
["80-84 años",200,546,67,112,462,103,182,538,2496,231,516,355,261,742,1353,296,229,130,678,227,473,188,139,321,516,545,286,308,77,670,272,195]
["85 años y más",194,490,60,75,343,61,129,416,2212,175,440,309,234,682,962,242,200,111,603,188,358,156,110,269,366,450,191,269,64,502,189,176]
["No especificado",1,11,1,3,3,0,0,1,1,2,0,2,0,4,13,1,0,0,0,0,3,0,0,1,4,6,3,1,0,3,1,0]

{"sheet":"2T-GCM-G_Edad_EntFed2021","index":88,"n_rows":22,"n_cols":33,"rows_kept":22,"cut":false,"hidden":true,"merged":[]}
[1,2,3,4,5,6,7,8,9,10,11,12,13,14,15,16,17,18,19,20,21,22,23,24,25,26,27,28,29,30,31,32,33]
["ESTADO","Aguascalientes","Baja California","Baja California Sur","Campeche","Coahuila","Colima","Chiapas","Chihuahua","Ciudad de México","Durango","Guanajuato","Guerrero","Hidalgo","Jalisco","México","Michoacán","Morelos","Nayarit","Nuevo León","Oaxaca","Puebla","Querétaro","Quintana Roo","San Luis Potosí","Sinaloa","Sonora","Tabasco","Tamaulipas","Tlaxcala","Veracruz","Yucatán","Zacatecas"]
["Menores de 1 año",1,6,2,0,5,1,6,2,36,1,3,8,3,12,25,8,2,1,12,12,10,3,3,3,4,0,6,5,3,8,2,2]
["1-4 años",0,1,1,0,0,1,4,7,9,1,3,2,3,6,10,2,2,0,5,8,12,1,2,2,2,7,1,2,0,9,3,1]
["5-9 años",0,2,2,0,2,0,4,3,11,0,1,1,2,6,4,4,1,1,1,0,7,3,0,1,2,2,1,2,0,6,1,2]
["10-14 años",2,4,1,0,3,0,3,4,24,1,5,3,0,9,9,5,1,0,7,9,11,2,4,4,4,2,1,2,2,5,3,0]
["15-19 años",5,15,9,3,4,2,5,10,69,2,18,14,10,18,61,17,6,4,26,11,24,4,4,7,8,11,10,10,3,26,8,3]
["20-24 años",14,19,16,3,22,5,5,15,156,12,55,21,36,59,155,33,19,13,65,19,68,19,14,22,34,21,23,24,11,42,16,6]
["25-29 años",23,40,49,13,40,16,28,42,414,24,102,55,92,176,457,83,54,24,153,55,206,79,34,67,87,43,40,64,26,121,37,21]
["30-34 años",50,97,70,32,61,39,60,59,735,40,156,85,161,266,731,139,62,35,246,115,295,136,98,98,129,94,75,124,48,187,73,30]
["35-39 años",66,172,109,51,114,66,94,96,1323,65,266,177,246,504,1286,233,153,59,433,202,528,206,136,146,249,127,119,200,80,370,165,40]
["40-44 años",86,259,148,65,187,70,123,147,1884,97,405,246,349,597,1652,361,208,92,539,307,672,278,195,189,288,194,142,279,121,507,188,56]
["45-49 años",131,415,255,100,288,84,230,232,3077,173,587,379,463,982,2583,547,382,136,875,430,960,400,289,313,482,281,208,343,175,773,298,118]
["50-54 años",143,455,186,121,336,145,237,326,3599,159,868,395,560,1127,3086,716,464,139,999,489,1269,452,265,370,411,349,270,451,192,1023,288,146]
["55-59 años",236,591,237,162,465,173,342,431,4840,228,1082,601,679,1570,3862,900,633,227,1197,737,1472,579,305,480,533,437,375,581,274,1368,387,177]
["60-64 años",270,755,191,182,591,176,370,537,5318,276,1258,764,786,1963,4023,1143,782,288,1270,815,1790,658,285,579,568,559,426,598,313,1529,451,246]
["65-69 años",316,699,241,193,642,231,440,459,5487,264,1389,870,760,2234,3847,1210,809,290,1349,901,1745,594,265,570,609,660,413,604,267,1569,491,261]
["70-74 años",284,644,163,196,637,205,372,492,5080,243,1263,858,632,2222,3226,1181,770,331,1301,798,1379,515,291,498,646,572,366,540,227,1343,544,247]
["75-79 años",238,558,154,162,530,192,344,452,4241,243,1115,789,528,1992,2395,1015,622,281,1049,704,1166,399,175,461,624,546,278,487,195,1148,436,268]
["80-84 años",173,432,101,125,366,135,257,352,2907,186,766,694,355,1412,1659,785,489,214,812,523,794,291,122,349,483,436,229,376,148,935,323,207]
["85 años y más",162,404,118,125,314,143,195,345,3062,174,767,731,367,1509,1483,861,488,197,841,595,762,300,110,395,420,435,202,350,119,851,348,227]
["No especificado",0,17,4,0,1,1,0,1,0,0,2,1,2,8,27,3,0,1,2,1,8,0,0,0,0,4,0,0,0,3,0,0]

{"sheet":"2T-GCM-G_Edad_EntFed2022","index":89,"n_rows":22,"n_cols":33,"rows_kept":22,"cut":false,"hidden":true,"merged":[]}
[1,2,3,4,5,6,7,8,9,10,11,12,13,14,15,16,17,18,19,20,21,22,23,24,25,26,27,28,29,30,31,32,33]
["ESTADO","Aguascalientes","Baja California","Baja California Sur","Campeche","Coahuila","Colima","Chiapas","Chihuahua","Ciudad de México","Durango","Guanajuato","Guerrero","Hidalgo","Jalisco","México","Michoacán","Morelos","Nayarit","Nuevo León","Oaxaca","Puebla","Querétaro","Quintana Roo","San Luis Potosí","Sinaloa","Sonora","Tabasco","Tamaulipas","Tlaxcala","Veracruz","Yucatán","Zacatecas"]
["Menores de 1 año",0,2,2,1,1,0,5,3,14,1,10,1,1,6,18,1,1,1,5,4,4,7,1,1,1,1,1,1,1,8,5,3]
["1-4 años",3,1,2,1,0,0,3,2,14,1,1,1,2,1,6,2,1,3,3,2,3,2,1,2,0,0,2,0,1,3,3,1]
["5-9 años",1,0,0,0,1,0,1,4,5,0,1,1,1,1,6,1,0,0,3,0,1,2,1,0,0,1,3,2,0,3,3,3]
["10-14 años",1,3,4,0,1,0,3,1,12,0,7,0,4,3,6,1,1,0,0,3,2,2,0,0,1,2,0,2,0,1,3,1]
["15-19 años",4,2,1,1,5,2,2,6,14,2,10,4,1,7,17,1,2,0,8,3,5,2,1,2,3,2,5,1,0,2,1,2]
["20-24 años",3,10,2,1,2,2,3,9,27,2,6,5,2,10,24,8,2,4,11,5,7,2,1,7,2,4,5,2,3,4,2,5]
["25-29 años",11,9,2,2,8,3,4,17,54,4,25,7,10,26,44,9,6,2,14,7,12,4,4,7,3,6,10,7,2,14,8,2]
["30-34 años",6,22,3,3,16,3,1,16,61,9,20,7,14,40,47,12,4,2,18,7,19,16,4,9,10,16,10,8,9,22,13,7]
["35-39 años",19,38,6,2,19,8,5,31,92,10,40,6,18,50,60,15,13,4,27,17,21,18,3,20,14,9,15,18,6,26,14,9]
["40-44 años",14,39,9,6,40,7,4,43,120,10,44,12,14,51,82,19,16,4,50,21,20,29,7,31,17,23,12,27,3,37,18,15]
["45-49 años",27,76,17,9,58,9,15,41,192,21,72,22,31,90,147,32,19,11,78,25,47,33,9,38,28,55,17,49,6,50,33,17]
["50-54 años",37,111,24,5,93,6,17,105,309,39,111,41,33,123,206,45,48,16,127,38,66,48,15,58,39,60,25,84,16,82,28,38]
["55-59 años",58,106,21,10,108,19,20,119,398,56,129,47,62,168,338,68,50,14,173,65,102,71,27,65,59,81,34,95,16,158,39,33]
["60-64 años",67,149,56,24,149,27,35,176,443,57,180,63,63,247,319,89,76,16,165,80,124,87,28,89,72,113,33,103,26,156,66,61]
["65-69 años",71,178,45,23,198,27,37,196,592,70,198,75,56,330,405,101,93,46,186,98,128,98,42,99,88,177,48,137,18,185,71,53]
["70-74 años",89,155,47,25,197,21,37,201,623,76,198,99,63,401,394,118,92,48,234,106,133,118,42,90,112,166,37,141,19,202,103,60]
["75-79 años",77,158,58,19,167,33,46,224,700,68,225,93,59,462,400,115,112,53,259,130,140,96,42,115,123,187,46,135,19,223,85,72]
["80-84 años",70,147,38,16,161,36,47,207,686,90,206,100,69,397,344,119,90,55,250,126,118,91,33,114,132,158,33,151,13,173,111,65]
["85 años y más",88,206,59,49,216,53,51,255,1071,92,292,155,87,541,459,200,144,82,389,174,203,138,50,153,140,233,58,203,42,273,150,115]
["No especificado",0,1,3,0,1,0,0,0,1,0,2,1,1,1,14,0,0,0,2,0,23,0,1,0,0,1,1,3,0,1,0,0]

{"sheet":"1T-GCM-G_Edad_EntFed2020","index":90,"n_rows":22,"n_cols":33,"rows_kept":22,"cut":false,"hidden":true,"merged":[]}
[1,2,3,4,5,6,7,8,9,10,11,12,13,14,15,16,17,18,19,20,21,22,23,24,25,26,27,28,29,30,31,32,33]
["ESTADO","Aguascalientes","Baja California","Baja California Sur","Campeche","Coahuila","Colima","Chiapas","Chihuahua","Ciudad de México","Durango","Guanajuato","Guerrero","Hidalgo","Jalisco","México","Michoacán","Morelos","Nayarit","Nuevo León","Oaxaca","Puebla","Querétaro","Quintana Roo","San Luis Potosí","Sinaloa","Sonora","Tabasco","Tamaulipas","Tlaxcala","Veracruz","Yucatán","Zacatecas"]
["Menores de 1 año",2,6,2,1,7,2,10,8,25,1,6,2,3,13,22,5,3,0,8,3,18,3,3,12,3,1,10,5,1,20,0,1]
["1-4 años",1,1,1,0,3,1,5,2,8,2,4,4,1,8,8,5,1,0,3,3,6,1,0,1,2,5,2,0,0,5,0,0]
["5-9 años",0,8,0,0,1,0,9,2,4,0,3,5,3,7,8,6,1,0,5,4,10,1,0,1,2,1,2,4,1,5,2,0]
["10-14 años",0,4,1,2,3,1,10,4,12,1,11,4,2,11,10,5,1,0,10,12,10,3,1,5,5,3,4,6,0,11,2,1]
["15-19 años",4,14,3,5,10,3,46,6,27,4,28,9,7,33,36,11,7,3,18,13,26,6,2,7,1,10,13,15,6,30,9,6]
["20-24 años",9,26,5,3,20,3,61,11,65,11,45,34,18,55,86,33,14,8,24,33,60,14,12,16,21,18,20,25,18,56,9,4]
["25-29 años",18,41,12,5,27,10,84,40,112,12,94,37,25,108,185,52,15,17,54,36,90,22,8,34,29,31,31,46,20,101,23,15]
["30-34 años",21,85,16,17,48,8,107,74,183,14,115,45,42,166,232,72,31,11,79,41,122,24,22,33,42,45,51,51,20,127,24,16]
["35-39 años",24,116,17,21,83,18,139,104,251,37,155,85,60,206,401,112,42,27,149,87,183,33,35,45,57,75,96,93,32,186,40,21]
["40-44 años",31,194,28,34,122,25,208,172,439,55,217,105,82,276,646,150,71,24,260,98,282,71,50,89,94,121,113,148,54,306,83,30]
["45-49 años",53,302,41,51,229,43,285,298,802,120,311,146,171,457,995,221,109,52,363,146,392,116,73,141,160,228,161,253,77,516,113,64]
["50-54 años",77,456,54,69,316,45,416,462,1094,157,447,199,201,636,1340,272,154,76,586,225,575,123,116,201,201,307,207,378,100,713,160,98]
["55-59 años",106,553,84,102,461,72,548,543,1577,225,631,262,253,810,1933,401,209,82,753,344,690,200,126,254,304,417,327,449,122,1040,199,116]
["60-64 años",146,611,105,128,624,84,774,824,2088,327,776,390,389,1059,2418,588,290,133,990,483,950,233,144,394,406,615,412,670,177,1417,331,186]
["65-69 años",208,671,96,158,679,111,899,851,2554,408,1037,458,427,1389,2788,682,390,186,1043,612,1165,283,168,444,567,676,495,627,202,1813,402,238]
["70-74 años",215,689,134,182,799,141,1036,1039,2970,502,1231,638,578,1726,3171,909,448,210,1190,827,1412,359,173,576,730,773,604,727,260,2136,578,311]
["75-79 años",225,729,124,228,890,166,1339,1283,3322,576,1479,738,724,1962,3529,1029,507,247,1321,1131,1740,370,182,775,802,886,626,872,277,2692,684,376]
["80-84 años",208,790,126,274,935,202,1517,1434,3871,640,1741,869,909,2117,3810,1250,647,294,1449,1449,2047,454,206,960,979,1036,754,960,366,3226,869,517]
["85 años y más",436,1443,247,469,1454,390,2452,2243,9211,1092,4373,1861,2029,4499,8090,3080,1466,643,2724,3088,4845,1160,354,2320,1686,1701,1333,1672,895,6453,1647,1132]
["No especificado",3,82,5,3,20,8,7,7,1,3,17,0,1,46,53,26,3,5,4,7,85,9,0,3,3,29,1,17,1,14,4,3]

{"sheet":"1T-GCM-G_Edad_EntFed2021","index":91,"n_rows":22,"n_cols":33,"rows_kept":22,"cut":false,"hidden":true,"merged":[]}
[1,2,3,4,5,6,7,8,9,10,11,12,13,14,15,16,17,18,19,20,21,22,23,24,25,26,27,28,29,30,31,32,33]
["CONCEPTO","Aguascalientes","Baja California","Baja California Sur","Campeche","Coahuila","Colima","Chiapas","Chihuahua","Ciudad de México","Durango","Guanajuato","Guerrero","Hidalgo","Jalisco","México","Michoacán","Morelos","Nayarit","Nuevo León","Oaxaca","Puebla","Querétaro","Quintana Roo","San Luis Potosí","Sinaloa","Sonora","Tabasco","Tamaulipas","Tlaxcala","Veracruz","Yucatán","Zacatecas"]
["Menores de 1 año",3,5,1,2,6,0,18,8,17,5,6,3,4,14,21,7,5,1,12,5,11,3,4,4,10,5,14,6,2,9,6,1]
["1-4 años",1,3,0,0,4,0,12,3,10,1,5,3,1,13,10,7,3,0,2,8,7,3,0,2,2,1,3,0,0,8,5,0]
["5-9 años",1,2,3,1,4,0,7,3,18,0,3,1,1,5,6,2,4,0,3,5,2,1,1,4,1,2,3,0,1,7,1,0]
["10-14 años",0,5,4,0,4,1,12,3,17,3,13,2,5,13,13,2,0,2,13,10,13,2,2,0,1,1,3,0,4,12,6,1]
["15-19 años",8,18,4,5,6,3,39,13,21,4,24,15,10,36,45,23,8,2,21,15,33,7,7,7,3,10,19,10,7,35,11,5]
["20-24 años",10,25,7,7,15,6,56,23,48,10,53,19,15,91,78,31,10,11,25,28,46,17,8,10,19,22,39,31,10,63,8,8]
["25-29 años",13,47,9,12,26,10,77,26,92,10,83,29,23,145,150,48,30,11,71,39,101,23,21,32,33,40,45,49,32,109,18,5]
["30-34 años",19,99,12,13,33,12,106,59,133,24,109,48,36,167,247,73,39,18,92,60,136,43,40,47,42,50,65,57,29,130,31,9]
["35-39 años",30,119,15,18,67,19,168,111,213,40,140,78,71,229,342,101,59,23,126,79,220,44,54,49,81,73,83,97,22,202,49,18]
["40-44 años",30,225,28,28,126,30,245,154,338,76,225,116,108,312,556,180,67,37,262,113,316,85,69,92,106,134,117,146,46,316,80,33]
["45-49 años",71,294,55,50,202,50,312,286,672,102,365,143,161,493,923,282,126,54,414,183,506,133,99,164,164,205,181,232,77,519,114,80]
["50-54 años",78,431,57,83,282,57,429,371,961,158,495,218,190,647,1217,351,154,61,567,271,672,168,114,200,234,321,209,336,102,744,181,112]
["55-59 años",111,529,72,93,424,82,611,498,1407,220,662,279,274,898,1704,478,249,90,717,394,876,221,136,278,317,419,270,465,132,1102,262,136]
["60-64 años",145,604,108,117,591,109,737,664,1906,291,956,406,359,1228,2186,669,334,145,937,523,1232,288,171,405,402,543,383,592,175,1422,306,195]
["65-69 años",179,621,109,189,631,142,896,784,2249,353,1214,490,507,1526,2581,895,392,183,1075,643,1441,298,211,452,543,675,467,671,228,1919,409,243]
["70-74 años",205,659,134,181,707,164,1035,943,2756,423,1356,595,613,1788,2992,1078,520,232,1227,902,1680,384,233,620,677,717,534,730,285,2278,627,365]
["75-79 años",275,696,117,209,759,169,1337,1028,3207,550,1635,739,751,2115,3264,1202,611,282,1409,1256,2051,449,209,766,794,765,521,886,295,2716,697,457]
["80-84 años",280,668,122,279,798,195,1555,1162,3530,665,1927,925,971,2222,3897,1534,735,305,1585,1663,2524,517,253,1012,916,835,657,972,358,3376,818,510]
["85 años y más",518,1323,260,455,1363,389,2653,1834,8665,1180,5041,1985,2147,4836,8267,3585,1777,701,3000,3787,5729,1254,362,2425,1662,1506,1304,1770,955,6875,1693,1199]
["No especificado",1,74,9,4,12,10,2,7,1,2,31,7,0,43,47,33,33,11,1,3,27,6,2,2,0,21,2,37,2,11,0,1]

{"sheet":"1T-GCM-G_Edad_EntFed2022","index":92,"n_rows":22,"n_cols":33,"rows_kept":22,"cut":false,"hidden":true,"merged":[]}
[1,2,3,4,5,6,7,8,9,10,11,12,13,14,15,16,17,18,19,20,21,22,23,24,25,26,27,28,29,30,31,32,33]
["ESTADO","Aguascalientes","Baja California","Baja California Sur","Campeche","Coahuila","Colima","Chiapas","Chihuahua","Ciudad de México","Durango","Guanajuato","Guerrero","Hidalgo","Jalisco","México","Michoacán","Morelos","Nayarit","Nuevo León","Oaxaca","Puebla","Querétaro","Quintana Roo","San Luis Potosí","Sinaloa","Sonora","Tabasco","Tamaulipas","Tlaxcala","Veracruz","Yucatán","Zacatecas"]
["Menores de 1 año",1,7,0,1,6,1,7,9,26,1,8,1,3,22,17,8,3,2,10,7,11,6,3,5,0,6,9,2,2,11,4,1]
["1-4 años",0,1,1,2,3,0,12,5,6,0,2,1,0,8,5,2,0,0,2,0,4,0,1,3,0,3,5,1,0,10,0,3]
["5-9 años",0,6,1,1,1,0,9,6,12,2,4,2,4,8,4,2,0,0,6,3,6,1,0,1,1,1,4,3,1,7,1,0]
["10-14 años",0,2,2,1,4,0,13,10,22,2,9,2,2,10,15,9,2,1,7,4,6,1,3,1,0,5,6,6,6,12,5,0]
["15-19 años",4,19,3,1,12,1,47,14,39,5,18,12,7,24,37,21,6,4,20,16,29,5,10,8,4,8,10,6,10,23,4,5]
["20-24 años",8,35,3,8,23,5,63,26,40,11,43,22,17,65,67,31,11,6,35,22,44,4,10,14,18,18,20,20,13,50,11,5]
["25-29 años",21,54,7,10,29,11,75,37,81,12,72,29,30,133,157,56,17,11,57,34,84,19,25,21,22,31,36,40,21,96,23,9]
["30-34 años",20,71,15,15,66,14,113,53,148,19,139,49,41,153,251,70,38,13,96,38,104,43,45,43,34,52,45,49,29,133,32,19]
["35-39 años",21,120,22,26,75,11,151,84,200,27,125,67,66,226,274,98,39,30,129,74,131,66,50,59,46,64,49,77,30,155,59,24]
["40-44 años",36,212,29,27,119,35,218,128,302,49,232,105,70,282,453,140,67,29,263,101,225,68,79,64,74,138,120,125,42,273,73,30]
["45-49 años",62,311,40,40,198,33,236,225,532,66,304,142,134,429,646,226,112,54,390,150,311,107,92,132,149,207,151,186,61,384,127,64]
["50-54 años",69,419,51,60,277,52,346,338,760,125,445,157,183,598,924,294,147,62,604,223,414,139,123,201,186,274,203,318,82,614,170,83]
["55-59 años",112,520,72,87,398,74,445,546,1130,194,560,259,251,803,1244,426,185,92,777,294,572,191,135,281,232,407,276,403,92,858,232,138]
["60-64 años",140,608,100,102,557,106,567,640,1532,270,723,311,305,1121,1623,530,312,117,999,401,784,248,169,335,383,530,338,556,141,1143,312,171]
["65-69 años",187,635,111,134,610,90,742,759,1972,355,902,422,414,1294,1991,681,339,161,1114,530,966,305,179,466,450,654,425,621,132,1549,395,220]
["70-74 años",204,655,137,169,756,149,896,920,2298,448,1109,548,538,1607,2446,848,472,201,1331,730,1260,354,223,583,610,683,461,715,212,1963,575,304]
["75-79 años",267,729,141,180,795,157,1101,1029,2716,501,1401,629,713,1867,2871,1055,541,251,1463,1055,1639,433,204,741,663,745,538,870,243,2336,624,408]
["80-84 años",258,713,154,207,831,180,1291,1192,3021,562,1652,807,830,2073,3459,1226,646,251,1586,1428,1952,466,215,857,825,888,644,964,342,2961,836,499]
["85 años y más",516,1437,278,440,1506,352,2520,1888,7913,1186,4605,1865,2085,4543,8277,3337,1537,638,3340,3559,5256,1179,352,2390,1618,1572,1305,1868,899,6763,1555,1145]
["No especificado",0,100,14,1,9,4,9,14,7,1,30,8,0,31,36,27,1,6,12,3,56,9,1,3,1,40,1,48,1,9,2,3]

{"sheet":"8GCM-G_Edad ","index":93,"n_rows":24,"n_cols":10,"rows_kept":24,"cut":false,"hidden":false,"merged":[[0,0,0,9]]}
["Enfermedades de la sangre y de los órganos hematopoyéticos, \ny ciertos trastornos que afectan el mecanismo de la inmunidad"]
["SELECCIONE UNA ENTIDAD"]
["Durango","2020","H - 2020","M - 2020","2021","H - 2021","M - 2021","2022","H - 2022","M - 2022"]
["Menores de 1 año",{"$f":"VLOOKUP($A$3,'8T-GCM-R_Edad2020'!$A$2:$BI$34,2,0)","v":2},{"$f":"VLOOKUP($A$3,'8T-GCM-R_Edad2020'!$A$2:$BI$34,22,0)","v":1},{"$f":"VLOOKUP($A$3,'8T-GCM-R_Edad2020'!$A$2:$BI$34,42,0)","v":1},{"$f":"VLOOKUP($A$3,'8T-GCM-R_Edad2021'!$A$2:$BI$34,2,0)","v":3},{"$f":"VLOOKUP($A$3,'8T-GCM-R_Edad2021'!$A$2:$BI$34,22,0)","v":2},{"$f":"VLOOKUP($A$3,'8T-GCM-R_Edad2021'!$A$2:$BI$34,42,0)","v":1},{"$f":"VLOOKUP($A$3,'8T-GCM-R_Edad2022'!$A$2:$BI$34,2,0)","v":1},{"$f":"VLOOKUP($A$3,'8T-GCM-R_Edad2022'!$A$2:$BI$34,22,0)","v":1},{"$f":"VLOOKUP($A$3,'8T-GCM-R_Edad2022'!$A$2:$BI$34,42,0)","v":0}]
["1-4 años",{"$f":"VLOOKUP($A$3,'8T-GCM-R_Edad2020'!$A$2:$BI$34,3,0)","v":0},{"$f":"VLOOKUP($A$3,'8T-GCM-R_Edad2020'!$A$2:$BI$34,23,0)","v":0},{"$f":"VLOOKUP($A$3,'8T-GCM-R_Edad2020'!$A$2:$BI$34,43,0)","v":0},{"$f":"VLOOKUP($A$3,'8T-GCM-R_Edad2021'!$A$2:$BI$34,3,0)","v":2},{"$f":"VLOOKUP($A$3,'8T-GCM-R_Edad2021'!$A$2:$BI$34,23,0)","v":2},{"$f":"VLOOKUP($A$3,'8T-GCM-R_Edad2021'!$A$2:$BI$34,43,0)","v":0},{"$f":"VLOOKUP($A$3,'8T-GCM-R_Edad2022'!$A$2:$BI$34,3,0)","v":0},{"$f":"VLOOKUP($A$3,'8T-GCM-R_Edad2022'!$A$2:$BI$34,23,0)","v":0},{"$f":"VLOOKUP($A$3,'8T-GCM-R_Edad2022'!$A$2:$BI$34,43,0)","v":0}]
["5-9 años",{"$f":"VLOOKUP($A$3,'8T-GCM-R_Edad2020'!$A$2:$BI$34,4,0)","v":0},{"$f":"VLOOKUP($A$3,'8T-GCM-R_Edad2020'!$A$2:$BI$34,24,0)","v":0},{"$f":"VLOOKUP($A$3,'8T-GCM-R_Edad2020'!$A$2:$BI$34,44,0)","v":0},{"$f":"VLOOKUP($A$3,'8T-GCM-R_Edad2021'!$A$2:$BI$34,4,0)","v":0},{"$f":"VLOOKUP($A$3,'8T-GCM-R_Edad2021'!$A$2:$BI$34,24,0)","v":0},{"$f":"VLOOKUP($A$3,'8T-GCM-R_Edad2021'!$A$2:$BI$34,44,0)","v":0},{"$f":"VLOOKUP($A$3,'8T-GCM-R_Edad2022'!$A$2:$BI$34,4,0)","v":0},{"$f":"VLOOKUP($A$3,'8T-GCM-R_Edad2022'!$A$2:$BI$34,24,0)","v":0},{"$f":"VLOOKUP($A$3,'8T-GCM-R_Edad2022'!$A$2:$BI$34,44,0)","v":0}]
["10-14 años",{"$f":"VLOOKUP($A$3,'8T-GCM-R_Edad2020'!$A$2:$BI$34,5,0)","v":0},{"$f":"VLOOKUP($A$3,'8T-GCM-R_Edad2020'!$A$2:$BI$34,25,0)","v":0},{"$f":"VLOOKUP($A$3,'8T-GCM-R_Edad2020'!$A$2:$BI$34,45,0)","v":0},{"$f":"VLOOKUP($A$3,'8T-GCM-R_Edad2021'!$A$2:$BI$34,5,0)","v":0},{"$f":"VLOOKUP($A$3,'8T-GCM-R_Edad2021'!$A$2:$BI$34,25,0)","v":0},{"$f":"VLOOKUP($A$3,'8T-GCM-R_Edad2021'!$A$2:$BI$34,45,0)","v":0},{"$f":"VLOOKUP($A$3,'8T-GCM-R_Edad2022'!$A$2:$BI$34,5,0)","v":0},{"$f":"VLOOKUP($A$3,'8T-GCM-R_Edad2022'!$A$2:$BI$34,25,0)","v":0},{"$f":"VLOOKUP($A$3,'8T-GCM-R_Edad2022'!$A$2:$BI$34,45,0)","v":0}]
["15-19 años",{"$f":"VLOOKUP($A$3,'8T-GCM-R_Edad2020'!$A$2:$BI$34,6,0)","v":0},{"$f":"VLOOKUP($A$3,'8T-GCM-R_Edad2020'!$A$2:$BI$34,26,0)","v":0},{"$f":"VLOOKUP($A$3,'8T-GCM-R_Edad2020'!$A$2:$BI$34,46,0)","v":0},{"$f":"VLOOKUP($A$3,'8T-GCM-R_Edad2021'!$A$2:$BI$34,6,0)","v":2},{"$f":"VLOOKUP($A$3,'8T-GCM-R_Edad2021'!$A$2:$BI$34,26,0)","v":2},{"$f":"VLOOKUP($A$3,'8T-GCM-R_Edad2021'!$A$2:$BI$34,46,0)","v":0},{"$f":"VLOOKUP($A$3,'8T-GCM-R_Edad2022'!$A$2:$BI$34,6,0)","v":0},{"$f":"VLOOKUP($A$3,'8T-GCM-R_Edad2022'!$A$2:$BI$34,26,0)","v":0},{"$f":"VLOOKUP($A$3,'8T-GCM-R_Edad2022'!$A$2:$BI$34,46,0)","v":0}]
["20-24 años",{"$f":"VLOOKUP($A$3,'8T-GCM-R_Edad2020'!$A$2:$BI$34,7,0)","v":4},{"$f":"VLOOKUP($A$3,'8T-GCM-R_Edad2020'!$A$2:$BI$34,27,0)","v":2},{"$f":"VLOOKUP($A$3,'8T-GCM-R_Edad2020'!$A$2:$BI$34,47,0)","v":2},{"$f":"VLOOKUP($A$3,'8T-GCM-R_Edad2021'!$A$2:$BI$34,7,0)","v":2},{"$f":"VLOOKUP($A$3,'8T-GCM-R_Edad2021'!$A$2:$BI$34,27,0)","v":2},{"$f":"VLOOKUP($A$3,'8T-GCM-R_Edad2021'!$A$2:$BI$34,47,0)","v":0},{"$f":"VLOOKUP($A$3,'8T-GCM-R_Edad2022'!$A$2:$BI$34,7,0)","v":3},{"$f":"VLOOKUP($A$3,'8T-GCM-R_Edad2022'!$A$2:$BI$34,27,0)","v":2},{"$f":"VLOOKUP($A$3,'8T-GCM-R_Edad2022'!$A$2:$BI$34,47,0)","v":1}]
["25-29 años",{"$f":"VLOOKUP($A$3,'8T-GCM-R_Edad2020'!$A$2:$BI$34,8,0)","v":2},{"$f":"VLOOKUP($A$3,'8T-GCM-R_Edad2020'!$A$2:$BI$34,28,0)","v":1},{"$f":"VLOOKUP($A$3,'8T-GCM-R_Edad2020'!$A$2:$BI$34,48,0)","v":1},{"$f":"VLOOKUP($A$3,'8T-GCM-R_Edad2021'!$A$2:$BI$34,8,0)","v":1},{"$f":"VLOOKUP($A$3,'8T-GCM-R_Edad2021'!$A$2:$BI$34,28,0)","v":1},{"$f":"VLOOKUP($A$3,'8T-GCM-R_Edad2021'!$A$2:$BI$34,48,0)","v":0},{"$f":"VLOOKUP($A$3,'8T-GCM-R_Edad2022'!$A$2:$BI$34,8,0)","v":1},{"$f":"VLOOKUP($A$3,'8T-GCM-R_Edad2022'!$A$2:$BI$34,28,0)","v":0},{"$f":"VLOOKUP($A$3,'8T-GCM-R_Edad2022'!$A$2:$BI$34,48,0)","v":1}]
["30-34 años",{"$f":"VLOOKUP($A$3,'8T-GCM-R_Edad2020'!$A$2:$BI$34,9,0)","v":2},{"$f":"VLOOKUP($A$3,'8T-GCM-R_Edad2020'!$A$2:$BI$34,29,0)","v":1},{"$f":"VLOOKUP($A$3,'8T-GCM-R_Edad2020'!$A$2:$BI$34,49,0)","v":1},{"$f":"VLOOKUP($A$3,'8T-GCM-R_Edad2021'!$A$2:$BI$34,9,0)","v":1},{"$f":"VLOOKUP($A$3,'8T-GCM-R_Edad2021'!$A$2:$BI$34,29,0)","v":1},{"$f":"VLOOKUP($A$3,'8T-GCM-R_Edad2021'!$A$2:$BI$34,49,0)","v":0},{"$f":"VLOOKUP($A$3,'8T-GCM-R_Edad2022'!$A$2:$BI$34,9,0)","v":3},{"$f":"VLOOKUP($A$3,'8T-GCM-R_Edad2022'!$A$2:$BI$34,29,0)","v":2},{"$f":"VLOOKUP($A$3,'8T-GCM-R_Edad2022'!$A$2:$BI$34,49,0)","v":1}]
["35-39 años",{"$f":"VLOOKUP($A$3,'8T-GCM-R_Edad2020'!$A$2:$BI$34,10,0)","v":6},{"$f":"VLOOKUP($A$3,'8T-GCM-R_Edad2020'!$A$2:$BI$34,30,0)","v":3},{"$f":"VLOOKUP($A$3,'8T-GCM-R_Edad2020'!$A$2:$BI$34,50,0)","v":3},{"$f":"VLOOKUP($A$3,'8T-GCM-R_Edad2021'!$A$2:$BI$34,10,0)","v":1},{"$f":"VLOOKUP($A$3,'8T-GCM-R_Edad2021'!$A$2:$BI$34,30,0)","v":0},{"$f":"VLOOKUP($A$3,'8T-GCM-R_Edad2021'!$A$2:$BI$34,50,0)","v":1},{"$f":"VLOOKUP($A$3,'8T-GCM-R_Edad2022'!$A$2:$BI$34,10,0)","v":0},{"$f":"VLOOKUP($A$3,'8T-GCM-R_Edad2022'!$A$2:$BI$34,30,0)","v":0},{"$f":"VLOOKUP($A$3,'8T-GCM-R_Edad2022'!$A$2:$BI$34,50,0)","v":0}]
["40-44 años",{"$f":"VLOOKUP($A$3,'8T-GCM-R_Edad2020'!$A$2:$BI$34,11,0)","v":0},{"$f":"VLOOKUP($A$3,'8T-GCM-R_Edad2020'!$A$2:$BI$34,31,0)","v":0},{"$f":"VLOOKUP($A$3,'8T-GCM-R_Edad2020'!$A$2:$BI$34,51,0)","v":0},{"$f":"VLOOKUP($A$3,'8T-GCM-R_Edad2021'!$A$2:$BI$34,11,0)","v":1},{"$f":"VLOOKUP($A$3,'8T-GCM-R_Edad2021'!$A$2:$BI$34,31,0)","v":0},{"$f":"VLOOKUP($A$3,'8T-GCM-R_Edad2021'!$A$2:$BI$34,51,0)","v":1},{"$f":"VLOOKUP($A$3,'8T-GCM-R_Edad2022'!$A$2:$BI$34,11,0)","v":0},{"$f":"VLOOKUP($A$3,'8T-GCM-R_Edad2022'!$A$2:$BI$34,31,0)","v":0},{"$f":"VLOOKUP($A$3,'8T-GCM-R_Edad2022'!$A$2:$BI$34,51,0)","v":0}]
["45-49 años",{"$f":"VLOOKUP($A$3,'8T-GCM-R_Edad2020'!$A$2:$BI$34,12,0)","v":2},{"$f":"VLOOKUP($A$3,'8T-GCM-R_Edad2020'!$A$2:$BI$34,32,0)","v":1},{"$f":"VLOOKUP($A$3,'8T-GCM-R_Edad2020'!$A$2:$BI$34,52,0)","v":1},{"$f":"VLOOKUP($A$3,'8T-GCM-R_Edad2021'!$A$2:$BI$34,12,0)","v":1},{"$f":"VLOOKUP($A$3,'8T-GCM-R_Edad2021'!$A$2:$BI$34,32,0)","v":1},{"$f":"VLOOKUP($A$3,'8T-GCM-R_Edad2021'!$A$2:$BI$34,52,0)","v":0},{"$f":"VLOOKUP($A$3,'8T-GCM-R_Edad2022'!$A$2:$BI$34,12,0)","v":3},{"$f":"VLOOKUP($A$3,'8T-GCM-R_Edad2022'!$A$2:$BI$34,32,0)","v":1},{"$f":"VLOOKUP($A$3,'8T-GCM-R_Edad2022'!$A$2:$BI$34,52,0)","v":2}]
["50-54 años",{"$f":"VLOOKUP($A$3,'8T-GCM-R_Edad2020'!$A$2:$BI$34,13,0)","v":4},{"$f":"VLOOKUP($A$3,'8T-GCM-R_Edad2020'!$A$2:$BI$34,33,0)","v":2},{"$f":"VLOOKUP($A$3,'8T-GCM-R_Edad2020'!$A$2:$BI$34,53,0)","v":2},{"$f":"VLOOKUP($A$3,'8T-GCM-R_Edad2021'!$A$2:$BI$34,13,0)","v":3},{"$f":"VLOOKUP($A$3,'8T-GCM-R_Edad2021'!$A$2:$BI$34,33,0)","v":2},{"$f":"VLOOKUP($A$3,'8T-GCM-R_Edad2021'!$A$2:$BI$34,53,0)","v":1},{"$f":"VLOOKUP($A$3,'8T-GCM-R_Edad2022'!$A$2:$BI$34,13,0)","v":2},{"$f":"VLOOKUP($A$3,'8T-GCM-R_Edad2022'!$A$2:$BI$34,33,0)","v":0},{"$f":"VLOOKUP($A$3,'8T-GCM-R_Edad2022'!$A$2:$BI$34,53,0)","v":2}]
["55-59 años",{"$f":"VLOOKUP($A$3,'8T-GCM-R_Edad2020'!$A$2:$BI$34,14,0)","v":2},{"$f":"VLOOKUP($A$3,'8T-GCM-R_Edad2020'!$A$2:$BI$34,34,0)","v":1},{"$f":"VLOOKUP($A$3,'8T-GCM-R_Edad2020'!$A$2:$BI$34,54,0)","v":1},{"$f":"VLOOKUP($A$3,'8T-GCM-R_Edad2021'!$A$2:$BI$34,14,0)","v":1},{"$f":"VLOOKUP($A$3,'8T-GCM-R_Edad2021'!$A$2:$BI$34,34,0)","v":0},{"$f":"VLOOKUP($A$3,'8T-GCM-R_Edad2021'!$A$2:$BI$34,54,0)","v":1},{"$f":"VLOOKUP($A$3,'8T-GCM-R_Edad2022'!$A$2:$BI$34,14,0)","v":3},{"$f":"VLOOKUP($A$3,'8T-GCM-R_Edad2022'!$A$2:$BI$34,34,0)","v":1},{"$f":"VLOOKUP($A$3,'8T-GCM-R_Edad2022'!$A$2:$BI$34,54,0)","v":2}]
["60-64 años",{"$f":"VLOOKUP($A$3,'8T-GCM-R_Edad2020'!$A$2:$BI$34,15,0)","v":4},{"$f":"VLOOKUP($A$3,'8T-GCM-R_Edad2020'!$A$2:$BI$34,35,0)","v":2},{"$f":"VLOOKUP($A$3,'8T-GCM-R_Edad2020'!$A$2:$BI$34,55,0)","v":2},{"$f":"VLOOKUP($A$3,'8T-GCM-R_Edad2021'!$A$2:$BI$34,15,0)","v":3},{"$f":"VLOOKUP($A$3,'8T-GCM-R_Edad2021'!$A$2:$BI$34,35,0)","v":2},{"$f":"VLOOKUP($A$3,'8T-GCM-R_Edad2021'!$A$2:$BI$34,55,0)","v":1},{"$f":"VLOOKUP($A$3,'8T-GCM-R_Edad2022'!$A$2:$BI$34,15,0)","v":2},{"$f":"VLOOKUP($A$3,'8T-GCM-R_Edad2022'!$A$2:$BI$34,35,0)","v":1},{"$f":"VLOOKUP($A$3,'8T-GCM-R_Edad2022'!$A$2:$BI$34,55,0)","v":1}]
["65-69 años",{"$f":"VLOOKUP($A$3,'8T-GCM-R_Edad2020'!$A$2:$BI$34,16,0)","v":2},{"$f":"VLOOKUP($A$3,'8T-GCM-R_Edad2020'!$A$2:$BI$34,36,0)","v":1},{"$f":"VLOOKUP($A$3,'8T-GCM-R_Edad2020'!$A$2:$BI$34,56,0)","v":1},{"$f":"VLOOKUP($A$3,'8T-GCM-R_Edad2021'!$A$2:$BI$34,16,0)","v":3},{"$f":"VLOOKUP($A$3,'8T-GCM-R_Edad2021'!$A$2:$BI$34,36,0)","v":1},{"$f":"VLOOKUP($A$3,'8T-GCM-R_Edad2021'!$A$2:$BI$34,56,0)","v":2},{"$f":"VLOOKUP($A$3,'8T-GCM-R_Edad2022'!$A$2:$BI$34,16,0)","v":7},{"$f":"VLOOKUP($A$3,'8T-GCM-R_Edad2022'!$A$2:$BI$34,36,0)","v":3},{"$f":"VLOOKUP($A$3,'8T-GCM-R_Edad2022'!$A$2:$BI$34,56,0)","v":4}]
["70-74 años",{"$f":"VLOOKUP($A$3,'8T-GCM-R_Edad2020'!$A$2:$BI$34,17,0)","v":2},{"$f":"VLOOKUP($A$3,'8T-GCM-R_Edad2020'!$A$2:$BI$34,37,0)","v":1},{"$f":"VLOOKUP($A$3,'8T-GCM-R_Edad2020'!$A$2:$BI$34,57,0)","v":1},{"$f":"VLOOKUP($A$3,'8T-GCM-R_Edad2021'!$A$2:$BI$34,17,0)","v":4},{"$f":"VLOOKUP($A$3,'8T-GCM-R_Edad2021'!$A$2:$BI$34,37,0)","v":2},{"$f":"VLOOKUP($A$3,'8T-GCM-R_Edad2021'!$A$2:$BI$34,57,0)","v":2},{"$f":"VLOOKUP($A$3,'8T-GCM-R_Edad2022'!$A$2:$BI$34,17,0)","v":3},{"$f":"VLOOKUP($A$3,'8T-GCM-R_Edad2022'!$A$2:$BI$34,37,0)","v":2},{"$f":"VLOOKUP($A$3,'8T-GCM-R_Edad2022'!$A$2:$BI$34,57,0)","v":1}]
["75-79 años",{"$f":"VLOOKUP($A$3,'8T-GCM-R_Edad2020'!$A$2:$BI$34,18,0)","v":2},{"$f":"VLOOKUP($A$3,'8T-GCM-R_Edad2020'!$A$2:$BI$34,38,0)","v":1},{"$f":"VLOOKUP($A$3,'8T-GCM-R_Edad2020'!$A$2:$BI$34,58,0)","v":1},{"$f":"VLOOKUP($A$3,'8T-GCM-R_Edad2021'!$A$2:$BI$34,18,0)","v":7},{"$f":"VLOOKUP($A$3,'8T-GCM-R_Edad2021'!$A$2:$BI$34,38,0)","v":4},{"$f":"VLOOKUP($A$3,'8T-GCM-R_Edad2021'!$A$2:$BI$34,58,0)","v":3},{"$f":"VLOOKUP($A$3,'8T-GCM-R_Edad2022'!$A$2:$BI$34,18,0)","v":2},{"$f":"VLOOKUP($A$3,'8T-GCM-R_Edad2022'!$A$2:$BI$34,38,0)","v":2},{"$f":"VLOOKUP($A$3,'8T-GCM-R_Edad2022'!$A$2:$BI$34,58,0)","v":0}]
["80-84 años",{"$f":"VLOOKUP($A$3,'8T-GCM-R_Edad2020'!$A$2:$BI$34,19,0)","v":12},{"$f":"VLOOKUP($A$3,'8T-GCM-R_Edad2020'!$A$2:$BI$34,39,0)","v":6},{"$f":"VLOOKUP($A$3,'8T-GCM-R_Edad2020'!$A$2:$BI$34,59,0)","v":6},{"$f":"VLOOKUP($A$3,'8T-GCM-R_Edad2021'!$A$2:$BI$34,19,0)","v":6},{"$f":"VLOOKUP($A$3,'8T-GCM-R_Edad2021'!$A$2:$BI$34,39,0)","v":2},{"$f":"VLOOKUP($A$3,'8T-GCM-R_Edad2021'!$A$2:$BI$34,59,0)","v":4},{"$f":"VLOOKUP($A$3,'8T-GCM-R_Edad2022'!$A$2:$BI$34,19,0)","v":6},{"$f":"VLOOKUP($A$3,'8T-GCM-R_Edad2022'!$A$2:$BI$34,39,0)","v":2},{"$f":"VLOOKUP($A$3,'8T-GCM-R_Edad2022'!$A$2:$BI$34,59,0)","v":4}]
["85 años y más",{"$f":"VLOOKUP($A$3,'8T-GCM-R_Edad2020'!$A$2:$BI$34,20,0)","v":16},{"$f":"VLOOKUP($A$3,'8T-GCM-R_Edad2020'!$A$2:$BI$34,40,0)","v":8},{"$f":"VLOOKUP($A$3,'8T-GCM-R_Edad2020'!$A$2:$BI$34,60,0)","v":8},{"$f":"VLOOKUP($A$3,'8T-GCM-R_Edad2021'!$A$2:$BI$34,20,0)","v":9},{"$f":"VLOOKUP($A$3,'8T-GCM-R_Edad2021'!$A$2:$BI$34,40,0)","v":3},{"$f":"VLOOKUP($A$3,'8T-GCM-R_Edad2021'!$A$2:$BI$34,60,0)","v":6},{"$f":"VLOOKUP($A$3,'8T-GCM-R_Edad2022'!$A$2:$BI$34,20,0)","v":7},{"$f":"VLOOKUP($A$3,'8T-GCM-R_Edad2022'!$A$2:$BI$34,40,0)","v":5},{"$f":"VLOOKUP($A$3,'8T-GCM-R_Edad2022'!$A$2:$BI$34,60,0)","v":2}]
["No especificado",{"$f":"VLOOKUP($A$3,'8T-GCM-R_Edad2020'!$A$2:$BI$34,21,0)","v":0},{"$f":"VLOOKUP($A$3,'8T-GCM-R_Edad2020'!$A$2:$BI$34,41,0)","v":0},{"$f":"VLOOKUP($A$3,'8T-GCM-R_Edad2020'!$A$2:$BI$34,61,0)","v":0},{"$f":"VLOOKUP($A$3,'8T-GCM-R_Edad2021'!$A$2:$BI$34,21,0)","v":0},{"$f":"VLOOKUP($A$3,'8T-GCM-R_Edad2021'!$A$2:$BI$34,41,0)","v":0},{"$f":"VLOOKUP($A$3,'8T-GCM-R_Edad2021'!$A$2:$BI$34,61,0)","v":0},{"$f":"VLOOKUP($A$3,'8T-GCM-R_Edad2022'!$A$2:$BI$34,21,0)","v":1},{"$f":"VLOOKUP($A$3,'8T-GCM-R_Edad2022'!$A$2:$BI$34,41,0)","v":0},{"$f":"VLOOKUP($A$3,'8T-GCM-R_Edad2022'!$A$2:$BI$34,61,0)","v":1}]
["Total",{"$f":"SUM(B4:B23)","v":62},31,31,50,27,23,44,22,22]

{"sheet":"9T-GCM-R_Edad2020 ","index":94,"n_rows":34,"n_cols":61,"rows_kept":34,"cut":false,"hidden":true,"merged":[]}
[1,2,3,4,5,6,7,8,9,10,11,12,13,14,15,16,17,18,19,20,21,22,23,24,25,26,27,28,29,30,31,32,33,34,35,36,37,38,39,40,41,42,43,44,45,46,47,48,49,50,51,52,53,54,55,56,57,58,59,60,61]
["ESTADO","Menores de 1 año","1-4 años","5-9 años","10-14 años","15-19 años","20-24 años","25-29 años","30-34 años","35-39 años","40-44 años","45-49 años","50-54 años","55-59 años","60-64 años","65-69 años","70-74 años","75-79 años","80-84 años","85 años y más","No especificado","H Menores de 1 año","H 1-4 años","H 5-9 años","H 10-14 años","H 15-19 años","H 20-24 años","H 25-29 años","H 30-34 años","H 35-39 años","H 40-44 años","H 45-49 años","H 50-54 años","H 55-59 años","H 60-64 años","H 65-69 años","H 70-74 años","H 75-79 años","H 80-84 años","H 85 años y más","H No especificado","   M Menores de 1 año ","M 1-4 años","M 5-9 años","M 10-14 años","M 15-19 años","M 20-24 años","M 25-29 años","M 30-34 años","M 35-39 años","M 40-44 años","M 45-49 años","M 50-54 años","M 55-59 años","M 60-64 años","M 65-69 años","M 70-74 años","M 75-79 años","M 80-84 años","M 85 años y    ás","M No especificado"]
["Aguascalientes",0,0,0,0,2,5,2,2,5,10,7,15,2,11,3,8,20,6,6,0,0,0,0,0,0,3,2,2,4,10,6,13,2,9,3,2,3,6,6,0,0,0,0,0,2,2,0,0,1,0,1,2,0,2,0,6,17,0,0,0]
["Baja California",0,1,1,1,4,12,15,10,8,27,21,21,23,20,20,19,29,2,11,1,0,0,0,0,3,12,10,7,7,24,20,20,18,11,13,10,6,2,11,1,0,1,1,1,1,0,5,3,1,3,1,1,5,9,7,9,23,0,0,0]
["Baja California Sur",0,0,0,0,0,0,1,1,0,0,1,2,3,3,2,3,10,2,1,1,0,0,0,0,0,0,1,1,0,0,1,2,1,2,0,1,3,2,1,1,0,0,0,0,0,0,0,0,0,0,0,0,2,1,2,2,7,0,0,0]
["Campeche",0,0,0,1,0,0,0,0,1,2,1,1,0,0,3,5,5,2,4,0,0,0,0,1,0,0,0,0,1,2,1,0,0,0,2,2,1,2,4,0,0,0,0,0,0,0,0,0,0,0,0,1,0,0,1,3,4,0,0,0]
["Coahuila",0,1,0,0,1,0,0,5,5,2,2,12,11,9,3,10,16,3,1,0,0,1,0,0,0,0,0,5,4,2,2,11,10,8,1,4,5,3,1,0,0,0,0,0,1,0,0,0,1,0,0,1,1,1,2,6,11,0,0,0]
["Colima",0,0,0,0,0,0,0,0,0,0,3,3,4,4,5,6,4,0,4,0,0,0,0,0,0,0,0,0,0,0,3,2,3,3,3,5,3,0,4,0,0,0,0,0,0,0,0,0,0,0,0,1,1,1,2,1,1,0,0,0]
["Chiapas",0,0,0,0,1,7,10,8,7,9,14,10,13,12,16,15,26,12,18,4,0,0,0,0,1,6,7,8,6,8,12,10,13,12,9,7,8,12,18,4,0,0,0,0,0,1,3,0,1,1,2,0,0,0,7,8,18,0,0,0]
["Chihuahua",0,1,0,1,4,5,3,7,18,23,31,31,30,20,31,27,30,8,14,3,0,0,0,0,2,5,2,3,15,22,25,27,28,17,17,16,9,8,14,3,0,1,0,1,2,0,1,4,3,1,6,4,2,3,14,11,21,0,0,0]
["Ciudad de México",1,1,1,4,3,9,19,26,26,29,26,49,33,30,32,24,67,10,17,0,1,1,1,1,1,6,17,19,22,27,24,45,30,25,18,10,18,10,17,0,0,0,0,3,2,3,2,7,4,2,2,4,3,5,14,14,49,0,0,0]
["Durango",0,0,0,0,0,1,2,0,3,0,2,4,3,1,4,3,5,1,1,0,0,0,0,0,0,1,1,0,2,0,2,4,3,0,4,3,4,1,1,0,0,0,0,0,0,0,1,0,1,0,0,0,0,1,0,0,1,0,0,0]
["Guanajuato",0,0,0,1,3,3,6,9,12,14,16,8,12,12,22,15,34,12,21,0,0,0,0,0,3,2,6,6,11,13,16,7,12,10,17,7,9,12,21,0,0,0,0,1,0,1,0,3,1,1,0,1,0,2,5,8,25,0,0,0]
["Guerrero",1,2,3,1,0,4,2,3,8,7,11,14,8,7,3,10,15,12,10,0,0,2,1,1,0,4,2,3,7,7,9,13,7,5,2,7,4,12,10,0,1,0,2,0,0,0,0,0,1,0,2,1,1,2,1,3,11,0,0,0]
["Hidalgo",0,0,0,0,0,1,2,1,4,4,5,4,9,4,5,9,22,1,4,0,0,0,0,0,0,1,1,1,3,4,5,4,9,3,4,5,4,1,4,0,0,0,0,0,0,0,1,0,1,0,0,0,0,1,1,4,18,0,0,0]
["Jalisco",2,1,1,0,1,7,11,8,17,23,35,37,35,36,36,40,117,21,42,1,0,0,0,0,1,2,10,7,15,20,30,31,26,26,21,17,23,21,42,1,2,1,1,0,0,5,1,1,2,3,5,6,9,10,15,23,94,0,0,0]
["México",0,0,2,6,2,10,17,17,31,32,46,30,45,40,36,37,75,22,40,1,0,0,1,0,0,8,16,12,28,30,43,29,38,27,22,21,32,22,40,1,0,0,1,6,2,2,1,5,3,2,3,1,7,13,14,16,43,0,0,0]
["Michoacán",0,1,0,1,0,3,7,6,9,8,16,12,16,14,14,16,28,13,17,1,0,0,0,0,0,2,6,6,9,7,15,8,12,12,10,9,13,13,17,1,0,1,0,1,0,1,1,0,0,1,1,4,4,2,4,7,15,0,0,0]
["Morelos",0,0,0,0,0,2,2,3,3,4,5,6,5,11,9,11,23,14,19,0,0,0,0,0,0,2,2,2,3,4,4,4,3,5,3,6,0,14,19,0,0,0,0,0,0,0,0,1,0,0,1,2,2,6,6,5,23,0,0,0]
["Nayarit",0,0,0,0,0,0,1,0,1,1,1,3,3,4,4,7,15,2,7,0,0,0,0,0,0,0,0,0,1,1,1,2,1,4,2,0,4,2,7,0,0,0,0,0,0,0,1,0,0,0,0,1,2,0,2,7,11,0,0,0]
["Nuevo León",0,1,0,1,1,1,1,2,3,2,6,4,5,5,17,22,74,14,33,1,0,1,0,0,1,1,1,2,2,0,4,3,4,2,4,10,7,14,33,1,0,0,0,1,0,0,0,0,1,2,2,1,1,3,13,12,67,0,0,0]
["Oaxaca",0,1,0,1,3,5,9,19,30,28,20,30,29,28,33,34,44,21,24,1,0,0,0,0,1,4,8,15,24,25,20,29,28,25,30,23,19,21,24,1,0,1,0,1,2,1,1,4,6,3,0,1,1,3,3,11,25,0,0,0]
["Puebla",0,1,1,2,2,3,4,18,14,14,21,26,18,25,26,21,29,10,18,0,0,0,0,1,2,2,4,17,13,13,21,24,18,25,20,15,11,10,18,0,0,1,1,1,0,1,0,1,1,1,0,2,0,0,6,6,18,0,0,0]
["Querétaro",0,1,0,1,1,0,0,2,4,4,5,8,6,3,2,6,16,4,6,0,0,1,0,0,0,0,0,2,3,2,5,6,4,3,0,5,3,4,6,0,0,0,0,1,1,0,0,0,1,2,0,2,2,0,2,1,13,0,0,0]
["Quintana Roo",0,0,0,0,1,0,0,0,3,4,7,7,3,2,7,6,24,3,5,0,0,0,0,0,0,0,0,0,1,3,5,5,2,1,1,3,4,3,5,0,0,0,0,0,1,0,0,0,2,1,2,2,1,1,6,3,20,0,0,0]
["San Luis Potosí",0,1,1,0,0,2,0,4,5,13,10,10,13,10,11,14,26,14,17,0,0,1,0,0,0,0,0,1,5,12,10,10,12,9,7,8,9,14,17,0,0,0,1,0,0,2,0,3,0,1,0,0,1,1,4,6,17,0,0,0]
["Sinaloa",0,0,0,0,1,0,0,1,0,1,3,4,2,5,4,15,19,14,7,0,0,0,0,0,0,0,0,1,0,1,3,2,1,4,1,7,5,14,7,0,0,0,0,0,1,0,0,0,0,0,0,2,1,1,3,8,14,0,0,0]
["Sonora",0,0,0,0,0,4,5,2,7,5,12,11,19,14,14,7,28,7,7,2,0,0,0,0,0,4,3,1,6,4,9,10,17,11,8,2,9,7,7,2,0,0,0,0,0,0,2,1,1,1,3,1,2,3,6,5,19,0,0,0]
["Tabasco",0,1,0,0,0,1,0,3,0,2,3,2,1,4,4,7,2,5,5,0,0,1,0,0,0,1,0,3,0,2,2,2,1,3,1,5,0,5,5,0,0,0,0,0,0,0,0,0,0,0,1,0,0,1,3,2,2,0,0,0]
["Tamaulipas",0,0,0,0,0,0,1,0,1,2,2,0,5,5,6,12,22,8,16,0,0,0,0,0,0,0,1,0,1,1,2,0,3,3,2,5,3,8,16,0,0,0,0,0,0,0,0,0,0,1,0,0,2,2,4,7,19,0,0,0]
["Tlaxcala",0,0,0,0,1,2,1,2,3,5,3,6,3,3,4,6,9,0,4,0,0,0,0,0,1,1,1,1,3,5,3,6,2,3,4,3,1,0,4,0,0,0,0,0,0,1,0,1,0,0,0,0,1,0,0,3,8,0,0,0]
["Veracruz",0,0,0,0,0,4,8,20,23,30,21,30,33,28,27,36,82,29,29,1,0,0,0,0,0,4,7,20,21,29,20,24,29,24,17,22,25,29,29,1,0,0,0,0,0,0,1,0,2,1,1,6,4,4,10,14,57,0,0,0]
["Yucatán",0,1,0,0,0,0,0,2,4,5,0,2,4,9,5,4,11,9,5,0,0,1,0,0,0,0,0,2,4,5,0,0,3,4,2,4,1,9,5,0,0,0,0,0,0,0,0,0,0,0,0,2,1,5,3,0,10,0,0,0]
["Zacatecas",0,0,0,1,1,1,3,7,6,8,7,9,8,7,6,7,27,4,12,0,0,0,0,0,0,1,3,7,6,8,7,9,6,5,5,4,6,4,12,0,0,0,0,1,1,0,0,0,0,0,0,0,2,2,1,3,21,0,0,0]

{"sheet":"9T-GCM-R_Edad2021","index":95,"n_rows":34,"n_cols":61,"rows_kept":34,"cut":false,"hidden":true,"merged":[]}
[1,2,3,4,5,6,7,8,9,10,11,12,13,14,15,16,17,18,19,20,21,22,23,24,25,26,27,28,29,30,31,32,33,34,35,36,37,38,39,40,41,42,43,44,45,46,47,48,49,50,51,52,53,54,55,56,57,58,59,60,61]
["ESTADO","Menores de 1 año","1-4 años","5-9 años","10-14 años","15-19 años","20-24 años","25-29 años","30-34 años","35-39 años","40-44 años","45-49 años","50-54 años","55-59 años","60-64 años","65-69 años","70-74 años","75-79 años","80-84 años","85 años y más","No especificado","H Menores de 1 año","H 1-4 años","H 5-9 años","H 10-14 años","H 15-19 años","H 20-24 años","H 25-29 años","H 30-34 años","H 35-39 años","H 40-44 años","H 45-49 años","H 50-54 años","H 55-59 años","H 60-64 años","H 65-69 años","H 70-74 años","H 75-79 años","H 80-84 años","H 85 años y más","H No especificado","   M Menores de 1 año ","M 1-4 años","M 5-9 años","M 10-14 años","M 15-19 años","M 20-24 años","M 25-29 años","M 30-34 años","M 35-39 años","M 40-44 años","M 45-49 años","M 50-54 años","M 55-59 años","M 60-64 años","M 65-69 años","M 70-74 años","M 75-79 años","M 80-84 años","M 85 años y    ás","M No especificado"]
["Aguascalientes",0,0,0,0,2,0,8,10,18,24,26,18,18,12,8,20,12,18,0,0,0,0,0,0,1,0,4,5,9,12,13,9,9,6,4,10,6,9,0,0,0,0,0,0,1,0,4,5,9,12,13,9,9,6,4,10,6,9,0,0]
["Baja California",0,0,0,2,8,8,28,20,44,44,26,44,10,18,12,6,12,26,0,0,0,0,0,1,4,4,14,10,22,22,13,22,5,9,6,3,6,13,0,0,0,0,0,1,4,4,14,10,22,22,13,22,5,9,6,3,6,13,0,0]
["Baja California Sur",0,0,0,0,2,0,2,0,0,0,0,2,2,6,2,6,6,10,0,0,0,0,0,0,1,0,1,0,0,0,0,1,1,3,1,3,3,5,0,0,0,0,0,0,1,0,1,0,0,0,0,1,1,3,1,3,3,5,0,0]
["Campeche",0,0,0,4,0,0,0,2,0,2,4,2,0,2,0,4,4,4,0,0,0,0,0,2,0,0,0,1,0,1,2,1,0,1,0,2,2,2,0,0,0,0,0,2,0,0,0,1,0,1,2,1,0,1,0,2,2,2,0,0]
["Coahuila",0,0,0,0,2,6,0,4,2,10,12,4,16,4,4,12,12,16,0,0,0,0,0,0,1,3,0,2,1,5,6,2,8,2,2,6,6,8,0,0,0,0,0,0,1,3,0,2,1,5,6,2,8,2,2,6,6,8,0,0]
["Colima",0,0,0,0,2,0,2,2,4,8,6,2,0,10,4,2,6,6,0,0,0,0,0,0,1,0,1,1,2,4,3,1,0,5,2,1,3,3,0,0,0,0,0,0,1,0,1,1,2,4,3,1,0,5,2,1,3,3,0,0]
["Chiapas",0,0,0,0,12,20,10,18,22,26,22,24,14,8,18,10,24,36,0,0,0,0,0,0,6,10,5,9,11,13,11,12,7,4,9,5,12,18,0,0,0,0,0,0,6,10,5,9,11,13,11,12,7,4,9,5,12,18,0,0]
["Chihuahua",0,0,0,0,4,18,18,40,22,50,70,48,48,22,26,34,22,22,0,0,0,0,0,0,2,9,9,20,11,25,35,24,24,11,13,17,11,11,0,0,0,0,0,0,2,9,9,20,11,25,35,24,24,11,13,17,11,11,0,0]
["Ciudad de México",2,0,0,2,8,28,48,42,58,68,52,64,56,32,28,28,20,50,0,0,1,0,0,1,4,14,24,21,29,34,26,32,28,16,14,14,10,25,0,0,1,0,0,1,4,14,24,21,29,34,26,32,28,16,14,14,10,25,0,0]
["Durango",0,0,0,0,0,0,2,0,2,8,2,8,8,6,2,6,0,2,0,0,0,0,0,0,0,0,1,0,1,4,1,4,4,3,1,3,0,1,0,0,0,0,0,0,0,0,1,0,1,4,1,4,4,3,1,3,0,1,0,0]
["Guanajuato",0,0,0,2,4,4,10,32,24,40,18,16,24,8,22,16,20,38,0,0,0,0,0,1,2,2,5,16,12,20,9,8,12,4,11,8,10,19,0,0,0,0,0,1,2,2,5,16,12,20,9,8,12,4,11,8,10,19,0,0]
["Guerrero",0,0,4,4,6,8,4,12,8,16,6,10,16,12,6,14,18,26,0,0,0,0,2,2,3,4,2,6,4,8,3,5,8,6,3,7,9,13,0,0,0,0,2,2,3,4,2,6,4,8,3,5,8,6,3,7,9,13,0,0]
["Hidalgo",0,0,0,2,0,4,6,6,2,6,18,8,16,6,6,16,10,20,0,0,0,0,0,1,0,2,3,3,1,3,9,4,8,3,3,8,5,10,0,0,0,0,0,1,0,2,3,3,1,3,9,4,8,3,3,8,5,10,0,0]
["Jalisco",2,0,0,2,8,12,18,46,80,64,80,70,44,70,40,50,32,96,0,0,1,0,0,1,4,6,9,23,40,32,40,35,22,35,20,25,16,48,0,0,1,0,0,1,4,6,9,23,40,32,40,35,22,35,20,25,16,48,0,0]
["México",0,0,0,2,8,36,46,52,80,54,94,62,68,42,54,42,32,68,0,0,0,0,0,1,4,18,23,26,40,27,47,31,34,21,27,21,16,34,0,0,0,0,0,1,4,18,23,26,40,27,47,31,34,21,27,21,16,34,0,0]
["Michoacán",0,2,0,4,8,10,4,10,32,26,30,24,22,16,24,16,46,40,0,0,0,1,0,2,4,5,2,5,16,13,15,12,11,8,12,8,23,20,0,0,0,1,0,2,4,5,2,5,16,13,15,12,11,8,12,8,23,20,0,0]
["Morelos",2,0,4,0,2,2,4,6,8,8,6,18,6,8,4,8,18,20,2,0,1,0,2,0,1,1,2,3,4,4,3,9,3,4,2,4,9,10,1,0,1,0,2,0,1,1,2,3,4,4,3,9,3,4,2,4,9,10,1,0]
["Nayarit",0,0,0,0,0,2,8,2,6,12,4,4,4,8,4,8,8,16,0,0,0,0,0,0,0,1,4,1,3,6,2,2,2,4,2,4,4,8,0,0,0,0,0,0,0,1,4,1,3,6,2,2,2,4,2,4,4,8,0,0]
["Nuevo León",0,0,2,0,0,0,6,4,4,8,10,6,4,14,8,12,18,76,0,0,0,0,1,0,0,0,3,2,2,4,5,3,2,7,4,6,9,38,0,0,0,0,1,0,0,0,3,2,2,4,5,3,2,7,4,6,9,38,0,0]
["Oaxaca",0,0,0,4,4,16,30,40,46,52,54,62,48,46,50,40,32,68,4,0,0,0,0,2,2,8,15,20,23,26,27,31,24,23,25,20,16,34,2,0,0,0,0,2,2,8,15,20,23,26,27,31,24,23,25,20,16,34,2,0]
["Puebla",2,0,0,0,2,8,16,22,26,32,30,32,52,48,24,24,26,42,2,0,1,0,0,0,1,4,8,11,13,16,15,16,26,24,12,12,13,21,1,0,1,0,0,0,1,4,8,11,13,16,15,16,26,24,12,12,13,21,1,0]
["Querétaro",0,0,0,0,4,10,2,2,12,14,2,12,12,4,8,4,2,18,0,0,0,0,0,0,2,5,1,1,6,7,1,6,6,2,4,2,1,9,0,0,0,0,0,0,2,5,1,1,6,7,1,6,6,2,4,2,1,9,0,0]
["Quintana Roo",0,0,0,0,2,2,0,2,10,0,8,0,10,0,6,4,10,24,0,0,0,0,0,0,1,1,0,1,5,0,4,0,5,0,3,2,5,12,0,0,0,0,0,0,1,1,0,1,5,0,4,0,5,0,3,2,5,12,0,0]
["San Luis Potosí",0,0,2,2,0,4,2,8,4,24,8,20,8,30,14,20,22,38,0,0,0,0,1,1,0,2,1,4,2,12,4,10,4,15,7,10,11,19,0,0,0,0,1,1,0,2,1,4,2,12,4,10,4,15,7,10,11,19,0,0]
["Sinaloa",0,0,0,2,0,0,6,6,6,8,2,4,4,10,6,14,8,24,0,0,0,0,0,1,0,0,3,3,3,4,1,2,2,5,3,7,4,12,0,0,0,0,0,1,0,0,3,3,3,4,1,2,2,5,3,7,4,12,0,0]
["Sonora",0,0,0,0,0,8,6,6,30,16,26,20,28,6,12,20,14,18,0,0,0,0,0,0,0,4,3,3,15,8,13,10,14,3,6,10,7,9,0,0,0,0,0,0,0,4,3,3,15,8,13,10,14,3,6,10,7,9,0,0]
["Tabasco",0,0,0,2,0,0,0,2,2,0,6,10,2,6,4,6,10,8,0,0,0,0,0,1,0,0,0,1,1,0,3,5,1,3,2,3,5,4,0,0,0,0,0,1,0,0,0,1,1,0,3,5,1,3,2,3,5,4,0,0]
["Tamaulipas",0,0,0,4,0,0,0,2,2,10,6,2,4,8,10,14,14,24,0,0,0,0,0,2,0,0,0,1,1,5,3,1,2,4,5,7,7,12,0,0,0,0,0,2,0,0,0,1,1,5,3,1,2,4,5,7,7,12,0,0]
["Tlaxcala",0,0,0,2,2,4,2,2,2,2,6,6,2,14,0,6,2,10,0,0,0,0,0,1,1,2,1,1,1,1,3,3,1,7,0,3,1,5,0,0,0,0,0,1,1,2,1,1,1,1,3,3,1,7,0,3,1,5,0,0]
["Veracruz",0,4,0,2,6,22,20,32,50,56,52,46,54,26,32,68,54,130,2,0,0,2,0,1,3,11,10,16,25,28,26,23,27,13,16,34,27,65,1,0,0,2,0,1,3,11,10,16,25,28,26,23,27,13,16,34,27,65,1,0]
["Yucatán",2,0,0,0,0,0,4,4,2,10,2,4,6,4,8,4,6,16,0,0,1,0,0,0,0,0,2,2,1,5,1,2,3,2,4,2,3,8,0,0,1,0,0,0,0,0,2,2,1,5,1,2,3,2,4,2,3,8,0,0]
["Zacatecas",0,0,0,0,0,2,12,10,14,16,8,18,14,16,2,10,12,24,0,0,0,0,0,0,0,1,6,5,7,8,4,9,7,8,1,5,6,12,0,0,0,0,0,0,0,1,6,5,7,8,4,9,7,8,1,5,6,12,0,0]

{"sheet":"9T-GCM-R_Edad2022 ","index":96,"n_rows":34,"n_cols":61,"rows_kept":34,"cut":false,"hidden":true,"merged":[]}
[1,2,3,4,5,6,7,8,9,10,11,12,13,14,15,16,17,18,19,20,21,22,23,24,25,26,27,28,29,30,31,32,33,34,35,36,37,38,39,40,41,42,43,44,45,46,47,48,49,50,51,52,53,54,55,56,57,58,59,60,61]
["ESTADO","Menores de 1 año","1-4 años","5-9 años","10-14 años","15-19 años","20-24 años","25-29 años","30-34 años","35-39 años","40-44 años","45-49 años","50-54 años","55-59 años","60-64 años","65-69 años","70-74 años","75-79 años","80-84 años","85 años y más","No especificado","H Menores de 1 año","H 1-4 años","H 5-9 años","H 10-14 años","H 15-19 años","H 20-24 años","H 25-29 años","H 30-34 años","H 35-39 años","H 40-44 años","H 45-49 años","H 50-54 años","H 55-59 años","H 60-64 años","H 65-69 años","H 70-74 años","H 75-79 años","H 80-84 años","H 85 años y más","H No especificado","   M Menores de 1 año ","M 1-4 años","M 5-9 años","M 10-14 años","M 15-19 años","M 20-24 años","M 25-29 años","M 30-34 años","M 35-39 años","M 40-44 años","M 45-49 años","M 50-54 años","M 55-59 años","M 60-64 años","M 65-69 años","M 70-74 años","M 75-79 años","M 80-84 años","M 85 años y    ás","M No especificado"]
["Aguascalientes",0,1,0,0,0,2,2,3,4,4,10,9,8,12,5,7,14,30,9,0,0,1,0,0,0,1,2,2,3,4,9,9,8,12,2,3,8,7,9,0,0,0,0,0,0,1,0,1,1,0,1,0,0,0,3,4,6,23,0,0]
["Baja California",0,0,0,1,6,16,29,25,25,30,31,25,21,14,9,12,11,34,16,5,0,0,0,0,2,14,23,22,18,25,30,24,21,11,6,5,5,7,16,5,0,0,0,1,4,2,6,3,7,5,1,1,0,3,3,7,6,27,0,0]
["Baja California Sur",0,0,0,0,0,0,0,0,0,0,1,0,1,2,2,1,4,6,4,0,0,0,0,0,0,0,0,0,0,0,1,0,1,1,0,1,1,2,4,0,0,0,0,0,0,0,0,0,0,0,0,0,0,1,2,0,3,4,0,0]
["Campeche",0,0,1,0,0,0,1,0,3,2,3,1,1,3,0,2,1,6,1,0,0,0,0,0,0,0,0,0,2,2,3,1,1,2,0,2,0,4,1,0,0,0,1,0,0,0,1,0,1,0,0,0,0,1,0,0,1,2,0,0]
["Coahuila",0,0,1,1,0,0,1,1,5,4,5,9,5,9,7,4,12,22,9,0,0,0,0,1,0,0,1,0,5,3,4,7,4,6,3,3,6,11,9,0,0,0,1,0,0,0,0,1,0,1,1,2,1,3,4,1,6,11,0,0]
["Colima",0,0,0,0,0,0,0,0,1,4,2,1,4,0,1,2,1,11,3,0,0,0,0,0,0,0,0,0,1,4,2,0,4,0,1,1,0,3,3,0,0,0,0,0,0,0,0,0,0,0,0,1,0,0,0,1,1,8,0,0]
["Chiapas",1,0,1,0,3,3,11,6,8,11,14,15,8,10,6,10,10,21,10,0,0,0,1,0,3,3,9,6,8,10,13,14,8,9,5,5,5,8,10,0,1,0,0,0,0,0,2,0,0,1,1,1,0,1,1,5,5,13,0,0]
["Chihuahua",0,0,0,0,6,2,6,13,17,13,30,28,30,20,20,17,21,37,12,0,0,0,0,0,2,1,6,12,14,12,28,26,28,19,14,8,8,8,12,0,0,0,0,0,4,1,0,1,3,1,2,2,2,1,6,9,13,29,0,0]
["Ciudad de México",0,1,0,2,2,6,9,10,22,30,32,26,28,29,19,35,34,80,35,0,0,0,0,0,0,3,9,10,21,27,29,23,26,21,11,15,11,5,35,0,0,1,0,2,2,3,0,0,1,3,3,3,2,8,8,20,23,75,0,0]
["Durango",0,0,0,0,0,0,1,2,2,3,3,5,3,2,9,1,5,5,4,0,0,0,0,0,0,0,1,2,2,2,3,5,3,2,8,1,2,1,4,0,0,0,0,0,0,0,0,0,0,1,0,0,0,0,1,0,3,4,0,0]
["Guanajuato",0,0,0,0,1,3,8,9,9,9,23,11,17,11,10,1,9,23,11,0,0,0,0,0,1,3,8,7,9,7,22,10,16,10,8,0,8,3,11,0,0,0,0,0,0,0,0,2,0,2,1,1,1,1,2,1,1,20,0,0]
["Guerrero",0,0,0,0,1,1,7,3,5,5,4,13,7,9,3,8,7,17,12,0,0,0,0,0,1,1,6,2,5,5,3,11,7,8,2,6,4,8,12,0,0,0,0,0,0,0,1,1,0,0,1,2,0,1,1,2,3,9,0,0]
["Hidalgo",0,0,0,0,1,0,3,1,2,4,3,5,6,5,3,6,6,9,3,0,0,0,0,0,0,0,1,1,2,4,3,4,6,4,2,4,5,4,3,0,0,0,0,0,1,0,2,0,0,0,0,1,0,1,1,2,1,5,0,0]
["Jalisco",0,0,0,0,3,8,17,15,17,22,31,39,45,35,37,32,46,99,57,1,0,0,0,0,3,5,15,13,15,21,27,38,39,28,24,24,27,20,57,1,0,0,0,0,0,3,2,2,2,1,4,1,6,7,13,8,19,79,0,0]
["México",1,0,1,1,1,10,14,25,29,34,44,49,41,30,28,34,45,78,35,0,0,0,1,0,1,8,13,22,27,32,44,46,35,27,23,23,25,26,35,0,1,0,0,1,0,2,1,3,2,2,0,3,6,3,5,11,20,52,0,0]
["Michoacán",0,0,1,0,2,2,3,6,11,6,12,14,10,13,10,13,14,21,12,0,0,0,0,0,1,1,1,6,11,5,11,14,9,11,7,6,8,3,12,0,0,0,1,0,1,1,2,0,0,1,1,0,1,2,3,7,6,18,0,0]
["Morelos",0,0,0,1,1,2,0,4,5,5,5,2,4,7,2,9,10,25,8,0,0,0,0,1,1,2,0,3,5,4,5,2,3,4,2,5,4,9,8,0,0,0,0,0,0,0,0,1,0,1,0,0,1,3,0,4,6,16,0,0]
["Nayarit",0,0,0,0,0,0,1,0,1,0,4,4,1,1,2,3,5,11,5,1,0,0,0,0,0,0,1,0,0,0,4,4,1,1,2,2,2,4,5,1,0,0,0,0,0,0,0,0,1,0,0,0,0,0,0,1,3,7,0,0]
["Nuevo León",0,0,0,0,0,0,2,1,4,4,9,4,8,4,15,25,31,89,35,0,0,0,0,0,0,0,2,1,3,4,8,2,6,2,7,9,16,12,35,0,0,0,0,0,0,0,0,0,1,0,1,2,2,2,8,16,15,77,0,0]
["Oaxaca",1,1,0,0,3,3,11,15,19,23,37,28,29,22,21,24,30,39,30,0,1,0,0,0,1,3,9,12,16,21,36,25,25,21,18,22,17,16,30,0,0,1,0,0,2,0,2,3,3,2,1,3,4,1,3,2,13,23,0,0]
["Puebla",1,0,0,0,1,2,10,8,12,12,15,7,23,12,15,12,18,31,12,0,0,0,0,0,1,1,10,8,11,11,15,7,21,10,12,9,9,13,12,0,1,0,0,0,0,1,0,0,1,1,0,0,2,2,3,3,9,18,0,0]
["Querétaro",0,0,0,0,1,2,3,0,2,3,5,7,1,3,4,4,7,11,9,0,0,0,0,0,1,2,3,0,2,3,4,4,1,3,3,2,3,4,9,0,0,0,0,0,0,0,0,0,0,0,1,3,0,0,1,2,4,7,0,0]
["Quintana Roo",0,0,0,0,0,1,2,1,1,2,4,4,4,1,3,10,13,31,7,0,0,0,0,0,0,1,2,1,1,2,2,4,3,1,0,5,4,9,7,0,0,0,0,0,0,0,0,0,0,0,2,0,1,0,3,5,9,22,0,0]
["San Luis Potosí",0,0,0,2,1,3,1,6,5,9,6,11,8,9,8,13,7,21,13,1,0,0,0,0,0,3,1,6,5,8,6,10,7,7,7,6,3,6,13,1,0,0,0,2,1,0,0,0,0,1,0,1,1,2,1,7,4,15,0,0]
["Sinaloa",0,0,0,0,1,0,1,1,1,1,0,4,4,6,9,4,14,18,6,0,0,0,0,0,1,0,1,1,1,1,0,4,3,5,6,1,5,7,6,0,0,0,0,0,0,0,0,0,0,0,0,0,1,1,3,3,9,11,0,0]
["Sonora",1,0,0,0,4,4,5,8,5,7,7,11,8,13,10,14,13,43,13,1,0,0,0,0,3,4,5,8,5,7,7,10,7,9,6,7,7,7,13,1,1,0,0,0,1,0,0,0,0,0,0,1,1,4,4,7,6,36,0,0]
["Tabasco",0,0,0,0,2,0,1,3,0,4,3,1,7,1,2,2,3,9,5,0,0,0,0,0,1,0,0,2,0,4,3,1,6,1,1,1,0,2,5,0,0,0,0,0,1,0,1,1,0,0,0,0,1,0,1,1,3,7,0,0]
["Tamaulipas",0,0,0,0,0,0,1,1,1,2,0,2,5,4,3,5,8,25,9,0,0,0,0,0,0,0,1,1,1,2,0,2,3,2,2,2,3,3,9,0,0,0,0,0,0,0,0,0,0,0,0,0,2,2,1,3,5,22,0,0]
["Tlaxcala",0,0,0,0,0,0,1,1,1,5,4,3,3,2,3,2,4,3,3,0,0,0,0,0,0,0,0,1,1,5,3,3,3,2,2,1,1,1,3,0,0,0,0,0,0,0,1,0,0,0,1,0,0,0,1,1,3,2,0,0]
["Veracruz",0,1,1,0,3,5,17,10,16,15,24,29,21,38,20,30,44,146,68,1,0,1,0,0,1,4,15,10,15,14,22,28,20,33,14,18,24,30,68,1,0,0,1,0,2,1,2,0,1,1,2,1,1,5,6,12,20,116,0,0]
["Yucatán",0,0,0,0,0,1,1,0,1,4,1,5,3,3,2,9,14,13,8,0,0,0,0,0,0,1,1,0,1,4,1,5,3,3,1,8,4,3,8,0,0,0,0,0,0,0,0,0,0,0,0,0,0,0,1,1,10,10,0,0]
["Zacatecas",0,0,1,0,0,0,1,5,8,8,3,10,10,7,9,7,9,20,19,0,0,0,0,0,0,0,1,5,8,7,3,9,10,7,7,4,6,5,19,0,0,0,1,0,0,0,0,0,0,1,0,1,0,0,2,3,3,15,0,0]

{"sheet":"9GCM-G_Edad","index":97,"n_rows":24,"n_cols":10,"rows_kept":24,"cut":false,"hidden":false,"merged":[[0,0,0,9]]}
[" Trastornos mentales y del comportamiento"]
["SELECCIONE UNA ENTIDAD"]
["Durango","2020","H - 2020","M - 2020","2021","H - 2021","M - 2021","2022","H - 2022","M - 2022"]
["Menores de 1 año",{"$f":"VLOOKUP($A$3,'9T-GCM-R_Edad2020 '!$A$2:$BI$34,2,0)","v":0},{"$f":"VLOOKUP($A$3,'9T-GCM-R_Edad2020 '!$A$2:$BI$34,22,0)","v":0},{"$f":"VLOOKUP($A$3,'9T-GCM-R_Edad2020 '!$A$2:$BI$34,42,0)","v":0},{"$f":"VLOOKUP($A$3,'9T-GCM-R_Edad2021'!$A$2:$BI$34,2,0)","v":0},{"$f":"VLOOKUP($A$3,'9T-GCM-R_Edad2021'!$A$2:$BI$34,22,0)","v":0},{"$f":"VLOOKUP($A$3,'9T-GCM-R_Edad2021'!$A$2:$BI$34,42,0)","v":0},{"$f":"VLOOKUP($A$3,'9T-GCM-R_Edad2022 '!$A$2:$BI$34,2,0)","v":0},{"$f":"VLOOKUP($A$3,'9T-GCM-R_Edad2022 '!$A$2:$BI$34,22,0)","v":0},{"$f":"VLOOKUP($A$3,'9T-GCM-R_Edad2022 '!$A$2:$BI$34,42,0)","v":0}]
["1-4 años",{"$f":"VLOOKUP($A$3,'9T-GCM-R_Edad2020 '!$A$2:$BI$34,3,0)","v":0},{"$f":"VLOOKUP($A$3,'9T-GCM-R_Edad2020 '!$A$2:$BI$34,23,0)","v":0},{"$f":"VLOOKUP($A$3,'9T-GCM-R_Edad2020 '!$A$2:$BI$34,43,0)","v":0},{"$f":"VLOOKUP($A$3,'9T-GCM-R_Edad2021'!$A$2:$BI$34,3,0)","v":0},{"$f":"VLOOKUP($A$3,'9T-GCM-R_Edad2021'!$A$2:$BI$34,23,0)","v":0},{"$f":"VLOOKUP($A$3,'9T-GCM-R_Edad2021'!$A$2:$BI$34,43,0)","v":0},{"$f":"VLOOKUP($A$3,'9T-GCM-R_Edad2022 '!$A$2:$BI$34,3,0)","v":0},{"$f":"VLOOKUP($A$3,'9T-GCM-R_Edad2022 '!$A$2:$BI$34,23,0)","v":0},{"$f":"VLOOKUP($A$3,'9T-GCM-R_Edad2022 '!$A$2:$BI$34,43,0)","v":0}]
["5-9 años",{"$f":"VLOOKUP($A$3,'9T-GCM-R_Edad2020 '!$A$2:$BI$34,4,0)","v":0},{"$f":"VLOOKUP($A$3,'9T-GCM-R_Edad2020 '!$A$2:$BI$34,24,0)","v":0},{"$f":"VLOOKUP($A$3,'9T-GCM-R_Edad2020 '!$A$2:$BI$34,44,0)","v":0},{"$f":"VLOOKUP($A$3,'9T-GCM-R_Edad2021'!$A$2:$BI$34,4,0)","v":0},{"$f":"VLOOKUP($A$3,'9T-GCM-R_Edad2021'!$A$2:$BI$34,24,0)","v":0},{"$f":"VLOOKUP($A$3,'9T-GCM-R_Edad2021'!$A$2:$BI$34,44,0)","v":0},{"$f":"VLOOKUP($A$3,'9T-GCM-R_Edad2022 '!$A$2:$BI$34,4,0)","v":0},{"$f":"VLOOKUP($A$3,'9T-GCM-R_Edad2022 '!$A$2:$BI$34,24,0)","v":0},{"$f":"VLOOKUP($A$3,'9T-GCM-R_Edad2022 '!$A$2:$BI$34,44,0)","v":0}]
["10-14 años",{"$f":"VLOOKUP($A$3,'9T-GCM-R_Edad2020 '!$A$2:$BI$34,5,0)","v":0},{"$f":"VLOOKUP($A$3,'9T-GCM-R_Edad2020 '!$A$2:$BI$34,25,0)","v":0},{"$f":"VLOOKUP($A$3,'9T-GCM-R_Edad2020 '!$A$2:$BI$34,45,0)","v":0},{"$f":"VLOOKUP($A$3,'9T-GCM-R_Edad2021'!$A$2:$BI$34,5,0)","v":0},{"$f":"VLOOKUP($A$3,'9T-GCM-R_Edad2021'!$A$2:$BI$34,25,0)","v":0},{"$f":"VLOOKUP($A$3,'9T-GCM-R_Edad2021'!$A$2:$BI$34,45,0)","v":0},{"$f":"VLOOKUP($A$3,'9T-GCM-R_Edad2022 '!$A$2:$BI$34,5,0)","v":0},{"$f":"VLOOKUP($A$3,'9T-GCM-R_Edad2022 '!$A$2:$BI$34,25,0)","v":0},{"$f":"VLOOKUP($A$3,'9T-GCM-R_Edad2022 '!$A$2:$BI$34,45,0)","v":0}]
["15-19 años",{"$f":"VLOOKUP($A$3,'9T-GCM-R_Edad2020 '!$A$2:$BI$34,6,0)","v":0},{"$f":"VLOOKUP($A$3,'9T-GCM-R_Edad2020 '!$A$2:$BI$34,26,0)","v":0},{"$f":"VLOOKUP($A$3,'9T-GCM-R_Edad2020 '!$A$2:$BI$34,46,0)","v":0},{"$f":"VLOOKUP($A$3,'9T-GCM-R_Edad2021'!$A$2:$BI$34,6,0)","v":0},{"$f":"VLOOKUP($A$3,'9T-GCM-R_Edad2021'!$A$2:$BI$34,26,0)","v":0},{"$f":"VLOOKUP($A$3,'9T-GCM-R_Edad2021'!$A$2:$BI$34,46,0)","v":0},{"$f":"VLOOKUP($A$3,'9T-GCM-R_Edad2022 '!$A$2:$BI$34,6,0)","v":0},{"$f":"VLOOKUP($A$3,'9T-GCM-R_Edad2022 '!$A$2:$BI$34,26,0)","v":0},{"$f":"VLOOKUP($A$3,'9T-GCM-R_Edad2022 '!$A$2:$BI$34,46,0)","v":0}]
["20-24 años",{"$f":"VLOOKUP($A$3,'9T-GCM-R_Edad2020 '!$A$2:$BI$34,7,0)","v":1},{"$f":"VLOOKUP($A$3,'9T-GCM-R_Edad2020 '!$A$2:$BI$34,27,0)","v":1},{"$f":"VLOOKUP($A$3,'9T-GCM-R_Edad2020 '!$A$2:$BI$34,47,0)","v":0},{"$f":"VLOOKUP($A$3,'9T-GCM-R_Edad2021'!$A$2:$BI$34,7,0)","v":0},{"$f":"VLOOKUP($A$3,'9T-GCM-R_Edad2021'!$A$2:$BI$34,27,0)","v":0},{"$f":"VLOOKUP($A$3,'9T-GCM-R_Edad2021'!$A$2:$BI$34,47,0)","v":0},{"$f":"VLOOKUP($A$3,'9T-GCM-R_Edad2022 '!$A$2:$BI$34,7,0)","v":0},{"$f":"VLOOKUP($A$3,'9T-GCM-R_Edad2022 '!$A$2:$BI$34,27,0)","v":0},{"$f":"VLOOKUP($A$3,'9T-GCM-R_Edad2022 '!$A$2:$BI$34,47,0)","v":0}]
["25-29 años",{"$f":"VLOOKUP($A$3,'9T-GCM-R_Edad2020 '!$A$2:$BI$34,8,0)","v":2},{"$f":"VLOOKUP($A$3,'9T-GCM-R_Edad2020 '!$A$2:$BI$34,28,0)","v":1},{"$f":"VLOOKUP($A$3,'9T-GCM-R_Edad2020 '!$A$2:$BI$34,48,0)","v":1},{"$f":"VLOOKUP($A$3,'9T-GCM-R_Edad2021'!$A$2:$BI$34,8,0)","v":2},{"$f":"VLOOKUP($A$3,'9T-GCM-R_Edad2021'!$A$2:$BI$34,28,0)","v":1},{"$f":"VLOOKUP($A$3,'9T-GCM-R_Edad2021'!$A$2:$BI$34,48,0)","v":1},{"$f":"VLOOKUP($A$3,'9T-GCM-R_Edad2022 '!$A$2:$BI$34,8,0)","v":1},{"$f":"VLOOKUP($A$3,'9T-GCM-R_Edad2022 '!$A$2:$BI$34,28,0)","v":1},{"$f":"VLOOKUP($A$3,'9T-GCM-R_Edad2022 '!$A$2:$BI$34,48,0)","v":0}]
["30-34 años",{"$f":"VLOOKUP($A$3,'9T-GCM-R_Edad2020 '!$A$2:$BI$34,9,0)","v":0},{"$f":"VLOOKUP($A$3,'9T-GCM-R_Edad2020 '!$A$2:$BI$34,29,0)","v":0},{"$f":"VLOOKUP($A$3,'9T-GCM-R_Edad2020 '!$A$2:$BI$34,49,0)","v":0},{"$f":"VLOOKUP($A$3,'9T-GCM-R_Edad2021'!$A$2:$BI$34,9,0)","v":0},{"$f":"VLOOKUP($A$3,'9T-GCM-R_Edad2021'!$A$2:$BI$34,29,0)","v":0},{"$f":"VLOOKUP($A$3,'9T-GCM-R_Edad2021'!$A$2:$BI$34,49,0)","v":0},{"$f":"VLOOKUP($A$3,'9T-GCM-R_Edad2022 '!$A$2:$BI$34,9,0)","v":2},{"$f":"VLOOKUP($A$3,'9T-GCM-R_Edad2022 '!$A$2:$BI$34,29,0)","v":2},{"$f":"VLOOKUP($A$3,'9T-GCM-R_Edad2022 '!$A$2:$BI$34,49,0)","v":0}]
["35-39 años",{"$f":"VLOOKUP($A$3,'9T-GCM-R_Edad2020 '!$A$2:$BI$34,10,0)","v":3},{"$f":"VLOOKUP($A$3,'9T-GCM-R_Edad2020 '!$A$2:$BI$34,30,0)","v":2},{"$f":"VLOOKUP($A$3,'9T-GCM-R_Edad2020 '!$A$2:$BI$34,50,0)","v":1},{"$f":"VLOOKUP($A$3,'9T-GCM-R_Edad2021'!$A$2:$BI$34,10,0)","v":2},{"$f":"VLOOKUP($A$3,'9T-GCM-R_Edad2021'!$A$2:$BI$34,30,0)","v":1},{"$f":"VLOOKUP($A$3,'9T-GCM-R_Edad2021'!$A$2:$BI$34,50,0)","v":1},{"$f":"VLOOKUP($A$3,'9T-GCM-R_Edad2022 '!$A$2:$BI$34,10,0)","v":2},{"$f":"VLOOKUP($A$3,'9T-GCM-R_Edad2022 '!$A$2:$BI$34,30,0)","v":2},{"$f":"VLOOKUP($A$3,'9T-GCM-R_Edad2022 '!$A$2:$BI$34,50,0)","v":0}]
["40-44 años",{"$f":"VLOOKUP($A$3,'9T-GCM-R_Edad2020 '!$A$2:$BI$34,11,0)","v":0},{"$f":"VLOOKUP($A$3,'9T-GCM-R_Edad2020 '!$A$2:$BI$34,31,0)","v":0},{"$f":"VLOOKUP($A$3,'9T-GCM-R_Edad2020 '!$A$2:$BI$34,51,0)","v":0},{"$f":"VLOOKUP($A$3,'9T-GCM-R_Edad2021'!$A$2:$BI$34,11,0)","v":8},{"$f":"VLOOKUP($A$3,'9T-GCM-R_Edad2021'!$A$2:$BI$34,31,0)","v":4},{"$f":"VLOOKUP($A$3,'9T-GCM-R_Edad2021'!$A$2:$BI$34,51,0)","v":4},{"$f":"VLOOKUP($A$3,'9T-GCM-R_Edad2022 '!$A$2:$BI$34,11,0)","v":3},{"$f":"VLOOKUP($A$3,'9T-GCM-R_Edad2022 '!$A$2:$BI$34,31,0)","v":2},{"$f":"VLOOKUP($A$3,'9T-GCM-R_Edad2022 '!$A$2:$BI$34,51,0)","v":1}]
["45-49 años",{"$f":"VLOOKUP($A$3,'9T-GCM-R_Edad2020 '!$A$2:$BI$34,12,0)","v":2},{"$f":"VLOOKUP($A$3,'9T-GCM-R_Edad2020 '!$A$2:$BI$34,32,0)","v":2},{"$f":"VLOOKUP($A$3,'9T-GCM-R_Edad2020 '!$A$2:$BI$34,52,0)","v":0},{"$f":"VLOOKUP($A$3,'9T-GCM-R_Edad2021'!$A$2:$BI$34,12,0)","v":2},{"$f":"VLOOKUP($A$3,'9T-GCM-R_Edad2021'!$A$2:$BI$34,32,0)","v":1},{"$f":"VLOOKUP($A$3,'9T-GCM-R_Edad2021'!$A$2:$BI$34,52,0)","v":1},{"$f":"VLOOKUP($A$3,'9T-GCM-R_Edad2022 '!$A$2:$BI$34,12,0)","v":3},{"$f":"VLOOKUP($A$3,'9T-GCM-R_Edad2022 '!$A$2:$BI$34,32,0)","v":3},{"$f":"VLOOKUP($A$3,'9T-GCM-R_Edad2022 '!$A$2:$BI$34,52,0)","v":0}]
["50-54 años",{"$f":"VLOOKUP($A$3,'9T-GCM-R_Edad2020 '!$A$2:$BI$34,13,0)","v":4},{"$f":"VLOOKUP($A$3,'9T-GCM-R_Edad2020 '!$A$2:$BI$34,33,0)","v":4},{"$f":"VLOOKUP($A$3,'9T-GCM-R_Edad2020 '!$A$2:$BI$34,53,0)","v":0},{"$f":"VLOOKUP($A$3,'9T-GCM-R_Edad2021'!$A$2:$BI$34,13,0)","v":8},{"$f":"VLOOKUP($A$3,'9T-GCM-R_Edad2021'!$A$2:$BI$34,33,0)","v":4},{"$f":"VLOOKUP($A$3,'9T-GCM-R_Edad2021'!$A$2:$BI$34,53,0)","v":4},{"$f":"VLOOKUP($A$3,'9T-GCM-R_Edad2022 '!$A$2:$BI$34,13,0)","v":5},{"$f":"VLOOKUP($A$3,'9T-GCM-R_Edad2022 '!$A$2:$BI$34,33,0)","v":5},{"$f":"VLOOKUP($A$3,'9T-GCM-R_Edad2022 '!$A$2:$BI$34,53,0)","v":0}]
["55-59 años",{"$f":"VLOOKUP($A$3,'9T-GCM-R_Edad2020 '!$A$2:$BI$34,14,0)","v":3},{"$f":"VLOOKUP($A$3,'9T-GCM-R_Edad2020 '!$A$2:$BI$34,34,0)","v":3},{"$f":"VLOOKUP($A$3,'9T-GCM-R_Edad2020 '!$A$2:$BI$34,54,0)","v":0},{"$f":"VLOOKUP($A$3,'9T-GCM-R_Edad2021'!$A$2:$BI$34,14,0)","v":8},{"$f":"VLOOKUP($A$3,'9T-GCM-R_Edad2021'!$A$2:$BI$34,34,0)","v":4},{"$f":"VLOOKUP($A$3,'9T-GCM-R_Edad2021'!$A$2:$BI$34,54,0)","v":4},{"$f":"VLOOKUP($A$3,'9T-GCM-R_Edad2022 '!$A$2:$BI$34,14,0)","v":3},{"$f":"VLOOKUP($A$3,'9T-GCM-R_Edad2022 '!$A$2:$BI$34,34,0)","v":3},{"$f":"VLOOKUP($A$3,'9T-GCM-R_Edad2022 '!$A$2:$BI$34,54,0)","v":0}]
["60-64 años",{"$f":"VLOOKUP($A$3,'9T-GCM-R_Edad2020 '!$A$2:$BI$34,15,0)","v":1},{"$f":"VLOOKUP($A$3,'9T-GCM-R_Edad2020 '!$A$2:$BI$34,35,0)","v":0},{"$f":"VLOOKUP($A$3,'9T-GCM-R_Edad2020 '!$A$2:$BI$34,55,0)","v":1},{"$f":"VLOOKUP($A$3,'9T-GCM-R_Edad2021'!$A$2:$BI$34,15,0)","v":6},{"$f":"VLOOKUP($A$3,'9T-GCM-R_Edad2021'!$A$2:$BI$34,35,0)","v":3},{"$f":"VLOOKUP($A$3,'9T-GCM-R_Edad2021'!$A$2:$BI$34,55,0)","v":3},{"$f":"VLOOKUP($A$3,'9T-GCM-R_Edad2022 '!$A$2:$BI$34,15,0)","v":2},{"$f":"VLOOKUP($A$3,'9T-GCM-R_Edad2022 '!$A$2:$BI$34,35,0)","v":2},{"$f":"VLOOKUP($A$3,'9T-GCM-R_Edad2022 '!$A$2:$BI$34,55,0)","v":0}]
["65-69 años",{"$f":"VLOOKUP($A$3,'9T-GCM-R_Edad2020 '!$A$2:$BI$34,16,0)","v":4},{"$f":"VLOOKUP($A$3,'9T-GCM-R_Edad2020 '!$A$2:$BI$34,36,0)","v":4},{"$f":"VLOOKUP($A$3,'9T-GCM-R_Edad2020 '!$A$2:$BI$34,56,0)","v":0},{"$f":"VLOOKUP($A$3,'9T-GCM-R_Edad2021'!$A$2:$BI$34,16,0)","v":2},{"$f":"VLOOKUP($A$3,'9T-GCM-R_Edad2021'!$A$2:$BI$34,36,0)","v":1},{"$f":"VLOOKUP($A$3,'9T-GCM-R_Edad2021'!$A$2:$BI$34,56,0)","v":1},{"$f":"VLOOKUP($A$3,'9T-GCM-R_Edad2022 '!$A$2:$BI$34,16,0)","v":9},{"$f":"VLOOKUP($A$3,'9T-GCM-R_Edad2022 '!$A$2:$BI$34,36,0)","v":8},{"$f":"VLOOKUP($A$3,'9T-GCM-R_Edad2022 '!$A$2:$BI$34,56,0)","v":1}]
["70-74 años",{"$f":"VLOOKUP($A$3,'9T-GCM-R_Edad2020 '!$A$2:$BI$34,17,0)","v":3},{"$f":"VLOOKUP($A$3,'9T-GCM-R_Edad2020 '!$A$2:$BI$34,37,0)","v":3},{"$f":"VLOOKUP($A$3,'9T-GCM-R_Edad2020 '!$A$2:$BI$34,57,0)","v":0},{"$f":"VLOOKUP($A$3,'9T-GCM-R_Edad2021'!$A$2:$BI$34,17,0)","v":6},{"$f":"VLOOKUP($A$3,'9T-GCM-R_Edad2021'!$A$2:$BI$34,37,0)","v":3},{"$f":"VLOOKUP($A$3,'9T-GCM-R_Edad2021'!$A$2:$BI$34,57,0)","v":3},{"$f":"VLOOKUP($A$3,'9T-GCM-R_Edad2022 '!$A$2:$BI$34,17,0)","v":1},{"$f":"VLOOKUP($A$3,'9T-GCM-R_Edad2022 '!$A$2:$BI$34,37,0)","v":1},{"$f":"VLOOKUP($A$3,'9T-GCM-R_Edad2022 '!$A$2:$BI$34,57,0)","v":0}]
["75-79 años",{"$f":"VLOOKUP($A$3,'9T-GCM-R_Edad2020 '!$A$2:$BI$34,18,0)","v":5},{"$f":"VLOOKUP($A$3,'9T-GCM-R_Edad2020 '!$A$2:$BI$34,38,0)","v":4},{"$f":"VLOOKUP($A$3,'9T-GCM-R_Edad2020 '!$A$2:$BI$34,58,0)","v":1},{"$f":"VLOOKUP($A$3,'9T-GCM-R_Edad2021'!$A$2:$BI$34,18,0)","v":0},{"$f":"VLOOKUP($A$3,'9T-GCM-R_Edad2021'!$A$2:$BI$34,38,0)","v":0},{"$f":"VLOOKUP($A$3,'9T-GCM-R_Edad2021'!$A$2:$BI$34,58,0)","v":0},{"$f":"VLOOKUP($A$3,'9T-GCM-R_Edad2022 '!$A$2:$BI$34,18,0)","v":5},{"$f":"VLOOKUP($A$3,'9T-GCM-R_Edad2022 '!$A$2:$BI$34,38,0)","v":2},{"$f":"VLOOKUP($A$3,'9T-GCM-R_Edad2022 '!$A$2:$BI$34,58,0)","v":3}]
["80-84 años",{"$f":"VLOOKUP($A$3,'9T-GCM-R_Edad2020 '!$A$2:$BI$34,19,0)","v":1},{"$f":"VLOOKUP($A$3,'9T-GCM-R_Edad2020 '!$A$2:$BI$34,39,0)","v":1},{"$f":"VLOOKUP($A$3,'9T-GCM-R_Edad2020 '!$A$2:$BI$34,59,0)","v":0},{"$f":"VLOOKUP($A$3,'9T-GCM-R_Edad2021'!$A$2:$BI$34,19,0)","v":2},{"$f":"VLOOKUP($A$3,'9T-GCM-R_Edad2021'!$A$2:$BI$34,39,0)","v":1},{"$f":"VLOOKUP($A$3,'9T-GCM-R_Edad2021'!$A$2:$BI$34,59,0)","v":1},{"$f":"VLOOKUP($A$3,'9T-GCM-R_Edad2022 '!$A$2:$BI$34,19,0)","v":5},{"$f":"VLOOKUP($A$3,'9T-GCM-R_Edad2022 '!$A$2:$BI$34,39,0)","v":1},{"$f":"VLOOKUP($A$3,'9T-GCM-R_Edad2022 '!$A$2:$BI$34,59,0)","v":4}]
["85 años y más",{"$f":"VLOOKUP($A$3,'9T-GCM-R_Edad2020 '!$A$2:$BI$34,20,0)","v":1},{"$f":"VLOOKUP($A$3,'9T-GCM-R_Edad2020 '!$A$2:$BI$34,40,0)","v":1},{"$f":"VLOOKUP($A$3,'9T-GCM-R_Edad2020 '!$A$2:$BI$34,60,0)","v":0},{"$f":"VLOOKUP($A$3,'9T-GCM-R_Edad2021'!$A$2:$BI$34,20,0)","v":0},{"$f":"VLOOKUP($A$3,'9T-GCM-R_Edad2021'!$A$2:$BI$34,40,0)","v":0},{"$f":"VLOOKUP($A$3,'9T-GCM-R_Edad2021'!$A$2:$BI$34,60,0)","v":0},{"$f":"VLOOKUP($A$3,'9T-GCM-R_Edad2022 '!$A$2:$BI$34,20,0)","v":4},{"$f":"VLOOKUP($A$3,'9T-GCM-R_Edad2022 '!$A$2:$BI$34,40,0)","v":4},{"$f":"VLOOKUP($A$3,'9T-GCM-R_Edad2022 '!$A$2:$BI$34,60,0)","v":0}]
["No especificado",{"$f":"VLOOKUP($A$3,'9T-GCM-R_Edad2020 '!$A$2:$BI$34,21,0)","v":0},{"$f":"VLOOKUP($A$3,'9T-GCM-R_Edad2020 '!$A$2:$BI$34,41,0)","v":0},{"$f":"VLOOKUP($A$3,'9T-GCM-R_Edad2020 '!$A$2:$BI$34,61,0)","v":0},{"$f":"VLOOKUP($A$3,'9T-GCM-R_Edad2021'!$A$2:$BI$34,21,0)","v":0},{"$f":"VLOOKUP($A$3,'9T-GCM-R_Edad2021'!$A$2:$BI$34,41,0)","v":0},{"$f":"VLOOKUP($A$3,'9T-GCM-R_Edad2021'!$A$2:$BI$34,61,0)","v":0},{"$f":"VLOOKUP($A$3,'9T-GCM-R_Edad2022 '!$A$2:$BI$34,21,0)","v":0},{"$f":"VLOOKUP($A$3,'9T-GCM-R_Edad2022 '!$A$2:$BI$34,41,0)","v":0},{"$f":"VLOOKUP($A$3,'9T-GCM-R_Edad2022 '!$A$2:$BI$34,61,0)","v":0}]
["Total",{"$f":"SUM(B4:B23)","v":30},26,4,46,23,23,45,36,9]

{"sheet":"10 T-GCM-R_Edad2020  ","index":98,"n_rows":34,"n_cols":61,"rows_kept":34,"cut":false,"hidden":true,"merged":[]}
[1,2,3,4,5,6,7,8,9,10,11,12,13,14,15,16,17,18,19,20,21,22,23,24,25,26,27,28,29,30,31,32,33,34,35,36,37,38,39,40,41,42,43,44,45,46,47,48,49,50,51,52,53,54,55,56,57,58,59,60,61]
["ESTADO","Menores de 1 año","1-4 años","5-9 años","10-14 años","15-19 años","20-24 años","25-29 años","30-34 años","35-39 años","40-44 años","45-49 años","50-54 años","55-59 años","60-64 años","65-69 años","70-74 años","75-79 años","80-84 años","85 años y más","No especificado","H Menores de 1 año","H 1-4 años","H 5-9 años","H 10-14 años","H 15-19 años","H 20-24 años","H 25-29 años","H 30-34 años","H 35-39 años","H 40-44 años","H 45-49 años","H 50-54 años","H 55-59 años","H 60-64 años","H 65-69 años","H 70-74 años","H 75-79 años","H 80-84 años","H 85 años y más","H No especificado","   M Menores de 1 año ","M 1-4 años","M 5-9 años","M 10-14 años","M 15-19 años","M 20-24 años","M 25-29 años","M 30-34 años","M 35-39 años","M 40-44 años","M 45-49 años","M 50-54 años","M 55-59 años","M 60-64 años","M 65-69 años","M 70-74 años","M 75-79 años","M 80-84 años","M 85 años y    ás","M No especificado"]
["Aguascalientes",2,2,5,6,8,11,5,2,9,14,8,10,12,8,15,8,16,25,22,0,0,2,3,5,7,8,5,2,5,8,3,7,5,7,9,5,8,12,9,0,2,0,2,1,1,3,0,0,4,6,5,3,7,1,6,3,8,13,13,0]
["Baja California",7,13,6,14,10,21,16,23,10,12,13,23,36,24,27,21,29,30,52,1,3,3,3,3,6,15,8,10,9,5,10,9,21,15,13,9,10,11,17,1,4,10,3,11,4,6,8,13,1,7,3,14,15,9,14,12,19,19,35,0]
["Baja California Sur",1,0,5,0,3,1,2,4,2,7,3,1,6,6,4,7,13,5,11,1,1,0,4,0,2,1,1,2,1,4,1,1,4,3,2,2,7,1,7,1,0,0,1,0,1,0,1,2,1,3,2,0,2,3,2,5,6,4,4,0]
["Campeche",0,1,2,3,4,5,3,4,1,2,2,4,2,5,6,12,6,12,7,0,0,1,0,1,3,3,3,2,0,2,1,3,1,4,3,8,5,3,3,0,0,0,2,2,1,2,0,2,1,0,1,1,1,1,3,4,1,9,4,0]
["Coahuila",10,7,8,9,9,7,12,7,7,15,16,15,17,28,32,26,43,38,55,0,4,2,3,7,7,6,8,3,6,9,11,5,8,18,22,15,25,20,19,0,6,5,5,2,2,1,4,4,1,6,5,10,9,10,10,11,18,18,36,0]
["Colima",1,0,0,0,7,0,1,3,0,3,4,6,5,9,8,10,14,22,7,1,1,0,0,0,7,0,1,3,0,1,3,4,4,5,6,5,7,13,2,1,0,0,0,0,0,0,0,0,0,2,1,2,1,4,2,5,7,9,5,0]
["Chiapas",12,30,27,17,31,32,28,24,25,23,18,31,16,31,34,42,34,49,50,0,7,15,10,10,16,22,19,17,15,16,11,21,10,20,16,31,22,29,23,0,5,15,17,7,15,10,9,7,10,7,7,10,6,11,18,11,12,20,27,0]
["Chihuahua",7,9,10,12,26,20,17,20,19,22,28,35,32,39,47,58,51,54,63,1,3,8,6,7,19,11,9,10,11,15,22,20,22,26,20,25,20,28,21,1,4,1,4,5,7,9,8,10,8,7,6,15,10,13,27,33,31,26,42,0]
["Ciudad de México",23,19,15,22,37,50,39,45,59,53,79,89,102,97,93,104,117,122,184,0,13,14,11,13,26,33,28,31,36,24,43,53,57,58,56,59,58,55,73,0,10,5,4,9,11,17,11,14,23,29,36,36,45,39,37,45,59,67,111,0]
["Durango",3,2,1,3,5,3,4,7,4,12,13,5,11,9,7,9,12,19,21,0,1,2,0,3,4,3,4,5,3,5,7,1,8,8,4,6,7,10,6,0,2,0,1,0,1,0,0,2,1,7,6,4,3,1,3,3,5,9,15,0]
["Guanajuato",9,13,14,10,24,20,23,13,23,28,26,22,34,41,38,41,53,50,76,0,5,4,7,7,16,16,9,7,17,19,15,14,20,24,28,22,26,16,36,0,4,9,7,3,8,4,14,6,6,9,11,8,14,17,10,19,27,34,40,0]
["Guerrero",6,8,8,11,3,6,11,4,11,5,10,9,8,14,17,27,28,31,40,0,4,3,3,6,2,5,6,3,7,2,9,6,5,10,13,13,14,15,21,0,2,5,5,5,1,1,5,1,4,3,1,3,3,4,4,14,14,16,19,0]
["Hidalgo",2,8,7,6,9,11,9,12,10,14,7,12,15,15,17,18,20,30,36,0,1,5,4,4,7,4,6,9,8,7,2,6,9,10,9,12,4,15,18,0,1,3,3,2,2,7,3,3,2,7,5,6,6,5,8,6,16,15,18,0]
["Jalisco",11,22,12,17,36,35,23,26,39,29,48,57,45,52,77,76,105,117,157,4,8,12,8,11,23,21,15,15,21,20,26,27,24,31,45,44,52,63,62,2,3,10,4,6,13,14,8,11,18,9,22,30,21,21,32,32,53,54,95,2]
["México",31,26,16,31,41,50,45,64,51,53,74,61,61,65,71,53,72,79,105,2,17,17,13,17,28,33,30,39,28,30,44,29,29,37,39,33,41,34,53,2,14,9,3,14,13,17,15,25,23,23,30,32,32,28,32,20,31,45,52,0]
["Michoacán",5,9,7,13,9,15,7,15,15,24,16,18,28,33,34,34,43,58,87,1,3,8,3,7,5,12,3,10,9,18,13,13,16,18,17,15,16,31,40,1,2,1,4,6,4,3,4,5,6,6,3,5,12,15,17,19,27,27,47,0]
["Morelos",2,2,6,3,12,8,5,6,9,9,16,9,13,12,12,23,23,20,50,0,0,2,5,1,7,6,4,4,6,5,10,6,7,8,6,18,14,9,15,0,2,0,1,2,5,2,1,2,3,4,6,3,6,4,6,5,9,11,35,0]
["Nayarit",1,4,3,4,1,6,2,7,5,3,4,8,7,8,9,21,17,32,29,0,0,3,3,0,1,2,2,4,3,1,1,6,5,6,4,10,11,19,10,0,1,1,0,4,0,4,0,3,2,2,3,2,2,2,5,11,6,13,19,0]
["Nuevo León",6,5,16,7,13,23,19,21,20,21,19,26,32,45,39,57,66,88,145,0,3,2,11,4,6,11,11,15,13,9,9,24,25,26,20,24,38,42,52,0,3,3,5,3,7,12,8,6,7,12,10,2,7,19,19,33,28,46,93,0]
["Oaxaca",9,15,11,10,15,25,17,17,13,17,22,19,19,18,25,32,38,51,73,0,6,8,5,9,10,19,12,13,6,9,13,9,10,10,17,24,23,28,31,0,3,7,6,1,5,6,5,4,7,8,9,10,9,8,8,8,15,23,42,0]
["Puebla",19,27,16,12,31,24,26,23,36,25,35,25,34,37,34,37,45,42,49,1,12,18,7,8,19,15,16,10,21,12,21,13,20,20,24,24,23,22,25,1,7,9,9,4,12,9,10,13,15,13,14,12,14,17,10,13,22,20,24,0]
["Querétaro",7,6,3,4,8,5,4,10,10,4,16,18,12,15,18,15,14,19,34,0,5,0,2,4,6,3,4,7,7,1,9,10,9,11,10,10,9,7,15,0,2,6,1,0,2,2,0,3,3,3,7,8,3,4,8,5,5,12,19,0]
["Quintana Roo",2,5,1,4,2,10,9,3,6,5,6,9,4,7,8,12,7,11,10,0,1,5,0,3,2,7,7,1,3,3,5,6,3,4,5,8,6,4,5,0,1,0,1,1,0,3,2,2,3,2,1,3,1,3,3,4,1,7,5,0]
["San Luis Potosí",4,4,6,6,14,14,15,15,11,19,15,21,15,12,26,25,29,37,60,0,4,2,2,4,12,11,11,7,7,11,14,14,10,6,16,11,15,20,31,0,0,2,4,2,2,3,4,8,4,8,1,7,5,6,10,14,14,17,29,0]
["Sinaloa",5,8,6,6,10,12,8,9,8,12,20,21,19,22,19,29,50,47,64,0,3,7,3,3,8,8,5,5,5,5,10,12,10,15,11,15,26,27,21,0,2,1,3,3,2,4,3,4,3,7,10,9,9,7,8,14,24,20,43,0]
["Sonora",3,8,5,5,15,19,14,19,10,14,23,20,20,25,33,46,48,52,66,1,3,2,2,3,8,14,11,16,5,11,13,13,14,14,19,32,21,24,22,1,0,6,3,2,7,5,3,3,5,3,10,7,6,11,14,14,27,28,44,0]
["Tabasco",6,11,2,6,9,18,13,8,10,8,8,11,11,17,11,21,17,12,22,0,2,6,2,4,6,15,9,5,7,6,6,4,6,12,6,14,10,7,11,0,4,5,0,2,3,3,4,3,3,2,2,7,5,5,5,7,7,5,11,0]
["Tamaulipas",11,4,5,6,14,8,8,8,7,10,15,16,20,13,24,26,37,40,59,0,4,2,2,1,10,4,8,5,4,7,11,12,11,8,12,15,25,15,19,0,7,2,3,5,4,4,0,3,3,3,4,4,9,5,12,11,12,25,40,0]
["Tlaxcala",3,2,2,1,7,8,7,3,3,6,9,6,5,8,10,7,13,11,27,0,2,1,1,0,5,5,3,3,2,5,6,3,3,6,8,6,8,6,15,0,1,1,1,1,2,3,4,0,1,1,3,3,2,2,2,1,5,5,12,0]
["Veracruz",6,18,12,17,25,29,26,26,21,39,46,43,48,65,45,82,85,101,144,1,4,6,5,10,19,21,12,15,14,21,34,25,28,42,26,40,42,54,66,1,2,12,7,7,6,8,14,11,7,18,12,18,20,23,19,42,43,47,78,0]
["Yucatán",2,6,5,7,7,11,10,5,4,6,14,7,11,11,12,14,26,32,26,1,1,5,3,6,2,5,5,4,1,5,5,5,7,7,10,10,16,20,9,1,1,1,2,1,5,6,5,1,3,1,9,2,4,4,2,4,10,12,17,0]
["Zacatecas",1,7,5,3,12,5,2,7,3,7,10,5,5,16,6,12,22,35,48,0,1,6,5,3,8,5,1,4,0,4,5,2,4,9,1,5,13,16,23,0,0,1,0,0,4,0,1,3,3,3,5,3,1,7,5,7,9,19,25,0]

{"sheet":"10 T-GCM-R_Edad2021","index":99,"n_rows":34,"n_cols":61,"rows_kept":34,"cut":false,"hidden":true,"merged":[]}
[1,2,3,4,5,6,7,8,9,10,11,12,13,14,15,16,17,18,19,20,21,22,23,24,25,26,27,28,29,30,31,32,33,34,35,36,37,38,39,40,41,42,43,44,45,46,47,48,49,50,51,52,53,54,55,56,57,58,59,60,61]
["ESTADO","Menores de 1 año","1-4 años","5-9 años","10-14 años","15-19 años","20-24 años","25-29 años","30-34 años","35-39 años","40-44 años","45-49 años","50-54 años","55-59 años","60-64 años","65-69 años","70-74 años","75-79 años","80-84 años","85 años y más","No especificado","H Menores de 1 año","H 1-4 años","H 5-9 años","H 10-14 años","H 15-19 años","H 20-24 años","H 25-29 años","H 30-34 años","H 35-39 años","H 40-44 años","H 45-49 años","H 50-54 años","H 55-59 años","H 60-64 años","H 65-69 años","H 70-74 años","H 75-79 años","H 80-84 años","H 85 años y más","H No especificado","   M Menores de 1 año ","M 1-4 años","M 5-9 años","M 10-14 años","M 15-19 años","M 20-24 años","M 25-29 años","M 30-34 años","M 35-39 años","M 40-44 años","M 45-49 años","M 50-54 años","M 55-59 años","M 60-64 años","M 65-69 años","M 70-74 años","M 75-79 años","M 80-84 años","M 85 años y    ás","M No especificado"]
["Aguascalientes",1,1,4,4,6,6,2,5,2,3,7,8,8,16,13,18,17,14,33,0,0,0,2,3,3,4,2,2,1,1,3,4,5,5,9,9,7,7,13,0,1,1,2,1,3,2,0,3,1,2,4,4,3,11,4,9,10,7,20,0]
["Baja California",1,5,4,11,11,19,15,23,15,23,21,32,24,21,19,29,39,43,54,0,0,2,2,5,6,11,10,14,12,18,13,22,15,11,15,13,20,17,24,0,1,3,2,6,5,8,5,9,3,5,8,10,9,10,4,16,19,26,30,0]
["Baja California Sur",1,2,2,2,0,3,0,2,5,8,4,2,5,7,3,8,7,14,5,0,1,0,1,1,0,3,0,2,0,7,3,2,3,3,2,4,3,7,4,0,0,2,1,1,0,0,0,0,5,1,1,0,2,4,1,4,4,7,1,0]
["Campeche",3,2,3,1,6,3,1,4,3,1,7,3,4,4,5,6,4,10,12,0,2,2,1,1,6,3,1,4,2,1,3,1,2,2,3,2,3,3,5,0,1,0,2,0,0,0,0,0,1,0,4,2,2,2,2,4,1,7,7,0]
["Coahuila",7,10,6,4,8,10,17,11,12,11,12,26,20,8,19,31,29,30,38,0,3,6,3,2,4,6,14,5,7,7,7,20,12,2,13,18,17,14,12,0,4,4,3,2,4,4,3,6,5,4,5,6,8,6,6,13,12,16,26,0]
["Colima",0,0,1,1,4,2,2,5,2,3,5,9,6,5,8,10,9,15,11,0,0,0,1,1,3,2,2,3,2,3,4,4,6,4,5,7,4,10,6,0,0,0,0,0,1,0,0,2,0,0,1,5,0,1,3,3,5,5,5,0]
["Chiapas",22,33,15,20,24,23,20,23,24,19,27,13,30,19,35,28,46,47,41,0,9,20,7,14,16,17,13,17,14,12,18,6,16,8,24,17,24,22,19,0,13,13,8,6,8,6,7,6,10,7,9,7,14,11,11,11,22,25,22,0]
["Chihuahua",6,15,5,12,26,22,16,13,18,16,27,26,26,32,23,43,36,43,51,1,4,11,3,7,16,14,13,8,14,9,17,17,20,19,11,21,17,18,17,1,2,4,2,5,10,8,3,5,4,7,10,9,6,13,12,22,19,25,34,0]
["Ciudad de México",14,23,19,33,40,35,36,57,72,51,73,74,84,97,108,106,109,107,175,0,8,16,13,19,28,23,23,35,41,27,41,45,46,61,61,54,57,44,62,0,6,7,6,14,12,12,13,22,31,24,32,29,38,36,47,52,52,63,113,0]
["Durango",3,10,3,3,3,4,4,8,4,5,8,6,15,5,11,12,12,17,11,0,2,6,2,2,2,2,2,6,2,4,5,3,8,3,5,6,9,5,5,0,1,4,1,1,1,2,2,2,2,1,3,3,7,2,6,6,3,12,6,0]
["Guanajuato",5,14,16,13,27,25,27,16,30,33,30,21,32,35,41,34,52,40,92,0,3,8,5,6,20,16,15,8,19,19,16,12,19,19,23,27,21,22,49,0,2,6,11,7,7,9,12,8,11,14,14,9,13,16,18,7,31,18,43,0]
["Guerrero",5,5,7,8,7,9,7,10,12,14,6,15,14,16,21,18,18,34,35,1,1,3,4,6,4,3,5,6,6,4,3,7,9,9,14,12,9,18,9,1,4,2,3,2,3,6,2,4,6,10,3,8,5,7,7,6,9,16,26,0]
["Hidalgo",2,5,5,9,12,15,10,10,9,7,13,12,21,19,14,12,17,17,28,0,1,3,3,3,9,9,5,7,5,4,7,7,14,9,5,7,11,9,11,0,1,2,2,6,3,6,5,3,4,3,6,5,7,10,9,5,6,8,17,0]
["Jalisco",11,21,17,21,40,40,31,38,40,47,57,60,64,62,82,86,116,116,163,0,9,13,8,13,24,23,23,29,18,25,33,32,29,38,42,45,56,56,66,0,2,8,9,8,16,17,8,9,22,22,24,28,35,24,40,41,60,60,97,0]
["México",30,30,16,29,63,50,54,44,48,61,47,57,72,78,72,84,79,100,99,3,25,16,9,13,41,37,30,29,27,31,22,31,38,40,40,53,43,42,44,2,5,14,7,16,22,13,24,15,21,30,25,26,34,38,32,31,36,58,55,1]
["Michoacán",7,10,12,9,12,12,11,14,14,20,12,26,34,38,31,41,32,59,81,0,5,6,6,5,8,10,8,5,4,10,7,16,25,22,17,21,16,29,34,0,2,4,6,4,4,2,3,9,10,10,5,10,9,16,14,20,16,30,47,0]
["Morelos",1,5,3,2,11,5,9,6,6,10,8,7,16,15,16,18,16,29,36,0,0,2,1,1,7,3,7,4,4,6,4,3,9,7,8,10,9,12,13,0,1,3,2,1,4,2,2,2,2,4,4,4,7,8,8,8,7,17,23,0]
["Nayarit",1,2,1,8,6,4,3,4,1,9,10,12,15,8,12,12,20,23,33,1,1,0,0,4,4,0,1,2,1,7,6,5,11,7,7,5,14,17,13,1,0,2,1,4,2,4,2,2,0,2,4,7,4,1,5,7,6,6,20,0]
["Nuevo León",8,6,7,13,21,11,20,15,19,24,29,32,43,41,46,58,84,81,117,1,4,3,3,9,14,10,11,7,8,14,22,21,25,22,34,28,45,37,47,1,4,3,4,4,7,1,9,8,11,10,7,11,18,19,12,30,39,44,70,0]
["Oaxaca",5,11,8,14,19,12,18,14,21,21,18,15,23,25,28,50,43,51,82,0,1,6,6,8,12,8,12,6,14,10,10,9,10,19,17,26,25,34,41,0,4,5,2,6,7,4,6,8,7,11,8,6,13,6,11,24,18,17,41,0]
["Puebla",7,23,18,18,44,16,32,25,20,27,30,31,31,33,37,31,44,60,60,0,6,11,8,11,31,13,22,16,12,20,19,18,15,20,15,12,19,28,25,0,1,12,10,7,13,3,10,9,8,7,11,13,16,13,22,19,25,32,35,0]
["Querétaro",6,2,6,3,11,12,8,4,9,9,14,8,12,15,6,15,20,15,20,0,5,1,3,2,6,8,3,3,5,5,8,5,6,13,3,8,12,9,12,0,1,1,3,1,5,4,5,1,4,4,6,3,6,2,3,7,8,6,8,0]
["Quintana Roo",2,5,5,5,3,5,6,6,4,5,12,11,10,8,7,15,9,11,11,0,0,3,4,2,2,3,5,4,3,5,8,2,7,6,4,9,5,7,3,0,2,2,1,3,1,2,1,2,1,0,4,9,3,2,3,6,4,4,8,0]
["San Luis Potosí",0,9,9,9,9,10,11,18,21,15,15,20,15,18,16,19,25,28,43,0,0,5,3,3,6,6,7,15,16,8,8,15,8,12,11,7,16,15,20,0,0,4,6,6,3,4,4,3,5,7,7,5,7,6,5,12,9,13,23,0]
["Sinaloa",9,8,4,2,11,6,9,7,13,11,13,13,16,17,28,25,45,50,57,0,3,4,1,1,7,3,5,4,8,7,8,8,11,13,18,15,22,24,25,0,6,4,3,1,4,3,4,3,5,4,5,5,5,4,10,10,23,26,32,0]
["Sonora",2,2,9,5,5,22,19,12,16,23,30,24,22,31,29,37,35,54,60,0,1,0,4,2,4,13,14,8,10,16,19,14,14,18,12,23,12,27,18,0,1,2,5,3,1,9,5,4,6,7,11,10,8,13,17,14,23,27,42,0]
["Tabasco",7,14,7,14,7,8,13,10,8,8,13,3,17,12,11,23,15,19,31,0,4,5,4,6,6,5,10,8,4,4,7,2,9,9,8,9,9,12,9,0,3,9,3,8,1,3,3,2,4,4,6,1,8,3,3,14,6,7,22,0]
["Tamaulipas",5,1,5,2,8,9,10,6,12,11,11,20,13,19,19,31,28,43,66,0,1,1,0,1,5,5,6,5,8,5,7,10,7,12,12,17,15,21,19,0,4,0,5,1,3,4,4,1,4,6,4,10,6,7,7,14,13,22,47,0]
["Tlaxcala",2,0,2,5,10,11,6,3,2,6,7,6,5,5,8,6,5,11,7,0,2,0,2,1,7,10,4,3,1,3,2,2,2,3,5,3,3,8,4,0,0,0,0,4,3,1,2,0,1,3,5,4,3,2,3,3,2,3,3,0]
["Veracruz",11,15,16,20,23,24,24,35,31,34,37,52,42,39,75,63,99,115,159,0,7,9,10,13,17,16,16,26,18,24,22,27,26,21,44,34,51,52,66,0,4,6,6,7,6,8,8,9,13,10,15,25,16,18,31,29,48,63,93,0]
["Yucatán",2,4,1,5,12,8,8,10,4,5,13,10,2,16,11,18,19,33,37,0,2,2,1,0,9,5,4,5,1,1,11,6,1,7,6,13,10,18,17,0,0,2,0,5,3,3,4,5,3,4,2,4,1,9,5,5,9,15,20,0]
["Zacatecas",4,3,6,6,7,6,3,7,7,8,5,14,9,8,11,13,24,29,34,0,3,1,3,3,6,5,1,5,5,5,2,11,7,3,6,5,16,12,13,0,1,2,3,3,1,1,2,2,2,3,3,3,2,5,5,8,8,17,21,0]

{"sheet":"10 T-GCM-R_Edad2022","index":100,"n_rows":34,"n_cols":61,"rows_kept":34,"cut":false,"hidden":true,"merged":[]}
[1,2,3,4,5,6,7,8,9,10,11,12,13,14,15,16,17,18,19,20,21,22,23,24,25,26,27,28,29,30,31,32,33,34,35,36,37,38,39,40,41,42,43,44,45,46,47,48,49,50,51,52,53,54,55,56,57,58,59,60,61]
["ESTADO","Menores de 1 año","1-4 años","5-9 años","10-14 años","15-19 años","20-24 años","25-29 años","30-34 años","35-39 años","40-44 años","45-49 años","50-54 años","55-59 años","60-64 años","65-69 años","70-74 años","75-79 años","80-84 años","85 años y más","No especificado","H Menores de 1 año","H 1-4 años","H 5-9 años","H 10-14 años","H 15-19 años","H 20-24 años","H 25-29 años","H 30-34 años","H 35-39 años","H 40-44 años","H 45-49 años","H 50-54 años","H 55-59 años","H 60-64 años","H 65-69 años","H 70-74 años","H 75-79 años","H 80-84 años","H 85 años y más","H No especificado","   M Menores de 1 año ","M 1-4 años","M 5-9 años","M 10-14 años","M 15-19 años","M 20-24 años","M 25-29 años","M 30-34 años","M 35-39 años","M 40-44 años","M 45-49 años","M 50-54 años","M 55-59 años","M 60-64 años","M 65-69 años","M 70-74 años","M 75-79 años","M 80-84 años","M 85 años y    ás","M No especificado"]
["Aguascalientes",1,2,1,2,4,16,8,6,6,9,6,8,10,8,13,20,23,21,32,0,1,1,0,2,3,12,4,5,1,4,3,3,7,1,8,5,13,8,10,0,0,1,1,0,1,4,4,1,5,5,3,5,3,7,5,15,10,13,22,0]
["Baja California",4,6,5,9,20,16,20,14,14,20,21,17,21,32,27,34,31,43,54,3,3,3,3,5,17,10,14,10,7,14,15,9,15,20,19,15,15,21,21,3,1,3,2,4,3,6,6,4,7,6,6,8,6,12,8,19,16,22,33,0]
["Baja California Sur",1,1,0,2,2,3,3,4,2,3,4,7,3,3,5,10,13,8,6,0,1,1,0,1,1,3,2,3,1,3,3,4,1,2,2,6,7,4,1,0,0,0,0,1,1,0,1,1,1,0,1,3,2,1,3,4,6,4,5,0]
["Campeche",2,5,4,3,1,2,1,4,4,1,4,4,8,4,5,12,5,11,8,1,1,3,2,1,1,2,1,3,2,0,2,2,5,3,2,7,4,3,4,1,1,2,2,2,0,0,0,1,2,1,2,2,3,1,3,5,1,8,4,0]
["Coahuila",2,11,6,3,11,10,10,11,13,16,21,26,21,24,32,35,37,41,63,1,0,6,3,0,8,6,7,7,7,12,13,14,12,14,15,22,14,24,24,1,2,5,3,3,3,4,3,4,6,4,8,12,9,10,17,13,23,17,39,0]
["Colima",3,0,2,3,2,2,2,5,6,0,8,5,8,12,4,8,12,8,18,1,3,0,1,2,2,1,2,3,4,0,4,5,5,7,3,6,9,8,7,1,0,0,1,1,0,1,0,2,2,0,4,0,3,5,1,2,3,0,11,0]
["Chiapas",21,26,20,18,34,20,27,14,20,17,26,28,15,24,32,26,45,47,58,0,10,19,13,12,22,9,18,9,9,9,20,17,5,11,16,12,22,28,32,0,11,7,7,6,12,11,9,5,11,8,6,11,10,13,16,14,23,19,26,0]
["Chihuahua",8,9,9,7,28,19,12,15,15,28,32,28,31,40,33,39,52,58,58,1,2,5,7,5,20,13,10,8,9,21,21,19,17,25,16,20,33,29,17,1,6,4,2,2,8,6,2,7,6,7,11,9,14,15,17,19,19,29,41,0]
["Ciudad de México",19,31,21,24,48,49,46,41,46,50,78,67,81,96,116,109,130,126,199,0,9,18,11,16,28,33,31,31,27,33,48,37,42,54,54,60,63,58,60,0,10,13,10,8,20,16,15,10,19,17,30,30,39,42,62,49,67,68,139,0]
["Durango",3,4,2,3,4,4,5,6,6,9,9,5,8,15,7,16,13,14,10,0,1,2,2,1,4,3,4,3,3,4,8,3,6,8,3,9,11,8,2,0,2,2,0,2,0,1,1,3,3,5,1,2,2,7,4,7,2,6,8,0]
["Guanajuato",19,20,15,17,33,27,27,17,22,21,32,35,20,26,37,33,49,46,67,0,12,6,3,6,24,19,18,12,15,14,20,21,14,15,20,20,30,22,27,0,7,14,12,11,9,8,9,5,7,7,12,14,6,11,17,13,19,24,40,0]
["Guerrero",2,14,6,9,7,7,9,5,7,12,10,6,16,10,18,22,23,40,44,0,1,10,4,4,5,6,6,1,5,7,8,3,7,7,13,15,12,14,20,0,1,4,2,5,2,1,3,4,2,5,2,3,9,3,5,7,11,26,24,0]
["Hidalgo",2,4,8,12,11,9,8,13,11,9,15,15,21,21,13,22,25,32,27,0,0,2,3,8,7,5,4,7,6,5,9,7,17,11,6,12,16,18,8,0,2,2,5,4,4,4,4,6,5,4,6,8,4,10,7,10,9,14,19,0]
["Jalisco",9,22,20,27,46,30,31,30,36,52,58,72,61,63,79,80,115,90,175,2,6,9,13,17,26,16,21,18,22,31,33,44,38,40,47,46,54,36,72,2,3,13,7,10,20,14,10,12,14,21,25,28,23,23,32,34,61,54,103,0]
["México",29,42,45,53,68,65,57,41,61,52,66,80,80,91,92,70,101,94,152,0,18,21,31,29,39,45,29,26,37,35,37,51,44,47,50,42,50,43,54,0,11,21,14,24,29,20,28,15,24,17,29,29,36,44,42,28,51,51,98,0]
["Michoacán",8,13,15,15,17,16,12,17,16,11,23,22,26,21,39,29,40,39,91,1,5,8,10,11,15,9,8,8,11,7,13,15,12,12,20,17,21,16,34,1,3,5,5,4,2,7,4,9,5,4,10,7,14,9,19,12,19,23,57,0]
["Morelos",2,5,3,8,4,9,7,9,6,12,13,13,13,10,10,15,22,24,37,0,1,2,3,6,2,4,2,8,5,7,8,8,11,5,7,8,13,9,18,0,1,3,0,2,2,5,5,1,1,5,5,5,2,5,3,7,9,15,19,0]
["Nayarit",3,5,0,1,1,9,6,6,4,5,6,7,8,14,9,12,15,25,34,1,3,5,0,0,1,3,5,5,2,3,4,5,5,10,4,9,8,12,11,0,0,0,0,1,0,6,1,1,2,2,2,2,3,4,5,3,7,13,23,1]
["Nuevo León",11,9,13,18,17,27,20,15,26,29,28,36,56,53,50,56,83,97,168,2,3,4,9,7,13,18,13,6,14,22,10,21,38,32,20,40,45,44,54,1,8,5,4,11,4,9,7,9,12,7,18,15,18,21,30,16,38,53,114,1]
["Oaxaca",9,12,15,16,16,15,22,20,11,19,18,16,24,19,20,31,40,47,74,0,5,3,8,6,11,10,14,11,6,13,15,8,17,12,12,16,21,18,35,0,4,9,7,10,5,5,8,9,5,6,3,8,7,7,8,15,19,29,39,0]
["Puebla",12,17,24,34,34,42,29,29,24,25,28,22,43,31,42,39,50,45,57,5,5,11,19,18,25,24,20,11,14,16,16,15,27,19,24,26,25,21,27,4,7,6,5,16,9,18,9,18,10,9,12,7,16,12,18,13,25,24,30,1]
["Querétaro",2,14,4,6,13,12,11,11,13,13,14,15,14,10,21,16,20,26,31,0,1,7,1,3,6,10,8,5,8,6,6,11,9,4,12,8,8,8,13,0,1,7,3,3,7,2,3,6,5,7,8,4,5,6,9,8,12,18,18,0]
["Quintana Roo",1,5,5,5,2,6,4,4,9,8,2,8,13,7,10,15,19,11,14,0,0,2,5,4,0,4,3,3,6,3,2,4,9,5,6,8,8,5,5,0,1,3,0,1,2,2,1,1,3,5,0,4,4,2,4,7,11,6,9,0]
["San Luis Potosí",5,10,10,5,21,16,10,6,14,14,22,24,28,19,30,25,30,35,49,0,2,5,6,2,16,11,5,4,8,9,12,17,14,14,15,15,17,24,19,0,3,5,4,3,5,5,5,2,6,5,10,7,14,5,15,10,13,11,30,0]
["Sinaloa",4,4,6,3,6,9,8,7,9,9,14,12,10,10,22,40,38,59,65,0,2,1,3,3,3,5,7,1,4,4,7,7,5,7,9,21,19,28,27,0,2,3,3,0,3,4,1,6,5,5,7,5,5,3,13,19,19,31,38,0]
["Sonora",2,4,3,10,14,10,12,14,13,14,19,22,21,29,36,43,62,58,65,0,1,3,2,7,9,9,8,9,10,11,10,12,15,15,24,28,33,32,23,0,1,1,1,3,5,1,4,5,3,3,9,10,6,14,12,15,29,26,42,0]
["Tabasco",5,9,8,7,17,10,5,11,6,9,14,14,14,14,12,17,20,17,20,0,3,4,5,4,11,6,4,4,2,8,6,10,8,13,5,11,15,9,9,0,2,5,3,3,6,4,1,7,4,1,8,4,6,1,7,6,5,8,11,0]
["Tamaulipas",5,7,3,10,11,9,7,12,10,9,16,16,16,26,17,31,40,56,65,0,3,5,1,5,6,4,4,7,3,2,10,13,9,16,8,15,28,23,26,0,2,2,2,5,5,5,3,5,7,7,6,3,7,10,9,16,12,33,39,0]
["Tlaxcala",1,6,5,6,11,3,10,5,6,5,6,4,5,6,10,6,8,12,10,0,0,4,4,5,8,2,7,3,2,3,6,1,3,4,6,4,4,6,7,0,1,2,1,1,3,1,3,2,4,2,0,3,2,2,4,2,4,6,3,0]
["Veracruz",21,16,7,15,22,31,20,27,29,42,25,46,60,63,67,84,100,98,147,0,11,8,2,9,14,23,11,19,15,30,15,26,39,36,35,56,49,52,64,0,10,8,5,6,8,8,9,8,14,12,10,20,21,27,32,28,51,46,83,0]
["Yucatán",7,1,4,4,8,9,8,11,7,8,7,14,17,15,15,11,21,27,17,0,2,0,3,1,6,6,4,10,5,4,3,5,11,8,8,6,10,12,7,0,5,1,1,3,2,3,4,1,2,4,4,9,6,7,7,5,11,15,10,0]
["Zacatecas",2,7,6,3,13,6,7,9,5,6,9,14,8,9,16,13,21,12,33,0,1,4,2,3,10,5,6,5,3,6,2,11,4,6,9,8,8,8,11,0,1,3,4,0,3,1,1,4,2,0,7,3,4,3,7,5,13,4,22,0]

{"sheet":"10 GCM-G_Edad","index":101,"n_rows":24,"n_cols":10,"rows_kept":24,"cut":false,"hidden":false,"merged":[[0,0,0,9]]}
["Enfermedades del sistema nervioso"]
["SELECCIONE UNA ENTIDAD"]
["Guerrero","2020","H - 2020","M - 2020","2021","H - 2021","M - 2021","2022","H - 2022","M - 2022"]
["Menores de 1 año",{"$f":"VLOOKUP($A$3,'10 T-GCM-R_Edad2020  '!$A$2:$BI$34,2,0)","v":6},{"$f":"VLOOKUP($A$3,'10 T-GCM-R_Edad2020  '!$A$2:$BI$34,22,0)","v":4},{"$f":"VLOOKUP($A$3,'10 T-GCM-R_Edad2020  '!$A$2:$BI$34,42,0)","v":2},{"$f":"VLOOKUP($A$3,'10 T-GCM-R_Edad2021'!$A$2:$BI$34,2,0)","v":5},{"$f":"VLOOKUP($A$3,'10 T-GCM-R_Edad2021'!$A$2:$BI$34,22,0)","v":1},{"$f":"VLOOKUP($A$3,'10 T-GCM-R_Edad2021'!$A$2:$BI$34,42,0)","v":4},{"$f":"VLOOKUP($A$3,'10 T-GCM-R_Edad2022'!$A$2:$BI$34,2,0)","v":2},{"$f":"VLOOKUP($A$3,'10 T-GCM-R_Edad2022'!$A$2:$BI$34,22,0)","v":1},{"$f":"VLOOKUP($A$3,'10 T-GCM-R_Edad2022'!$A$2:$BI$34,42,0)","v":1}]
["1-4 años",{"$f":"VLOOKUP($A$3,'10 T-GCM-R_Edad2020  '!$A$2:$BI$34,3,0)","v":8},{"$f":"VLOOKUP($A$3,'10 T-GCM-R_Edad2020  '!$A$2:$BI$34,23,0)","v":3},{"$f":"VLOOKUP($A$3,'10 T-GCM-R_Edad2020  '!$A$2:$BI$34,43,0)","v":5},{"$f":"VLOOKUP($A$3,'10 T-GCM-R_Edad2021'!$A$2:$BI$34,3,0)","v":5},{"$f":"VLOOKUP($A$3,'10 T-GCM-R_Edad2021'!$A$2:$BI$34,23,0)","v":3},{"$f":"VLOOKUP($A$3,'10 T-GCM-R_Edad2021'!$A$2:$BI$34,43,0)","v":2},{"$f":"VLOOKUP($A$3,'10 T-GCM-R_Edad2022'!$A$2:$BI$34,3,0)","v":14},{"$f":"VLOOKUP($A$3,'10 T-GCM-R_Edad2022'!$A$2:$BI$34,23,0)","v":10},{"$f":"VLOOKUP($A$3,'10 T-GCM-R_Edad2022'!$A$2:$BI$34,43,0)","v":4}]
["5-9 años",{"$f":"VLOOKUP($A$3,'10 T-GCM-R_Edad2020  '!$A$2:$BI$34,4,0)","v":8},{"$f":"VLOOKUP($A$3,'10 T-GCM-R_Edad2020  '!$A$2:$BI$34,24,0)","v":3},{"$f":"VLOOKUP($A$3,'10 T-GCM-R_Edad2020  '!$A$2:$BI$34,44,0)","v":5},{"$f":"VLOOKUP($A$3,'10 T-GCM-R_Edad2021'!$A$2:$BI$34,4,0)","v":7},{"$f":"VLOOKUP($A$3,'10 T-GCM-R_Edad2021'!$A$2:$BI$34,24,0)","v":4},{"$f":"VLOOKUP($A$3,'10 T-GCM-R_Edad2021'!$A$2:$BI$34,44,0)","v":3},{"$f":"VLOOKUP($A$3,'10 T-GCM-R_Edad2022'!$A$2:$BI$34,4,0)","v":6},{"$f":"VLOOKUP($A$3,'10 T-GCM-R_Edad2022'!$A$2:$BI$34,24,0)","v":4},{"$f":"VLOOKUP($A$3,'10 T-GCM-R_Edad2022'!$A$2:$BI$34,44,0)","v":2}]
["10-14 años",{"$f":"VLOOKUP($A$3,'10 T-GCM-R_Edad2020  '!$A$2:$BI$34,5,0)","v":11},{"$f":"VLOOKUP($A$3,'10 T-GCM-R_Edad2020  '!$A$2:$BI$34,25,0)","v":6},{"$f":"VLOOKUP($A$3,'10 T-GCM-R_Edad2020  '!$A$2:$BI$34,45,0)","v":5},{"$f":"VLOOKUP($A$3,'10 T-GCM-R_Edad2021'!$A$2:$BI$34,5,0)","v":8},{"$f":"VLOOKUP($A$3,'10 T-GCM-R_Edad2021'!$A$2:$BI$34,25,0)","v":6},{"$f":"VLOOKUP($A$3,'10 T-GCM-R_Edad2021'!$A$2:$BI$34,45,0)","v":2},{"$f":"VLOOKUP($A$3,'10 T-GCM-R_Edad2022'!$A$2:$BI$34,5,0)","v":9},{"$f":"VLOOKUP($A$3,'10 T-GCM-R_Edad2022'!$A$2:$BI$34,25,0)","v":4},{"$f":"VLOOKUP($A$3,'10 T-GCM-R_Edad2022'!$A$2:$BI$34,45,0)","v":5}]
["15-19 años",{"$f":"VLOOKUP($A$3,'10 T-GCM-R_Edad2020  '!$A$2:$BI$34,6,0)","v":3},{"$f":"VLOOKUP($A$3,'10 T-GCM-R_Edad2020  '!$A$2:$BI$34,26,0)","v":2},{"$f":"VLOOKUP($A$3,'10 T-GCM-R_Edad2020  '!$A$2:$BI$34,46,0)","v":1},{"$f":"VLOOKUP($A$3,'10 T-GCM-R_Edad2021'!$A$2:$BI$34,6,0)","v":7},{"$f":"VLOOKUP($A$3,'10 T-GCM-R_Edad2021'!$A$2:$BI$34,26,0)","v":4},{"$f":"VLOOKUP($A$3,'10 T-GCM-R_Edad2021'!$A$2:$BI$34,46,0)","v":3},{"$f":"VLOOKUP($A$3,'10 T-GCM-R_Edad2022'!$A$2:$BI$34,6,0)","v":7},{"$f":"VLOOKUP($A$3,'10 T-GCM-R_Edad2022'!$A$2:$BI$34,26,0)","v":5},{"$f":"VLOOKUP($A$3,'10 T-GCM-R_Edad2022'!$A$2:$BI$34,46,0)","v":2}]
["20-24 años",{"$f":"VLOOKUP($A$3,'10 T-GCM-R_Edad2020  '!$A$2:$BI$34,7,0)","v":6},{"$f":"VLOOKUP($A$3,'10 T-GCM-R_Edad2020  '!$A$2:$BI$34,27,0)","v":5},{"$f":"VLOOKUP($A$3,'10 T-GCM-R_Edad2020  '!$A$2:$BI$34,47,0)","v":1},{"$f":"VLOOKUP($A$3,'10 T-GCM-R_Edad2021'!$A$2:$BI$34,7,0)","v":9},{"$f":"VLOOKUP($A$3,'10 T-GCM-R_Edad2021'!$A$2:$BI$34,27,0)","v":3},{"$f":"VLOOKUP($A$3,'10 T-GCM-R_Edad2021'!$A$2:$BI$34,47,0)","v":6},{"$f":"VLOOKUP($A$3,'10 T-GCM-R_Edad2022'!$A$2:$BI$34,7,0)","v":7},{"$f":"VLOOKUP($A$3,'10 T-GCM-R_Edad2022'!$A$2:$BI$34,27,0)","v":6},{"$f":"VLOOKUP($A$3,'10 T-GCM-R_Edad2022'!$A$2:$BI$34,47,0)","v":1}]
["25-29 años",{"$f":"VLOOKUP($A$3,'10 T-GCM-R_Edad2020  '!$A$2:$BI$34,8,0)","v":11},{"$f":"VLOOKUP($A$3,'10 T-GCM-R_Edad2020  '!$A$2:$BI$34,28,0)","v":6},{"$f":"VLOOKUP($A$3,'10 T-GCM-R_Edad2020  '!$A$2:$BI$34,48,0)","v":5},{"$f":"VLOOKUP($A$3,'10 T-GCM-R_Edad2021'!$A$2:$BI$34,8,0)","v":7},{"$f":"VLOOKUP($A$3,'10 T-GCM-R_Edad2021'!$A$2:$BI$34,28,0)","v":5},{"$f":"VLOOKUP($A$3,'10 T-GCM-R_Edad2021'!$A$2:$BI$34,48,0)","v":2},{"$f":"VLOOKUP($A$3,'10 T-GCM-R_Edad2022'!$A$2:$BI$34,8,0)","v":9},{"$f":"VLOOKUP($A$3,'10 T-GCM-R_Edad2022'!$A$2:$BI$34,28,0)","v":6},{"$f":"VLOOKUP($A$3,'10 T-GCM-R_Edad2022'!$A$2:$BI$34,48,0)","v":3}]
["30-34 años",{"$f":"VLOOKUP($A$3,'10 T-GCM-R_Edad2020  '!$A$2:$BI$34,9,0)","v":4},{"$f":"VLOOKUP($A$3,'10 T-GCM-R_Edad2020  '!$A$2:$BI$34,29,0)","v":3},{"$f":"VLOOKUP($A$3,'10 T-GCM-R_Edad2020  '!$A$2:$BI$34,49,0)","v":1},{"$f":"VLOOKUP($A$3,'10 T-GCM-R_Edad2021'!$A$2:$BI$34,9,0)","v":10},{"$f":"VLOOKUP($A$3,'10 T-GCM-R_Edad2021'!$A$2:$BI$34,29,0)","v":6},{"$f":"VLOOKUP($A$3,'10 T-GCM-R_Edad2021'!$A$2:$BI$34,49,0)","v":4},{"$f":"VLOOKUP($A$3,'10 T-GCM-R_Edad2022'!$A$2:$BI$34,9,0)","v":5},{"$f":"VLOOKUP($A$3,'10 T-GCM-R_Edad2022'!$A$2:$BI$34,29,0)","v":1},{"$f":"VLOOKUP($A$3,'10 T-GCM-R_Edad2022'!$A$2:$BI$34,49,0)","v":4}]
["35-39 años",{"$f":"VLOOKUP($A$3,'10 T-GCM-R_Edad2020  '!$A$2:$BI$34,10,0)","v":11},{"$f":"VLOOKUP($A$3,'10 T-GCM-R_Edad2020  '!$A$2:$BI$34,30,0)","v":7},{"$f":"VLOOKUP($A$3,'10 T-GCM-R_Edad2020  '!$A$2:$BI$34,50,0)","v":4},{"$f":"VLOOKUP($A$3,'10 T-GCM-R_Edad2021'!$A$2:$BI$34,10,0)","v":12},{"$f":"VLOOKUP($A$3,'10 T-GCM-R_Edad2021'!$A$2:$BI$34,30,0)","v":6},{"$f":"VLOOKUP($A$3,'10 T-GCM-R_Edad2021'!$A$2:$BI$34,50,0)","v":6},{"$f":"VLOOKUP($A$3,'10 T-GCM-R_Edad2022'!$A$2:$BI$34,10,0)","v":7},{"$f":"VLOOKUP($A$3,'10 T-GCM-R_Edad2022'!$A$2:$BI$34,30,0)","v":5},{"$f":"VLOOKUP($A$3,'10 T-GCM-R_Edad2022'!$A$2:$BI$34,50,0)","v":2}]
["40-44 años",{"$f":"VLOOKUP($A$3,'10 T-GCM-R_Edad2020  '!$A$2:$BI$34,11,0)","v":5},{"$f":"VLOOKUP($A$3,'10 T-GCM-R_Edad2020  '!$A$2:$BI$34,31,0)","v":2},{"$f":"VLOOKUP($A$3,'10 T-GCM-R_Edad2020  '!$A$2:$BI$34,51,0)","v":3},{"$f":"VLOOKUP($A$3,'10 T-GCM-R_Edad2021'!$A$2:$BI$34,11,0)","v":14},{"$f":"VLOOKUP($A$3,'10 T-GCM-R_Edad2021'!$A$2:$BI$34,31,0)","v":4},{"$f":"VLOOKUP($A$3,'10 T-GCM-R_Edad2021'!$A$2:$BI$34,51,0)","v":10},{"$f":"VLOOKUP($A$3,'10 T-GCM-R_Edad2022'!$A$2:$BI$34,11,0)","v":12},{"$f":"VLOOKUP($A$3,'10 T-GCM-R_Edad2022'!$A$2:$BI$34,31,0)","v":7},{"$f":"VLOOKUP($A$3,'10 T-GCM-R_Edad2022'!$A$2:$BI$34,51,0)","v":5}]
["45-49 años",{"$f":"VLOOKUP($A$3,'10 T-GCM-R_Edad2020  '!$A$2:$BI$34,12,0)","v":10},{"$f":"VLOOKUP($A$3,'10 T-GCM-R_Edad2020  '!$A$2:$BI$34,32,0)","v":9},{"$f":"VLOOKUP($A$3,'10 T-GCM-R_Edad2020  '!$A$2:$BI$34,52,0)","v":1},{"$f":"VLOOKUP($A$3,'10 T-GCM-R_Edad2021'!$A$2:$BI$34,12,0)","v":6},{"$f":"VLOOKUP($A$3,'10 T-GCM-R_Edad2021'!$A$2:$BI$34,32,0)","v":3},{"$f":"VLOOKUP($A$3,'10 T-GCM-R_Edad2021'!$A$2:$BI$34,52,0)","v":3},{"$f":"VLOOKUP($A$3,'10 T-GCM-R_Edad2022'!$A$2:$BI$34,12,0)","v":10},{"$f":"VLOOKUP($A$3,'10 T-GCM-R_Edad2022'!$A$2:$BI$34,32,0)","v":8},{"$f":"VLOOKUP($A$3,'10 T-GCM-R_Edad2022'!$A$2:$BI$34,52,0)","v":2}]
["50-54 años",{"$f":"VLOOKUP($A$3,'10 T-GCM-R_Edad2020  '!$A$2:$BI$34,13,0)","v":9},{"$f":"VLOOKUP($A$3,'10 T-GCM-R_Edad2020  '!$A$2:$BI$34,33,0)","v":6},{"$f":"VLOOKUP($A$3,'10 T-GCM-R_Edad2020  '!$A$2:$BI$34,53,0)","v":3},{"$f":"VLOOKUP($A$3,'10 T-GCM-R_Edad2021'!$A$2:$BI$34,13,0)","v":15},{"$f":"VLOOKUP($A$3,'10 T-GCM-R_Edad2021'!$A$2:$BI$34,33,0)","v":7},{"$f":"VLOOKUP($A$3,'10 T-GCM-R_Edad2021'!$A$2:$BI$34,53,0)","v":8},{"$f":"VLOOKUP($A$3,'10 T-GCM-R_Edad2022'!$A$2:$BI$34,13,0)","v":6},{"$f":"VLOOKUP($A$3,'10 T-GCM-R_Edad2022'!$A$2:$BI$34,33,0)","v":3},{"$f":"VLOOKUP($A$3,'10 T-GCM-R_Edad2022'!$A$2:$BI$34,53,0)","v":3}]
["55-59 años",{"$f":"VLOOKUP($A$3,'10 T-GCM-R_Edad2020  '!$A$2:$BI$34,14,0)","v":8},{"$f":"VLOOKUP($A$3,'10 T-GCM-R_Edad2020  '!$A$2:$BI$34,34,0)","v":5},{"$f":"VLOOKUP($A$3,'10 T-GCM-R_Edad2020  '!$A$2:$BI$34,54,0)","v":3},{"$f":"VLOOKUP($A$3,'10 T-GCM-R_Edad2021'!$A$2:$BI$34,14,0)","v":14},{"$f":"VLOOKUP($A$3,'10 T-GCM-R_Edad2021'!$A$2:$BI$34,34,0)","v":9},{"$f":"VLOOKUP($A$3,'10 T-GCM-R_Edad2021'!$A$2:$BI$34,54,0)","v":5},{"$f":"VLOOKUP($A$3,'10 T-GCM-R_Edad2022'!$A$2:$BI$34,14,0)","v":16},{"$f":"VLOOKUP($A$3,'10 T-GCM-R_Edad2022'!$A$2:$BI$34,34,0)","v":7},{"$f":"VLOOKUP($A$3,'10 T-GCM-R_Edad2022'!$A$2:$BI$34,54,0)","v":9}]
["60-64 años",{"$f":"VLOOKUP($A$3,'10 T-GCM-R_Edad2020  '!$A$2:$BI$34,15,0)","v":14},{"$f":"VLOOKUP($A$3,'10 T-GCM-R_Edad2020  '!$A$2:$BI$34,35,0)","v":10},{"$f":"VLOOKUP($A$3,'10 T-GCM-R_Edad2020  '!$A$2:$BI$34,55,0)","v":4},{"$f":"VLOOKUP($A$3,'10 T-GCM-R_Edad2021'!$A$2:$BI$34,15,0)","v":16},{"$f":"VLOOKUP($A$3,'10 T-GCM-R_Edad2021'!$A$2:$BI$34,35,0)","v":9},{"$f":"VLOOKUP($A$3,'10 T-GCM-R_Edad2021'!$A$2:$BI$34,55,0)","v":7},{"$f":"VLOOKUP($A$3,'10 T-GCM-R_Edad2022'!$A$2:$BI$34,15,0)","v":10},{"$f":"VLOOKUP($A$3,'10 T-GCM-R_Edad2022'!$A$2:$BI$34,35,0)","v":7},{"$f":"VLOOKUP($A$3,'10 T-GCM-R_Edad2022'!$A$2:$BI$34,55,0)","v":3}]
["65-69 años",{"$f":"VLOOKUP($A$3,'10 T-GCM-R_Edad2020  '!$A$2:$BI$34,16,0)","v":17},{"$f":"VLOOKUP($A$3,'10 T-GCM-R_Edad2020  '!$A$2:$BI$34,36,0)","v":13},{"$f":"VLOOKUP($A$3,'10 T-GCM-R_Edad2020  '!$A$2:$BI$34,56,0)","v":4},{"$f":"VLOOKUP($A$3,'10 T-GCM-R_Edad2021'!$A$2:$BI$34,16,0)","v":21},{"$f":"VLOOKUP($A$3,'10 T-GCM-R_Edad2021'!$A$2:$BI$34,36,0)","v":14},{"$f":"VLOOKUP($A$3,'10 T-GCM-R_Edad2021'!$A$2:$BI$34,56,0)","v":7},{"$f":"VLOOKUP($A$3,'10 T-GCM-R_Edad2022'!$A$2:$BI$34,16,0)","v":18},{"$f":"VLOOKUP($A$3,'10 T-GCM-R_Edad2022'!$A$2:$BI$34,36,0)","v":13},{"$f":"VLOOKUP($A$3,'10 T-GCM-R_Edad2022'!$A$2:$BI$34,56,0)","v":5}]
["70-74 años",{"$f":"VLOOKUP($A$3,'10 T-GCM-R_Edad2020  '!$A$2:$BI$34,17,0)","v":27},{"$f":"VLOOKUP($A$3,'10 T-GCM-R_Edad2020  '!$A$2:$BI$34,37,0)","v":13},{"$f":"VLOOKUP($A$3,'10 T-GCM-R_Edad2020  '!$A$2:$BI$34,57,0)","v":14},{"$f":"VLOOKUP($A$3,'10 T-GCM-R_Edad2021'!$A$2:$BI$34,17,0)","v":18},{"$f":"VLOOKUP($A$3,'10 T-GCM-R_Edad2021'!$A$2:$BI$34,37,0)","v":12},{"$f":"VLOOKUP($A$3,'10 T-GCM-R_Edad2021'!$A$2:$BI$34,57,0)","v":6},{"$f":"VLOOKUP($A$3,'10 T-GCM-R_Edad2022'!$A$2:$BI$34,17,0)","v":22},{"$f":"VLOOKUP($A$3,'10 T-GCM-R_Edad2022'!$A$2:$BI$34,37,0)","v":15},{"$f":"VLOOKUP($A$3,'10 T-GCM-R_Edad2022'!$A$2:$BI$34,57,0)","v":7}]
["75-79 años",{"$f":"VLOOKUP($A$3,'10 T-GCM-R_Edad2020  '!$A$2:$BI$34,18,0)","v":28},{"$f":"VLOOKUP($A$3,'10 T-GCM-R_Edad2020  '!$A$2:$BI$34,38,0)","v":14},{"$f":"VLOOKUP($A$3,'10 T-GCM-R_Edad2020  '!$A$2:$BI$34,58,0)","v":14},{"$f":"VLOOKUP($A$3,'10 T-GCM-R_Edad2021'!$A$2:$BI$34,18,0)","v":18},{"$f":"VLOOKUP($A$3,'10 T-GCM-R_Edad2021'!$A$2:$BI$34,38,0)","v":9},{"$f":"VLOOKUP($A$3,'10 T-GCM-R_Edad2021'!$A$2:$BI$34,58,0)","v":9},{"$f":"VLOOKUP($A$3,'10 T-GCM-R_Edad2022'!$A$2:$BI$34,18,0)","v":23},{"$f":"VLOOKUP($A$3,'10 T-GCM-R_Edad2022'!$A$2:$BI$34,38,0)","v":12},{"$f":"VLOOKUP($A$3,'10 T-GCM-R_Edad2022'!$A$2:$BI$34,58,0)","v":11}]
["80-84 años",{"$f":"VLOOKUP($A$3,'10 T-GCM-R_Edad2020  '!$A$2:$BI$34,19,0)","v":31},{"$f":"VLOOKUP($A$3,'10 T-GCM-R_Edad2020  '!$A$2:$BI$34,39,0)","v":15},{"$f":"VLOOKUP($A$3,'10 T-GCM-R_Edad2020  '!$A$2:$BI$34,59,0)","v":16},{"$f":"VLOOKUP($A$3,'10 T-GCM-R_Edad2021'!$A$2:$BI$34,19,0)","v":34},{"$f":"VLOOKUP($A$3,'10 T-GCM-R_Edad2021'!$A$2:$BI$34,39,0)","v":18},{"$f":"VLOOKUP($A$3,'10 T-GCM-R_Edad2021'!$A$2:$BI$34,59,0)","v":16},{"$f":"VLOOKUP($A$3,'10 T-GCM-R_Edad2022'!$A$2:$BI$34,19,0)","v":40},{"$f":"VLOOKUP($A$3,'10 T-GCM-R_Edad2022'!$A$2:$BI$34,39,0)","v":14},{"$f":"VLOOKUP($A$3,'10 T-GCM-R_Edad2022'!$A$2:$BI$34,59,0)","v":26}]
["85 años y más",{"$f":"VLOOKUP($A$3,'10 T-GCM-R_Edad2020  '!$A$2:$BI$34,20,0)","v":40},{"$f":"VLOOKUP($A$3,'10 T-GCM-R_Edad2020  '!$A$2:$BI$34,40,0)","v":21},{"$f":"VLOOKUP($A$3,'10 T-GCM-R_Edad2020  '!$A$2:$BI$34,60,0)","v":19},{"$f":"VLOOKUP($A$3,'10 T-GCM-R_Edad2021'!$A$2:$BI$34,20,0)","v":35},{"$f":"VLOOKUP($A$3,'10 T-GCM-R_Edad2021'!$A$2:$BI$34,40,0)","v":9},{"$f":"VLOOKUP($A$3,'10 T-GCM-R_Edad2021'!$A$2:$BI$34,60,0)","v":26},{"$f":"VLOOKUP($A$3,'10 T-GCM-R_Edad2022'!$A$2:$BI$34,20,0)","v":44},{"$f":"VLOOKUP($A$3,'10 T-GCM-R_Edad2022'!$A$2:$BI$34,40,0)","v":20},{"$f":"VLOOKUP($A$3,'10 T-GCM-R_Edad2022'!$A$2:$BI$34,60,0)","v":24}]
["No especificado",{"$f":"VLOOKUP($A$3,'10 T-GCM-R_Edad2020  '!$A$2:$BI$34,21,0)","v":0},{"$f":"VLOOKUP($A$3,'10 T-GCM-R_Edad2020  '!$A$2:$BI$34,41,0)","v":0},{"$f":"VLOOKUP($A$3,'10 T-GCM-R_Edad2020  '!$A$2:$BI$34,61,0)","v":0},{"$f":"VLOOKUP($A$3,'10 T-GCM-R_Edad2021'!$A$2:$BI$34,21,0)","v":1},{"$f":"VLOOKUP($A$3,'10 T-GCM-R_Edad2021'!$A$2:$BI$34,41,0)","v":1},{"$f":"VLOOKUP($A$3,'10 T-GCM-R_Edad2021'!$A$2:$BI$34,61,0)","v":0},{"$f":"VLOOKUP($A$3,'10 T-GCM-R_Edad2022'!$A$2:$BI$34,21,0)","v":0},{"$f":"VLOOKUP($A$3,'10 T-GCM-R_Edad2022'!$A$2:$BI$34,41,0)","v":0},{"$f":"VLOOKUP($A$3,'10 T-GCM-R_Edad2022'!$A$2:$BI$34,61,0)","v":0}]
["Total",{"$f":"SUM(B4:B23)","v":257},147,110,262,133,129,267,148,119]

{"sheet":"11T-GCM-R_Edad2020 ","index":102,"n_rows":34,"n_cols":61,"rows_kept":34,"cut":false,"hidden":true,"merged":[]}
[1,2,3,4,5,6,7,8,9,10,11,12,13,14,15,16,17,18,19,20,21,22,23,24,25,26,27,28,29,30,31,32,33,34,35,36,37,38,39,40,41,42,43,44,45,46,47,48,49,50,51,52,53,54,55,56,57,58,59,60,61]
["ESTADO","Menores de 1 año","1-4 años","5-9 años","10-14 años","15-19 años","20-24 años","25-29 años","30-34 años","35-39 años","40-44 años","45-49 años","50-54 años","55-59 años","60-64 años","65-69 años","70-74 años","75-79 años","80-84 años","85 años y más","No especificado","H Menores de 1 año","H 1-4 años","H 5-9 años","H 10-14 años","H 15-19 años","H 20-24 años","H 25-29 años","H 30-34 años","H 35-39 años","H 40-44 años","H 45-49 años","H 50-54 años","H 55-59 años","H 60-64 años","H 65-69 años","H 70-74 años","H 75-79 años","H 80-84 años","H 85 años y más","H No especificado","   M Menores de 1 año ","M 1-4 años","M 5-9 años","M 10-14 años","M 15-19 años","M 20-24 años","M 25-29 años","M 30-34 años","M 35-39 años","M 40-44 años","M 45-49 años","M 50-54 años","M 55-59 años","M 60-64 años","M 65-69 años","M 70-74 años","M 75-79 años","M 80-84 años","M 85 años y    ás","M No especificado"]
["Aguascalientes",0,0,0,0,0,0,0,0,0,0,0,0,0,0,0,0,0,0,0,0,0,0,0,0,0,0,0,0,0,0,0,0,0,0,0,0,0,0,0,0,0,0,0,0,0,0,0,0,0,0,0,0,0,0,0,0,0,0,0,0]
["Baja California",0,0,0,0,0,0,0,0,0,0,0,0,0,0,0,0,0,0,0,0,0,0,0,0,0,0,0,0,0,0,0,0,0,0,0,0,0,0,0,0,0,0,0,0,0,0,0,0,0,0,0,0,0,0,0,0,0,0,0,0]
["Baja California Sur",0,0,0,0,0,0,0,0,0,0,0,0,0,0,0,0,0,0,0,0,0,0,0,0,0,0,0,0,0,0,0,0,0,0,0,0,0,0,0,0,0,0,0,0,0,0,0,0,0,0,0,0,0,0,0,0,0,0,0,0]
["Campeche",0,0,0,0,0,0,0,0,0,0,0,0,0,0,0,0,0,0,0,0,0,0,0,0,0,0,0,0,0,0,0,0,0,0,0,0,0,0,0,0,0,0,0,0,0,0,0,0,0,0,0,0,0,0,0,0,0,0,0,0]
["Coahuila",0,0,0,0,0,0,0,0,0,0,0,0,0,0,0,0,0,0,0,0,0,0,0,0,0,0,0,0,0,0,0,0,0,0,0,0,0,0,0,0,0,0,0,0,0,0,0,0,0,0,0,0,0,0,0,0,0,0,0,0]
["Colima",0,0,0,0,0,0,0,0,0,0,0,0,0,0,0,0,0,0,0,0,0,0,0,0,0,0,0,0,0,0,0,0,0,0,0,0,0,0,0,0,0,0,0,0,0,0,0,0,0,0,0,0,0,0,0,0,0,0,0,0]
["Chiapas",0,0,0,0,0,0,0,0,0,0,0,0,0,0,0,0,0,0,0,0,0,0,0,0,0,0,0,0,0,0,0,0,0,0,0,0,0,0,0,0,0,0,0,0,0,0,0,0,0,0,0,0,0,0,0,0,0,0,0,0]
["Chihuahua",0,0,0,0,0,0,0,0,0,0,0,0,0,0,0,0,0,0,0,0,0,0,0,0,0,0,0,0,0,0,0,0,0,0,0,0,0,0,0,0,0,0,0,0,0,0,0,0,0,0,0,0,0,0,0,0,0,0,0,0]
["Ciudad de México",0,0,0,0,0,0,0,0,0,0,0,0,0,1,0,1,0,0,0,0,0,0,0,0,0,0,0,0,0,0,0,0,0,1,0,1,0,0,0,0,0,0,0,0,0,0,0,0,0,0,0,0,0,0,0,0,0,0,0,0]
["Durango",0,0,0,0,0,0,0,0,0,0,0,0,0,0,0,0,0,0,1,0,0,0,0,0,0,0,0,0,0,0,0,0,0,0,0,0,0,0,1,0,0,0,0,0,0,0,0,0,0,0,0,0,0,0,0,0,0,0,0,0]
["Guanajuato",0,0,0,0,0,0,0,0,0,0,0,0,1,0,0,0,0,0,0,0,0,0,0,0,0,0,0,0,0,0,0,0,1,0,0,0,0,0,0,0,0,0,0,0,0,0,0,0,0,0,0,0,0,0,0,0,0,0,0,0]
["Guerrero",0,0,0,0,0,0,0,0,0,0,0,0,0,0,0,0,0,0,0,0,0,0,0,0,0,0,0,0,0,0,0,0,0,0,0,0,0,0,0,0,0,0,0,0,0,0,0,0,0,0,0,0,0,0,0,0,0,0,0,0]
["Hidalgo",0,0,0,0,0,0,0,0,0,0,0,0,0,0,0,0,0,0,1,0,0,0,0,0,0,0,0,0,0,0,0,0,0,0,0,0,0,0,0,0,0,0,0,0,0,0,0,0,0,0,0,0,0,0,0,0,0,0,1,0]
["Jalisco",0,0,0,0,0,0,0,0,0,0,0,0,0,0,0,0,0,0,0,0,0,0,0,0,0,0,0,0,0,0,0,0,0,0,0,0,0,0,0,0,0,0,0,0,0,0,0,0,0,0,0,0,0,0,0,0,0,0,0,0]
["México",0,0,0,0,0,0,0,0,0,0,0,0,0,0,0,0,0,0,0,0,0,0,0,0,0,0,0,0,0,0,0,0,0,0,0,0,0,0,0,0,0,0,0,0,0,0,0,0,0,0,0,0,0,0,0,0,0,0,0,0]
["Michoacán",0,0,0,0,0,0,0,0,0,0,0,0,0,0,0,0,0,0,0,0,0,0,0,0,0,0,0,0,0,0,0,0,0,0,0,0,0,0,0,0,0,0,0,0,0,0,0,0,0,0,0,0,0,0,0,0,0,0,0,0]
["Morelos",0,0,0,0,0,0,0,0,0,0,0,0,0,0,0,0,0,0,0,0,0,0,0,0,0,0,0,0,0,0,0,0,0,0,0,0,0,0,0,0,0,0,0,0,0,0,0,0,0,0,0,0,0,0,0,0,0,0,0,0]
["Nayarit",0,0,0,0,0,0,0,0,0,0,0,0,0,0,0,0,0,0,0,0,0,0,0,0,0,0,0,0,0,0,0,0,0,0,0,0,0,0,0,0,0,0,0,0,0,0,0,0,0,0,0,0,0,0,0,0,0,0,0,0]
["Nuevo León",0,0,0,0,0,0,0,0,0,0,0,1,0,0,0,0,0,0,0,0,0,0,0,0,0,0,0,0,0,0,0,0,0,0,0,0,0,0,0,0,0,0,0,0,0,0,0,0,0,0,0,1,0,0,0,0,0,0,0,0]
["Oaxaca",0,0,0,0,0,0,0,0,0,0,0,0,0,0,0,0,1,0,0,0,0,0,0,0,0,0,0,0,0,0,0,0,0,0,0,0,1,0,0,0,0,0,0,0,0,0,0,0,0,0,0,0,0,0,0,0,0,0,0,0]
["Puebla",0,0,0,0,0,0,0,0,0,0,0,0,0,0,0,0,0,0,0,0,0,0,0,0,0,0,0,0,0,0,0,0,0,0,0,0,0,0,0,0,0,0,0,0,0,0,0,0,0,0,0,0,0,0,0,0,0,0,0,0]
["Querétaro",0,0,0,0,0,0,0,0,0,0,0,0,0,0,0,0,0,0,0,0,0,0,0,0,0,0,0,0,0,0,0,0,0,0,0,0,0,0,0,0,0,0,0,0,0,0,0,0,0,0,0,0,0,0,0,0,0,0,0,0]
["Quintana Roo",0,0,0,0,0,0,0,0,0,0,0,0,0,0,0,0,0,0,0,0,0,0,0,0,0,0,0,0,0,0,0,0,0,0,0,0,0,0,0,0,0,0,0,0,0,0,0,0,0,0,0,0,0,0,0,0,0,0,0,0]
["San Luis Potosí",0,0,0,0,0,0,0,0,0,0,0,0,0,0,0,0,0,0,0,0,0,0,0,0,0,0,0,0,0,0,0,0,0,0,0,0,0,0,0,0,0,0,0,0,0,0,0,0,0,0,0,0,0,0,0,0,0,0,0,0]
["Sinaloa",0,0,0,0,0,0,0,0,0,0,0,0,0,0,0,0,0,0,1,0,0,0,0,0,0,0,0,0,0,0,0,0,0,0,0,0,0,0,0,0,0,0,0,0,0,0,0,0,0,0,0,0,0,0,0,0,0,0,1,0]
["Sonora",0,0,0,0,0,0,0,0,0,0,0,0,0,0,0,0,0,0,0,0,0,0,0,0,0,0,0,0,0,0,0,0,0,0,0,0,0,0,0,0,0,0,0,0,0,0,0,0,0,0,0,0,0,0,0,0,0,0,0,0]
["Tabasco",0,0,0,0,0,0,0,0,0,0,0,1,0,0,0,0,0,0,0,0,0,0,0,0,0,0,0,0,0,0,0,0,0,0,0,0,0,0,0,0,0,0,0,0,0,0,0,0,0,0,0,1,0,0,0,0,0,0,0,0]
["Tamaulipas",0,0,0,0,0,0,0,0,0,0,0,0,0,0,0,0,0,0,0,0,0,0,0,0,0,0,0,0,0,0,0,0,0,0,0,0,0,0,0,0,0,0,0,0,0,0,0,0,0,0,0,0,0,0,0,0,0,0,0,0]
["Tlaxcala",0,0,0,0,0,0,0,0,0,0,0,0,0,0,0,0,0,0,0,0,0,0,0,0,0,0,0,0,0,0,0,0,0,0,0,0,0,0,0,0,0,0,0,0,0,0,0,0,0,0,0,0,0,0,0,0,0,0,0,0]
["Veracruz",0,0,0,0,0,0,0,0,0,0,0,0,0,0,0,0,0,1,0,0,0,0,0,0,0,0,0,0,0,0,0,0,0,0,0,0,0,1,0,0,0,0,0,0,0,0,0,0,0,0,0,0,0,0,0,0,0,0,0,0]
["Yucatán",0,0,0,0,0,0,0,0,0,0,0,0,0,0,0,0,0,0,0,0,0,0,0,0,0,0,0,0,0,0,0,0,0,0,0,0,0,0,0,0,0,0,0,0,0,0,0,0,0,0,0,0,0,0,0,0,0,0,0,0]
["Zacatecas",0,0,0,0,0,0,0,0,0,0,0,0,0,0,0,0,0,0,0,0,0,0,0,0,0,0,0,0,0,0,0,0,0,0,0,0,0,0,0,0,0,0,0,0,0,0,0,0,0,0,0,0,0,0,0,0,0,0,0,0]

{"sheet":"11T-GCM-R_Edad2021","index":103,"n_rows":34,"n_cols":61,"rows_kept":34,"cut":false,"hidden":true,"merged":[]}
[1,2,3,4,5,6,7,8,9,10,11,12,13,14,15,16,17,18,19,20,21,22,23,24,25,26,27,28,29,30,31,32,33,34,35,36,37,38,39,40,41,42,43,44,45,46,47,48,49,50,51,52,53,54,55,56,57,58,59,60,61]
["ESTADO","Menores de 1 año","1-4 años","5-9 años","10-14 años","15-19 años","20-24 años","25-29 años","30-34 años","35-39 años","40-44 años","45-49 años","50-54 años","55-59 años","60-64 años","65-69 años","70-74 años","75-79 años","80-84 años","85 años y más","No especificado","H Menores de 1 año","H 1-4 años","H 5-9 años","H 10-14 años","H 15-19 años","H 20-24 años","H 25-29 años","H 30-34 años","H 35-39 años","H 40-44 años","H 45-49 años","H 50-54 años","H 55-59 años","H 60-64 años","H 65-69 años","H 70-74 años","H 75-79 años","H 80-84 años","H 85 años y más","H No especificado","   M Menores de 1 año ","M 1-4 años","M 5-9 años","M 10-14 años","M 15-19 años","M 20-24 años","M 25-29 años","M 30-34 años","M 35-39 años","M 40-44 años","M 45-49 años","M 50-54 años","M 55-59 años","M 60-64 años","M 65-69 años","M 70-74 años","M 75-79 años","M 80-84 años","M 85 años y    ás","M No especificado"]
["Aguascalientes",0,0,0,0,0,0,0,0,0,0,0,0,0,0,0,0,0,0,0,0,0,0,0,0,0,0,0,0,0,0,0,0,0,0,0,0,0,0,0,0,0,0,0,0,0,0,0,0,0,0,0,0,0,0,0,0,0,0,0,0]
["Baja California",0,0,0,0,0,0,0,0,0,0,0,0,0,0,0,0,0,0,0,0,0,0,0,0,0,0,0,0,0,0,0,0,0,0,0,0,0,0,0,0,0,0,0,0,0,0,0,0,0,0,0,0,0,0,0,0,0,0,0,0]
["Baja California Sur",0,0,0,0,0,0,0,0,0,0,0,0,0,0,0,0,0,0,0,0,0,0,0,0,0,0,0,0,0,0,0,0,0,0,0,0,0,0,0,0,0,0,0,0,0,0,0,0,0,0,0,0,0,0,0,0,0,0,0,0]
["Campeche",0,0,0,0,0,0,0,0,0,0,0,0,0,0,0,0,0,0,0,0,0,0,0,0,0,0,0,0,0,0,0,0,0,0,0,0,0,0,0,0,0,0,0,0,0,0,0,0,0,0,0,0,0,0,0,0,0,0,0,0]
["Coahuila",0,0,0,0,0,0,0,0,1,0,0,0,1,0,1,0,0,0,0,0,0,0,0,0,0,0,0,0,0,0,0,0,1,0,1,0,0,0,0,0,0,0,0,0,0,0,0,0,1,0,0,0,0,0,0,0,0,0,0,0]
["Colima",0,0,0,0,0,0,0,0,0,0,0,0,0,0,0,0,0,0,0,0,0,0,0,0,0,0,0,0,0,0,0,0,0,0,0,0,0,0,0,0,0,0,0,0,0,0,0,0,0,0,0,0,0,0,0,0,0,0,0,0]
["Chiapas",0,0,0,0,0,0,0,0,0,0,0,0,0,0,0,0,0,0,1,0,0,0,0,0,0,0,0,0,0,0,0,0,0,0,0,0,0,0,1,0,0,0,0,0,0,0,0,0,0,0,0,0,0,0,0,0,0,0,0,0]
["Chihuahua",0,0,0,0,0,0,0,0,0,0,0,0,0,0,0,0,0,0,0,0,0,0,0,0,0,0,0,0,0,0,0,0,0,0,0,0,0,0,0,0,0,0,0,0,0,0,0,0,0,0,0,0,0,0,0,0,0,0,0,0]
["Ciudad de México",0,0,0,0,0,0,0,0,0,0,0,0,0,0,0,0,0,0,0,0,0,0,0,0,0,0,0,0,0,0,0,0,0,0,0,0,0,0,0,0,0,0,0,0,0,0,0,0,0,0,0,0,0,0,0,0,0,0,0,0]
["Durango",0,0,0,0,0,0,0,0,0,0,0,0,0,0,0,0,0,0,0,0,0,0,0,0,0,0,0,0,0,0,0,0,0,0,0,0,0,0,0,0,0,0,0,0,0,0,0,0,0,0,0,0,0,0,0,0,0,0,0,0]
["Guanajuato",0,0,0,0,0,0,0,0,0,0,0,0,0,0,0,0,0,0,0,0,0,0,0,0,0,0,0,0,0,0,0,0,0,0,0,0,0,0,0,0,0,0,0,0,0,0,0,0,0,0,0,0,0,0,0,0,0,0,0,0]
["Guerrero",0,0,0,0,0,0,0,0,0,0,0,0,0,1,0,0,1,0,0,0,0,0,0,0,0,0,0,0,0,0,0,0,0,1,0,0,0,0,0,0,0,0,0,0,0,0,0,0,0,0,0,0,0,0,0,0,1,0,0,0]
["Hidalgo",0,0,0,0,0,0,0,0,0,0,0,0,0,0,0,0,0,0,0,0,0,0,0,0,0,0,0,0,0,0,0,0,0,0,0,0,0,0,0,0,0,0,0,0,0,0,0,0,0,0,0,0,0,0,0,0,0,0,0,0]
["Jalisco",0,0,0,0,0,0,0,0,0,0,0,0,0,0,0,0,0,0,0,0,0,0,0,0,0,0,0,0,0,0,0,0,0,0,0,0,0,0,0,0,0,0,0,0,0,0,0,0,0,0,0,0,0,0,0,0,0,0,0,0]
["México",0,0,0,0,0,0,0,0,0,0,1,0,0,0,0,0,0,0,0,0,0,0,0,0,0,0,0,0,0,0,0,0,0,0,0,0,0,0,0,0,0,0,0,0,0,0,0,0,0,0,1,0,0,0,0,0,0,0,0,0]
["Michoacán",0,0,0,0,0,0,0,0,0,0,0,0,0,0,0,0,0,0,0,0,0,0,0,0,0,0,0,0,0,0,0,0,0,0,0,0,0,0,0,0,0,0,0,0,0,0,0,0,0,0,0,0,0,0,0,0,0,0,0,0]
["Morelos",0,0,0,0,0,0,0,0,0,0,0,0,0,0,0,0,0,0,0,0,0,0,0,0,0,0,0,0,0,0,0,0,0,0,0,0,0,0,0,0,0,0,0,0,0,0,0,0,0,0,0,0,0,0,0,0,0,0,0,0]
["Nayarit",0,0,0,0,0,0,0,0,0,0,0,0,0,0,0,0,0,0,0,0,0,0,0,0,0,0,0,0,0,0,0,0,0,0,0,0,0,0,0,0,0,0,0,0,0,0,0,0,0,0,0,0,0,0,0,0,0,0,0,0]
["Nuevo León",0,0,0,0,0,0,0,0,0,0,0,0,1,0,0,0,0,0,0,0,0,0,0,0,0,0,0,0,0,0,0,0,1,0,0,0,0,0,0,0,0,0,0,0,0,0,0,0,0,0,0,0,0,0,0,0,0,0,0,0]
["Oaxaca",0,0,0,0,0,0,0,0,0,0,0,0,0,0,0,0,1,0,1,0,0,0,0,0,0,0,0,0,0,0,0,0,0,0,0,0,1,0,0,0,0,0,0,0,0,0,0,0,0,0,0,0,0,0,0,0,0,0,1,0]
["Puebla",0,0,0,0,0,0,0,0,0,0,0,0,0,0,1,0,0,0,0,0,0,0,0,0,0,0,0,0,0,0,0,0,0,0,1,0,0,0,0,0,0,0,0,0,0,0,0,0,0,0,0,0,0,0,0,0,0,0,0,0]
["Querétaro",0,0,0,0,0,0,0,0,0,0,0,0,0,0,0,0,0,0,0,0,0,0,0,0,0,0,0,0,0,0,0,0,0,0,0,0,0,0,0,0,0,0,0,0,0,0,0,0,0,0,0,0,0,0,0,0,0,0,0,0]
["Quintana Roo",0,0,0,0,0,0,0,0,0,0,0,0,0,0,0,0,0,0,0,0,0,0,0,0,0,0,0,0,0,0,0,0,0,0,0,0,0,0,0,0,0,0,0,0,0,0,0,0,0,0,0,0,0,0,0,0,0,0,0,0]
["San Luis Potosí",0,0,0,0,0,0,0,0,0,0,0,0,0,0,0,0,0,0,0,0,0,0,0,0,0,0,0,0,0,0,0,0,0,0,0,0,0,0,0,0,0,0,0,0,0,0,0,0,0,0,0,0,0,0,0,0,0,0,0,0]
["Sinaloa",0,0,0,0,0,0,0,0,0,0,0,0,0,0,0,0,0,0,0,0,0,0,0,0,0,0,0,0,0,0,0,0,0,0,0,0,0,0,0,0,0,0,0,0,0,0,0,0,0,0,0,0,0,0,0,0,0,0,0,0]
["Sonora",0,0,0,0,0,0,0,0,0,0,0,0,0,0,0,0,0,0,0,0,0,0,0,0,0,0,0,0,0,0,0,0,0,0,0,0,0,0,0,0,0,0,0,0,0,0,0,0,0,0,0,0,0,0,0,0,0,0,0,0]
["Tabasco",0,0,0,0,0,0,0,0,0,0,0,0,0,0,0,0,0,0,1,0,0,0,0,0,0,0,0,0,0,0,0,0,0,0,0,0,0,0,1,0,0,0,0,0,0,0,0,0,0,0,0,0,0,0,0,0,0,0,0,0]
["Tamaulipas",0,0,0,0,0,0,0,0,0,0,1,0,0,0,1,0,0,0,2,0,0,0,0,0,0,0,0,0,0,0,1,0,0,0,1,0,0,0,1,0,0,0,0,0,0,0,0,0,0,0,0,0,0,0,0,0,0,0,1,0]
["Tlaxcala",0,0,0,0,0,0,0,0,0,0,0,0,0,0,0,1,0,0,0,0,0,0,0,0,0,0,0,0,0,0,0,0,0,0,0,0,0,0,0,0,0,0,0,0,0,0,0,0,0,0,0,0,0,0,0,1,0,0,0,0]
["Veracruz",0,0,0,0,0,0,0,1,0,0,0,0,0,1,0,0,0,0,0,0,0,0,0,0,0,0,0,1,0,0,0,0,0,0,0,0,0,0,0,0,0,0,0,0,0,0,0,0,0,0,0,0,0,1,0,0,0,0,0,0]
["Yucatán",0,0,0,0,0,0,0,0,0,0,0,0,0,0,0,0,0,0,0,0,0,0,0,0,0,0,0,0,0,0,0,0,0,0,0,0,0,0,0,0,0,0,0,0,0,0,0,0,0,0,0,0,0,0,0,0,0,0,0,0]
["Zacatecas",0,0,0,0,0,0,0,0,1,0,0,0,0,0,0,0,0,0,0,0,0,0,0,0,0,0,0,0,1,0,0,0,0,0,0,0,0,0,0,0,0,0,0,0,0,0,0,0,0,0,0,0,0,0,0,0,0,0,0,0]

{"sheet":"11T-GCM-R_Edad2022","index":104,"n_rows":34,"n_cols":61,"rows_kept":34,"cut":false,"hidden":true,"merged":[]}
[1,2,3,4,5,6,7,8,9,10,11,12,13,14,15,16,17,18,19,20,21,22,23,24,25,26,27,28,29,30,31,32,33,34,35,36,37,38,39,40,41,42,43,44,45,46,47,48,49,50,51,52,53,54,55,56,57,58,59,60,61]
["ESTADO","Menores de 1 año","1-4 años","5-9 años","10-14 años","15-19 años","20-24 años","25-29 años","30-34 años","35-39 años","40-44 años","45-49 años","50-54 años","55-59 años","60-64 años","65-69 años","70-74 años","75-79 años","80-84 años","85 años y más","No especificado","H Menores de 1 año","H 1-4 años","H 5-9 años","H 10-14 años","H 15-19 años","H 20-24 años","H 25-29 años","H 30-34 años","H 35-39 años","H 40-44 años","H 45-49 años","H 50-54 años","H 55-59 años","H 60-64 años","H 65-69 años","H 70-74 años","H 75-79 años","H 80-84 años","H 85 años y más","H No especificado","   M Menores de 1 año ","M 1-4 años","M 5-9 años","M 10-14 años","M 15-19 años","M 20-24 años","M 25-29 años","M 30-34 años","M 35-39 años","M 40-44 años","M 45-49 años","M 50-54 años","M 55-59 años","M 60-64 años","M 65-69 años","M 70-74 años","M 75-79 años","M 80-84 años","M 85 años y    ás","M No especificado"]
["Aguascalientes",0,0,0,0,0,0,0,0,0,0,0,0,0,0,0,0,0,1,0,0,0,0,0,0,0,0,0,0,0,0,0,0,0,0,0,0,0,1,0,0,0,0,0,0,0,0,0,0,0,0,0,0,0,0,0,0,0,0,0,0]
["Baja California",0,0,0,0,0,0,0,0,0,0,0,0,1,0,0,0,0,0,0,0,0,0,0,0,0,0,0,0,0,0,0,0,1,0,0,0,0,0,0,0,0,0,0,0,0,0,0,0,0,0,0,0,0,0,0,0,0,0,0,0]
["Baja California Sur",0,0,0,0,0,0,0,0,0,0,0,0,0,0,0,0,0,0,0,0,0,0,0,0,0,0,0,0,0,0,0,0,0,0,0,0,0,0,0,0,0,0,0,0,0,0,0,0,0,0,0,0,0,0,0,0,0,0,0,0]
["Campeche",0,0,0,0,0,0,0,0,0,0,0,0,0,0,0,0,0,0,0,0,0,0,0,0,0,0,0,0,0,0,0,0,0,0,0,0,0,0,0,0,0,0,0,0,0,0,0,0,0,0,0,0,0,0,0,0,0,0,0,0]
["Coahuila",0,0,0,0,0,0,0,0,0,0,0,0,0,0,0,0,0,0,0,0,0,0,0,0,0,0,0,0,0,0,0,0,0,0,0,0,0,0,0,0,0,0,0,0,0,0,0,0,0,0,0,0,0,0,0,0,0,0,0,0]
["Colima",0,0,0,0,0,0,0,0,0,0,0,0,0,0,0,0,0,0,0,0,0,0,0,0,0,0,0,0,0,0,0,0,0,0,0,0,0,0,0,0,0,0,0,0,0,0,0,0,0,0,0,0,0,0,0,0,0,0,0,0]
["Chiapas",0,0,0,0,0,0,0,0,0,0,0,0,0,0,0,0,0,0,0,0,0,0,0,0,0,0,0,0,0,0,0,0,0,0,0,0,0,0,0,0,0,0,0,0,0,0,0,0,0,0,0,0,0,0,0,0,0,0,0,0]
["Chihuahua",0,0,0,0,0,0,0,0,0,0,0,0,0,0,0,0,0,0,0,0,0,0,0,0,0,0,0,0,0,0,0,0,0,0,0,0,0,0,0,0,0,0,0,0,0,0,0,0,0,0,0,0,0,0,0,0,0,0,0,0]
["Ciudad de México",0,0,0,0,0,0,1,0,0,0,0,0,0,1,0,1,1,0,0,0,0,0,0,0,0,0,1,0,0,0,0,0,0,1,0,0,1,0,0,0,0,0,0,0,0,0,0,0,0,0,0,0,0,0,0,1,0,0,0,0]
["Durango",0,0,0,0,0,0,0,0,0,0,0,0,0,0,0,0,0,0,0,0,0,0,0,0,0,0,0,0,0,0,0,0,0,0,0,0,0,0,0,0,0,0,0,0,0,0,0,0,0,0,0,0,0,0,0,0,0,0,0,0]
["Guanajuato",0,0,0,0,0,0,0,0,0,0,0,0,0,0,0,1,0,0,0,0,0,0,0,0,0,0,0,0,0,0,0,0,0,0,0,0,0,0,0,0,0,0,0,0,0,0,0,0,0,0,0,0,0,0,0,1,0,0,0,0]
["Guerrero",0,0,0,0,0,0,0,0,0,0,0,0,0,0,0,0,0,0,0,0,0,0,0,0,0,0,0,0,0,0,0,0,0,0,0,0,0,0,0,0,0,0,0,0,0,0,0,0,0,0,0,0,0,0,0,0,0,0,0,0]
["Hidalgo",0,0,0,0,0,0,0,0,0,0,0,0,0,0,0,0,0,0,2,0,0,0,0,0,0,0,0,0,0,0,0,0,0,0,0,0,0,0,0,0,0,0,0,0,0,0,0,0,0,0,0,0,0,0,0,0,0,0,2,0]
["Jalisco",0,0,0,0,0,0,0,0,0,1,0,0,0,0,0,0,0,0,0,0,0,0,0,0,0,0,0,0,0,1,0,0,0,0,0,0,0,0,0,0,0,0,0,0,0,0,0,0,0,0,0,0,0,0,0,0,0,0,0,0]
["México",0,1,0,0,0,0,0,1,1,0,1,0,0,0,0,0,0,0,0,0,0,1,0,0,0,0,0,0,0,0,1,0,0,0,0,0,0,0,0,0,0,0,0,0,0,0,0,1,1,0,0,0,0,0,0,0,0,0,0,0]
["Michoacán",0,0,0,0,0,0,0,0,0,0,0,0,0,0,0,0,1,0,0,0,0,0,0,0,0,0,0,0,0,0,0,0,0,0,0,0,1,0,0,0,0,0,0,0,0,0,0,0,0,0,0,0,0,0,0,0,0,0,0,0]
["Morelos",0,0,0,0,0,0,0,0,0,0,0,0,0,0,0,0,0,0,0,0,0,0,0,0,0,0,0,0,0,0,0,0,0,0,0,0,0,0,0,0,0,0,0,0,0,0,0,0,0,0,0,0,0,0,0,0,0,0,0,0]
["Nayarit",0,0,0,0,0,0,0,0,0,0,0,0,0,0,0,0,0,0,0,0,0,0,0,0,0,0,0,0,0,0,0,0,0,0,0,0,0,0,0,0,0,0,0,0,0,0,0,0,0,0,0,0,0,0,0,0,0,0,0,0]
["Nuevo León",0,0,0,0,0,0,0,0,0,0,0,0,0,0,0,0,0,0,0,0,0,0,0,0,0,0,0,0,0,0,0,0,0,0,0,0,0,0,0,0,0,0,0,0,0,0,0,0,0,0,0,0,0,0,0,0,0,0,0,0]
["Oaxaca",0,0,0,0,0,0,0,0,0,0,0,0,0,0,0,0,0,0,1,0,0,0,0,0,0,0,0,0,0,0,0,0,0,0,0,0,0,0,1,0,0,0,0,0,0,0,0,0,0,0,0,0,0,0,0,0,0,0,0,0]
["Puebla",0,0,0,0,0,0,0,0,0,1,0,0,0,0,0,0,0,0,0,0,0,0,0,0,0,0,0,0,0,0,0,0,0,0,0,0,0,0,0,0,0,0,0,0,0,0,0,0,0,1,0,0,0,0,0,0,0,0,0,0]
["Querétaro",0,0,0,0,0,0,0,0,0,0,0,0,0,0,0,0,0,0,0,0,0,0,0,0,0,0,0,0,0,0,0,0,0,0,0,0,0,0,0,0,0,0,0,0,0,0,0,0,0,0,0,0,0,0,0,0,0,0,0,0]
["Quintana Roo",0,0,0,0,0,0,0,0,0,0,0,0,0,1,0,0,0,0,0,0,0,0,0,0,0,0,0,0,0,0,0,0,0,0,0,0,0,0,0,0,0,0,0,0,0,0,0,0,0,0,0,0,0,1,0,0,0,0,0,0]
["San Luis Potosí",0,0,0,0,0,0,0,0,0,0,0,0,0,0,0,0,0,0,0,0,0,0,0,0,0,0,0,0,0,0,0,0,0,0,0,0,0,0,0,0,0,0,0,0,0,0,0,0,0,0,0,0,0,0,0,0,0,0,0,0]
["Sinaloa",0,0,0,0,0,0,0,0,0,0,0,0,0,0,0,0,0,0,0,0,0,0,0,0,0,0,0,0,0,0,0,0,0,0,0,0,0,0,0,0,0,0,0,0,0,0,0,0,0,0,0,0,0,0,0,0,0,0,0,0]
["Sonora",0,0,0,0,0,0,0,0,0,0,0,0,0,0,0,0,0,0,1,0,0,0,0,0,0,0,0,0,0,0,0,0,0,0,0,0,0,0,0,0,0,0,0,0,0,0,0,0,0,0,0,0,0,0,0,0,0,0,1,0]
["Tabasco",0,0,0,0,1,0,0,0,0,0,0,0,0,0,0,0,0,0,0,0,0,0,0,0,1,0,0,0,0,0,0,0,0,0,0,0,0,0,0,0,0,0,0,0,0,0,0,0,0,0,0,0,0,0,0,0,0,0,0,0]
["Tamaulipas",0,0,0,0,0,0,0,0,0,0,0,0,0,0,0,0,0,0,1,0,0,0,0,0,0,0,0,0,0,0,0,0,0,0,0,0,0,0,0,0,0,0,0,0,0,0,0,0,0,0,0,0,0,0,0,0,0,0,1,0]
["Tlaxcala",0,0,0,0,0,0,0,0,0,0,0,0,0,0,0,0,0,0,0,0,0,0,0,0,0,0,0,0,0,0,0,0,0,0,0,0,0,0,0,0,0,0,0,0,0,0,0,0,0,0,0,0,0,0,0,0,0,0,0,0]
["Veracruz",0,0,0,0,0,0,0,0,0,0,0,0,0,0,0,0,0,0,2,0,0,0,0,0,0,0,0,0,0,0,0,0,0,0,0,0,0,0,2,0,0,0,0,0,0,0,0,0,0,0,0,0,0,0,0,0,0,0,0,0]
["Yucatán",0,0,0,0,0,0,0,0,0,0,0,0,0,0,0,0,0,0,0,0,0,0,0,0,0,0,0,0,0,0,0,0,0,0,0,0,0,0,0,0,0,0,0,0,0,0,0,0,0,0,0,0,0,0,0,0,0,0,0,0]
["Zacatecas",0,0,0,0,0,0,0,0,0,0,0,0,0,0,0,0,0,0,0,0,0,0,0,0,0,0,0,0,0,0,0,0,0,0,0,0,0,0,0,0,0,0,0,0,0,0,0,0,0,0,0,0,0,0,0,0,0,0,0,0]

{"sheet":"11 GCM-G_Edad","index":105,"n_rows":24,"n_cols":10,"rows_kept":24,"cut":false,"hidden":false,"merged":[[0,0,0,9]]}
["Enfermedades del ojo y sus anexos"]
["SELECCIONE UNA ENTIDAD"]
["Veracruz","2020","H - 2020","M - 2020","2021","H - 2021","M - 2021","2022","H - 2022","M - 2022"]
["Menores de 1 año",{"$f":"VLOOKUP($A$3,'11T-GCM-R_Edad2020 '!$A$2:$BI$34,2,0)","v":0},{"$f":"VLOOKUP($A$3,'11T-GCM-R_Edad2020 '!$A$2:$BI$34,22,0)","v":0},{"$f":"VLOOKUP($A$3,'11T-GCM-R_Edad2020 '!$A$2:$BI$34,42,0)","v":0},{"$f":"VLOOKUP($A$3,'11T-GCM-R_Edad2021'!$A$2:$BI$34,2,0)","v":0},{"$f":"VLOOKUP($A$3,'11T-GCM-R_Edad2021'!$A$2:$BI$34,22,0)","v":0},{"$f":"VLOOKUP($A$3,'11T-GCM-R_Edad2021'!$A$2:$BI$34,42,0)","v":0},{"$f":"VLOOKUP($A$3,'11T-GCM-R_Edad2022'!$A$2:$BI$34,2,0)","v":0},{"$f":"VLOOKUP($A$3,'11T-GCM-R_Edad2022'!$A$2:$BI$34,22,0)","v":0},{"$f":"VLOOKUP($A$3,'11T-GCM-R_Edad2022'!$A$2:$BI$34,42,0)","v":0}]
["1-4 años",{"$f":"VLOOKUP($A$3,'11T-GCM-R_Edad2020 '!$A$2:$BI$34,3,0)","v":0},{"$f":"VLOOKUP($A$3,'11T-GCM-R_Edad2020 '!$A$2:$BI$34,23,0)","v":0},{"$f":"VLOOKUP($A$3,'11T-GCM-R_Edad2020 '!$A$2:$BI$34,43,0)","v":0},{"$f":"VLOOKUP($A$3,'11T-GCM-R_Edad2021'!$A$2:$BI$34,3,0)","v":0},{"$f":"VLOOKUP($A$3,'11T-GCM-R_Edad2021'!$A$2:$BI$34,23,0)","v":0},{"$f":"VLOOKUP($A$3,'11T-GCM-R_Edad2021'!$A$2:$BI$34,43,0)","v":0},{"$f":"VLOOKUP($A$3,'11T-GCM-R_Edad2022'!$A$2:$BI$34,3,0)","v":0},{"$f":"VLOOKUP($A$3,'11T-GCM-R_Edad2022'!$A$2:$BI$34,23,0)","v":0},{"$f":"VLOOKUP($A$3,'11T-GCM-R_Edad2022'!$A$2:$BI$34,43,0)","v":0}]
["5-9 años",{"$f":"VLOOKUP($A$3,'11T-GCM-R_Edad2020 '!$A$2:$BI$34,4,0)","v":0},{"$f":"VLOOKUP($A$3,'11T-GCM-R_Edad2020 '!$A$2:$BI$34,24,0)","v":0},{"$f":"VLOOKUP($A$3,'11T-GCM-R_Edad2020 '!$A$2:$BI$34,44,0)","v":0},{"$f":"VLOOKUP($A$3,'11T-GCM-R_Edad2021'!$A$2:$BI$34,4,0)","v":0},{"$f":"VLOOKUP($A$3,'11T-GCM-R_Edad2021'!$A$2:$BI$34,24,0)","v":0},{"$f":"VLOOKUP($A$3,'11T-GCM-R_Edad2021'!$A$2:$BI$34,44,0)","v":0},{"$f":"VLOOKUP($A$3,'11T-GCM-R_Edad2022'!$A$2:$BI$34,4,0)","v":0},{"$f":"VLOOKUP($A$3,'11T-GCM-R_Edad2022'!$A$2:$BI$34,24,0)","v":0},{"$f":"VLOOKUP($A$3,'11T-GCM-R_Edad2022'!$A$2:$BI$34,44,0)","v":0}]
["10-14 años",{"$f":"VLOOKUP($A$3,'11T-GCM-R_Edad2020 '!$A$2:$BI$34,5,0)","v":0},{"$f":"VLOOKUP($A$3,'11T-GCM-R_Edad2020 '!$A$2:$BI$34,25,0)","v":0},{"$f":"VLOOKUP($A$3,'11T-GCM-R_Edad2020 '!$A$2:$BI$34,45,0)","v":0},{"$f":"VLOOKUP($A$3,'11T-GCM-R_Edad2021'!$A$2:$BI$34,5,0)","v":0},{"$f":"VLOOKUP($A$3,'11T-GCM-R_Edad2021'!$A$2:$BI$34,25,0)","v":0},{"$f":"VLOOKUP($A$3,'11T-GCM-R_Edad2021'!$A$2:$BI$34,45,0)","v":0},{"$f":"VLOOKUP($A$3,'11T-GCM-R_Edad2022'!$A$2:$BI$34,5,0)","v":0},{"$f":"VLOOKUP($A$3,'11T-GCM-R_Edad2022'!$A$2:$BI$34,25,0)","v":0},{"$f":"VLOOKUP($A$3,'11T-GCM-R_Edad2022'!$A$2:$BI$34,45,0)","v":0}]
["15-19 años",{"$f":"VLOOKUP($A$3,'11T-GCM-R_Edad2020 '!$A$2:$BI$34,6,0)","v":0},{"$f":"VLOOKUP($A$3,'11T-GCM-R_Edad2020 '!$A$2:$BI$34,26,0)","v":0},{"$f":"VLOOKUP($A$3,'11T-GCM-R_Edad2020 '!$A$2:$BI$34,46,0)","v":0},{"$f":"VLOOKUP($A$3,'11T-GCM-R_Edad2021'!$A$2:$BI$34,6,0)","v":0},{"$f":"VLOOKUP($A$3,'11T-GCM-R_Edad2021'!$A$2:$BI$34,26,0)","v":0},{"$f":"VLOOKUP($A$3,'11T-GCM-R_Edad2021'!$A$2:$BI$34,46,0)","v":0},{"$f":"VLOOKUP($A$3,'11T-GCM-R_Edad2022'!$A$2:$BI$34,6,0)","v":0},{"$f":"VLOOKUP($A$3,'11T-GCM-R_Edad2022'!$A$2:$BI$34,26,0)","v":0},{"$f":"VLOOKUP($A$3,'11T-GCM-R_Edad2022'!$A$2:$BI$34,46,0)","v":0}]
["20-24 años",{"$f":"VLOOKUP($A$3,'11T-GCM-R_Edad2020 '!$A$2:$BI$34,7,0)","v":0},{"$f":"VLOOKUP($A$3,'11T-GCM-R_Edad2020 '!$A$2:$BI$34,27,0)","v":0},{"$f":"VLOOKUP($A$3,'11T-GCM-R_Edad2020 '!$A$2:$BI$34,47,0)","v":0},{"$f":"VLOOKUP($A$3,'11T-GCM-R_Edad2021'!$A$2:$BI$34,7,0)","v":0},{"$f":"VLOOKUP($A$3,'11T-GCM-R_Edad2021'!$A$2:$BI$34,27,0)","v":0},{"$f":"VLOOKUP($A$3,'11T-GCM-R_Edad2021'!$A$2:$BI$34,47,0)","v":0},{"$f":"VLOOKUP($A$3,'11T-GCM-R_Edad2022'!$A$2:$BI$34,7,0)","v":0},{"$f":"VLOOKUP($A$3,'11T-GCM-R_Edad2022'!$A$2:$BI$34,27,0)","v":0},{"$f":"VLOOKUP($A$3,'11T-GCM-R_Edad2022'!$A$2:$BI$34,47,0)","v":0}]
["25-29 años",{"$f":"VLOOKUP($A$3,'11T-GCM-R_Edad2020 '!$A$2:$BI$34,8,0)","v":0},{"$f":"VLOOKUP($A$3,'11T-GCM-R_Edad2020 '!$A$2:$BI$34,28,0)","v":0},{"$f":"VLOOKUP($A$3,'11T-GCM-R_Edad2020 '!$A$2:$BI$34,48,0)","v":0},{"$f":"VLOOKUP($A$3,'11T-GCM-R_Edad2021'!$A$2:$BI$34,8,0)","v":0},{"$f":"VLOOKUP($A$3,'11T-GCM-R_Edad2021'!$A$2:$BI$34,28,0)","v":0},{"$f":"VLOOKUP($A$3,'11T-GCM-R_Edad2021'!$A$2:$BI$34,48,0)","v":0},{"$f":"VLOOKUP($A$3,'11T-GCM-R_Edad2022'!$A$2:$BI$34,8,0)","v":0},{"$f":"VLOOKUP($A$3,'11T-GCM-R_Edad2022'!$A$2:$BI$34,28,0)","v":0},{"$f":"VLOOKUP($A$3,'11T-GCM-R_Edad2022'!$A$2:$BI$34,48,0)","v":0}]
["30-34 años",{"$f":"VLOOKUP($A$3,'11T-GCM-R_Edad2020 '!$A$2:$BI$34,9,0)","v":0},{"$f":"VLOOKUP($A$3,'11T-GCM-R_Edad2020 '!$A$2:$BI$34,29,0)","v":0},{"$f":"VLOOKUP($A$3,'11T-GCM-R_Edad2020 '!$A$2:$BI$34,49,0)","v":0},{"$f":"VLOOKUP($A$3,'11T-GCM-R_Edad2021'!$A$2:$BI$34,9,0)","v":1},{"$f":"VLOOKUP($A$3,'11T-GCM-R_Edad2021'!$A$2:$BI$34,29,0)","v":1},{"$f":"VLOOKUP($A$3,'11T-GCM-R_Edad2021'!$A$2:$BI$34,49,0)","v":0},{"$f":"VLOOKUP($A$3,'11T-GCM-R_Edad2022'!$A$2:$BI$34,9,0)","v":0},{"$f":"VLOOKUP($A$3,'11T-GCM-R_Edad2022'!$A$2:$BI$34,29,0)","v":0},{"$f":"VLOOKUP($A$3,'11T-GCM-R_Edad2022'!$A$2:$BI$34,49,0)","v":0}]
["35-39 años",{"$f":"VLOOKUP($A$3,'11T-GCM-R_Edad2020 '!$A$2:$BI$34,10,0)","v":0},{"$f":"VLOOKUP($A$3,'11T-GCM-R_Edad2020 '!$A$2:$BI$34,30,0)","v":0},{"$f":"VLOOKUP($A$3,'11T-GCM-R_Edad2020 '!$A$2:$BI$34,50,0)","v":0},{"$f":"VLOOKUP($A$3,'11T-GCM-R_Edad2021'!$A$2:$BI$34,10,0)","v":0},{"$f":"VLOOKUP($A$3,'11T-GCM-R_Edad2021'!$A$2:$BI$34,30,0)","v":0},{"$f":"VLOOKUP($A$3,'11T-GCM-R_Edad2021'!$A$2:$BI$34,50,0)","v":0},{"$f":"VLOOKUP($A$3,'11T-GCM-R_Edad2022'!$A$2:$BI$34,10,0)","v":0},{"$f":"VLOOKUP($A$3,'11T-GCM-R_Edad2022'!$A$2:$BI$34,30,0)","v":0},{"$f":"VLOOKUP($A$3,'11T-GCM-R_Edad2022'!$A$2:$BI$34,50,0)","v":0}]
["40-44 años",{"$f":"VLOOKUP($A$3,'11T-GCM-R_Edad2020 '!$A$2:$BI$34,11,0)","v":0},{"$f":"VLOOKUP($A$3,'11T-GCM-R_Edad2020 '!$A$2:$BI$34,31,0)","v":0},{"$f":"VLOOKUP($A$3,'11T-GCM-R_Edad2020 '!$A$2:$BI$34,51,0)","v":0},{"$f":"VLOOKUP($A$3,'11T-GCM-R_Edad2021'!$A$2:$BI$34,11,0)","v":0},{"$f":"VLOOKUP($A$3,'11T-GCM-R_Edad2021'!$A$2:$BI$34,31,0)","v":0},{"$f":"VLOOKUP($A$3,'11T-GCM-R_Edad2021'!$A$2:$BI$34,51,0)","v":0},{"$f":"VLOOKUP($A$3,'11T-GCM-R_Edad2022'!$A$2:$BI$34,11,0)","v":0},{"$f":"VLOOKUP($A$3,'11T-GCM-R_Edad2022'!$A$2:$BI$34,31,0)","v":0},{"$f":"VLOOKUP($A$3,'11T-GCM-R_Edad2022'!$A$2:$BI$34,51,0)","v":0}]
["45-49 años",{"$f":"VLOOKUP($A$3,'11T-GCM-R_Edad2020 '!$A$2:$BI$34,12,0)","v":0},{"$f":"VLOOKUP($A$3,'11T-GCM-R_Edad2020 '!$A$2:$BI$34,32,0)","v":0},{"$f":"VLOOKUP($A$3,'11T-GCM-R_Edad2020 '!$A$2:$BI$34,52,0)","v":0},{"$f":"VLOOKUP($A$3,'11T-GCM-R_Edad2021'!$A$2:$BI$34,12,0)","v":0},{"$f":"VLOOKUP($A$3,'11T-GCM-R_Edad2021'!$A$2:$BI$34,32,0)","v":0},{"$f":"VLOOKUP($A$3,'11T-GCM-R_Edad2021'!$A$2:$BI$34,52,0)","v":0},{"$f":"VLOOKUP($A$3,'11T-GCM-R_Edad2022'!$A$2:$BI$34,12,0)","v":0},{"$f":"VLOOKUP($A$3,'11T-GCM-R_Edad2022'!$A$2:$BI$34,32,0)","v":0},{"$f":"VLOOKUP($A$3,'11T-GCM-R_Edad2022'!$A$2:$BI$34,52,0)","v":0}]
["50-54 años",{"$f":"VLOOKUP($A$3,'11T-GCM-R_Edad2020 '!$A$2:$BI$34,13,0)","v":0},{"$f":"VLOOKUP($A$3,'11T-GCM-R_Edad2020 '!$A$2:$BI$34,33,0)","v":0},{"$f":"VLOOKUP($A$3,'11T-GCM-R_Edad2020 '!$A$2:$BI$34,53,0)","v":0},{"$f":"VLOOKUP($A$3,'11T-GCM-R_Edad2021'!$A$2:$BI$34,13,0)","v":0},{"$f":"VLOOKUP($A$3,'11T-GCM-R_Edad2021'!$A$2:$BI$34,33,0)","v":0},{"$f":"VLOOKUP($A$3,'11T-GCM-R_Edad2021'!$A$2:$BI$34,53,0)","v":0},{"$f":"VLOOKUP($A$3,'11T-GCM-R_Edad2022'!$A$2:$BI$34,13,0)","v":0},{"$f":"VLOOKUP($A$3,'11T-GCM-R_Edad2022'!$A$2:$BI$34,33,0)","v":0},{"$f":"VLOOKUP($A$3,'11T-GCM-R_Edad2022'!$A$2:$BI$34,53)","v":0}]
["55-59 años",{"$f":"VLOOKUP($A$3,'11T-GCM-R_Edad2020 '!$A$2:$BI$34,14,0)","v":0},{"$f":"VLOOKUP($A$3,'11T-GCM-R_Edad2020 '!$A$2:$BI$34,34,0)","v":0},{"$f":"VLOOKUP($A$3,'11T-GCM-R_Edad2020 '!$A$2:$BI$34,54,0)","v":0},{"$f":"VLOOKUP($A$3,'11T-GCM-R_Edad2021'!$A$2:$BI$34,14,0)","v":0},{"$f":"VLOOKUP($A$3,'11T-GCM-R_Edad2021'!$A$2:$BI$34,34,0)","v":0},{"$f":"VLOOKUP($A$3,'11T-GCM-R_Edad2021'!$A$2:$BI$34,54,0)","v":0},{"$f":"VLOOKUP($A$3,'11T-GCM-R_Edad2022'!$A$2:$BI$34,14,0)","v":0},{"$f":"VLOOKUP($A$3,'11T-GCM-R_Edad2022'!$A$2:$BI$34,34,0)","v":0},{"$f":"VLOOKUP($A$3,'11T-GCM-R_Edad2022'!$A$2:$BI$34,54,0)","v":0}]
["60-64 años",{"$f":"VLOOKUP($A$3,'11T-GCM-R_Edad2020 '!$A$2:$BI$34,15,0)","v":0},{"$f":"VLOOKUP($A$3,'11T-GCM-R_Edad2020 '!$A$2:$BI$34,35,0)","v":0},{"$f":"VLOOKUP($A$3,'11T-GCM-R_Edad2020 '!$A$2:$BI$34,55,0)","v":0},{"$f":"VLOOKUP($A$3,'11T-GCM-R_Edad2021'!$A$2:$BI$34,15,0)","v":1},{"$f":"VLOOKUP($A$3,'11T-GCM-R_Edad2021'!$A$2:$BI$34,35,0)","v":0},{"$f":"VLOOKUP($A$3,'11T-GCM-R_Edad2021'!$A$2:$BI$34,55,0)","v":1},{"$f":"VLOOKUP($A$3,'11T-GCM-R_Edad2022'!$A$2:$BI$34,15,0)","v":0},{"$f":"VLOOKUP($A$3,'11T-GCM-R_Edad2022'!$A$2:$BI$34,35,0)","v":0},{"$f":"VLOOKUP($A$3,'11T-GCM-R_Edad2022'!$A$2:$BI$34,55,0)","v":0}]
["65-69 años",{"$f":"VLOOKUP($A$3,'11T-GCM-R_Edad2020 '!$A$2:$BI$34,16,0)","v":0},{"$f":"VLOOKUP($A$3,'11T-GCM-R_Edad2020 '!$A$2:$BI$34,36,0)","v":0},{"$f":"VLOOKUP($A$3,'11T-GCM-R_Edad2020 '!$A$2:$BI$34,56,0)","v":0},{"$f":"VLOOKUP($A$3,'11T-GCM-R_Edad2021'!$A$2:$BI$34,16,0)","v":0},{"$f":"VLOOKUP($A$3,'11T-GCM-R_Edad2021'!$A$2:$BI$34,36,0)","v":0},{"$f":"VLOOKUP($A$3,'11T-GCM-R_Edad2021'!$A$2:$BI$34,56,0)","v":0},{"$f":"VLOOKUP($A$3,'11T-GCM-R_Edad2022'!$A$2:$BI$34,16,0)","v":0},{"$f":"VLOOKUP($A$3,'11T-GCM-R_Edad2022'!$A$2:$BI$34,36,0)","v":0},{"$f":"VLOOKUP($A$3,'11T-GCM-R_Edad2022'!$A$2:$BI$34,56,0)","v":0}]
["70-74 años",{"$f":"VLOOKUP($A$3,'11T-GCM-R_Edad2020 '!$A$2:$BI$34,17,0)","v":0},{"$f":"VLOOKUP($A$3,'11T-GCM-R_Edad2020 '!$A$2:$BI$34,37,0)","v":0},{"$f":"VLOOKUP($A$3,'11T-GCM-R_Edad2020 '!$A$2:$BI$34,57,0)","v":0},{"$f":"VLOOKUP($A$3,'11T-GCM-R_Edad2021'!$A$2:$BI$34,17,0)","v":0},{"$f":"VLOOKUP($A$3,'11T-GCM-R_Edad2021'!$A$2:$BI$34,37,0)","v":0},{"$f":"VLOOKUP($A$3,'11T-GCM-R_Edad2021'!$A$2:$BI$34,57,0)","v":0},{"$f":"VLOOKUP($A$3,'11T-GCM-R_Edad2022'!$A$2:$BI$34,17,0)","v":0},{"$f":"VLOOKUP($A$3,'11T-GCM-R_Edad2022'!$A$2:$BI$34,37,0)","v":0},{"$f":"VLOOKUP($A$3,'11T-GCM-R_Edad2022'!$A$2:$BI$34,57,0)","v":0}]
["75-79 años",{"$f":"VLOOKUP($A$3,'11T-GCM-R_Edad2020 '!$A$2:$BI$34,18,0)","v":0},{"$f":"VLOOKUP($A$3,'11T-GCM-R_Edad2020 '!$A$2:$BI$34,38,0)","v":0},{"$f":"VLOOKUP($A$3,'11T-GCM-R_Edad2020 '!$A$2:$BI$34,58,0)","v":0},{"$f":"VLOOKUP($A$3,'11T-GCM-R_Edad2021'!$A$2:$BI$34,18,0)","v":0},{"$f":"VLOOKUP($A$3,'11T-GCM-R_Edad2021'!$A$2:$BI$34,38,0)","v":0},{"$f":"VLOOKUP($A$3,'11T-GCM-R_Edad2021'!$A$2:$BI$34,58,0)","v":0},{"$f":"VLOOKUP($A$3,'11T-GCM-R_Edad2022'!$A$2:$BI$34,18,0)","v":0},{"$f":"VLOOKUP($A$3,'11T-GCM-R_Edad2022'!$A$2:$BI$34,38,0)","v":0},{"$f":"VLOOKUP($A$3,'11T-GCM-R_Edad2022'!$A$2:$BI$34,58,0)","v":0}]
["80-84 años",{"$f":"VLOOKUP($A$3,'11T-GCM-R_Edad2020 '!$A$2:$BI$34,19,0)","v":1},{"$f":"VLOOKUP($A$3,'11T-GCM-R_Edad2020 '!$A$2:$BI$34,39,0)","v":1},{"$f":"VLOOKUP($A$3,'11T-GCM-R_Edad2020 '!$A$2:$BI$34,59,0)","v":0},{"$f":"VLOOKUP($A$3,'11T-GCM-R_Edad2021'!$A$2:$BI$34,19,0)","v":0},{"$f":"VLOOKUP($A$3,'11T-GCM-R_Edad2021'!$A$2:$BI$34,39,0)","v":0},{"$f":"VLOOKUP($A$3,'11T-GCM-R_Edad2021'!$A$2:$BI$34,59,0)","v":0},{"$f":"VLOOKUP($A$3,'11T-GCM-R_Edad2022'!$A$2:$BI$34,19,0)","v":0},{"$f":"VLOOKUP($A$3,'11T-GCM-R_Edad2022'!$A$2:$BI$34,39,0)","v":0},{"$f":"VLOOKUP($A$3,'11T-GCM-R_Edad2022'!$A$2:$BI$34,59,0)","v":0}]
["85 años y más",{"$f":"VLOOKUP($A$3,'11T-GCM-R_Edad2020 '!$A$2:$BI$34,20,0)","v":0},{"$f":"VLOOKUP($A$3,'11T-GCM-R_Edad2020 '!$A$2:$BI$34,40,0)","v":0},{"$f":"VLOOKUP($A$3,'11T-GCM-R_Edad2020 '!$A$2:$BI$34,60,0)","v":0},{"$f":"VLOOKUP($A$3,'11T-GCM-R_Edad2021'!$A$2:$BI$34,20,0)","v":0},{"$f":"VLOOKUP($A$3,'11T-GCM-R_Edad2021'!$A$2:$BI$34,40,0)","v":0},{"$f":"VLOOKUP($A$3,'11T-GCM-R_Edad2021'!$A$2:$BI$34,60,0)","v":0},{"$f":"VLOOKUP($A$3,'11T-GCM-R_Edad2022'!$A$2:$BI$34,20,0)","v":2},{"$f":"VLOOKUP($A$3,'11T-GCM-R_Edad2022'!$A$2:$BI$34,40,0)","v":2},{"$f":"VLOOKUP($A$3,'11T-GCM-R_Edad2022'!$A$2:$BI$34,60,0)","v":0}]
["No especificado",{"$f":"VLOOKUP($A$3,'11T-GCM-R_Edad2020 '!$A$2:$BI$34,21,0)","v":0},{"$f":"VLOOKUP($A$3,'11T-GCM-R_Edad2020 '!$A$2:$BI$34,41,0)","v":0},{"$f":"VLOOKUP($A$3,'11T-GCM-R_Edad2020 '!$A$2:$BI$34,61,0)","v":0},{"$f":"VLOOKUP($A$3,'11T-GCM-R_Edad2021'!$A$2:$BI$34,21,0)","v":0},{"$f":"VLOOKUP($A$3,'11T-GCM-R_Edad2021'!$A$2:$BI$34,41,0)","v":0},{"$f":"VLOOKUP($A$3,'11T-GCM-R_Edad2021'!$A$2:$BI$34,61,0)","v":0},{"$f":"VLOOKUP($A$3,'11T-GCM-R_Edad2022'!$A$2:$BI$34,21,0)","v":0},{"$f":"VLOOKUP($A$3,'11T-GCM-R_Edad2022'!$A$2:$BI$34,41,0)","v":0},{"$f":"VLOOKUP($A$3,'11T-GCM-R_Edad2022'!$A$2:$BI$34,61,0)","v":0}]
["Total",{"$f":"SUM(B4:B23)","v":1},1,0,2,1,1,2,2,0]

{"sheet":"12T-GCM-R_Edad2020  ","index":106,"n_rows":34,"n_cols":61,"rows_kept":34,"cut":false,"hidden":true,"merged":[]}
[1,2,3,4,5,6,7,8,9,10,11,12,13,14,15,16,17,18,19,20,21,22,23,24,25,26,27,28,29,30,31,32,33,34,35,36,37,38,39,40,41,42,43,44,45,46,47,48,49,50,51,52,53,54,55,56,57,58,59,60,61]
["ESTADO","Menores de 1 año","1-4 años","5-9 años","10-14 años","15-19 años","20-24 años","25-29 años","30-34 años","35-39 años","40-44 años","45-49 años","50-54 años","55-59 años","60-64 años","65-69 años","70-74 años","75-79 años","80-84 años","85 años y más","No especificado","H Menores de 1 año","H 1-4 años","H 5-9 años","H 10-14 años","H 15-19 años","H 20-24 años","H 25-29 años","H 30-34 años","H 35-39 años","H 40-44 años","H 45-49 años","H 50-54 años","H 55-59 años","H 60-64 años","H 65-69 años","H 70-74 años","H 75-79 años","H 80-84 años","H 85 años y más","H No especificado","   M Menores de 1 año ","M 1-4 años","M 5-9 años","M 10-14 años","M 15-19 años","M 20-24 años","M 25-29 años","M 30-34 años","M 35-39 años","M 40-44 años","M 45-49 años","M 50-54 años","M 55-59 años","M 60-64 años","M 65-69 años","M 70-74 años","M 75-79 años","M 80-84 años","M 85 años y    ás","M No especificado"]
["Aguascalientes",0,0,0,0,0,0,0,0,0,0,0,0,1,0,0,0,0,0,0,0,0,0,0,0,0,0,0,0,0,0,0,0,1,0,0,0,0,0,0,0,0,0,0,0,0,0,0,0,0,0,0,0,0,0,0,0,0,0,0,0]
["Baja California",0,0,0,0,0,0,0,0,0,0,0,0,0,0,1,0,0,0,0,0,0,0,0,0,0,0,0,0,0,0,0,0,0,0,0,0,0,0,0,0,0,0,0,0,0,0,0,0,0,0,0,0,0,0,1,0,0,0,0,0]
["Baja California Sur",0,0,0,0,0,0,0,0,0,0,0,1,0,0,0,0,0,0,0,0,0,0,0,0,0,0,0,0,0,0,0,1,0,0,0,0,0,0,0,0,0,0,0,0,0,0,0,0,0,0,0,0,0,0,0,0,0,0,0,0]
["Campeche",0,0,0,0,0,0,0,0,0,0,0,0,0,0,0,0,0,0,0,0,0,0,0,0,0,0,0,0,0,0,0,0,0,0,0,0,0,0,0,0,0,0,0,0,0,0,0,0,0,0,0,0,0,0,0,0,0,0,0,0]
["Coahuila",0,0,0,0,0,0,0,0,0,0,0,1,0,0,0,0,0,0,0,0,0,0,0,0,0,0,0,0,0,0,0,1,0,0,0,0,0,0,0,0,0,0,0,0,0,0,0,0,0,0,0,0,0,0,0,0,0,0,0,0]
["Colima",0,0,0,0,0,0,0,0,0,0,0,0,0,0,0,1,0,0,0,0,0,0,0,0,0,0,0,0,0,0,0,0,0,0,0,1,0,0,0,0,0,0,0,0,0,0,0,0,0,0,0,0,0,0,0,0,0,0,0,0]
["Chiapas",1,1,1,0,0,0,0,0,0,0,0,0,0,0,0,0,1,0,0,0,1,1,0,0,0,0,0,0,0,0,0,0,0,0,0,0,1,0,0,0,0,0,1,0,0,0,0,0,0,0,0,0,0,0,0,0,0,0,0,0]
["Chihuahua",0,0,0,1,0,0,1,0,0,0,0,0,1,0,0,0,0,0,0,0,0,0,0,1,0,0,1,0,0,0,0,0,1,0,0,0,0,0,0,0,0,0,0,0,0,0,0,0,0,0,0,0,0,0,0,0,0,0,0,0]
["Ciudad de México",0,0,0,1,0,0,0,0,1,1,1,0,0,1,0,0,0,0,2,0,0,0,0,0,0,0,0,0,0,0,0,0,0,0,0,0,0,0,2,0,0,0,0,1,0,0,0,0,1,1,1,0,0,1,0,0,0,0,0,0]
["Durango",0,0,0,0,0,0,0,0,0,0,0,2,1,0,0,0,0,0,0,0,0,0,0,0,0,0,0,0,0,0,0,2,0,0,0,0,0,0,0,0,0,0,0,0,0,0,0,0,0,0,0,0,1,0,0,0,0,0,0,0]
["Guanajuato",0,0,0,0,0,0,0,0,0,0,0,0,0,0,0,0,0,0,0,0,0,0,0,0,0,0,0,0,0,0,0,0,0,0,0,0,0,0,0,0,0,0,0,0,0,0,0,0,0,0,0,0,0,0,0,0,0,0,0,0]
["Guerrero",0,0,0,0,0,0,0,0,0,0,0,0,1,0,0,0,0,0,1,0,0,0,0,0,0,0,0,0,0,0,0,0,1,0,0,0,0,0,0,0,0,0,0,0,0,0,0,0,0,0,0,0,0,0,0,0,0,0,1,0]
["Hidalgo",0,0,0,0,0,0,0,1,0,0,0,0,0,0,0,0,0,0,0,0,0,0,0,0,0,0,0,1,0,0,0,0,0,0,0,0,0,0,0,0,0,0,0,0,0,0,0,0,0,0,0,0,0,0,0,0,0,0,0,0]
["Jalisco",0,0,0,0,0,0,0,0,0,0,0,0,0,0,0,0,0,0,0,0,0,0,0,0,0,0,0,0,0,0,0,0,0,0,0,0,0,0,0,0,0,0,0,0,0,0,0,0,0,0,0,0,0,0,0,0,0,0,0,0]
["México",0,0,0,0,0,1,0,0,0,0,0,0,0,0,0,0,0,0,0,0,0,0,0,0,0,0,0,0,0,0,0,0,0,0,0,0,0,0,0,0,0,0,0,0,0,1,0,0,0,0,0,0,0,0,0,0,0,0,0,0]
["Michoacán",0,0,0,0,0,0,0,0,0,0,0,0,0,0,0,0,0,0,0,0,0,0,0,0,0,0,0,0,0,0,0,0,0,0,0,0,0,0,0,0,0,0,0,0,0,0,0,0,0,0,0,0,0,0,0,0,0,0,0,0]
["Morelos",0,0,0,0,0,0,0,0,0,0,0,1,0,0,0,0,0,0,1,0,0,0,0,0,0,0,0,0,0,0,0,1,0,0,0,0,0,0,0,0,0,0,0,0,0,0,0,0,0,0,0,0,0,0,0,0,0,0,1,0]
["Nayarit",0,0,0,0,0,0,0,0,0,0,0,0,0,0,0,0,0,0,0,0,0,0,0,0,0,0,0,0,0,0,0,0,0,0,0,0,0,0,0,0,0,0,0,0,0,0,0,0,0,0,0,0,0,0,0,0,0,0,0,0]
["Nuevo León",0,0,0,0,0,0,0,0,1,0,0,0,0,0,2,0,0,0,0,0,0,0,0,0,0,0,0,0,1,0,0,0,0,0,2,0,0,0,0,0,0,0,0,0,0,0,0,0,0,0,0,0,0,0,0,0,0,0,0,0]
["Oaxaca",0,0,0,0,0,0,0,0,0,0,0,0,0,0,0,0,0,0,0,0,0,0,0,0,0,0,0,0,0,0,0,0,0,0,0,0,0,0,0,0,0,0,0,0,0,0,0,0,0,0,0,0,0,0,0,0,0,0,0,0]
["Puebla",1,0,0,0,0,0,0,1,0,0,0,1,0,0,0,0,0,0,0,0,0,0,0,0,0,0,0,0,0,0,0,0,0,0,0,0,0,0,0,0,1,0,0,0,0,0,0,1,0,0,0,1,0,0,0,0,0,0,0,0]
["Querétaro",0,0,0,0,0,0,0,0,0,0,0,0,0,0,0,0,0,0,0,0,0,0,0,0,0,0,0,0,0,0,0,0,0,0,0,0,0,0,0,0,0,0,0,0,0,0,0,0,0,0,0,0,0,0,0,0,0,0,0,0]
["Quintana Roo",0,0,0,0,0,0,0,0,0,0,0,0,1,0,0,0,0,0,0,0,0,0,0,0,0,0,0,0,0,0,0,0,1,0,0,0,0,0,0,0,0,0,0,0,0,0,0,0,0,0,0,0,0,0,0,0,0,0,0,0]
["San Luis Potosí",0,0,0,0,0,1,0,0,0,0,0,0,0,0,0,0,0,0,0,0,0,0,0,0,0,1,0,0,0,0,0,0,0,0,0,0,0,0,0,0,0,0,0,0,0,0,0,0,0,0,0,0,0,0,0,0,0,0,0,0]
["Sinaloa",0,0,1,0,0,0,0,1,0,0,0,0,0,0,0,0,0,0,0,0,0,0,1,0,0,0,0,1,0,0,0,0,0,0,0,0,0,0,0,0,0,0,0,0,0,0,0,0,0,0,0,0,0,0,0,0,0,0,0,0]
["Sonora",0,0,0,0,0,0,0,0,0,0,0,0,0,0,1,0,0,0,0,0,0,0,0,0,0,0,0,0,0,0,0,0,0,0,0,0,0,0,0,0,0,0,0,0,0,0,0,0,0,0,0,0,0,0,1,0,0,0,0,0]
["Tabasco",0,0,0,0,0,0,1,0,0,0,0,0,0,1,0,0,1,0,0,0,0,0,0,0,0,0,0,0,0,0,0,0,0,1,0,0,1,0,0,0,0,0,0,0,0,0,1,0,0,0,0,0,0,0,0,0,0,0,0,0]
["Tamaulipas",0,0,0,0,0,0,0,0,0,1,0,0,0,1,0,1,0,0,0,0,0,0,0,0,0,0,0,0,0,0,0,0,0,1,0,0,0,0,0,0,0,0,0,0,0,0,0,0,0,1,0,0,0,0,0,1,0,0,0,0]
["Tlaxcala",0,0,0,0,0,0,0,0,0,0,0,0,0,0,0,0,0,0,0,0,0,0,0,0,0,0,0,0,0,0,0,0,0,0,0,0,0,0,0,0,0,0,0,0,0,0,0,0,0,0,0,0,0,0,0,0,0,0,0,0]
["Veracruz",0,0,0,0,0,0,0,0,0,0,0,0,0,0,0,0,0,0,0,0,0,0,0,0,0,0,0,0,0,0,0,0,0,0,0,0,0,0,0,0,0,0,0,0,0,0,0,0,0,0,0,0,0,0,0,0,0,0,0,0]
["Yucatán",0,0,0,0,0,0,0,0,1,0,0,0,0,0,0,0,0,0,0,0,0,0,0,0,0,0,0,0,0,0,0,0,0,0,0,0,0,0,0,0,0,0,0,0,0,0,0,0,1,0,0,0,0,0,0,0,0,0,0,0]
["Zacatecas",0,0,0,0,0,0,0,0,0,0,0,0,0,0,0,1,0,0,0,0,0,0,0,0,0,0,0,0,0,0,0,0,0,0,0,1,0,0,0,0,0,0,0,0,0,0,0,0,0,0,0,0,0,0,0,0,0,0,0,0]

{"sheet":"12T-GCM-R_Edad2021 ","index":107,"n_rows":34,"n_cols":61,"rows_kept":34,"cut":false,"hidden":true,"merged":[]}
[1,2,3,4,5,6,7,8,9,10,11,12,13,14,15,16,17,18,19,20,21,22,23,24,25,26,27,28,29,30,31,32,33,34,35,36,37,38,39,40,41,42,43,44,45,46,47,48,49,50,51,52,53,54,55,56,57,58,59,60,61]
["ESTADO","Menores de 1 año","1-4 años","5-9 años","10-14 años","15-19 años","20-24 años","25-29 años","30-34 años","35-39 años","40-44 años","45-49 años","50-54 años","55-59 años","60-64 años","65-69 años","70-74 años","75-79 años","80-84 años","85 años y más","No especificado","H Menores de 1 año","H 1-4 años","H 5-9 años","H 10-14 años","H 15-19 años","H 20-24 años","H 25-29 años","H 30-34 años","H 35-39 años","H 40-44 años","H 45-49 años","H 50-54 años","H 55-59 años","H 60-64 años","H 65-69 años","H 70-74 años","H 75-79 años","H 80-84 años","H 85 años y más","H No especificado","   M Menores de 1 año ","M 1-4 años","M 5-9 años","M 10-14 años","M 15-19 años","M 20-24 años","M 25-29 años","M 30-34 años","M 35-39 años","M 40-44 años","M 45-49 años","M 50-54 años","M 55-59 años","M 60-64 años","M 65-69 años","M 70-74 años","M 75-79 años","M 80-84 años","M 85 años y    ás","M No especificado"]
["Aguascalientes",0,0,0,0,0,0,0,0,0,0,0,0,0,0,0,0,0,0,0,0,0,0,0,0,0,0,0,0,0,0,0,0,0,0,0,0,0,0,0,0,0,0,0,0,0,0,0,0,0,0,0,0,0,0,0,0,0,0,0,0]
["Baja California",0,0,0,0,0,0,0,0,0,0,0,0,0,0,0,0,0,0,0,0,0,0,0,0,0,0,0,0,0,0,0,0,0,0,0,0,0,0,0,0,0,0,0,0,0,0,0,0,0,0,0,0,0,0,0,0,0,0,0,0]
["Baja California Sur",0,0,0,0,0,0,0,0,0,0,0,0,0,0,0,0,0,0,1,0,0,0,0,0,0,0,0,0,0,0,0,0,0,0,0,0,0,0,0,0,0,0,0,0,0,0,0,0,0,0,0,0,0,0,0,0,0,0,1,0]
["Campeche",0,0,0,0,0,0,0,0,0,0,0,0,0,0,0,0,0,0,0,0,0,0,0,0,0,0,0,0,0,0,0,0,0,0,0,0,0,0,0,0,0,0,0,0,0,0,0,0,0,0,0,0,0,0,0,0,0,0,0,0]
["Coahuila",0,0,0,0,0,0,0,0,0,0,0,0,0,0,0,0,0,0,0,0,0,0,0,0,0,0,0,0,0,0,0,0,0,0,0,0,0,0,0,0,0,0,0,0,0,0,0,0,0,0,0,0,0,0,0,0,0,0,0,0]
["Colima",0,0,0,0,1,0,0,0,0,0,0,0,0,0,0,0,0,0,0,0,0,0,0,0,1,0,0,0,0,0,0,0,0,0,0,0,0,0,0,0,0,0,0,0,0,0,0,0,0,0,0,0,0,0,0,0,0,0,0,0]
["Chiapas",0,1,0,0,0,0,0,0,0,0,0,0,0,0,0,0,1,0,0,0,0,0,0,0,0,0,0,0,0,0,0,0,0,0,0,0,0,0,0,0,0,1,0,0,0,0,0,0,0,0,0,0,0,0,0,0,1,0,0,0]
["Chihuahua",0,0,0,0,0,0,0,0,0,0,0,0,0,0,0,0,0,0,0,0,0,0,0,0,0,0,0,0,0,0,0,0,0,0,0,0,0,0,0,0,0,0,0,0,0,0,0,0,0,0,0,0,0,0,0,0,0,0,0,0]
["Ciudad de México",0,0,0,0,0,0,0,0,0,0,0,0,0,0,0,0,0,0,0,0,0,0,0,0,0,0,0,0,0,0,0,0,0,0,0,0,0,0,0,0,0,0,0,0,0,0,0,0,0,0,0,0,0,0,0,0,0,0,0,0]
["Durango",0,0,0,0,0,0,0,0,0,0,0,0,0,0,0,0,0,0,0,0,0,0,0,0,0,0,0,0,0,0,0,0,0,0,0,0,0,0,0,0,0,0,0,0,0,0,0,0,0,0,0,0,0,0,0,0,0,0,0,0]
["Guanajuato",0,0,0,0,0,0,0,1,0,0,0,0,0,1,0,0,0,0,0,0,0,0,0,0,0,0,0,1,0,0,0,0,0,0,0,0,0,0,0,0,0,0,0,0,0,0,0,0,0,0,0,0,0,1,0,0,0,0,0,0]
["Guerrero",0,0,0,0,0,0,0,0,1,0,0,0,0,0,0,1,0,0,0,0,0,0,0,0,0,0,0,0,1,0,0,0,0,0,0,0,0,0,0,0,0,0,0,0,0,0,0,0,0,0,0,0,0,0,0,1,0,0,0,0]
["Hidalgo",0,0,0,0,0,0,0,0,0,0,0,0,0,0,0,0,0,0,1,0,0,0,0,0,0,0,0,0,0,0,0,0,0,0,0,0,0,0,1,0,0,0,0,0,0,0,0,0,0,0,0,0,0,0,0,0,0,0,0,0]
["Jalisco",0,0,0,0,0,0,1,0,0,0,1,0,0,0,0,0,0,0,0,0,0,0,0,0,0,0,1,0,0,0,1,0,0,0,0,0,0,0,0,0,0,0,0,0,0,0,0,0,0,0,0,0,0,0,0,0,0,0,0,0]
["México",0,0,0,0,0,0,1,0,0,0,0,2,0,0,0,0,0,0,0,0,0,0,0,0,0,0,1,0,0,0,0,1,0,0,0,0,0,0,0,0,0,0,0,0,0,0,0,0,0,0,0,1,0,0,0,0,0,0,0,0]
["Michoacán",0,0,0,0,0,0,0,0,0,0,0,0,0,0,0,0,0,1,1,0,0,0,0,0,0,0,0,0,0,0,0,0,0,0,0,0,0,1,0,0,0,0,0,0,0,0,0,0,0,0,0,0,0,0,0,0,0,0,1,0]
["Morelos",0,0,0,0,0,0,0,0,0,0,0,0,0,0,0,1,0,0,0,0,0,0,0,0,0,0,0,0,0,0,0,0,0,0,0,1,0,0,0,0,0,0,0,0,0,0,0,0,0,0,0,0,0,0,0,0,0,0,0,0]
["Nayarit",0,0,0,0,0,0,0,0,0,0,0,0,0,0,0,0,0,1,0,0,0,0,0,0,0,0,0,0,0,0,0,0,0,0,0,0,0,0,0,0,0,0,0,0,0,0,0,0,0,0,0,0,0,0,0,0,0,1,0,0]
["Nuevo León",0,0,0,0,0,0,0,0,0,0,0,0,0,0,0,0,0,0,1,0,0,0,0,0,0,0,0,0,0,0,0,0,0,0,0,0,0,0,1,0,0,0,0,0,0,0,0,0,0,0,0,0,0,0,0,0,0,0,0,0]
["Oaxaca",0,0,0,0,0,0,0,0,0,0,0,1,0,0,0,0,0,0,0,0,0,0,0,0,0,0,0,0,0,0,0,0,0,0,0,0,0,0,0,0,0,0,0,0,0,0,0,0,0,0,0,1,0,0,0,0,0,0,0,0]
["Puebla",0,0,0,0,0,0,0,1,0,0,0,0,0,0,0,0,0,0,0,0,0,0,0,0,0,0,0,0,0,0,0,0,0,0,0,0,0,0,0,0,0,0,0,0,0,0,0,1,0,0,0,0,0,0,0,0,0,0,0,0]
["Querétaro",0,0,0,0,0,0,0,0,0,0,0,0,0,0,0,0,0,0,0,0,0,0,0,0,0,0,0,0,0,0,0,0,0,0,0,0,0,0,0,0,0,0,0,0,0,0,0,0,0,0,0,0,0,0,0,0,0,0,0,0]
["Quintana Roo",0,0,0,0,0,0,0,0,0,0,0,0,0,0,0,0,0,0,0,0,0,0,0,0,0,0,0,0,0,0,0,0,0,0,0,0,0,0,0,0,0,0,0,0,0,0,0,0,0,0,0,0,0,0,0,0,0,0,0,0]
["San Luis Potosí",0,0,0,0,0,0,0,0,0,0,0,0,1,1,1,1,0,0,0,0,0,0,0,0,0,0,0,0,0,0,0,0,0,1,0,1,0,0,0,0,0,0,0,0,0,0,0,0,0,0,0,0,1,0,1,0,0,0,0,0]
["Sinaloa",0,0,0,0,0,0,0,0,0,0,0,1,0,0,0,0,0,0,0,0,0,0,0,0,0,0,0,0,0,0,0,1,0,0,0,0,0,0,0,0,0,0,0,0,0,0,0,0,0,0,0,0,0,0,0,0,0,0,0,0]
["Sonora",0,0,1,0,0,0,0,0,0,0,0,0,0,0,0,0,0,0,0,0,0,0,1,0,0,0,0,0,0,0,0,0,0,0,0,0,0,0,0,0,0,0,0,0,0,0,0,0,0,0,0,0,0,0,0,0,0,0,0,0]
["Tabasco",0,0,0,0,0,0,0,0,0,0,0,0,0,0,0,0,0,0,0,0,0,0,0,0,0,0,0,0,0,0,0,0,0,0,0,0,0,0,0,0,0,0,0,0,0,0,0,0,0,0,0,0,0,0,0,0,0,0,0,0]
["Tamaulipas",0,0,0,0,0,1,0,0,0,0,1,1,0,0,0,1,0,0,0,0,0,0,0,0,0,1,0,0,0,0,1,0,0,0,0,1,0,0,0,0,0,0,0,0,0,0,0,0,0,0,0,1,0,0,0,0,0,0,0,0]
["Tlaxcala",0,0,0,0,0,0,0,0,0,0,0,0,0,0,0,0,0,0,0,0,0,0,0,0,0,0,0,0,0,0,0,0,0,0,0,0,0,0,0,0,0,0,0,0,0,0,0,0,0,0,0,0,0,0,0,0,0,0,0,0]
["Veracruz",0,0,0,1,0,0,0,1,0,1,0,0,0,0,0,0,0,0,0,0,0,0,0,1,0,0,0,1,0,1,0,0,0,0,0,0,0,0,0,0,0,0,0,0,0,0,0,0,0,0,0,0,0,0,0,0,0,0,0,0]
["Yucatán",0,0,0,0,0,0,0,0,0,0,0,0,0,0,0,0,0,0,0,0,0,0,0,0,0,0,0,0,0,0,0,0,0,0,0,0,0,0,0,0,0,0,0,0,0,0,0,0,0,0,0,0,0,0,0,0,0,0,0,0]
["Zacatecas",0,0,0,0,0,0,0,0,0,0,0,0,0,0,0,0,0,0,0,0,0,0,0,0,0,0,0,0,0,0,0,0,0,0,0,0,0,0,0,0,0,0,0,0,0,0,0,0,0,0,0,0,0,0,0,0,0,0,0,0]

{"sheet":"12T-GCM-R_Edad2022","index":108,"n_rows":34,"n_cols":61,"rows_kept":34,"cut":false,"hidden":true,"merged":[]}
[1,2,3,4,5,6,7,8,9,10,11,12,13,14,15,16,17,18,19,20,21,22,23,24,25,26,27,28,29,30,31,32,33,34,35,36,37,38,39,40,41,42,43,44,45,46,47,48,49,50,51,52,53,54,55,56,57,58,59,60,61]
["ESTADO","Menores de 1 año","1-4 años","5-9 años","10-14 años","15-19 años","20-24 años","25-29 años","30-34 años","35-39 años","40-44 años","45-49 años","50-54 años","55-59 años","60-64 años","65-69 años","70-74 años","75-79 años","80-84 años","85 años y más","No especificado","H Menores de 1 año","H 1-4 años","H 5-9 años","H 10-14 años","H 15-19 años","H 20-24 años","H 25-29 años","H 30-34 años","H 35-39 años","H 40-44 años","H 45-49 años","H 50-54 años","H 55-59 años","H 60-64 años","H 65-69 años","H 70-74 años","H 75-79 años","H 80-84 años","H 85 años y más","H No especificado","   M Menores de 1 año ","M 1-4 años","M 5-9 años","M 10-14 años","M 15-19 años","M 20-24 años","M 25-29 años","M 30-34 años","M 35-39 años","M 40-44 años","M 45-49 años","M 50-54 años","M 55-59 años","M 60-64 años","M 65-69 años","M 70-74 años","M 75-79 años","M 80-84 años","M 85 años y    ás","M No especificado"]
["Aguascalientes",0,0,0,0,0,0,0,0,0,0,0,0,0,0,0,0,0,0,0,0,0,0,0,0,0,0,0,0,0,0,0,0,0,0,0,0,0,0,0,0,0,0,0,0,0,0,0,0,0,0,0,0,0,0,0,0,0,0,0,0]
["Baja California",0,0,0,0,0,0,0,0,0,0,1,1,0,0,0,0,0,0,0,0,0,0,0,0,0,0,0,0,0,0,0,0,0,0,0,0,0,0,0,0,0,0,0,0,0,0,0,0,0,0,1,1,0,0,0,0,0,0,0,0]
["Baja California Sur",0,0,0,0,0,0,0,0,0,0,0,0,0,0,0,0,0,0,0,0,0,0,0,0,0,0,0,0,0,0,0,0,0,0,0,0,0,0,0,0,0,0,0,0,0,0,0,0,0,0,0,0,0,0,0,0,0,0,0,0]
["Campeche",0,0,0,0,0,0,0,0,0,0,0,0,0,0,0,0,1,0,0,0,0,0,0,0,0,0,0,0,0,0,0,0,0,0,0,0,1,0,0,0,0,0,0,0,0,0,0,0,0,0,0,0,0,0,0,0,0,0,0,0]
["Coahuila",0,0,0,0,0,0,0,0,0,0,0,0,1,0,0,0,0,0,0,0,0,0,0,0,0,0,0,0,0,0,0,0,0,0,0,0,0,0,0,0,0,0,0,0,0,0,0,0,0,0,0,0,1,0,0,0,0,0,0,0]
["Colima",0,0,0,0,0,0,0,0,0,0,0,0,0,0,0,0,0,0,0,0,0,0,0,0,0,0,0,0,0,0,0,0,0,0,0,0,0,0,0,0,0,0,0,0,0,0,0,0,0,0,0,0,0,0,0,0,0,0,0,0]
["Chiapas",1,0,0,0,0,0,0,0,0,0,0,0,0,0,0,0,0,0,0,0,1,0,0,0,0,0,0,0,0,0,0,0,0,0,0,0,0,0,0,0,0,0,0,0,0,0,0,0,0,0,0,0,0,0,0,0,0,0,0,0]
["Chihuahua",0,0,0,0,0,0,0,0,0,1,0,0,0,0,0,0,0,0,0,0,0,0,0,0,0,0,0,0,0,1,0,0,0,0,0,0,0,0,0,0,0,0,0,0,0,0,0,0,0,0,0,0,0,0,0,0,0,0,0,0]
["Ciudad de México",0,1,0,0,0,0,1,1,1,0,1,0,0,0,1,0,0,0,0,0,0,0,0,0,0,0,1,1,1,0,0,0,0,0,0,0,0,0,0,0,0,1,0,0,0,0,0,0,0,0,1,0,0,0,1,0,0,0,0,0]
["Durango",0,0,0,0,0,0,0,0,0,0,0,1,0,2,0,0,0,0,0,0,0,0,0,0,0,0,0,0,0,0,0,0,0,2,0,0,0,0,0,0,0,0,0,0,0,0,0,0,0,0,0,1,0,0,0,0,0,0,0,0]
["Guanajuato",0,0,0,0,0,0,0,0,0,0,1,0,0,0,0,0,1,0,0,0,0,0,0,0,0,0,0,0,0,0,1,0,0,0,0,0,0,0,0,0,0,0,0,0,0,0,0,0,0,0,0,0,0,0,0,0,1,0,0,0]
["Guerrero",0,0,0,1,0,1,0,0,0,0,0,0,0,0,0,0,0,0,0,0,0,0,0,0,0,0,0,0,0,0,0,0,0,0,0,0,0,0,0,0,0,0,0,1,0,1,0,0,0,0,0,0,0,0,0,0,0,0,0,0]
["Hidalgo",0,0,0,0,0,0,0,0,0,0,0,0,0,0,0,0,0,0,0,0,0,0,0,0,0,0,0,0,0,0,0,0,0,0,0,0,0,0,0,0,0,0,0,0,0,0,0,0,0,0,0,0,0,0,0,0,0,0,0,0]
["Jalisco",0,0,0,0,0,0,0,0,0,0,0,1,0,1,0,1,0,0,0,0,0,0,0,0,0,0,0,0,0,0,0,0,0,1,0,0,0,0,0,0,0,0,0,0,0,0,0,0,0,0,0,1,0,0,0,1,0,0,0,0]
["México",0,0,0,0,0,0,1,0,0,0,0,1,0,1,1,0,1,0,0,0,0,0,0,0,0,0,0,0,0,0,0,1,0,1,0,0,0,0,0,0,0,0,0,0,0,0,1,0,0,0,0,0,0,0,1,0,1,0,0,0]
["Michoacán",0,0,1,0,0,0,0,0,0,0,0,0,0,0,0,0,0,0,0,0,0,0,1,0,0,0,0,0,0,0,0,0,0,0,0,0,0,0,0,0,0,0,0,0,0,0,0,0,0,0,0,0,0,0,0,0,0,0,0,0]
["Morelos",0,0,0,0,0,0,0,0,0,0,0,0,0,0,0,0,0,0,0,0,0,0,0,0,0,0,0,0,0,0,0,0,0,0,0,0,0,0,0,0,0,0,0,0,0,0,0,0,0,0,0,0,0,0,0,0,0,0,0,0]
["Nayarit",0,0,0,0,0,0,1,0,0,0,0,0,0,0,1,0,0,0,0,0,0,0,0,0,0,0,0,0,0,0,0,0,0,0,1,0,0,0,0,0,0,0,0,0,0,0,1,0,0,0,0,0,0,0,0,0,0,0,0,0]
["Nuevo León",0,0,0,0,0,0,0,1,1,1,0,1,0,0,1,0,0,0,0,0,0,0,0,0,0,0,0,1,1,0,0,1,0,0,1,0,0,0,0,0,0,0,0,0,0,0,0,0,0,1,0,0,0,0,0,0,0,0,0,0]
["Oaxaca",0,0,0,0,0,0,0,0,0,0,0,0,0,0,0,0,0,0,1,0,0,0,0,0,0,0,0,0,0,0,0,0,0,0,0,0,0,0,0,0,0,0,0,0,0,0,0,0,0,0,0,0,0,0,0,0,0,0,1,0]
["Puebla",0,0,0,0,0,0,0,0,0,0,0,0,0,0,0,0,0,0,0,0,0,0,0,0,0,0,0,0,0,0,0,0,0,0,0,0,0,0,0,0,0,0,0,0,0,0,0,0,0,0,0,0,0,0,0,0,0,0,0,0]
["Querétaro",0,0,0,0,0,0,0,0,0,0,1,0,0,0,0,0,0,0,0,0,0,0,0,0,0,0,0,0,0,0,1,0,0,0,0,0,0,0,0,0,0,0,0,0,0,0,0,0,0,0,0,0,0,0,0,0,0,0,0,0]
["Quintana Roo",0,0,0,0,0,0,0,0,0,1,0,0,0,0,0,0,0,0,0,0,0,0,0,0,0,0,0,0,0,0,0,0,0,0,0,0,0,0,0,0,0,0,0,0,0,0,0,0,0,1,0,0,0,0,0,0,0,0,0,0]
["San Luis Potosí",0,0,0,0,1,0,0,0,0,0,1,0,0,0,0,0,0,0,0,0,0,0,0,0,1,0,0,0,0,0,1,0,0,0,0,0,0,0,0,0,0,0,0,0,0,0,0,0,0,0,0,0,0,0,0,0,0,0,0,0]
["Sinaloa",0,0,0,0,0,0,0,0,0,0,0,0,0,0,0,0,0,0,0,0,0,0,0,0,0,0,0,0,0,0,0,0,0,0,0,0,0,0,0,0,0,0,0,0,0,0,0,0,0,0,0,0,0,0,0,0,0,0,0,0]
["Sonora",0,0,0,0,0,0,0,0,0,0,0,0,0,0,0,0,0,0,0,0,0,0,0,0,0,0,0,0,0,0,0,0,0,0,0,0,0,0,0,0,0,0,0,0,0,0,0,0,0,0,0,0,0,0,0,0,0,0,0,0]
["Tabasco",0,0,0,0,0,0,0,0,0,0,0,0,0,0,0,0,0,0,0,0,0,0,0,0,0,0,0,0,0,0,0,0,0,0,0,0,0,0,0,0,0,0,0,0,0,0,0,0,0,0,0,0,0,0,0,0,0,0,0,0]
["Tamaulipas",0,0,0,0,1,0,0,0,0,0,0,0,0,0,0,0,0,1,0,0,0,0,0,0,1,0,0,0,0,0,0,0,0,0,0,0,0,1,0,0,0,0,0,0,0,0,0,0,0,0,0,0,0,0,0,0,0,0,0,0]
["Tlaxcala",0,0,0,0,0,0,0,0,0,0,0,0,0,0,0,0,0,0,0,0,0,0,0,0,0,0,0,0,0,0,0,0,0,0,0,0,0,0,0,0,0,0,0,0,0,0,0,0,0,0,0,0,0,0,0,0,0,0,0,0]
["Veracruz",0,0,1,0,0,0,0,0,0,1,0,0,0,0,0,0,0,2,1,0,0,0,0,0,0,0,0,0,0,1,0,0,0,0,0,0,0,0,1,0,0,0,1,0,0,0,0,0,0,0,0,0,0,0,0,0,0,2,0,0]
["Yucatán",0,0,0,0,0,0,0,0,0,0,0,0,0,0,0,0,0,0,0,0,0,0,0,0,0,0,0,0,0,0,0,0,0,0,0,0,0,0,0,0,0,0,0,0,0,0,0,0,0,0,0,0,0,0,0,0,0,0,0,0]
["Zacatecas",0,0,0,0,0,0,0,0,0,0,0,0,0,0,0,0,0,0,0,0,0,0,0,0,0,0,0,0,0,0,0,0,0,0,0,0,0,0,0,0,0,0,0,0,0,0,0,0,0,0,0,0,0,0,0,0,0,0,0,0]

{"sheet":"12 GCM-G_Edad","index":109,"n_rows":24,"n_cols":10,"rows_kept":24,"cut":false,"hidden":false,"merged":[[0,0,0,9]]}
[" Enfermedades del oído y de la apófisis mastoides"]
["SELECCIONE UNA ENTIDAD"]
["Oaxaca","2020","H - 2020","M - 2020","2021","H - 2021","M - 2021","2022","H - 2022","M - 2022"]
["Menores de 1 año",{"$f":"VLOOKUP($A$3,'12T-GCM-R_Edad2020  '!$A$2:$BI$34,2,0)","v":0},{"$f":"VLOOKUP($A$3,'12T-GCM-R_Edad2020  '!$A$2:$BI$34,22,0)","v":0},{"$f":"VLOOKUP($A$3,'12T-GCM-R_Edad2020  '!$A$2:$BI$34,42,0)","v":0},{"$f":"VLOOKUP($A$3,'12T-GCM-R_Edad2021 '!$A$2:$BI$34,2,0)","v":0},{"$f":"VLOOKUP($A$3,'12T-GCM-R_Edad2021 '!$A$2:$BI$34,22,0)","v":0},{"$f":"VLOOKUP($A$3,'12T-GCM-R_Edad2021 '!$A$2:$BI$34,42,0)","v":0},{"$f":"VLOOKUP($A$3,'12T-GCM-R_Edad2022'!$A$2:$BI$34,2,0)","v":0},{"$f":"VLOOKUP($A$3,'12T-GCM-R_Edad2022'!$A$2:$BI$34,22,0)","v":0},{"$f":"VLOOKUP($A$3,'12T-GCM-R_Edad2022'!$A$2:$BI$34,42,0)","v":0}]
["1-4 años",{"$f":"VLOOKUP($A$3,'12T-GCM-R_Edad2020  '!$A$2:$BI$34,3,0)","v":0},{"$f":"VLOOKUP($A$3,'12T-GCM-R_Edad2020  '!$A$2:$BI$34,23,0)","v":0},{"$f":"VLOOKUP($A$3,'12T-GCM-R_Edad2020  '!$A$2:$BI$34,43,0)","v":0},{"$f":"VLOOKUP($A$3,'12T-GCM-R_Edad2021 '!$A$2:$BI$34,3,0)","v":0},{"$f":"VLOOKUP($A$3,'12T-GCM-R_Edad2021 '!$A$2:$BI$34,23,0)","v":0},{"$f":"VLOOKUP($A$3,'12T-GCM-R_Edad2021 '!$A$2:$BI$34,43,0)","v":0},{"$f":"VLOOKUP($A$3,'12T-GCM-R_Edad2022'!$A$2:$BI$34,3,0)","v":0},{"$f":"VLOOKUP($A$3,'12T-GCM-R_Edad2022'!$A$2:$BI$34,23,0)","v":0},{"$f":"VLOOKUP($A$3,'12T-GCM-R_Edad2022'!$A$2:$BI$34,43,0)","v":0}]
["5-9 años",{"$f":"VLOOKUP($A$3,'12T-GCM-R_Edad2020  '!$A$2:$BI$34,4,0)","v":0},{"$f":"VLOOKUP($A$3,'12T-GCM-R_Edad2020  '!$A$2:$BI$34,24,0)","v":0},{"$f":"VLOOKUP($A$3,'12T-GCM-R_Edad2020  '!$A$2:$BI$34,44,0)","v":0},{"$f":"VLOOKUP($A$3,'12T-GCM-R_Edad2021 '!$A$2:$BI$34,4,0)","v":0},{"$f":"VLOOKUP($A$3,'12T-GCM-R_Edad2021 '!$A$2:$BI$34,24,0)","v":0},{"$f":"VLOOKUP($A$3,'12T-GCM-R_Edad2021 '!$A$2:$BI$34,44,0)","v":0},{"$f":"VLOOKUP($A$3,'12T-GCM-R_Edad2022'!$A$2:$BI$34,4,0)","v":0},{"$f":"VLOOKUP($A$3,'12T-GCM-R_Edad2022'!$A$2:$BI$34,24,0)","v":0},{"$f":"VLOOKUP($A$3,'12T-GCM-R_Edad2022'!$A$2:$BI$34,44,0)","v":0}]
["10-14 años",{"$f":"VLOOKUP($A$3,'12T-GCM-R_Edad2020  '!$A$2:$BI$34,5,0)","v":0},{"$f":"VLOOKUP($A$3,'12T-GCM-R_Edad2020  '!$A$2:$BI$34,25,0)","v":0},{"$f":"VLOOKUP($A$3,'12T-GCM-R_Edad2020  '!$A$2:$BI$34,45,0)","v":0},{"$f":"VLOOKUP($A$3,'12T-GCM-R_Edad2021 '!$A$2:$BI$34,5,0)","v":0},{"$f":"VLOOKUP($A$3,'12T-GCM-R_Edad2021 '!$A$2:$BI$34,25,0)","v":0},{"$f":"VLOOKUP($A$3,'12T-GCM-R_Edad2021 '!$A$2:$BI$34,45,0)","v":0},{"$f":"VLOOKUP($A$3,'12T-GCM-R_Edad2022'!$A$2:$BI$34,5,0)","v":0},{"$f":"VLOOKUP($A$3,'12T-GCM-R_Edad2022'!$A$2:$BI$34,25,0)","v":0},{"$f":"VLOOKUP($A$3,'12T-GCM-R_Edad2022'!$A$2:$BI$34,45,0)","v":0}]
["15-19 años",{"$f":"VLOOKUP($A$3,'12T-GCM-R_Edad2020  '!$A$2:$BI$34,6,0)","v":0},{"$f":"VLOOKUP($A$3,'12T-GCM-R_Edad2020  '!$A$2:$BI$34,26,0)","v":0},{"$f":"VLOOKUP($A$3,'12T-GCM-R_Edad2020  '!$A$2:$BI$34,46,0)","v":0},{"$f":"VLOOKUP($A$3,'12T-GCM-R_Edad2021 '!$A$2:$BI$34,6,0)","v":0},{"$f":"VLOOKUP($A$3,'12T-GCM-R_Edad2021 '!$A$2:$BI$34,26,0)","v":0},{"$f":"VLOOKUP($A$3,'12T-GCM-R_Edad2021 '!$A$2:$BI$34,46,0)","v":0},{"$f":"VLOOKUP($A$3,'12T-GCM-R_Edad2022'!$A$2:$BI$34,6,0)","v":0},{"$f":"VLOOKUP($A$3,'12T-GCM-R_Edad2022'!$A$2:$BI$34,26,0)","v":0},{"$f":"VLOOKUP($A$3,'12T-GCM-R_Edad2022'!$A$2:$BI$34,46,0)","v":0}]
["20-24 años",{"$f":"VLOOKUP($A$3,'12T-GCM-R_Edad2020  '!$A$2:$BI$34,7,0)","v":0},{"$f":"VLOOKUP($A$3,'12T-GCM-R_Edad2020  '!$A$2:$BI$34,27,0)","v":0},{"$f":"VLOOKUP($A$3,'12T-GCM-R_Edad2020  '!$A$2:$BI$34,47,0)","v":0},{"$f":"VLOOKUP($A$3,'12T-GCM-R_Edad2021 '!$A$2:$BI$34,7,0)","v":0},{"$f":"VLOOKUP($A$3,'12T-GCM-R_Edad2021 '!$A$2:$BI$34,27,0)","v":0},{"$f":"VLOOKUP($A$3,'12T-GCM-R_Edad2021 '!$A$2:$BI$34,47,0)","v":0},{"$f":"VLOOKUP($A$3,'12T-GCM-R_Edad2022'!$A$2:$BI$34,7,0)","v":0},{"$f":"VLOOKUP($A$3,'12T-GCM-R_Edad2022'!$A$2:$BI$34,27,0)","v":0},{"$f":"VLOOKUP($A$3,'12T-GCM-R_Edad2022'!$A$2:$BI$34,47,0)","v":0}]
["25-29 años",{"$f":"VLOOKUP($A$3,'12T-GCM-R_Edad2020  '!$A$2:$BI$34,8,0)","v":0},{"$f":"VLOOKUP($A$3,'12T-GCM-R_Edad2020  '!$A$2:$BI$34,28,0)","v":0},{"$f":"VLOOKUP($A$3,'12T-GCM-R_Edad2020  '!$A$2:$BI$34,48,0)","v":0},{"$f":"VLOOKUP($A$3,'12T-GCM-R_Edad2021 '!$A$2:$BI$34,8,0)","v":0},{"$f":"VLOOKUP($A$3,'12T-GCM-R_Edad2021 '!$A$2:$BI$34,28,0)","v":0},{"$f":"VLOOKUP($A$3,'12T-GCM-R_Edad2021 '!$A$2:$BI$34,48,0)","v":0},{"$f":"VLOOKUP($A$3,'12T-GCM-R_Edad2022'!$A$2:$BI$34,8,0)","v":0},{"$f":"VLOOKUP($A$3,'12T-GCM-R_Edad2022'!$A$2:$BI$34,28,0)","v":0},{"$f":"VLOOKUP($A$3,'12T-GCM-R_Edad2022'!$A$2:$BI$34,48,0)","v":0}]
["30-34 años",{"$f":"VLOOKUP($A$3,'12T-GCM-R_Edad2020  '!$A$2:$BI$34,9,0)","v":0},{"$f":"VLOOKUP($A$3,'12T-GCM-R_Edad2020  '!$A$2:$BI$34,29,0)","v":0},{"$f":"VLOOKUP($A$3,'12T-GCM-R_Edad2020  '!$A$2:$BI$34,49,0)","v":0},{"$f":"VLOOKUP($A$3,'12T-GCM-R_Edad2021 '!$A$2:$BI$34,9,0)","v":0},{"$f":"VLOOKUP($A$3,'12T-GCM-R_Edad2021 '!$A$2:$BI$34,29,0)","v":0},{"$f":"VLOOKUP($A$3,'12T-GCM-R_Edad2021 '!$A$2:$BI$34,49,0)","v":0},{"$f":"VLOOKUP($A$3,'12T-GCM-R_Edad2022'!$A$2:$BI$34,9,0)","v":0},{"$f":"VLOOKUP($A$3,'12T-GCM-R_Edad2022'!$A$2:$BI$34,29,0)","v":0},{"$f":"VLOOKUP($A$3,'12T-GCM-R_Edad2022'!$A$2:$BI$34,49,0)","v":0}]
["35-39 años",{"$f":"VLOOKUP($A$3,'12T-GCM-R_Edad2020  '!$A$2:$BI$34,10,0)","v":0},{"$f":"VLOOKUP($A$3,'12T-GCM-R_Edad2020  '!$A$2:$BI$34,30,0)","v":0},{"$f":"VLOOKUP($A$3,'12T-GCM-R_Edad2020  '!$A$2:$BI$34,50,0)","v":0},{"$f":"VLOOKUP($A$3,'12T-GCM-R_Edad2021 '!$A$2:$BI$34,10,0)","v":0},{"$f":"VLOOKUP($A$3,'12T-GCM-R_Edad2021 '!$A$2:$BI$34,30,0)","v":0},{"$f":"VLOOKUP($A$3,'12T-GCM-R_Edad2021 '!$A$2:$BI$34,50,0)","v":0},{"$f":"VLOOKUP($A$3,'12T-GCM-R_Edad2022'!$A$2:$BI$34,10,0)","v":0},{"$f":"VLOOKUP($A$3,'12T-GCM-R_Edad2022'!$A$2:$BI$34,30,0)","v":0},{"$f":"VLOOKUP($A$3,'12T-GCM-R_Edad2022'!$A$2:$BI$34,50,0)","v":0}]
["40-44 años",{"$f":"VLOOKUP($A$3,'12T-GCM-R_Edad2020  '!$A$2:$BI$34,11,0)","v":0},{"$f":"VLOOKUP($A$3,'12T-GCM-R_Edad2020  '!$A$2:$BI$34,31,0)","v":0},{"$f":"VLOOKUP($A$3,'12T-GCM-R_Edad2020  '!$A$2:$BI$34,51,0)","v":0},{"$f":"VLOOKUP($A$3,'12T-GCM-R_Edad2021 '!$A$2:$BI$34,11,0)","v":0},{"$f":"VLOOKUP($A$3,'12T-GCM-R_Edad2021 '!$A$2:$BI$34,31,0)","v":0},{"$f":"VLOOKUP($A$3,'12T-GCM-R_Edad2021 '!$A$2:$BI$34,51,0)","v":0},{"$f":"VLOOKUP($A$3,'12T-GCM-R_Edad2022'!$A$2:$BI$34,11,0)","v":0},{"$f":"VLOOKUP($A$3,'12T-GCM-R_Edad2022'!$A$2:$BI$34,31,0)","v":0},{"$f":"VLOOKUP($A$3,'12T-GCM-R_Edad2022'!$A$2:$BI$34,51,0)","v":0}]
["45-49 años",{"$f":"VLOOKUP($A$3,'12T-GCM-R_Edad2020  '!$A$2:$BI$34,12,0)","v":0},{"$f":"VLOOKUP($A$3,'12T-GCM-R_Edad2020  '!$A$2:$BI$34,32,0)","v":0},{"$f":"VLOOKUP($A$3,'12T-GCM-R_Edad2020  '!$A$2:$BI$34,52,0)","v":0},{"$f":"VLOOKUP($A$3,'12T-GCM-R_Edad2021 '!$A$2:$BI$34,12,0)","v":0},{"$f":"VLOOKUP($A$3,'12T-GCM-R_Edad2021 '!$A$2:$BI$34,32,0)","v":0},{"$f":"VLOOKUP($A$3,'12T-GCM-R_Edad2021 '!$A$2:$BI$34,52,0)","v":0},{"$f":"VLOOKUP($A$3,'12T-GCM-R_Edad2022'!$A$2:$BI$34,12,0)","v":0},{"$f":"VLOOKUP($A$3,'12T-GCM-R_Edad2022'!$A$2:$BI$34,32,0)","v":0},{"$f":"VLOOKUP($A$3,'12T-GCM-R_Edad2022'!$A$2:$BI$34,52,0)","v":0}]
["50-54 años",{"$f":"VLOOKUP($A$3,'12T-GCM-R_Edad2020  '!$A$2:$BI$34,13,0)","v":0},{"$f":"VLOOKUP($A$3,'12T-GCM-R_Edad2020  '!$A$2:$BI$34,33,0)","v":0},{"$f":"VLOOKUP($A$3,'12T-GCM-R_Edad2020  '!$A$2:$BI$34,53,0)","v":0},{"$f":"VLOOKUP($A$3,'12T-GCM-R_Edad2021 '!$A$2:$BI$34,13,0)","v":1},{"$f":"VLOOKUP($A$3,'12T-GCM-R_Edad2021 '!$A$2:$BI$34,33,0)","v":0},{"$f":"VLOOKUP($A$3,'12T-GCM-R_Edad2021 '!$A$2:$BI$34,53,0)","v":1},{"$f":"VLOOKUP($A$3,'12T-GCM-R_Edad2022'!$A$2:$BI$34,13,0)","v":0},{"$f":"VLOOKUP($A$3,'12T-GCM-R_Edad2022'!$A$2:$BI$34,33,0)","v":0},{"$f":"VLOOKUP($A$3,'12T-GCM-R_Edad2022'!$A$2:$BI$34,53,0)","v":0}]
["55-59 años",{"$f":"VLOOKUP($A$3,'12T-GCM-R_Edad2020  '!$A$2:$BI$34,14,0)","v":0},{"$f":"VLOOKUP($A$3,'12T-GCM-R_Edad2020  '!$A$2:$BI$34,34,0)","v":0},{"$f":"VLOOKUP($A$3,'12T-GCM-R_Edad2020  '!$A$2:$BI$34,54,0)","v":0},{"$f":"VLOOKUP($A$3,'12T-GCM-R_Edad2021 '!$A$2:$BI$34,14,0)","v":0},{"$f":"VLOOKUP($A$3,'12T-GCM-R_Edad2021 '!$A$2:$BI$34,34,0)","v":0},{"$f":"VLOOKUP($A$3,'12T-GCM-R_Edad2021 '!$A$2:$BI$34,54,0)","v":0},{"$f":"VLOOKUP($A$3,'12T-GCM-R_Edad2022'!$A$2:$BI$34,14,0)","v":0},{"$f":"VLOOKUP($A$3,'12T-GCM-R_Edad2022'!$A$2:$BI$34,34,0)","v":0},{"$f":"VLOOKUP($A$3,'12T-GCM-R_Edad2022'!$A$2:$BI$34,54,0)","v":0}]
["60-64 años",{"$f":"VLOOKUP($A$3,'12T-GCM-R_Edad2020  '!$A$2:$BI$34,15,0)","v":0},{"$f":"VLOOKUP($A$3,'12T-GCM-R_Edad2020  '!$A$2:$BI$34,35,0)","v":0},{"$f":"VLOOKUP($A$3,'12T-GCM-R_Edad2020  '!$A$2:$BI$34,55,0)","v":0},{"$f":"VLOOKUP($A$3,'12T-GCM-R_Edad2021 '!$A$2:$BI$34,15,0)","v":0},{"$f":"VLOOKUP($A$3,'12T-GCM-R_Edad2021 '!$A$2:$BI$34,35,0)","v":0},{"$f":"VLOOKUP($A$3,'12T-GCM-R_Edad2021 '!$A$2:$BI$34,55,0)","v":0},{"$f":"VLOOKUP($A$3,'12T-GCM-R_Edad2022'!$A$2:$BI$34,15,0)","v":0},{"$f":"VLOOKUP($A$3,'12T-GCM-R_Edad2022'!$A$2:$BI$34,35,0)","v":0},{"$f":"VLOOKUP($A$3,'12T-GCM-R_Edad2022'!$A$2:$BI$34,55,0)","v":0}]
["65-69 años",{"$f":"VLOOKUP($A$3,'12T-GCM-R_Edad2020  '!$A$2:$BI$34,16,0)","v":0},{"$f":"VLOOKUP($A$3,'12T-GCM-R_Edad2020  '!$A$2:$BI$34,36,0)","v":0},{"$f":"VLOOKUP($A$3,'12T-GCM-R_Edad2020  '!$A$2:$BI$34,56,0)","v":0},{"$f":"VLOOKUP($A$3,'12T-GCM-R_Edad2021 '!$A$2:$BI$34,16,0)","v":0},{"$f":"VLOOKUP($A$3,'12T-GCM-R_Edad2021 '!$A$2:$BI$34,36,0)","v":0},{"$f":"VLOOKUP($A$3,'12T-GCM-R_Edad2021 '!$A$2:$BI$34,56,0)","v":0},{"$f":"VLOOKUP($A$3,'12T-GCM-R_Edad2022'!$A$2:$BI$34,16,0)","v":0},{"$f":"VLOOKUP($A$3,'12T-GCM-R_Edad2022'!$A$2:$BI$34,36,0)","v":0},{"$f":"VLOOKUP($A$3,'12T-GCM-R_Edad2022'!$A$2:$BI$34,56,0)","v":0}]
["70-74 años",{"$f":"VLOOKUP($A$3,'12T-GCM-R_Edad2020  '!$A$2:$BI$34,17,0)","v":0},{"$f":"VLOOKUP($A$3,'12T-GCM-R_Edad2020  '!$A$2:$BI$34,37,0)","v":0},{"$f":"VLOOKUP($A$3,'12T-GCM-R_Edad2020  '!$A$2:$BI$34,57,0)","v":0},{"$f":"VLOOKUP($A$3,'12T-GCM-R_Edad2021 '!$A$2:$BI$34,17,0)","v":0},{"$f":"VLOOKUP($A$3,'12T-GCM-R_Edad2021 '!$A$2:$BI$34,37,0)","v":0},{"$f":"VLOOKUP($A$3,'12T-GCM-R_Edad2021 '!$A$2:$BI$34,57,0)","v":0},{"$f":"VLOOKUP($A$3,'12T-GCM-R_Edad2022'!$A$2:$BI$34,17,0)","v":0},{"$f":"VLOOKUP($A$3,'12T-GCM-R_Edad2022'!$A$2:$BI$34,37,0)","v":0},{"$f":"VLOOKUP($A$3,'12T-GCM-R_Edad2022'!$A$2:$BI$34,57,0)","v":0}]
["75-79 años",{"$f":"VLOOKUP($A$3,'12T-GCM-R_Edad2020  '!$A$2:$BI$34,18,0)","v":0},{"$f":"VLOOKUP($A$3,'12T-GCM-R_Edad2020  '!$A$2:$BI$34,38,0)","v":0},{"$f":"VLOOKUP($A$3,'12T-GCM-R_Edad2020  '!$A$2:$BI$34,58,0)","v":0},{"$f":"VLOOKUP($A$3,'12T-GCM-R_Edad2021 '!$A$2:$BI$34,18,0)","v":0},{"$f":"VLOOKUP($A$3,'12T-GCM-R_Edad2021 '!$A$2:$BI$34,38,0)","v":0},{"$f":"VLOOKUP($A$3,'12T-GCM-R_Edad2021 '!$A$2:$BI$34,58,0)","v":0},{"$f":"VLOOKUP($A$3,'12T-GCM-R_Edad2022'!$A$2:$BI$34,18,0)","v":0},{"$f":"VLOOKUP($A$3,'12T-GCM-R_Edad2022'!$A$2:$BI$34,38,0)","v":0},{"$f":"VLOOKUP($A$3,'12T-GCM-R_Edad2022'!$A$2:$BI$34,58,0)","v":0}]
["80-84 años",{"$f":"VLOOKUP($A$3,'12T-GCM-R_Edad2020  '!$A$2:$BI$34,19,0)","v":0},{"$f":"VLOOKUP($A$3,'12T-GCM-R_Edad2020  '!$A$2:$BI$34,39,0)","v":0},{"$f":"VLOOKUP($A$3,'12T-GCM-R_Edad2020  '!$A$2:$BI$34,59,0)","v":0},{"$f":"VLOOKUP($A$3,'12T-GCM-R_Edad2021 '!$A$2:$BI$34,19,0)","v":0},{"$f":"VLOOKUP($A$3,'12T-GCM-R_Edad2021 '!$A$2:$BI$34,39,0)","v":0},{"$f":"VLOOKUP($A$3,'12T-GCM-R_Edad2021 '!$A$2:$BI$34,59,0)","v":0},{"$f":"VLOOKUP($A$3,'12T-GCM-R_Edad2022'!$A$2:$BI$34,19,0)","v":0},{"$f":"VLOOKUP($A$3,'12T-GCM-R_Edad2022'!$A$2:$BI$34,39,0)","v":0},{"$f":"VLOOKUP($A$3,'12T-GCM-R_Edad2022'!$A$2:$BI$34,59,0)","v":0}]
["85 años y más",{"$f":"VLOOKUP($A$3,'12T-GCM-R_Edad2020  '!$A$2:$BI$34,20,0)","v":0},{"$f":"VLOOKUP($A$3,'12T-GCM-R_Edad2020  '!$A$2:$BI$34,40,0)","v":0},{"$f":"VLOOKUP($A$3,'12T-GCM-R_Edad2020  '!$A$2:$BI$34,60,0)","v":0},{"$f":"VLOOKUP($A$3,'12T-GCM-R_Edad2021 '!$A$2:$BI$34,20,0)","v":0},{"$f":"VLOOKUP($A$3,'12T-GCM-R_Edad2021 '!$A$2:$BI$34,40,0)","v":0},{"$f":"VLOOKUP($A$3,'12T-GCM-R_Edad2021 '!$A$2:$BI$34,60,0)","v":0},{"$f":"VLOOKUP($A$3,'12T-GCM-R_Edad2022'!$A$2:$BI$34,20,0)","v":1},{"$f":"VLOOKUP($A$3,'12T-GCM-R_Edad2022'!$A$2:$BI$34,40,0)","v":0},{"$f":"VLOOKUP($A$3,'12T-GCM-R_Edad2022'!$A$2:$BI$34,60,0)","v":1}]
["No especificado",{"$f":"VLOOKUP($A$3,'12T-GCM-R_Edad2020  '!$A$2:$BI$34,21,0)","v":0},{"$f":"VLOOKUP($A$3,'12T-GCM-R_Edad2020  '!$A$2:$BI$34,41,0)","v":0},{"$f":"VLOOKUP($A$3,'12T-GCM-R_Edad2020  '!$A$2:$BI$34,61,0)","v":0},{"$f":"VLOOKUP($A$3,'12T-GCM-R_Edad2021 '!$A$2:$BI$34,21,0)","v":0},{"$f":"VLOOKUP($A$3,'12T-GCM-R_Edad2021 '!$A$2:$BI$34,41,0)","v":0},{"$f":"VLOOKUP($A$3,'12T-GCM-R_Edad2021 '!$A$2:$BI$34,61,0)","v":0},{"$f":"VLOOKUP($A$3,'12T-GCM-R_Edad2022'!$A$2:$BI$34,21,0)","v":0},{"$f":"VLOOKUP($A$3,'12T-GCM-R_Edad2022'!$A$2:$BI$34,41,0)","v":0},{"$f":"VLOOKUP($A$3,'12T-GCM-R_Edad2022'!$A$2:$BI$34,61,0)","v":0}]
["Total",{"$f":"SUM(B4:B23)","v":0},0,0,1,0,1,1,0,1]

{"sheet":"13T-GCM-R_Edad2020  ","index":110,"n_rows":34,"n_cols":61,"rows_kept":34,"cut":false,"hidden":true,"merged":[]}
[1,2,3,4,5,6,7,8,9,10,11,12,13,14,15,16,17,18,19,20,21,22,23,24,25,26,27,28,29,30,31,32,33,34,35,36,37,38,39,40,41,42,43,44,45,46,47,48,49,50,51,52,53,54,55,56,57,58,59,60,61]
["ESTADO","Menores de 1 año","1-4 años","5-9 años","10-14 años","15-19 años","20-24 años","25-29 años","30-34 años","35-39 años","40-44 años","45-49 años","50-54 años","55-59 años","60-64 años","65-69 años","70-74 años","75-79 años","80-84 años","85 años y más","No especificado","H Menores de 1 año","H 1-4 años","H 5-9 años","H 10-14 años","H 15-19 años","H 20-24 años","H 25-29 años","H 30-34 años","H 35-39 años","H 40-44 años","H 45-49 años","H 50-54 años","H 55-59 años","H 60-64 años","H 65-69 años","H 70-74 años","H 75-79 años","H 80-84 años","H 85 años y más","H No especificado","   M Menores de 1 año ","M 1-4 años","M 5-9 años","M 10-14 años","M 15-19 años","M 20-24 años","M 25-29 años","M 30-34 años","M 35-39 años","M 40-44 años","M 45-49 años","M 50-54 años","M 55-59 años","M 60-64 años","M 65-69 años","M 70-74 años","M 75-79 años","M 80-84 años","M 85 años y    ás","M No especificado"]
["Aguascalientes",4,2,0,0,1,1,10,12,23,27,38,42,57,53,62,78,74,62,89,1,2,2,0,0,1,0,5,11,17,17,34,35,40,31,39,41,39,37,37,1,2,0,0,0,0,1,5,1,6,10,4,7,17,22,23,37,35,25,52,0]
["Baja California",8,8,6,6,3,17,26,49,49,103,153,198,214,220,185,166,123,105,128,49,6,6,4,3,2,9,16,37,40,77,112,162,157,161,123,103,73,57,57,47,2,2,2,3,1,8,10,12,9,26,41,36,57,59,62,63,50,48,71,2]
["Baja California Sur",1,1,1,0,1,0,2,8,12,16,30,27,36,26,29,23,24,21,20,8,0,0,1,0,0,0,2,6,9,14,22,24,23,18,21,11,13,9,7,8,1,1,0,0,1,0,0,2,3,2,8,3,13,8,8,12,11,12,13,0]
["Campeche",1,1,1,0,1,1,5,9,12,11,24,39,41,55,49,55,41,37,42,0,0,1,0,0,1,0,4,6,11,8,20,27,23,28,33,30,22,17,20,0,1,0,1,0,0,1,1,3,1,3,4,12,18,27,16,25,19,20,22,0]
["Coahuila",8,1,2,2,3,4,8,21,36,56,111,148,190,212,208,182,151,123,124,1,6,1,0,2,2,2,6,13,20,46,86,116,138,138,114,95,80,61,57,1,2,0,2,0,1,2,2,8,16,10,25,32,52,74,94,87,71,62,67,0]
["Colima",2,0,1,0,1,2,4,9,17,22,26,31,39,44,48,60,28,37,45,5,2,0,0,0,1,1,2,8,15,18,22,25,32,33,30,33,16,19,12,5,0,0,1,0,0,1,2,1,2,4,4,6,7,11,18,27,12,18,33,0]
["Chiapas",15,17,9,14,20,48,84,99,166,205,240,294,320,341,367,349,317,257,275,14,10,8,5,8,13,36,63,79,131,162,175,202,207,194,210,194,163,133,138,13,5,9,4,6,7,12,21,20,35,43,65,92,113,147,157,155,154,124,137,1]
["Chihuahua",10,6,5,2,5,11,22,40,55,109,202,220,242,263,241,209,195,188,171,12,5,4,4,1,4,5,17,28,36,86,150,176,179,183,149,124,107,92,75,11,5,2,1,1,1,6,5,12,19,23,52,44,63,80,92,85,88,96,96,1]
["Ciudad de México",27,20,16,18,32,62,114,205,280,427,595,672,792,854,890,819,707,669,884,2,17,8,11,6,20,40,90,154,225,359,470,509,554,544,529,469,378,322,344,2,10,12,5,12,12,22,24,51,55,68,125,163,238,310,361,350,329,347,540,0]
["Durango",8,2,0,0,4,4,7,6,16,20,39,74,68,88,102,99,98,82,80,0,4,2,0,0,4,3,4,6,10,18,28,47,44,52,58,56,50,40,36,0,4,0,0,0,0,1,3,0,6,2,11,27,24,36,44,43,48,42,44,0]
["Guanajuato",14,13,3,4,10,19,33,85,108,202,239,284,299,359,298,328,338,284,378,7,10,3,1,3,8,13,26,66,85,169,196,217,210,232,181,201,181,151,184,7,4,10,2,1,2,6,7,19,23,33,43,67,89,127,117,127,157,133,194,0]
["Guerrero",2,5,8,3,3,17,12,26,75,71,107,107,127,159,156,149,153,147,178,0,0,3,7,2,2,9,7,20,64,53,76,78,85,98,93,75,83,71,90,0,2,2,1,1,1,8,5,6,11,18,31,29,42,61,63,74,70,76,88,0]
["Hidalgo",2,1,4,2,7,11,14,26,39,72,95,128,165,180,170,184,167,166,223,0,2,0,3,0,6,4,7,20,34,55,73,101,108,117,108,103,96,94,96,0,0,1,1,2,1,7,7,6,5,17,22,27,57,63,62,81,71,72,127,0]
["Jalisco",9,9,3,7,17,21,58,86,168,219,267,357,400,466,490,497,454,383,536,28,6,4,3,3,9,10,38,63,132,179,216,273,289,309,292,272,244,196,228,28,3,5,0,4,8,11,20,23,36,40,51,84,111,157,198,225,210,187,308,0]
["México",22,10,10,14,28,42,152,216,376,539,775,802,924,959,962,837,773,616,741,16,12,8,5,9,15,26,129,176,320,457,644,632,664,665,621,527,446,311,370,14,10,2,5,5,13,16,23,40,56,82,131,170,260,294,341,310,327,305,371,2]
["Michoacán",5,7,4,1,5,13,33,56,111,137,193,188,224,233,244,260,245,247,425,5,1,5,1,0,2,11,22,48,94,112,162,142,157,157,153,153,134,137,190,4,4,2,3,1,3,2,11,8,17,25,31,46,67,76,91,107,111,110,235,1]
["Morelos",4,0,2,1,4,12,20,37,63,84,113,122,158,183,167,161,157,130,168,0,2,0,1,1,3,8,16,30,55,66,85,93,110,123,102,72,87,65,73,0,2,0,1,0,1,4,4,7,8,18,28,29,48,60,65,89,70,65,95,0]
["Nayarit",2,0,1,2,4,4,3,7,11,19,25,41,48,61,63,82,51,71,68,4,2,0,1,2,2,3,2,4,8,12,20,32,36,42,42,47,35,27,28,4,0,0,0,0,2,1,1,3,3,7,5,9,12,19,21,35,16,44,40,0]
["Nuevo León",10,8,6,6,8,13,18,30,48,91,178,233,236,295,281,255,252,233,278,2,9,4,3,3,2,6,13,19,36,69,141,167,160,203,169,139,129,120,112,2,1,4,3,3,6,7,5,11,12,22,37,66,76,92,112,116,123,113,166,0]
["Oaxaca",12,11,3,4,4,12,25,61,93,130,191,225,258,262,255,239,270,245,330,4,6,6,2,0,3,11,17,55,78,103,157,183,185,192,170,139,173,126,149,4,6,5,1,4,1,1,8,6,15,27,34,42,73,70,85,100,97,119,181,0]
["Puebla",22,10,8,18,13,19,57,104,183,287,397,412,497,497,468,507,434,367,476,23,14,5,6,11,7,16,44,85,149,230,328,293,353,337,280,296,248,185,227,22,8,5,2,7,6,3,13,19,34,57,69,119,144,160,188,211,186,182,249,1]
["Querétaro",7,3,3,4,3,5,29,32,49,92,122,124,129,178,153,115,139,122,164,2,5,2,2,0,2,3,22,22,46,74,91,102,90,114,95,74,79,67,67,2,2,1,1,4,1,2,7,10,3,18,31,22,39,64,58,41,60,55,97,0]
["Quintana Roo",2,2,0,2,1,2,8,20,41,48,77,83,79,85,78,77,55,47,27,1,1,2,0,2,1,0,6,16,29,40,62,61,47,48,47,49,22,22,13,0,1,0,0,0,0,2,2,4,12,8,15,22,32,37,31,28,33,25,14,1]
["San Luis Potosí",5,3,1,5,6,6,16,24,39,70,109,102,130,158,169,156,145,148,230,0,2,2,1,4,4,5,10,20,29,61,82,77,91,112,107,101,71,80,108,0,3,1,0,1,2,1,6,4,10,9,27,25,39,46,62,55,74,68,122,0]
["Sinaloa",3,3,0,1,2,3,13,9,12,37,37,45,69,91,107,119,116,99,87,0,3,1,0,0,0,3,7,3,6,28,30,33,51,59,70,70,64,50,49,0,0,2,0,1,2,0,6,6,6,9,7,12,18,32,37,49,52,49,38,0]
["Sonora",6,2,0,4,6,7,11,17,30,46,71,120,139,162,152,147,128,124,126,22,3,1,0,1,2,3,5,12,15,31,55,84,95,99,98,94,69,64,48,22,3,1,0,3,4,4,6,5,15,15,16,36,44,63,54,53,59,60,78,0]
["Tabasco",19,2,1,2,5,8,12,24,35,47,69,95,102,132,113,98,116,79,93,5,8,2,1,1,3,4,5,21,27,39,54,59,68,86,64,54,65,45,43,5,11,0,0,1,2,4,7,3,8,8,15,36,34,46,49,44,51,34,50,0]
["Tamaulipas",6,1,3,0,1,11,16,27,32,77,108,146,188,220,172,187,142,143,147,12,4,1,2,0,1,6,9,17,24,52,86,110,140,145,103,114,71,74,65,12,2,0,1,0,0,5,7,10,8,25,22,36,48,75,69,73,71,69,82,0]
["Tlaxcala",3,0,1,0,3,4,15,16,21,34,48,58,67,78,65,58,69,65,78,1,2,0,1,0,2,3,13,13,17,24,46,41,49,54,43,31,44,22,33,1,1,0,0,0,1,1,2,3,4,10,2,17,18,24,22,27,25,43,45,0]
["Veracruz",17,12,10,10,13,29,50,108,163,254,376,484,564,635,661,661,621,503,546,4,9,8,6,1,8,21,39,81,137,212,314,400,393,421,403,394,345,304,256,4,8,4,4,9,5,8,11,27,26,42,62,84,171,214,258,267,276,199,290,0]
["Yucatán",2,3,3,0,4,3,10,30,43,61,95,103,157,167,175,209,135,119,122,1,1,2,1,0,2,2,8,17,34,47,71,67,93,103,91,117,75,53,69,1,1,1,2,0,2,1,2,13,9,14,24,36,64,64,84,92,60,66,53,0]
["Zacatecas",1,1,2,3,1,2,7,12,27,44,49,60,56,78,67,84,99,98,166,1,1,1,2,2,1,1,4,9,22,30,40,51,37,45,45,46,55,56,87,1,0,0,0,1,0,1,3,3,5,14,9,9,19,33,22,38,44,42,79,0]

{"sheet":"13T-GCM-R_Edad2021","index":111,"n_rows":34,"n_cols":61,"rows_kept":34,"cut":false,"hidden":true,"merged":[]}
[1,2,3,4,5,6,7,8,9,10,11,12,13,14,15,16,17,18,19,20,21,22,23,24,25,26,27,28,29,30,31,32,33,34,35,36,37,38,39,40,41,42,43,44,45,46,47,48,49,50,51,52,53,54,55,56,57,58,59,60,61]
["ESTADO","Menores de 1 año","1-4 años","5-9 años","10-14 años","15-19 años","20-24 años","25-29 años","30-34 años","35-39 años","40-44 años","45-49 años","50-54 años","55-59 años","60-64 años","65-69 años","70-74 años","75-79 años","80-84 años","85 años y más","No especificado","H Menores de 1 año","H 1-4 años","H 5-9 años","H 10-14 años","H 15-19 años","H 20-24 años","H 25-29 años","H 30-34 años","H 35-39 años","H 40-44 años","H 45-49 años","H 50-54 años","H 55-59 años","H 60-64 años","H 65-69 años","H 70-74 años","H 75-79 años","H 80-84 años","H 85 años y más","H No especificado","   M Menores de 1 año ","M 1-4 años","M 5-9 años","M 10-14 años","M 15-19 años","M 20-24 años","M 25-29 años","M 30-34 años","M 35-39 años","M 40-44 años","M 45-49 años","M 50-54 años","M 55-59 años","M 60-64 años","M 65-69 años","M 70-74 años","M 75-79 años","M 80-84 años","M 85 años y    ás","M No especificado"]
["Aguascalientes",5,3,2,0,2,3,8,11,16,29,56,59,72,73,90,74,90,82,128,4,2,0,1,0,2,2,7,10,12,18,45,45,53,51,53,38,47,39,49,4,3,3,1,0,0,1,1,1,4,11,11,14,19,22,37,36,43,43,79,0]
["Baja California",1,5,0,4,9,17,25,49,59,83,163,230,242,264,194,163,133,110,125,28,1,0,0,3,4,11,20,39,41,68,127,196,196,206,131,101,70,53,60,26,0,5,0,1,5,6,5,10,18,15,36,34,46,58,63,62,63,57,65,2]
["Baja California Sur",2,0,0,2,1,1,3,6,9,29,26,37,47,42,40,26,30,25,39,6,2,0,0,1,1,0,2,4,8,22,24,27,33,31,30,13,19,14,17,6,0,0,0,1,0,1,1,2,1,7,2,10,14,11,10,13,11,11,22,0]
["Campeche",1,0,0,0,1,3,5,11,19,21,20,33,53,70,62,49,52,42,42,0,1,0,0,0,1,2,3,10,14,16,12,18,31,40,33,26,26,21,26,0,0,0,0,0,0,1,2,1,5,5,8,15,22,30,29,23,26,21,16,0]
["Coahuila",7,4,1,2,5,12,12,17,40,79,106,165,155,176,168,159,146,117,118,1,4,2,1,1,2,7,9,11,31,61,80,115,107,115,99,83,72,47,55,1,3,2,0,1,3,5,3,6,9,18,26,50,48,61,69,76,74,70,63,0]
["Colima",3,1,0,1,0,1,5,5,15,16,22,36,33,55,55,65,52,33,55,1,0,1,0,1,0,1,4,5,11,12,20,23,23,39,42,38,27,17,23,1,3,0,0,0,0,0,1,0,4,4,2,13,10,16,13,27,25,16,32,0]
["Chiapas",22,30,9,7,23,48,81,105,168,211,266,292,368,373,352,336,327,283,273,8,13,15,6,4,15,35,59,74,140,168,207,219,241,219,199,178,177,136,131,7,9,15,3,3,8,13,22,31,28,43,59,73,127,154,153,158,150,147,142,1]
["Chihuahua",7,8,2,4,10,21,18,29,61,114,179,239,266,314,267,226,200,172,173,8,6,5,1,4,7,10,10,23,47,82,132,186,184,202,148,128,93,75,78,7,1,3,1,0,3,11,8,6,14,32,47,53,82,112,119,98,107,97,95,1]
["Ciudad de México",28,27,2,8,26,51,108,189,266,391,652,717,801,808,848,895,814,689,934,1,20,15,2,6,17,33,75,148,227,319,516,520,565,524,466,456,384,313,338,1,8,12,0,2,9,18,33,41,39,72,136,197,236,284,382,439,430,376,596,0]
["Durango",4,3,1,1,4,1,2,10,16,18,48,70,82,99,91,101,89,80,108,1,1,1,1,0,2,1,1,8,12,14,35,52,48,60,51,55,42,50,47,1,3,2,0,1,2,0,1,2,4,4,13,18,34,39,40,46,47,30,61,0]
["Guanajuato",7,8,3,9,17,21,35,75,150,202,299,267,316,361,373,374,378,311,397,6,6,5,1,4,10,12,25,65,119,159,241,210,225,247,223,217,196,180,181,6,1,3,2,5,7,9,10,10,31,43,58,57,91,114,150,157,182,131,216,0]
["Guerrero",8,9,2,4,7,13,18,34,61,80,110,108,136,177,162,137,173,158,203,3,2,3,1,2,5,9,9,25,47,67,85,73,92,108,86,76,96,84,107,3,6,6,1,2,2,4,9,9,14,13,25,35,44,69,76,61,77,74,96,0]
["Hidalgo",3,6,3,7,3,11,18,24,43,60,112,147,160,193,180,209,202,170,234,0,2,3,3,4,0,8,13,18,33,45,83,106,109,131,107,132,119,98,116,0,1,3,0,3,3,3,5,6,10,15,29,41,51,62,73,77,83,72,118,0]
["Jalisco",19,8,4,12,8,31,67,84,151,201,299,406,484,485,516,516,477,422,564,27,11,2,3,6,5,20,56,63,119,153,248,307,338,321,314,293,249,219,236,24,8,6,1,6,3,11,11,21,32,48,51,99,146,164,202,223,228,203,328,3]
["México",17,18,7,13,21,51,148,243,396,556,686,770,890,989,923,864,814,616,762,21,10,11,2,8,11,36,114,196,341,464,550,598,633,659,589,492,440,305,342,21,7,7,5,5,10,15,34,47,55,92,136,172,257,330,334,372,374,311,420,0]
["Michoacán",7,9,1,3,8,12,26,50,105,153,219,223,235,272,296,277,294,284,423,2,4,4,1,2,7,9,21,39,87,134,191,175,177,179,189,153,162,145,187,2,3,5,0,1,1,3,5,11,18,19,28,48,58,93,107,124,132,139,236,0]
["Morelos",3,0,2,0,6,15,18,27,56,78,111,115,144,196,185,142,136,134,194,16,1,0,1,0,5,11,17,23,47,60,89,87,92,122,115,82,70,71,91,16,2,0,1,0,1,4,1,4,9,18,22,28,52,74,70,60,66,63,103,0]
["Nayarit",1,2,0,2,2,1,4,8,12,23,31,39,49,75,66,68,77,65,69,8,1,1,0,2,2,0,2,5,7,14,25,29,33,48,45,40,44,35,38,8,0,1,0,0,0,1,2,3,5,9,6,10,16,27,21,28,33,30,31,0]
["Nuevo León",8,4,4,6,11,12,16,29,64,102,175,247,275,323,326,281,269,259,287,1,4,2,2,3,8,5,11,18,45,71,130,184,173,204,194,150,138,114,124,1,4,2,2,3,3,7,5,11,19,31,45,63,102,119,132,131,131,145,163,0]
["Oaxaca",7,11,6,6,8,10,30,59,102,157,199,218,280,250,286,260,288,271,361,6,4,5,4,5,5,9,25,44,92,135,162,162,198,164,175,166,170,152,181,5,3,6,2,1,3,1,5,15,10,22,37,56,82,86,111,94,118,119,180,1]
["Puebla",14,18,13,6,12,18,55,111,192,293,360,418,480,520,492,451,435,423,480,12,7,12,6,3,6,10,46,91,159,251,298,299,321,347,286,263,245,235,224,11,7,6,7,3,6,8,9,20,33,42,62,119,159,173,206,188,190,188,256,1]
["Querétaro",5,3,3,2,6,16,24,31,51,75,120,133,151,167,177,140,149,123,149,1,3,1,2,1,4,13,18,24,43,61,95,98,114,103,103,84,85,69,65,1,2,2,1,1,2,3,6,7,8,14,25,35,37,64,74,56,64,54,84,0]
["Quintana Roo",0,3,0,0,0,3,6,23,41,44,65,104,98,95,93,64,56,54,35,1,0,3,0,0,0,2,3,16,34,36,54,80,69,61,55,33,27,29,19,1,0,0,0,0,0,1,3,7,7,8,11,24,29,34,38,31,29,25,16,0]
["San Luis Potosí",2,6,0,4,4,8,10,15,39,69,100,142,125,184,175,184,174,145,226,1,1,2,0,1,4,6,7,10,27,57,79,109,93,128,103,97,88,78,118,1,1,4,0,3,0,2,3,5,12,12,21,33,32,56,72,87,86,67,108,0]
["Sinaloa",3,1,1,3,2,3,7,15,20,29,51,71,79,112,115,130,109,114,124,0,1,0,0,3,0,2,7,10,13,18,32,47,49,73,68,69,62,52,62,0,2,1,1,0,2,1,0,5,7,11,19,24,30,39,47,61,47,62,62,0]
["Sonora",5,1,5,2,4,3,12,15,31,55,77,82,129,171,167,153,115,127,127,13,3,0,3,1,2,3,8,10,16,44,47,63,87,123,100,84,64,62,56,11,2,1,2,1,2,0,4,5,15,11,30,19,42,48,67,69,51,65,71,2]
["Tabasco",9,5,0,4,5,10,8,18,36,45,68,88,112,115,125,125,87,89,88,5,2,3,0,2,4,6,5,17,32,33,48,68,85,69,76,63,44,36,46,4,7,2,0,2,1,4,3,1,4,12,20,20,27,46,49,62,43,53,42,1]
["Tamaulipas",7,5,2,2,4,7,13,18,44,85,121,161,204,199,197,179,163,125,189,10,5,5,1,2,2,5,8,13,34,65,96,123,123,135,122,103,88,58,83,10,2,0,1,0,2,2,5,5,10,20,25,38,81,64,75,76,75,67,106,0]
["Tlaxcala",5,0,1,1,1,10,8,18,31,49,53,59,71,72,67,73,72,59,94,0,2,0,1,0,0,6,3,14,22,38,42,41,54,45,36,52,36,31,54,0,3,0,0,1,1,4,5,4,9,11,11,18,17,27,31,21,36,28,40,0]
["Veracruz",7,12,5,10,14,30,62,112,147,259,372,486,632,674,719,638,664,485,627,3,5,4,1,4,9,24,49,94,128,201,310,388,462,459,471,371,375,261,281,3,2,8,4,6,5,6,13,18,19,58,62,98,170,215,248,267,289,224,346,0]
["Yucatán",7,5,2,2,2,7,19,30,40,80,108,140,166,190,206,185,143,119,117,0,3,2,1,1,1,6,11,26,35,65,89,107,117,114,120,91,74,58,54,0,4,3,1,1,1,1,8,4,5,15,19,33,49,76,86,94,69,61,63,0]
["Zacatecas",3,0,1,2,1,2,11,11,18,50,45,68,76,77,98,108,121,98,184,1,2,0,0,1,1,0,10,8,14,42,33,56,50,47,62,65,67,44,93,1,1,0,1,1,0,2,1,3,4,8,12,12,26,30,36,43,54,54,91,0]

{"sheet":"13T-GCM-R_Edad2022","index":112,"n_rows":34,"n_cols":61,"rows_kept":34,"cut":false,"hidden":true,"merged":[]}
[1,2,3,4,5,6,7,8,9,10,11,12,13,14,15,16,17,18,19,20,21,22,23,24,25,26,27,28,29,30,31,32,33,34,35,36,37,38,39,40,41,42,43,44,45,46,47,48,49,50,51,52,53,54,55,56,57,58,59,60,61]
["ESTADO","Menores de 1 año","1-4 años","5-9 años","10-14 años","15-19 años","20-24 años","25-29 años","30-34 años","35-39 años","40-44 años","45-49 años","50-54 años","55-59 años","60-64 años","65-69 años","70-74 años","75-79 años","80-84 años","85 años y más","No especificado","H Menores de 1 año","H 1-4 años","H 5-9 años","H 10-14 años","H 15-19 años","H 20-24 años","H 25-29 años","H 30-34 años","H 35-39 años","H 40-44 años","H 45-49 años","H 50-54 años","H 55-59 años","H 60-64 años","H 65-69 años","H 70-74 años","H 75-79 años","H 80-84 años","H 85 años y más","H No especificado","   M Menores de 1 año ","M 1-4 años","M 5-9 años","M 10-14 años","M 15-19 años","M 20-24 años","M 25-29 años","M 30-34 años","M 35-39 años","M 40-44 años","M 45-49 años","M 50-54 años","M 55-59 años","M 60-64 años","M 65-69 años","M 70-74 años","M 75-79 años","M 80-84 años","M 85 años y    ás","M No especificado"]
["Aguascalientes",2,4,1,1,1,4,7,13,31,37,52,45,69,82,76,94,76,62,81,2,0,2,1,1,0,3,5,11,25,29,33,31,43,50,47,49,40,25,42,2,2,2,0,0,1,1,2,2,6,8,19,14,26,32,29,45,36,37,39,0]
["Baja California",6,0,1,5,5,19,24,34,57,101,175,200,252,241,190,171,142,91,131,46,2,0,1,3,1,12,18,27,41,76,145,160,199,179,135,108,76,38,50,42,4,0,0,2,4,7,6,7,16,25,30,40,53,62,55,63,66,53,81,4]
["Baja California Sur",2,3,0,0,0,3,5,6,7,15,25,30,45,54,40,34,23,20,21,4,2,1,0,0,0,3,4,5,6,14,22,20,33,39,26,22,15,8,7,4,0,2,0,0,0,0,1,1,1,1,3,10,12,15,14,12,8,12,14,0]
["Campeche",1,1,0,0,0,2,5,11,13,32,24,52,55,56,51,47,41,38,45,0,0,1,0,0,0,0,4,9,8,22,18,43,32,29,35,23,20,21,15,0,1,0,0,0,0,2,1,2,5,10,6,9,23,27,16,24,21,17,30,0]
["Coahuila",4,4,1,1,3,6,8,16,33,76,117,155,190,223,214,177,159,132,148,1,3,2,0,1,2,6,5,10,19,51,81,118,121,136,118,93,81,60,54,1,1,2,1,0,1,0,3,6,14,25,36,37,69,87,96,84,78,72,94,0]
["Colima",1,1,0,0,0,1,7,11,24,27,37,37,63,49,51,62,59,39,38,3,1,0,0,0,0,0,4,9,20,19,32,26,50,29,32,38,26,20,17,3,0,1,0,0,0,1,3,2,4,8,5,11,13,20,19,24,33,19,21,0]
["Chiapas",31,17,9,9,14,40,66,88,159,200,247,279,313,356,307,302,271,250,248,6,15,11,5,4,8,28,50,77,131,164,188,204,201,215,175,159,145,133,136,6,16,6,4,5,6,12,16,11,28,36,59,75,112,141,132,143,126,117,112,0]
["Chihuahua",9,6,5,5,11,11,27,41,69,105,182,235,253,277,250,233,204,196,192,4,1,3,3,2,5,8,16,29,52,76,151,168,181,189,155,132,97,96,79,4,8,3,2,3,6,3,11,12,17,29,31,67,72,88,95,101,107,100,113,0]
["Ciudad de México",30,13,16,15,29,48,106,202,253,377,582,669,778,872,906,895,853,700,1009,3,16,8,13,5,17,31,87,159,214,296,450,486,525,546,516,450,374,317,345,3,14,5,3,10,12,17,19,43,39,81,132,183,253,326,390,445,479,383,664,0]
["Durango",6,1,2,4,2,6,5,6,19,25,50,56,76,97,101,92,109,91,99,1,2,0,1,1,1,2,3,4,15,19,40,36,49,63,51,45,57,45,48,1,4,1,1,3,1,4,2,2,4,6,10,20,27,34,50,47,52,46,51,0]
["Guanajuato",14,6,7,2,11,14,62,65,115,193,275,320,325,344,350,328,323,304,382,9,7,4,4,1,6,10,51,51,92,158,232,241,220,231,211,183,167,153,183,8,7,2,3,1,5,4,11,14,23,35,43,79,105,113,139,145,156,151,199,1]
["Guerrero",6,7,1,3,1,10,17,38,50,72,137,133,133,151,167,163,147,137,225,4,2,3,1,2,1,4,11,28,40,59,112,95,85,96,116,103,85,73,104,4,4,4,0,1,0,6,6,10,10,13,25,38,48,55,51,60,62,64,121,0]
["Hidalgo",5,3,3,2,4,9,13,23,30,63,96,122,159,180,208,207,184,177,236,0,2,1,1,0,2,6,12,17,21,47,74,93,100,124,126,123,94,94,116,0,3,2,2,2,2,3,1,6,9,16,22,29,59,56,82,84,90,83,120,0]
["Jalisco",21,15,6,7,12,33,57,101,159,230,303,365,449,503,547,530,500,432,570,14,14,8,4,4,6,22,41,75,119,184,249,292,328,324,324,313,265,206,253,11,7,7,2,3,6,11,16,26,40,46,54,73,121,179,223,217,235,226,317,3]
["México",17,17,10,10,30,62,158,244,371,530,762,816,883,955,996,940,845,684,835,15,7,6,5,5,19,45,126,209,308,436,596,627,658,644,605,564,432,361,348,14,10,11,5,5,11,17,32,35,63,94,166,189,225,311,391,376,413,323,487,1]
["Michoacán",13,5,5,3,3,20,33,58,98,155,171,206,219,283,274,278,271,235,375,8,6,4,2,1,2,15,25,47,84,132,152,165,151,204,181,164,141,126,171,7,7,1,3,2,1,5,8,11,14,23,19,41,68,79,93,114,130,109,204,1]
["Morelos",4,0,0,3,4,9,20,43,45,80,99,121,138,163,169,161,156,141,150,1,3,0,0,1,2,5,18,37,42,73,82,91,98,108,91,85,87,71,70,1,1,0,0,2,2,4,2,6,3,7,17,30,40,55,78,76,69,70,80,0]
["Nayarit",2,1,0,0,1,2,1,8,17,27,26,55,51,55,71,68,63,63,71,12,0,0,0,0,1,1,1,5,10,23,18,34,40,35,39,38,36,28,34,12,2,1,0,0,0,1,0,3,7,4,8,21,11,20,32,30,27,35,37,0]
["Nuevo León",9,6,3,7,8,21,23,33,65,129,204,292,326,406,373,365,339,273,341,1,8,2,1,4,3,12,14,25,48,93,156,223,225,272,225,182,168,130,102,1,1,4,2,3,5,9,9,8,17,36,48,69,101,134,148,183,171,143,239,0]
["Oaxaca",11,7,6,3,12,10,38,59,108,135,211,225,267,256,274,240,260,231,349,1,4,2,1,2,6,9,32,46,88,118,180,169,198,179,162,135,140,134,166,1,7,5,5,1,6,1,6,13,20,17,31,56,69,77,112,105,120,97,183,0]
["Puebla",21,10,3,10,20,21,70,110,171,261,365,413,456,496,505,463,440,392,474,15,10,8,2,4,13,19,55,93,151,225,295,303,311,312,292,280,257,225,210,12,11,2,1,6,7,2,15,17,20,36,70,110,145,184,213,183,183,167,264,3]
["Querétaro",7,5,3,3,6,5,20,31,55,86,88,147,149,157,162,165,132,111,177,0,4,3,1,1,4,3,13,24,45,69,72,115,111,116,99,91,68,52,80,0,3,2,2,2,2,2,7,7,10,17,16,32,38,41,63,74,64,59,97,0]
["Quintana Roo",5,2,1,1,1,5,7,19,41,52,86,118,126,118,97,74,68,47,44,6,2,2,0,0,1,3,6,13,37,45,72,100,93,70,49,37,30,22,26,6,3,0,1,1,0,2,1,6,4,7,14,18,33,48,48,37,38,25,18,0]
["San Luis Potosí",4,4,2,3,6,5,11,24,40,88,109,144,173,173,175,192,162,149,238,1,2,2,0,3,4,2,6,17,32,69,87,100,117,107,98,105,77,80,113,0,2,2,2,0,2,3,5,7,8,19,22,44,56,66,77,87,85,69,125,1]
["Sinaloa",5,1,2,1,3,6,13,12,14,26,53,51,85,109,128,128,113,96,139,0,1,1,1,0,2,1,9,5,8,16,36,37,68,71,83,71,58,48,67,0,4,0,1,1,1,5,4,7,6,10,17,14,17,38,45,57,55,48,72,0]
["Sonora",5,4,1,1,0,9,8,24,27,53,83,137,138,156,178,145,145,109,144,9,3,1,1,0,0,3,6,19,22,36,60,102,90,105,115,83,75,45,60,8,2,3,0,1,0,6,2,5,5,17,23,35,48,51,63,62,70,64,84,1]
["Tabasco",11,6,2,3,4,10,12,22,30,52,60,84,109,135,121,86,97,88,77,4,5,2,0,2,1,5,6,18,24,38,43,62,72,91,73,53,53,41,34,4,6,4,2,1,3,5,6,4,6,14,17,22,37,44,48,33,44,47,43,0]
["Tamaulipas",7,6,2,0,5,8,8,25,43,68,105,177,189,212,196,194,180,122,150,3,2,3,0,0,2,6,7,20,34,56,79,142,121,139,116,107,88,51,69,3,5,3,2,0,3,2,1,5,9,12,26,35,68,73,80,87,92,71,81,0]
["Tlaxcala",4,4,1,1,0,4,16,14,30,38,58,64,72,81,76,72,92,68,79,0,1,2,1,1,0,3,11,12,26,34,46,44,53,43,39,40,56,34,34,0,3,2,0,0,0,1,5,2,4,4,12,20,19,38,37,32,36,34,45,0]
["Veracruz",18,6,1,10,10,19,60,115,192,273,398,502,592,641,644,585,552,449,604,4,5,3,1,5,6,11,46,99,164,234,324,388,407,436,404,341,307,225,253,4,13,3,0,5,4,8,14,16,28,39,74,114,185,205,240,244,245,224,351,0]
["Yucatán",7,3,1,3,5,10,20,39,45,117,131,135,141,176,195,184,152,134,135,1,4,1,1,1,2,7,12,33,34,101,94,108,88,106,101,102,72,65,59,1,3,2,0,2,3,3,8,6,11,16,37,27,53,70,94,82,80,69,76,0]
["Zacatecas",2,3,1,0,4,3,13,8,18,32,50,63,80,73,91,86,101,97,189,2,2,1,0,0,3,1,10,7,13,27,41,46,61,45,51,46,55,52,84,2,0,2,1,0,1,2,3,1,5,5,9,17,19,28,40,40,46,45,105,0]

{"sheet":"13 GCM-G_Edad","index":113,"n_rows":24,"n_cols":10,"rows_kept":24,"cut":false,"hidden":false,"merged":[[0,0,0,9]]}
[" Enfermedades del sistema digestivo"]
["SELECCIONE UNA ENTIDAD"]
["Chiapas","2020","H - 2020","M - 2020","2021","H - 2021","M - 2021","2022","H - 2022","M - 2022"]
["Menores de 1 año",{"$f":"VLOOKUP($A$3,'13T-GCM-R_Edad2020  '!$A$2:$BI$34,2,0)","v":15},{"$f":"VLOOKUP($A$3,'13T-GCM-R_Edad2020  '!$A$2:$BI$34,22,0)","v":10},{"$f":"VLOOKUP($A$3,'13T-GCM-R_Edad2020  '!$A$2:$BI$34,42,0)","v":5},{"$f":"VLOOKUP($A$3,'13T-GCM-R_Edad2021'!$A$2:$BI$34,2,0)","v":22},{"$f":"VLOOKUP($A$3,'13T-GCM-R_Edad2021'!$A$2:$BI$34,22,0)","v":13},{"$f":"VLOOKUP($A$3,'13T-GCM-R_Edad2021'!$A$2:$BI$34,42,0)","v":9},{"$f":"VLOOKUP($A$3,'13T-GCM-R_Edad2022'!$A$2:$BI$34,2,0)","v":31},{"$f":"VLOOKUP($A$3,'13T-GCM-R_Edad2022'!$A$2:$BI$34,22,0)","v":15},{"$f":"VLOOKUP($A$3,'13T-GCM-R_Edad2022'!$A$2:$BI$34,42,0)","v":16}]
["1-4 años",{"$f":"VLOOKUP($A$3,'13T-GCM-R_Edad2020  '!$A$2:$BI$34,3,0)","v":17},{"$f":"VLOOKUP($A$3,'13T-GCM-R_Edad2020  '!$A$2:$BI$34,23,0)","v":8},{"$f":"VLOOKUP($A$3,'13T-GCM-R_Edad2020  '!$A$2:$BI$34,43,0)","v":9},{"$f":"VLOOKUP($A$3,'13T-GCM-R_Edad2021'!$A$2:$BI$34,3,0)","v":30},{"$f":"VLOOKUP($A$3,'13T-GCM-R_Edad2021'!$A$2:$BI$34,23,0)","v":15},{"$f":"VLOOKUP($A$3,'13T-GCM-R_Edad2021'!$A$2:$BI$34,43,0)","v":15},{"$f":"VLOOKUP($A$3,'13T-GCM-R_Edad2022'!$A$2:$BI$34,3,0)","v":17},{"$f":"VLOOKUP($A$3,'13T-GCM-R_Edad2022'!$A$2:$BI$34,23,0)","v":11},{"$f":"VLOOKUP($A$3,'13T-GCM-R_Edad2022'!$A$2:$BI$34,43,0)","v":6}]
["5-9 años",{"$f":"VLOOKUP($A$3,'13T-GCM-R_Edad2020  '!$A$2:$BI$34,4,0)","v":9},{"$f":"VLOOKUP($A$3,'13T-GCM-R_Edad2020  '!$A$2:$BI$34,24,0)","v":5},{"$f":"VLOOKUP($A$3,'13T-GCM-R_Edad2020  '!$A$2:$BI$34,44,0)","v":4},{"$f":"VLOOKUP($A$3,'13T-GCM-R_Edad2021'!$A$2:$BI$34,4,0)","v":9},{"$f":"VLOOKUP($A$3,'13T-GCM-R_Edad2021'!$A$2:$BI$34,24,0)","v":6},{"$f":"VLOOKUP($A$3,'13T-GCM-R_Edad2021'!$A$2:$BI$34,44,0)","v":3},{"$f":"VLOOKUP($A$3,'13T-GCM-R_Edad2022'!$A$2:$BI$34,4,0)","v":9},{"$f":"VLOOKUP($A$3,'13T-GCM-R_Edad2022'!$A$2:$BI$34,24,0)","v":5},{"$f":"VLOOKUP($A$3,'13T-GCM-R_Edad2022'!$A$2:$BI$34,44,0)","v":4}]
["10-14 años",{"$f":"VLOOKUP($A$3,'13T-GCM-R_Edad2020  '!$A$2:$BI$34,5,0)","v":14},{"$f":"VLOOKUP($A$3,'13T-GCM-R_Edad2020  '!$A$2:$BI$34,25,0)","v":8},{"$f":"VLOOKUP($A$3,'13T-GCM-R_Edad2020  '!$A$2:$BI$34,45,0)","v":6},{"$f":"VLOOKUP($A$3,'13T-GCM-R_Edad2021'!$A$2:$BI$34,5,0)","v":7},{"$f":"VLOOKUP($A$3,'13T-GCM-R_Edad2021'!$A$2:$BI$34,25,0)","v":4},{"$f":"VLOOKUP($A$3,'13T-GCM-R_Edad2021'!$A$2:$BI$34,45,0)","v":3},{"$f":"VLOOKUP($A$3,'13T-GCM-R_Edad2022'!$A$2:$BI$34,5,0)","v":9},{"$f":"VLOOKUP($A$3,'13T-GCM-R_Edad2022'!$A$2:$BI$34,25,0)","v":4},{"$f":"VLOOKUP($A$3,'13T-GCM-R_Edad2022'!$A$2:$BI$34,45,0)","v":5}]
["15-19 años",{"$f":"VLOOKUP($A$3,'13T-GCM-R_Edad2020  '!$A$2:$BI$34,6,0)","v":20},{"$f":"VLOOKUP($A$3,'13T-GCM-R_Edad2020  '!$A$2:$BI$34,26,0)","v":13},{"$f":"VLOOKUP($A$3,'13T-GCM-R_Edad2020  '!$A$2:$BI$34,46,0)","v":7},{"$f":"VLOOKUP($A$3,'13T-GCM-R_Edad2021'!$A$2:$BI$34,6,0)","v":23},{"$f":"VLOOKUP($A$3,'13T-GCM-R_Edad2021'!$A$2:$BI$34,26,0)","v":15},{"$f":"VLOOKUP($A$3,'13T-GCM-R_Edad2021'!$A$2:$BI$34,46,0)","v":8},{"$f":"VLOOKUP($A$3,'13T-GCM-R_Edad2022'!$A$2:$BI$34,6,0)","v":14},{"$f":"VLOOKUP($A$3,'13T-GCM-R_Edad2022'!$A$2:$BI$34,26,0)","v":8},{"$f":"VLOOKUP($A$3,'13T-GCM-R_Edad2022'!$A$2:$BI$34,46,0)","v":6}]
["20-24 años",{"$f":"VLOOKUP($A$3,'13T-GCM-R_Edad2020  '!$A$2:$BI$34,7,0)","v":48},{"$f":"VLOOKUP($A$3,'13T-GCM-R_Edad2020  '!$A$2:$BI$34,27,0)","v":36},{"$f":"VLOOKUP($A$3,'13T-GCM-R_Edad2020  '!$A$2:$BI$34,47,0)","v":12},{"$f":"VLOOKUP($A$3,'13T-GCM-R_Edad2021'!$A$2:$BI$34,7,0)","v":48},{"$f":"VLOOKUP($A$3,'13T-GCM-R_Edad2021'!$A$2:$BI$34,27,0)","v":35},{"$f":"VLOOKUP($A$3,'13T-GCM-R_Edad2021'!$A$2:$BI$34,47,0)","v":13},{"$f":"VLOOKUP($A$3,'13T-GCM-R_Edad2022'!$A$2:$BI$34,7,0)","v":40},{"$f":"VLOOKUP($A$3,'13T-GCM-R_Edad2022'!$A$2:$BI$34,27,0)","v":28},{"$f":"VLOOKUP($A$3,'13T-GCM-R_Edad2022'!$A$2:$BI$34,47,0)","v":12}]
["25-29 años",{"$f":"VLOOKUP($A$3,'13T-GCM-R_Edad2020  '!$A$2:$BI$34,8,0)","v":84},{"$f":"VLOOKUP($A$3,'13T-GCM-R_Edad2020  '!$A$2:$BI$34,28,0)","v":63},{"$f":"VLOOKUP($A$3,'13T-GCM-R_Edad2020  '!$A$2:$BI$34,48,0)","v":21},{"$f":"VLOOKUP($A$3,'13T-GCM-R_Edad2021'!$A$2:$BI$34,8,0)","v":81},{"$f":"VLOOKUP($A$3,'13T-GCM-R_Edad2021'!$A$2:$BI$34,28,0)","v":59},{"$f":"VLOOKUP($A$3,'13T-GCM-R_Edad2021'!$A$2:$BI$34,48,0)","v":22},{"$f":"VLOOKUP($A$3,'13T-GCM-R_Edad2022'!$A$2:$BI$34,8,0)","v":66},{"$f":"VLOOKUP($A$3,'13T-GCM-R_Edad2022'!$A$2:$BI$34,28,0)","v":50},{"$f":"VLOOKUP($A$3,'13T-GCM-R_Edad2022'!$A$2:$BI$34,48,0)","v":16}]
["30-34 años",{"$f":"VLOOKUP($A$3,'13T-GCM-R_Edad2020  '!$A$2:$BI$34,9,0)","v":99},{"$f":"VLOOKUP($A$3,'13T-GCM-R_Edad2020  '!$A$2:$BI$34,29,0)","v":79},{"$f":"VLOOKUP($A$3,'13T-GCM-R_Edad2020  '!$A$2:$BI$34,49,0)","v":20},{"$f":"VLOOKUP($A$3,'13T-GCM-R_Edad2021'!$A$2:$BI$34,9,0)","v":105},{"$f":"VLOOKUP($A$3,'13T-GCM-R_Edad2021'!$A$2:$BI$34,29,0)","v":74},{"$f":"VLOOKUP($A$3,'13T-GCM-R_Edad2021'!$A$2:$BI$34,49,0)","v":31},{"$f":"VLOOKUP($A$3,'13T-GCM-R_Edad2022'!$A$2:$BI$34,9,0)","v":88},{"$f":"VLOOKUP($A$3,'13T-GCM-R_Edad2022'!$A$2:$BI$34,29,0)","v":77},{"$f":"VLOOKUP($A$3,'13T-GCM-R_Edad2022'!$A$2:$BI$34,49,0)","v":11}]
["35-39 años",{"$f":"VLOOKUP($A$3,'13T-GCM-R_Edad2020  '!$A$2:$BI$34,10,0)","v":166},{"$f":"VLOOKUP($A$3,'13T-GCM-R_Edad2020  '!$A$2:$BI$34,30,0)","v":131},{"$f":"VLOOKUP($A$3,'13T-GCM-R_Edad2020  '!$A$2:$BI$34,50,0)","v":35},{"$f":"VLOOKUP($A$3,'13T-GCM-R_Edad2021'!$A$2:$BI$34,10,0)","v":168},{"$f":"VLOOKUP($A$3,'13T-GCM-R_Edad2021'!$A$2:$BI$34,30,0)","v":140},{"$f":"VLOOKUP($A$3,'13T-GCM-R_Edad2021'!$A$2:$BI$34,50,0)","v":28},{"$f":"VLOOKUP($A$3,'13T-GCM-R_Edad2022'!$A$2:$BI$34,10,0)","v":159},{"$f":"VLOOKUP($A$3,'13T-GCM-R_Edad2022'!$A$2:$BI$34,30,0)","v":131},{"$f":"VLOOKUP($A$3,'13T-GCM-R_Edad2022'!$A$2:$BI$34,50,0)","v":28}]
["40-44 años",{"$f":"VLOOKUP($A$3,'13T-GCM-R_Edad2020  '!$A$2:$BI$34,11,0)","v":205},{"$f":"VLOOKUP($A$3,'13T-GCM-R_Edad2020  '!$A$2:$BI$34,31,0)","v":162},{"$f":"VLOOKUP($A$3,'13T-GCM-R_Edad2020  '!$A$2:$BI$34,51,0)","v":43},{"$f":"VLOOKUP($A$3,'13T-GCM-R_Edad2021'!$A$2:$BI$34,11,0)","v":211},{"$f":"VLOOKUP($A$3,'13T-GCM-R_Edad2021'!$A$2:$BI$34,31,0)","v":168},{"$f":"VLOOKUP($A$3,'13T-GCM-R_Edad2021'!$A$2:$BI$34,51,0)","v":43},{"$f":"VLOOKUP($A$3,'13T-GCM-R_Edad2022'!$A$2:$BI$34,11,0)","v":200},{"$f":"VLOOKUP($A$3,'13T-GCM-R_Edad2022'!$A$2:$BI$34,31,0)","v":164},{"$f":"VLOOKUP($A$3,'13T-GCM-R_Edad2022'!$A$2:$BI$34,51,0)","v":36}]
["45-49 años",{"$f":"VLOOKUP($A$3,'13T-GCM-R_Edad2020  '!$A$2:$BI$34,12,0)","v":240},{"$f":"VLOOKUP($A$3,'13T-GCM-R_Edad2020  '!$A$2:$BI$34,32,0)","v":175},{"$f":"VLOOKUP($A$3,'13T-GCM-R_Edad2020  '!$A$2:$BI$34,52,0)","v":65},{"$f":"VLOOKUP($A$3,'13T-GCM-R_Edad2021'!$A$2:$BI$34,12,0)","v":266},{"$f":"VLOOKUP($A$3,'13T-GCM-R_Edad2021'!$A$2:$BI$34,32,0)","v":207},{"$f":"VLOOKUP($A$3,'13T-GCM-R_Edad2021'!$A$2:$BI$34,52,0)","v":59},{"$f":"VLOOKUP($A$3,'13T-GCM-R_Edad2022'!$A$2:$BI$34,12,0)","v":247},{"$f":"VLOOKUP($A$3,'13T-GCM-R_Edad2022'!$A$2:$BI$34,32,0)","v":188},{"$f":"VLOOKUP($A$3,'13T-GCM-R_Edad2022'!$A$2:$BI$34,52,0)","v":59}]
["50-54 años",{"$f":"VLOOKUP($A$3,'13T-GCM-R_Edad2020  '!$A$2:$BI$34,13,0)","v":294},{"$f":"VLOOKUP($A$3,'13T-GCM-R_Edad2020  '!$A$2:$BI$34,33,0)","v":202},{"$f":"VLOOKUP($A$3,'13T-GCM-R_Edad2020  '!$A$2:$BI$34,53,0)","v":92},{"$f":"VLOOKUP($A$3,'13T-GCM-R_Edad2021'!$A$2:$BI$34,13,0)","v":292},{"$f":"VLOOKUP($A$3,'13T-GCM-R_Edad2021'!$A$2:$BI$34,33,0)","v":219},{"$f":"VLOOKUP($A$3,'13T-GCM-R_Edad2021'!$A$2:$BI$34,53,0)","v":73},{"$f":"VLOOKUP($A$3,'13T-GCM-R_Edad2022'!$A$2:$BI$34,13,0)","v":279},{"$f":"VLOOKUP($A$3,'13T-GCM-R_Edad2022'!$A$2:$BI$34,33,0)","v":204},{"$f":"VLOOKUP($A$3,'13T-GCM-R_Edad2022'!$A$2:$BI$34,53,0)","v":75}]
["55-59 años",{"$f":"VLOOKUP($A$3,'13T-GCM-R_Edad2020  '!$A$2:$BI$34,14,0)","v":320},{"$f":"VLOOKUP($A$3,'13T-GCM-R_Edad2020  '!$A$2:$BI$34,34,0)","v":207},{"$f":"VLOOKUP($A$3,'13T-GCM-R_Edad2020  '!$A$2:$BI$34,54,0)","v":113},{"$f":"VLOOKUP($A$3,'13T-GCM-R_Edad2021'!$A$2:$BI$34,14,0)","v":368},{"$f":"VLOOKUP($A$3,'13T-GCM-R_Edad2021'!$A$2:$BI$34,34,0)","v":241},{"$f":"VLOOKUP($A$3,'13T-GCM-R_Edad2021'!$A$2:$BI$34,54,0)","v":127},{"$f":"VLOOKUP($A$3,'13T-GCM-R_Edad2022'!$A$2:$BI$34,14,0)","v":313},{"$f":"VLOOKUP($A$3,'13T-GCM-R_Edad2022'!$A$2:$BI$34,34,0)","v":201},{"$f":"VLOOKUP($A$3,'13T-GCM-R_Edad2022'!$A$2:$BI$34,54,0)","v":112}]
["60-64 años",{"$f":"VLOOKUP($A$3,'13T-GCM-R_Edad2020  '!$A$2:$BI$34,15,0)","v":341},{"$f":"VLOOKUP($A$3,'13T-GCM-R_Edad2020  '!$A$2:$BI$34,35,0)","v":194},{"$f":"VLOOKUP($A$3,'13T-GCM-R_Edad2020  '!$A$2:$BI$34,55,0)","v":147},{"$f":"VLOOKUP($A$3,'13T-GCM-R_Edad2021'!$A$2:$BI$34,15,0)","v":373},{"$f":"VLOOKUP($A$3,'13T-GCM-R_Edad2021'!$A$2:$BI$34,35,0)","v":219},{"$f":"VLOOKUP($A$3,'13T-GCM-R_Edad2021'!$A$2:$BI$34,55,0)","v":154},{"$f":"VLOOKUP($A$3,'13T-GCM-R_Edad2022'!$A$2:$BI$34,15,0)","v":356},{"$f":"VLOOKUP($A$3,'13T-GCM-R_Edad2022'!$A$2:$BI$34,35,0)","v":215},{"$f":"VLOOKUP($A$3,'13T-GCM-R_Edad2022'!$A$2:$BI$34,55,0)","v":141}]
["65-69 años",{"$f":"VLOOKUP($A$3,'13T-GCM-R_Edad2020  '!$A$2:$BI$34,16,0)","v":367},{"$f":"VLOOKUP($A$3,'13T-GCM-R_Edad2020  '!$A$2:$BI$34,36,0)","v":210},{"$f":"VLOOKUP($A$3,'13T-GCM-R_Edad2020  '!$A$2:$BI$34,56,0)","v":157},{"$f":"VLOOKUP($A$3,'13T-GCM-R_Edad2021'!$A$2:$BI$34,16,0)","v":352},{"$f":"VLOOKUP($A$3,'13T-GCM-R_Edad2021'!$A$2:$BI$34,36,0)","v":199},{"$f":"VLOOKUP($A$3,'13T-GCM-R_Edad2021'!$A$2:$BI$34,56,0)","v":153},{"$f":"VLOOKUP($A$3,'13T-GCM-R_Edad2022'!$A$2:$BI$34,16,0)","v":307},{"$f":"VLOOKUP($A$3,'13T-GCM-R_Edad2022'!$A$2:$BI$34,36,0)","v":175},{"$f":"VLOOKUP($A$3,'13T-GCM-R_Edad2022'!$A$2:$BI$34,56,0)","v":132}]
["70-74 años",{"$f":"VLOOKUP($A$3,'13T-GCM-R_Edad2020  '!$A$2:$BI$34,17,0)","v":349},{"$f":"VLOOKUP($A$3,'13T-GCM-R_Edad2020  '!$A$2:$BI$34,37,0)","v":194},{"$f":"VLOOKUP($A$3,'13T-GCM-R_Edad2020  '!$A$2:$BI$34,57,0)","v":155},{"$f":"VLOOKUP($A$3,'13T-GCM-R_Edad2021'!$A$2:$BI$34,17,0)","v":336},{"$f":"VLOOKUP($A$3,'13T-GCM-R_Edad2021'!$A$2:$BI$34,37,0)","v":178},{"$f":"VLOOKUP($A$3,'13T-GCM-R_Edad2021'!$A$2:$BI$34,57,0)","v":158},{"$f":"VLOOKUP($A$3,'13T-GCM-R_Edad2022'!$A$2:$BI$34,17,0)","v":302},{"$f":"VLOOKUP($A$3,'13T-GCM-R_Edad2022'!$A$2:$BI$34,37,0)","v":159},{"$f":"VLOOKUP($A$3,'13T-GCM-R_Edad2022'!$A$2:$BI$34,57,0)","v":143}]
["75-79 años",{"$f":"VLOOKUP($A$3,'13T-GCM-R_Edad2020  '!$A$2:$BI$34,18,0)","v":317},{"$f":"VLOOKUP($A$3,'13T-GCM-R_Edad2020  '!$A$2:$BI$34,38,0)","v":163},{"$f":"VLOOKUP($A$3,'13T-GCM-R_Edad2020  '!$A$2:$BI$34,58,0)","v":154},{"$f":"VLOOKUP($A$3,'13T-GCM-R_Edad2021'!$A$2:$BI$34,18,0)","v":327},{"$f":"VLOOKUP($A$3,'13T-GCM-R_Edad2021'!$A$2:$BI$34,38,0)","v":177},{"$f":"VLOOKUP($A$3,'13T-GCM-R_Edad2021'!$A$2:$BI$34,58,0)","v":150},{"$f":"VLOOKUP($A$3,'13T-GCM-R_Edad2022'!$A$2:$BI$34,18,0)","v":271},{"$f":"VLOOKUP($A$3,'13T-GCM-R_Edad2022'!$A$2:$BI$34,38,0)","v":145},{"$f":"VLOOKUP($A$3,'13T-GCM-R_Edad2022'!$A$2:$BI$34,58,0)","v":126}]
["80-84 años",{"$f":"VLOOKUP($A$3,'13T-GCM-R_Edad2020  '!$A$2:$BI$34,19,0)","v":257},{"$f":"VLOOKUP($A$3,'13T-GCM-R_Edad2020  '!$A$2:$BI$34,39,0)","v":133},{"$f":"VLOOKUP($A$3,'13T-GCM-R_Edad2020  '!$A$2:$BI$34,59,0)","v":124},{"$f":"VLOOKUP($A$3,'13T-GCM-R_Edad2021'!$A$2:$BI$34,19,0)","v":283},{"$f":"VLOOKUP($A$3,'13T-GCM-R_Edad2021'!$A$2:$BI$34,39,0)","v":136},{"$f":"VLOOKUP($A$3,'13T-GCM-R_Edad2021'!$A$2:$BI$34,59,0)","v":147},{"$f":"VLOOKUP($A$3,'13T-GCM-R_Edad2022'!$A$2:$BI$34,19,0)","v":250},{"$f":"VLOOKUP($A$3,'13T-GCM-R_Edad2022'!$A$2:$BI$34,39,0)","v":133},{"$f":"VLOOKUP($A$3,'13T-GCM-R_Edad2022'!$A$2:$BI$34,59,0)","v":117}]
["85 años y más",{"$f":"VLOOKUP($A$3,'13T-GCM-R_Edad2020  '!$A$2:$BI$34,20,0)","v":275},{"$f":"VLOOKUP($A$3,'13T-GCM-R_Edad2020  '!$A$2:$BI$34,40,0)","v":138},{"$f":"VLOOKUP($A$3,'13T-GCM-R_Edad2020  '!$A$2:$BI$34,60,0)","v":137},{"$f":"VLOOKUP($A$3,'13T-GCM-R_Edad2021'!$A$2:$BI$34,20,0)","v":273},{"$f":"VLOOKUP($A$3,'13T-GCM-R_Edad2021'!$A$2:$BI$34,40,0)","v":131},{"$f":"VLOOKUP($A$3,'13T-GCM-R_Edad2021'!$A$2:$BI$34,60,0)","v":142},{"$f":"VLOOKUP($A$3,'13T-GCM-R_Edad2022'!$A$2:$BI$34,20,0)","v":248},{"$f":"VLOOKUP($A$3,'13T-GCM-R_Edad2022'!$A$2:$BI$34,40,0)","v":136},{"$f":"VLOOKUP($A$3,'13T-GCM-R_Edad2022'!$A$2:$BI$34,60,0)","v":112}]
["No especificado",{"$f":"VLOOKUP($A$3,'13T-GCM-R_Edad2020  '!$A$2:$BI$34,21,0)","v":14},{"$f":"VLOOKUP($A$3,'13T-GCM-R_Edad2020  '!$A$2:$BI$34,41,0)","v":13},{"$f":"VLOOKUP($A$3,'13T-GCM-R_Edad2020  '!$A$2:$BI$34,61,0)","v":1},{"$f":"VLOOKUP($A$3,'13T-GCM-R_Edad2021'!$A$2:$BI$34,21,0)","v":8},{"$f":"VLOOKUP($A$3,'13T-GCM-R_Edad2021'!$A$2:$BI$34,41,0)","v":7},{"$f":"VLOOKUP($A$3,'13T-GCM-R_Edad2021'!$A$2:$BI$34,61,0)","v":1},{"$f":"VLOOKUP($A$3,'13T-GCM-R_Edad2022'!$A$2:$BI$34,21,0)","v":6},{"$f":"VLOOKUP($A$3,'13T-GCM-R_Edad2022'!$A$2:$BI$34,41,0)","v":6},{"$f":"VLOOKUP($A$3,'13T-GCM-R_Edad2022'!$A$2:$BI$34,61,0)","v":0}]
["Total",{"$f":"SUM(B4:B23)","v":3451},2144,1307,3582,2243,1339,3212,2055,1157]

{"sheet":"14T-GCM-R_Edad2020 ","index":114,"n_rows":34,"n_cols":61,"rows_kept":34,"cut":false,"hidden":true,"merged":[]}
[1,2,3,4,5,6,7,8,9,10,11,12,13,14,15,16,17,18,19,20,21,22,23,24,25,26,27,28,29,30,31,32,33,34,35,36,37,38,39,40,41,42,43,44,45,46,47,48,49,50,51,52,53,54,55,56,57,58,59,60,61]
["ESTADO","Menores de 1 año","1-4 años","5-9 años","10-14 años","15-19 años","20-24 años","25-29 años","30-34 años","35-39 años","40-44 años","45-49 años","50-54 años","55-59 años","60-64 años","65-69 años","70-74 años","75-79 años","80-84 años","85 años y más","No especificado","H Menores de 1 año","H 1-4 años","H 5-9 años","H 10-14 años","H 15-19 años","H 20-24 años","H 25-29 años","H 30-34 años","H 35-39 años","H 40-44 años","H 45-49 años","H 50-54 años","H 55-59 años","H 60-64 años","H 65-69 años","H 70-74 años","H 75-79 años","H 80-84 años","H 85 años y más","H No especificado","   M Menores de 1 año ","M 1-4 años","M 5-9 años","M 10-14 años","M 15-19 años","M 20-24 años","M 25-29 años","M 30-34 años","M 35-39 años","M 40-44 años","M 45-49 años","M 50-54 años","M 55-59 años","M 60-64 años","M 65-69 años","M 70-74 años","M 75-79 años","M 80-84 años","M 85 años y    ás","M No especificado"]
["Aguascalientes",0,0,0,1,0,0,0,0,1,1,0,1,0,3,3,1,0,6,7,0,0,0,0,1,0,0,0,0,0,1,0,1,0,1,2,1,0,4,0,0,0,0,0,0,0,0,0,0,1,0,0,0,0,2,1,0,0,2,7,0]
["Baja California",0,0,0,0,1,0,1,3,2,6,3,4,6,6,7,4,6,5,9,0,0,0,0,0,1,0,1,1,1,3,2,3,6,3,2,1,1,3,1,0,0,0,0,0,0,0,0,2,1,3,1,1,0,3,5,3,5,2,8,0]
["Baja California Sur",0,0,0,0,0,1,0,0,0,0,0,1,0,0,3,0,3,1,1,0,0,0,0,0,0,1,0,0,0,0,0,0,0,0,2,0,2,0,0,0,0,0,0,0,0,0,0,0,0,0,0,1,0,0,1,0,1,1,1,0]
["Campeche",0,0,0,0,0,0,1,0,0,3,3,3,3,2,4,2,2,7,1,0,0,0,0,0,0,0,1,0,0,3,2,1,0,1,2,2,1,5,0,0,0,0,0,0,0,0,0,0,0,0,1,2,3,1,2,0,1,2,1,0]
["Coahuila",0,0,0,0,0,0,2,1,1,1,3,4,7,6,9,3,8,6,3,0,0,0,0,0,0,0,2,0,1,0,2,2,2,3,3,1,2,4,0,0,0,0,0,0,0,0,0,1,0,1,1,2,5,3,6,2,6,2,3,0]
["Colima",0,0,0,0,0,0,0,0,2,0,1,2,5,2,5,1,2,5,1,0,0,0,0,0,0,0,0,0,1,0,0,2,4,1,1,0,1,4,0,0,0,0,0,0,0,0,0,0,1,0,1,0,1,1,4,1,1,1,1,0]
["Chiapas",0,1,1,0,0,0,1,0,0,2,3,1,5,3,2,3,1,11,6,0,0,1,0,0,0,0,0,0,0,1,1,1,2,2,2,2,0,4,0,0,0,0,1,0,0,0,1,0,0,1,2,0,3,1,0,1,1,7,6,0]
["Chihuahua",0,0,1,0,0,4,6,2,4,7,0,3,6,7,3,9,7,16,12,0,0,0,0,0,0,2,6,2,2,4,0,3,4,4,3,4,2,5,0,0,0,0,1,0,0,2,0,0,2,3,0,0,2,3,0,5,5,11,12,0]
["Ciudad de México",1,0,1,2,0,2,6,7,15,29,38,43,64,65,53,67,68,75,103,0,1,0,1,2,0,2,5,4,9,23,25,29,30,43,19,35,29,38,0,0,0,0,0,0,0,0,1,3,6,6,13,14,34,22,34,32,39,37,103,0]
["Durango",0,0,0,0,0,0,0,0,1,1,3,1,5,5,3,1,10,5,3,0,0,0,0,0,0,0,0,0,1,1,2,0,1,2,1,1,4,1,0,0,0,0,0,0,0,0,0,0,0,0,1,1,4,3,2,0,6,4,3,0]
["Guanajuato",0,0,0,0,0,2,7,4,5,2,2,8,9,13,15,13,15,28,30,0,0,0,0,0,0,1,3,3,4,2,0,6,4,6,4,4,6,16,0,0,0,0,0,0,0,1,4,1,1,0,2,2,5,7,11,9,9,12,30,0]
["Guerrero",0,0,1,0,1,0,0,0,1,0,1,1,3,5,4,2,3,6,5,0,0,0,1,0,1,0,0,0,1,0,1,0,2,2,3,2,1,3,0,0,0,0,0,0,0,0,0,0,0,0,0,1,1,3,1,0,2,3,5,0]
["Hidalgo",0,0,0,0,0,0,0,0,0,0,1,2,2,2,6,7,3,7,8,0,0,0,0,0,0,0,0,0,0,0,1,0,0,1,2,2,1,5,0,0,0,0,0,0,0,0,0,0,0,0,0,2,2,1,4,5,2,2,8,0]
["Jalisco",1,1,0,0,0,1,2,6,10,21,18,25,35,40,28,47,37,49,58,0,0,0,0,0,0,1,2,2,6,12,12,17,25,22,15,19,17,26,0,0,1,1,0,0,0,0,0,4,4,9,6,8,10,18,13,28,20,23,58,0]
["México",0,0,0,0,1,3,5,12,14,20,18,34,41,40,45,34,37,49,55,0,0,0,0,0,0,3,3,10,12,13,9,20,24,17,20,15,18,23,0,0,0,0,0,0,1,0,2,2,2,7,9,14,17,23,25,19,19,26,55,0]
["Michoacán",0,0,0,0,0,0,0,2,1,5,4,2,2,4,8,7,10,13,11,0,0,0,0,0,0,0,0,1,1,3,3,1,1,3,3,3,5,11,0,0,0,0,0,0,0,0,0,1,0,2,1,1,1,1,5,4,5,2,11,0]
["Morelos",0,0,0,1,0,2,0,1,1,3,2,4,7,5,5,12,11,8,7,0,0,0,0,1,0,2,0,0,0,3,0,3,5,2,3,8,6,4,0,0,0,0,0,0,0,0,0,1,1,0,2,1,2,3,2,4,5,4,7,0]
["Nayarit",0,0,0,0,0,1,0,0,0,2,0,0,1,4,5,5,3,3,4,0,0,0,0,0,0,0,0,0,0,0,0,0,0,1,1,2,2,2,0,0,0,0,0,0,0,1,0,0,0,2,0,0,1,3,4,3,1,1,4,0]
["Nuevo León",0,0,0,0,2,1,1,0,5,12,13,23,20,34,29,23,34,28,21,0,0,0,0,0,0,0,0,0,4,8,7,15,9,19,11,6,11,12,0,0,0,0,0,0,2,1,1,0,1,4,6,8,11,15,18,17,23,16,21,0]
["Oaxaca",0,1,0,0,0,0,0,2,2,1,2,5,7,4,3,7,6,15,5,0,0,0,0,0,0,0,0,1,1,0,2,2,5,1,2,5,3,9,0,0,0,1,0,0,0,0,0,1,1,1,0,3,2,3,1,2,3,6,5,0]
["Puebla",0,0,1,0,0,0,1,0,0,2,1,3,0,4,3,6,8,26,13,0,0,0,1,0,0,0,1,0,0,0,1,1,0,3,1,1,3,12,0,0,0,0,0,0,0,0,0,0,0,2,0,2,0,1,2,5,5,14,13,0]
["Querétaro",0,0,0,1,1,2,0,2,3,1,4,1,3,5,2,5,10,9,18,0,0,0,0,1,0,1,0,1,3,1,1,1,2,3,0,0,3,6,0,0,0,0,0,0,1,1,0,1,0,0,3,0,1,2,2,5,7,3,18,0]
["Quintana Roo",0,0,0,1,0,1,0,0,4,4,4,5,2,5,3,4,2,9,1,0,0,0,0,1,0,1,0,0,3,4,4,2,2,1,2,2,1,4,0,0,0,0,0,0,0,0,0,0,1,0,0,3,0,4,1,2,1,5,1,0]
["San Luis Potosí",0,0,0,0,1,1,1,0,2,1,0,4,1,5,4,10,4,16,17,0,0,0,0,0,1,1,1,0,1,0,0,4,0,4,0,4,2,9,0,0,0,0,0,0,0,0,0,0,1,1,0,0,1,1,4,6,2,7,17,0]
["Sinaloa",0,0,0,0,1,0,0,2,1,1,1,1,3,1,2,5,3,4,8,0,0,0,0,0,1,0,0,2,0,1,0,0,2,1,1,1,1,1,0,0,0,0,0,0,0,0,0,0,1,0,1,1,1,0,1,4,2,3,8,0]
["Sonora",0,0,0,0,0,0,1,3,5,8,6,10,6,8,7,20,9,17,7,0,0,0,0,0,0,0,1,3,4,4,2,4,4,5,5,10,3,11,0,0,0,0,0,0,0,0,0,0,1,4,4,6,2,3,2,10,6,6,7,0]
["Tabasco",0,0,0,1,1,0,0,1,3,0,0,2,4,2,4,1,2,3,1,0,0,0,0,0,0,0,0,0,1,0,0,2,2,0,2,1,1,1,0,0,0,0,0,1,1,0,0,1,2,0,0,0,2,2,2,0,1,2,1,0]
["Tamaulipas",0,0,0,0,0,0,2,0,1,4,3,8,14,14,14,8,9,15,7,0,0,0,0,0,0,0,0,0,0,2,3,5,7,4,7,3,4,5,0,0,0,0,0,0,0,0,2,0,1,2,0,3,7,10,7,5,5,10,7,0]
["Tlaxcala",0,0,0,0,0,0,0,0,0,0,1,0,0,0,2,0,2,2,2,0,0,0,0,0,0,0,0,0,0,0,1,0,0,0,0,0,2,1,0,0,0,0,0,0,0,0,0,0,0,0,0,0,0,0,2,0,0,1,2,0]
["Veracruz",2,0,0,0,1,3,1,1,1,5,4,4,3,9,8,13,6,12,22,0,1,0,0,0,0,3,0,1,0,3,3,3,1,3,3,6,4,2,0,0,1,0,0,0,1,0,1,0,1,2,1,1,2,6,5,7,2,10,22,0]
["Yucatán",1,0,0,0,0,1,0,1,3,3,2,3,12,9,12,14,8,5,9,0,0,0,0,0,0,1,0,1,2,2,0,1,9,3,5,7,2,2,0,0,1,0,0,0,0,0,0,0,1,1,2,2,3,6,7,7,6,3,9,0]
["Zacatecas",0,0,0,0,0,0,0,0,0,0,1,1,2,2,3,4,3,6,13,0,0,0,0,0,0,0,0,0,0,0,1,0,0,1,1,1,1,5,0,0,0,0,0,0,0,0,0,0,0,0,0,1,2,1,2,3,2,1,13,0]

{"sheet":"14T-GCM-R_Edad2021","index":115,"n_rows":34,"n_cols":61,"rows_kept":34,"cut":false,"hidden":true,"merged":[]}
[1,2,3,4,5,6,7,8,9,10,11,12,13,14,15,16,17,18,19,20,21,22,23,24,25,26,27,28,29,30,31,32,33,34,35,36,37,38,39,40,41,42,43,44,45,46,47,48,49,50,51,52,53,54,55,56,57,58,59,60,61]
["ESTADO","Menores de 1 año","1-4 años","5-9 años","10-14 años","15-19 años","20-24 años","25-29 años","30-34 años","35-39 años","40-44 años","45-49 años","50-54 años","55-59 años","60-64 años","65-69 años","70-74 años","75-79 años","80-84 años","85 años y más","No especificado","H Menores de 1 año","H 1-4 años","H 5-9 años","H 10-14 años","H 15-19 años","H 20-24 años","H 25-29 años","H 30-34 años","H 35-39 años","H 40-44 años","H 45-49 años","H 50-54 años","H 55-59 años","H 60-64 años","H 65-69 años","H 70-74 años","H 75-79 años","H 80-84 años","H 85 años y más","H No especificado","   M Menores de 1 año ","M 1-4 años","M 5-9 años","M 10-14 años","M 15-19 años","M 20-24 años","M 25-29 años","M 30-34 años","M 35-39 años","M 40-44 años","M 45-49 años","M 50-54 años","M 55-59 años","M 60-64 años","M 65-69 años","M 70-74 años","M 75-79 años","M 80-84 años","M 85 años y    ás","M No especificado"]
["Aguascalientes",0,0,0,0,0,0,1,0,0,2,1,3,1,3,1,5,5,5,3,0,0,0,0,0,0,0,1,0,0,1,1,2,1,2,1,2,2,3,0,0,0,0,0,0,0,0,0,0,0,1,0,1,0,1,0,3,3,2,3,0]
["Baja California",0,0,1,0,1,2,4,1,3,4,6,7,7,8,6,11,7,13,20,0,0,0,1,0,1,1,3,1,3,2,4,3,4,6,3,3,5,7,1,0,0,0,0,0,0,1,1,0,0,2,2,4,3,2,3,8,2,6,19,0]
["Baja California Sur",0,0,0,0,0,0,0,0,2,0,1,5,1,0,0,3,3,2,3,0,0,0,0,0,0,0,0,0,0,0,1,1,1,0,0,1,3,0,0,0,0,0,0,0,0,0,0,0,2,0,0,4,0,0,0,2,0,2,3,0]
["Campeche",0,0,0,0,0,0,1,0,2,0,2,3,2,0,3,3,1,5,2,0,0,0,0,0,0,0,0,0,1,0,0,2,0,0,0,2,1,2,0,0,0,0,0,0,0,0,1,0,1,0,2,1,2,0,3,1,0,3,2,0]
["Coahuila",0,0,0,0,1,0,0,1,2,1,6,7,8,11,9,8,8,10,12,0,0,0,0,0,1,0,0,1,1,0,4,5,6,6,4,0,2,3,0,0,0,0,0,0,0,0,0,0,1,1,2,2,2,5,5,8,6,7,12,0]
["Colima",0,0,0,0,0,0,1,0,1,0,3,1,1,2,5,5,3,4,5,0,0,0,0,0,0,0,1,0,1,0,2,1,1,1,1,1,1,1,0,0,0,0,0,0,0,0,0,0,0,0,1,0,0,1,4,4,2,3,5,0]
["Chiapas",0,2,1,0,0,1,2,2,3,3,2,5,2,7,5,8,6,4,9,0,0,0,1,0,0,1,2,1,3,2,1,4,1,4,2,5,2,3,0,0,0,2,0,0,0,0,0,1,0,1,1,1,1,3,3,3,4,1,9,0]
["Chihuahua",0,0,0,0,0,1,4,3,2,2,3,10,7,10,11,12,15,11,18,0,0,0,0,0,0,0,4,3,2,2,1,8,4,6,5,4,5,7,0,0,0,0,0,0,0,1,0,0,0,0,2,2,3,4,6,8,10,4,18,0]
["Ciudad de México",0,1,0,3,1,5,5,9,14,16,32,53,65,74,73,76,74,100,123,0,0,0,0,2,1,3,2,7,14,11,21,35,38,44,34,35,28,35,0,0,0,1,0,1,0,2,3,2,0,5,11,18,27,30,39,41,46,65,123,0]
["Durango",0,0,0,0,0,1,0,4,3,2,1,5,2,5,4,3,3,8,5,0,0,0,0,0,0,1,0,1,3,0,1,4,0,2,3,3,0,2,0,0,0,0,0,0,0,0,0,3,0,2,0,1,2,3,1,0,3,6,5,0]
["Guanajuato",0,1,0,0,1,2,3,2,1,2,7,11,11,7,13,23,19,27,32,0,0,0,0,0,1,2,3,2,1,2,4,3,7,3,8,15,10,13,0,0,0,1,0,0,0,0,0,0,0,0,3,8,4,4,5,8,9,14,32,0]
["Guerrero",1,0,0,0,1,0,0,2,0,0,1,1,3,5,4,3,0,10,6,0,0,0,0,0,0,0,0,2,0,0,0,1,1,1,3,2,0,8,0,0,1,0,0,0,1,0,0,0,0,0,1,0,2,4,1,1,0,2,6,0]
["Hidalgo",0,0,0,0,1,1,0,0,2,0,0,4,3,1,1,4,3,11,11,0,0,0,0,0,1,0,0,0,1,0,0,3,2,1,1,4,2,10,0,0,0,0,0,0,0,1,0,0,1,0,0,1,1,0,0,0,1,1,11,0]
["Jalisco",0,0,1,1,5,3,9,6,8,9,20,22,30,36,35,33,43,47,51,0,0,0,0,0,3,2,7,5,5,8,10,15,18,20,18,12,17,25,0,0,0,0,1,1,2,1,2,1,3,1,10,7,12,16,17,21,26,22,51,0]
["México",0,0,0,0,3,2,5,6,6,24,18,40,53,44,46,48,42,48,57,0,0,0,0,0,3,1,5,5,3,17,13,19,29,23,18,25,19,19,0,0,0,0,0,0,0,1,0,1,3,7,5,21,24,21,28,23,23,29,57,0]
["Michoacán",0,0,1,0,1,1,2,2,1,1,6,5,8,10,10,11,14,16,13,0,0,0,1,0,1,1,2,2,1,0,2,2,4,6,8,4,5,12,0,0,0,0,0,0,0,0,0,0,0,1,4,3,4,4,2,7,9,4,13,0]
["Morelos",0,0,0,1,0,0,2,0,3,5,5,9,7,7,9,5,10,10,12,0,0,0,0,1,0,0,1,0,1,4,3,4,4,4,6,1,3,3,0,0,0,0,0,0,0,0,1,0,2,1,2,5,3,3,3,4,7,7,12,0]
["Nayarit",0,0,0,0,0,0,0,1,1,2,2,1,2,2,7,9,3,6,9,0,0,0,0,0,0,0,0,0,0,1,1,0,1,1,4,3,0,2,0,0,0,0,0,0,0,0,0,1,1,1,1,1,1,1,3,6,3,4,9,0]
["Nuevo León",0,1,0,0,0,2,3,5,9,14,20,22,27,21,21,30,28,26,34,0,0,1,0,0,0,1,2,5,7,12,14,10,19,12,10,14,16,9,0,0,0,0,0,0,0,1,1,0,2,2,6,12,8,9,11,16,12,17,34,0]
["Oaxaca",1,1,0,0,0,0,0,2,1,3,0,3,3,8,2,5,6,19,16,0,1,0,0,0,0,0,0,1,1,1,0,2,1,7,1,4,1,14,0,0,0,1,0,0,0,0,0,1,0,2,0,1,2,1,1,1,5,5,16,0]
["Puebla",0,0,0,0,0,0,3,0,3,1,4,3,5,4,9,10,5,16,24,0,0,0,0,0,0,0,2,0,2,1,3,2,4,1,5,5,2,8,0,0,0,0,0,0,0,0,1,0,1,0,1,1,1,3,4,5,3,8,24,0]
["Querétaro",0,0,0,1,1,0,0,1,1,7,8,6,9,6,6,7,9,16,23,0,0,0,0,1,0,0,0,0,1,4,5,4,3,4,3,4,2,7,0,0,0,0,0,0,1,0,0,1,0,3,3,2,6,2,3,3,7,9,23,0]
["Quintana Roo",0,0,0,0,0,1,1,1,3,1,5,3,3,8,6,6,8,3,5,0,0,0,0,0,0,1,1,1,3,1,3,1,1,4,2,2,4,1,0,0,0,0,0,0,0,0,0,0,0,0,2,2,2,4,4,4,4,2,5,0]
["San Luis Potosí",0,0,0,0,0,0,2,1,3,0,2,4,6,3,4,5,7,17,9,0,0,0,0,0,0,0,2,0,2,0,2,2,4,1,2,4,4,10,0,0,0,0,0,0,0,0,0,1,1,0,0,2,2,2,2,1,3,7,9,0]
["Sinaloa",0,0,0,1,0,0,2,0,0,0,3,4,2,3,2,6,5,7,3,0,0,0,0,1,0,0,1,0,0,0,1,2,1,1,0,3,3,5,0,0,0,0,0,0,0,0,1,0,0,0,2,2,1,2,2,3,2,2,3,0]
["Sonora",0,0,0,0,1,0,0,4,0,1,8,4,10,6,6,6,16,11,11,0,0,0,0,0,1,0,0,3,0,0,6,4,6,2,3,2,9,7,0,0,0,0,0,0,0,0,0,1,0,1,2,0,4,4,3,4,7,4,11,0]
["Tabasco",0,0,0,0,0,0,0,1,2,0,2,4,4,3,2,8,2,2,2,0,0,0,0,0,0,0,0,1,2,0,0,2,1,1,2,3,1,0,0,0,0,0,0,0,0,0,0,0,0,0,2,2,3,2,0,5,1,2,2,0]
["Tamaulipas",0,0,0,0,1,0,2,1,1,2,7,12,16,10,17,10,10,24,21,0,0,0,0,0,0,0,1,1,0,1,1,9,5,5,6,4,4,9,0,0,0,0,0,0,1,0,1,0,1,1,6,3,11,5,11,6,6,15,21,0]
["Tlaxcala",0,0,0,0,0,0,0,0,0,0,0,0,0,0,1,2,2,5,5,0,0,0,0,0,0,0,0,0,0,0,0,0,0,0,1,2,2,5,0,0,0,0,0,0,0,0,0,0,0,0,0,0,0,0,0,0,0,0,5,0]
["Veracruz",0,0,0,0,0,3,2,5,6,8,9,13,16,19,22,17,29,23,15,0,0,0,0,0,0,2,0,2,4,4,3,9,10,5,13,7,10,13,0,0,0,0,0,0,0,1,2,3,2,4,6,4,6,14,9,10,19,10,15,0]
["Yucatán",0,0,0,0,3,1,1,2,2,4,6,13,9,8,14,5,17,19,8,0,0,0,0,0,3,1,1,1,1,4,4,5,5,4,7,2,10,7,0,0,0,0,0,0,0,0,0,1,1,0,2,8,4,4,7,3,7,12,8,0]
["Zacatecas",0,0,0,0,0,0,1,0,1,0,2,1,3,4,2,2,4,11,15,0,0,0,0,0,0,0,1,0,1,0,2,0,0,2,1,1,2,6,0,0,0,0,0,0,0,0,0,0,0,0,0,1,3,2,1,1,2,5,15,0]

{"sheet":"14T-GCM-R_Edad2022","index":116,"n_rows":34,"n_cols":61,"rows_kept":34,"cut":false,"hidden":true,"merged":[]}
[1,2,3,4,5,6,7,8,9,10,11,12,13,14,15,16,17,18,19,20,21,22,23,24,25,26,27,28,29,30,31,32,33,34,35,36,37,38,39,40,41,42,43,44,45,46,47,48,49,50,51,52,53,54,55,56,57,58,59,60,61]
["ESTADO","Menores de 1 año","1-4 años","5-9 años","10-14 años","15-19 años","20-24 años","25-29 años","30-34 años","35-39 años","40-44 años","45-49 años","50-54 años","55-59 años","60-64 años","65-69 años","70-74 años","75-79 años","80-84 años","85 años y más","No especificado","H Menores de 1 año","H 1-4 años","H 5-9 años","H 10-14 años","H 15-19 años","H 20-24 años","H 25-29 años","H 30-34 años","H 35-39 años","H 40-44 años","H 45-49 años","H 50-54 años","H 55-59 años","H 60-64 años","H 65-69 años","H 70-74 años","H 75-79 años","H 80-84 años","H 85 años y más","H No especificado","   M Menores de 1 año ","M 1-4 años","M 5-9 años","M 10-14 años","M 15-19 años","M 20-24 años","M 25-29 años","M 30-34 años","M 35-39 años","M 40-44 años","M 45-49 años","M 50-54 años","M 55-59 años","M 60-64 años","M 65-69 años","M 70-74 años","M 75-79 años","M 80-84 años","M 85 años y    ás","M No especificado"]
["Aguascalientes",0,0,0,0,0,0,0,0,0,0,4,4,2,5,6,3,5,13,4,0,0,0,0,0,0,0,0,0,0,0,4,1,0,1,3,2,1,1,4,0,0,0,0,0,0,0,0,0,0,0,0,3,2,4,3,1,4,12,0,0]
["Baja California",0,0,0,0,0,0,2,0,4,6,11,12,12,15,14,22,13,22,6,0,0,0,0,0,0,0,1,0,3,4,6,8,9,9,8,8,4,8,6,0,0,0,0,0,0,0,1,0,1,2,5,4,3,6,6,14,9,14,0,0]
["Baja California Sur",0,0,0,0,0,0,0,0,0,0,4,3,2,2,1,4,4,4,1,0,0,0,0,0,0,0,0,0,0,0,2,2,1,1,0,2,2,3,1,0,0,0,0,0,0,0,0,0,0,0,2,1,1,1,1,2,2,1,0,0]
["Campeche",0,0,0,0,0,0,0,0,0,0,5,2,2,3,4,3,3,3,5,0,0,0,0,0,0,0,0,0,0,0,4,1,0,1,1,1,1,2,5,0,0,0,0,0,0,0,0,0,0,0,1,1,2,2,3,2,2,1,0,0]
["Coahuila",1,0,0,0,1,1,0,1,2,5,7,9,20,14,14,10,12,21,9,0,0,0,0,0,0,1,0,1,1,0,3,4,7,9,6,6,3,7,9,0,1,0,0,0,1,0,0,0,1,5,4,5,13,5,8,4,9,14,0,0]
["Colima",0,0,0,0,0,0,0,0,1,5,4,1,4,8,3,3,8,8,2,0,0,0,0,0,0,0,0,0,1,3,0,0,2,4,1,2,5,3,2,0,0,0,0,0,0,0,0,0,0,2,4,1,2,4,2,1,3,5,0,0]
["Chiapas",1,3,0,0,0,0,1,2,0,4,1,3,5,10,6,10,9,14,7,0,1,1,0,0,0,0,1,0,0,1,1,2,1,6,3,5,2,6,7,0,0,2,0,0,0,0,0,2,0,3,0,1,4,4,3,5,7,8,0,0]
["Chihuahua",0,0,0,0,1,0,3,2,7,2,4,6,7,13,17,10,16,24,6,0,0,0,0,0,0,0,0,2,4,0,2,6,3,4,5,7,6,7,6,0,0,0,0,0,1,0,3,0,3,2,2,0,4,9,12,3,10,17,0,0]
["Ciudad de México",0,0,3,1,3,5,8,13,10,28,41,56,85,88,90,107,105,195,52,0,0,0,1,0,2,3,2,7,6,11,23,24,42,36,41,40,34,44,52,0,0,0,2,1,1,2,6,6,4,17,18,32,43,52,49,67,71,151,0,0]
["Durango",0,1,0,0,0,0,0,2,1,3,2,1,0,6,8,2,7,8,3,0,0,1,0,0,0,0,0,0,1,1,2,0,0,3,3,1,4,2,3,0,0,0,0,0,0,0,0,2,0,2,0,1,0,3,5,1,3,6,0,0]
["Guanajuato",0,1,0,0,0,1,1,3,3,2,4,7,12,14,21,15,26,35,10,0,0,0,0,0,0,0,0,1,3,0,1,6,8,8,12,4,9,7,10,0,0,1,0,0,0,1,1,2,0,2,3,1,4,6,9,11,17,28,0,0]
["Guerrero",1,0,0,0,0,0,0,0,0,4,5,6,5,3,4,6,2,9,6,0,0,0,0,0,0,0,0,0,0,1,1,2,3,2,4,4,0,3,6,0,1,0,0,0,0,0,0,0,0,3,4,4,2,1,0,2,2,6,0,0]
["Hidalgo",0,0,0,0,0,0,0,1,0,0,0,1,0,1,6,3,4,16,3,0,0,0,0,0,0,0,0,0,0,0,0,1,0,0,2,2,0,2,3,0,0,0,0,0,0,0,0,1,0,0,0,0,0,1,4,1,4,14,0,0]
["Jalisco",0,0,0,0,1,2,6,5,8,10,16,32,36,41,43,51,49,97,27,0,0,0,0,0,1,0,2,1,4,3,9,13,20,21,13,22,21,20,27,0,0,0,0,0,0,2,4,4,4,7,7,19,16,20,30,29,28,77,0,0]
["México",0,1,0,0,3,2,5,11,17,21,37,37,53,60,77,67,85,88,27,0,0,0,0,0,1,0,2,5,11,13,17,15,25,32,42,24,34,27,27,0,0,1,0,0,2,2,3,6,6,8,20,22,28,28,35,43,51,61,0,0]
["Michoacán",0,0,0,0,1,0,3,2,5,7,4,6,7,12,9,16,13,23,10,0,0,0,0,0,1,0,0,1,4,3,3,6,2,5,4,7,8,1,10,0,0,0,0,0,0,0,3,1,1,4,1,0,5,7,5,9,5,22,0,0]
["Morelos",0,0,0,1,0,0,2,2,2,7,4,4,13,9,11,11,6,14,7,0,0,0,0,0,0,0,1,1,0,3,1,2,4,4,6,7,5,4,7,0,0,0,0,1,0,0,1,1,2,4,3,2,9,5,5,4,1,10,0,0]
["Nayarit",0,1,0,0,0,0,0,0,0,0,1,3,6,6,8,9,6,9,4,0,0,1,0,0,0,0,0,0,0,0,0,0,6,2,5,5,3,3,4,0,0,0,0,0,0,0,0,0,0,0,1,3,0,4,3,4,3,6,0,0]
["Nuevo León",1,0,1,0,0,1,0,4,10,11,20,18,39,30,58,54,51,54,13,0,1,0,1,0,0,0,0,3,4,7,8,7,17,13,21,17,26,12,13,0,0,0,0,0,0,1,0,1,6,4,12,11,22,17,37,37,25,42,0,0]
["Oaxaca",1,0,1,0,0,0,0,0,2,3,2,3,5,3,6,6,11,20,6,0,0,0,1,0,0,0,0,0,1,2,2,1,2,1,3,2,6,4,6,0,1,0,0,0,0,0,0,0,1,1,0,2,3,2,3,4,5,16,0,0]
["Puebla",0,0,0,0,1,1,0,0,0,1,0,3,2,3,5,5,15,19,10,0,0,0,0,0,0,0,0,0,0,0,0,2,1,1,0,3,2,3,10,0,0,0,0,0,1,1,0,0,0,1,0,1,1,2,5,2,13,16,0,0]
["Querétaro",0,0,0,0,0,0,0,3,3,2,8,6,3,8,12,5,13,22,3,0,0,0,0,0,0,0,0,3,2,0,2,3,2,5,4,3,7,2,3,0,0,0,0,0,0,0,0,0,1,2,6,3,1,3,8,2,6,20,0,0]
["Quintana Roo",0,0,0,0,2,0,1,0,1,3,6,7,6,3,5,5,2,8,3,0,0,0,0,0,1,0,1,0,0,1,4,2,5,1,1,4,1,1,3,0,0,0,0,0,1,0,0,0,1,2,2,5,1,2,4,1,1,7,0,0]
["San Luis Potosí",0,0,1,0,1,1,1,1,2,2,5,4,3,5,5,10,8,14,9,0,0,0,0,0,0,0,1,0,2,0,1,1,1,3,3,2,5,2,9,0,0,0,1,0,1,1,0,1,0,2,4,3,2,2,2,8,3,12,0,0]
["Sinaloa",0,0,0,0,0,0,0,0,2,1,4,4,3,8,10,12,14,17,5,0,0,0,0,0,0,0,0,0,0,1,1,2,1,4,6,6,6,5,5,0,0,0,0,0,0,0,0,0,2,0,3,2,2,4,4,6,8,12,0,0]
["Sonora",0,0,0,0,0,2,0,2,3,2,3,4,10,16,20,17,26,19,8,0,0,0,0,0,0,1,0,1,0,1,2,2,4,4,10,9,10,7,8,0,0,0,0,0,0,1,0,1,3,1,1,2,6,12,10,8,16,12,0,0]
["Tabasco",1,1,0,0,0,1,1,0,1,1,6,1,3,4,6,1,2,4,6,0,0,0,0,0,0,0,1,0,1,1,2,0,1,2,1,1,1,0,6,0,1,1,0,0,0,1,0,0,0,0,4,1,2,2,5,0,1,4,0,0]
["Tamaulipas",0,0,0,0,0,1,0,5,3,7,8,8,7,12,16,16,18,22,5,0,0,0,0,0,0,0,0,1,2,4,2,2,2,7,9,9,7,9,5,0,0,0,0,0,0,1,0,4,1,3,6,6,5,5,7,7,11,13,0,0]
["Tlaxcala",0,0,0,1,0,1,0,1,0,1,0,0,1,1,0,0,3,4,1,0,0,0,0,1,0,0,0,1,0,0,0,0,1,0,0,0,2,1,1,0,0,0,0,0,0,1,0,0,0,1,0,0,0,1,0,0,1,3,0,0]
["Veracruz",1,2,0,0,1,1,1,6,9,7,8,22,39,28,35,37,35,43,12,0,1,2,0,0,1,0,1,1,3,3,1,9,18,10,10,10,14,12,12,0,0,0,0,0,0,1,0,5,6,4,7,13,21,18,25,27,21,31,0,0]
["Yucatán",0,0,0,0,0,0,1,1,1,2,4,12,8,8,15,13,25,17,6,0,0,0,0,0,0,0,0,1,1,1,2,3,3,4,6,5,10,5,6,0,0,0,0,0,0,0,1,0,0,1,2,9,5,4,9,8,15,12,0,0]
["Zacatecas",0,0,0,1,0,1,0,1,2,2,0,4,1,2,2,4,9,26,7,0,0,0,0,1,0,0,0,1,1,1,0,4,1,1,1,3,3,1,7,0,0,0,0,0,0,1,0,0,1,1,0,0,0,1,1,1,6,25,0,0]

{"sheet":"14 GCM-G_Edad","index":117,"n_rows":24,"n_cols":10,"rows_kept":24,"cut":false,"hidden":false,"merged":[[0,0,0,9]]}
["Enfermedades de la piel y del tejido subcutáneo"]
["SELECCIONE UNA ENTIDAD"]
["San Luis Potosí","2020","H - 2020","M - 2020","2021","H - 2021","M - 2021","2022","H - 2022","M - 2022"]
["Menores de 1 año",{"$f":"VLOOKUP($A$3,'14T-GCM-R_Edad2020 '!$A$2:$BI$34,2,0)","v":0},{"$f":"VLOOKUP($A$3,'14T-GCM-R_Edad2020 '!$A$2:$BI$34,22,0)","v":0},{"$f":"VLOOKUP($A$3,'14T-GCM-R_Edad2020 '!$A$2:$BI$34,42,0)","v":0},{"$f":"VLOOKUP($A$3,'14T-GCM-R_Edad2021'!$A$2:$BI$34,2,0)","v":0},{"$f":"VLOOKUP($A$3,'14T-GCM-R_Edad2021'!$A$2:$BI$34,22,0)","v":0},{"$f":"VLOOKUP($A$3,'14T-GCM-R_Edad2021'!$A$2:$BI$34,42,0)","v":0},{"$f":"VLOOKUP($A$3,'14T-GCM-R_Edad2022'!$A$2:$BI$34,2,0)","v":0},{"$f":"VLOOKUP($A$3,'14T-GCM-R_Edad2022'!$A$2:$BI$34,22,0)","v":0},{"$f":"VLOOKUP($A$3,'14T-GCM-R_Edad2022'!$A$2:$BI$34,42,0)","v":0}]
["1-4 años",{"$f":"VLOOKUP($A$3,'14T-GCM-R_Edad2020 '!$A$2:$BI$34,3,0)","v":0},{"$f":"VLOOKUP($A$3,'14T-GCM-R_Edad2020 '!$A$2:$BI$34,23,0)","v":0},{"$f":"VLOOKUP($A$3,'14T-GCM-R_Edad2020 '!$A$2:$BI$34,43,0)","v":0},{"$f":"VLOOKUP($A$3,'14T-GCM-R_Edad2021'!$A$2:$BI$34,3,0)","v":0},{"$f":"VLOOKUP($A$3,'14T-GCM-R_Edad2021'!$A$2:$BI$34,23,0)","v":0},{"$f":"VLOOKUP($A$3,'14T-GCM-R_Edad2021'!$A$2:$BI$34,43,0)","v":0},{"$f":"VLOOKUP($A$3,'14T-GCM-R_Edad2022'!$A$2:$BI$34,3,0)","v":0},{"$f":"VLOOKUP($A$3,'14T-GCM-R_Edad2022'!$A$2:$BI$34,23,0)","v":0},{"$f":"VLOOKUP($A$3,'14T-GCM-R_Edad2022'!$A$2:$BI$34,43,0)","v":0}]
["5-9 años",{"$f":"VLOOKUP($A$3,'14T-GCM-R_Edad2020 '!$A$2:$BI$34,4,0)","v":0},{"$f":"VLOOKUP($A$3,'14T-GCM-R_Edad2020 '!$A$2:$BI$34,24,0)","v":0},{"$f":"VLOOKUP($A$3,'14T-GCM-R_Edad2020 '!$A$2:$BI$34,44,0)","v":0},{"$f":"VLOOKUP($A$3,'14T-GCM-R_Edad2021'!$A$2:$BI$34,4,0)","v":0},{"$f":"VLOOKUP($A$3,'14T-GCM-R_Edad2021'!$A$2:$BI$34,24,0)","v":0},{"$f":"VLOOKUP($A$3,'14T-GCM-R_Edad2021'!$A$2:$BI$34,44,0)","v":0},{"$f":"VLOOKUP($A$3,'14T-GCM-R_Edad2022'!$A$2:$BI$34,4,0)","v":1},{"$f":"VLOOKUP($A$3,'14T-GCM-R_Edad2022'!$A$2:$BI$34,24,0)","v":0},{"$f":"VLOOKUP($A$3,'14T-GCM-R_Edad2022'!$A$2:$BI$34,44,0)","v":1}]
["10-14 años",{"$f":"VLOOKUP($A$3,'14T-GCM-R_Edad2020 '!$A$2:$BI$34,5,0)","v":0},{"$f":"VLOOKUP($A$3,'14T-GCM-R_Edad2020 '!$A$2:$BI$34,25,0)","v":0},{"$f":"VLOOKUP($A$3,'14T-GCM-R_Edad2020 '!$A$2:$BI$34,45,0)","v":0},{"$f":"VLOOKUP($A$3,'14T-GCM-R_Edad2021'!$A$2:$BI$34,5,0)","v":0},{"$f":"VLOOKUP($A$3,'14T-GCM-R_Edad2021'!$A$2:$BI$34,25,0)","v":0},{"$f":"VLOOKUP($A$3,'14T-GCM-R_Edad2021'!$A$2:$BI$34,45,0)","v":0},{"$f":"VLOOKUP($A$3,'14T-GCM-R_Edad2022'!$A$2:$BI$34,5,0)","v":0},{"$f":"VLOOKUP($A$3,'14T-GCM-R_Edad2022'!$A$2:$BI$34,25,0)","v":0},{"$f":"VLOOKUP($A$3,'14T-GCM-R_Edad2022'!$A$2:$BI$34,45,0)","v":0}]
["15-19 años",{"$f":"VLOOKUP($A$3,'14T-GCM-R_Edad2020 '!$A$2:$BI$34,6,0)","v":1},{"$f":"VLOOKUP($A$3,'14T-GCM-R_Edad2020 '!$A$2:$BI$34,26,0)","v":1},{"$f":"VLOOKUP($A$3,'14T-GCM-R_Edad2020 '!$A$2:$BI$34,46,0)","v":0},{"$f":"VLOOKUP($A$3,'14T-GCM-R_Edad2021'!$A$2:$BI$34,6,0)","v":0},{"$f":"VLOOKUP($A$3,'14T-GCM-R_Edad2021'!$A$2:$BI$34,26,0)","v":0},{"$f":"VLOOKUP($A$3,'14T-GCM-R_Edad2021'!$A$2:$BI$34,46,0)","v":0},{"$f":"VLOOKUP($A$3,'14T-GCM-R_Edad2022'!$A$2:$BI$34,6,0)","v":1},{"$f":"VLOOKUP($A$3,'14T-GCM-R_Edad2022'!$A$2:$BI$34,26,0)","v":0},{"$f":"VLOOKUP($A$3,'14T-GCM-R_Edad2022'!$A$2:$BI$34,46,0)","v":1}]
["20-24 años",{"$f":"VLOOKUP($A$3,'14T-GCM-R_Edad2020 '!$A$2:$BI$34,7,0)","v":1},{"$f":"VLOOKUP($A$3,'14T-GCM-R_Edad2020 '!$A$2:$BI$34,27,0)","v":1},{"$f":"VLOOKUP($A$3,'14T-GCM-R_Edad2020 '!$A$2:$BI$34,47,0)","v":0},{"$f":"VLOOKUP($A$3,'14T-GCM-R_Edad2021'!$A$2:$BI$34,7,0)","v":0},{"$f":"VLOOKUP($A$3,'14T-GCM-R_Edad2021'!$A$2:$BI$34,27,0)","v":0},{"$f":"VLOOKUP($A$3,'14T-GCM-R_Edad2021'!$A$2:$BI$34,47,0)","v":0},{"$f":"VLOOKUP($A$3,'14T-GCM-R_Edad2022'!$A$2:$BI$34,7,0)","v":1},{"$f":"VLOOKUP($A$3,'14T-GCM-R_Edad2022'!$A$2:$BI$34,27,0)","v":0},{"$f":"VLOOKUP($A$3,'14T-GCM-R_Edad2022'!$A$2:$BI$34,47,0)","v":1}]
["25-29 años",{"$f":"VLOOKUP($A$3,'14T-GCM-R_Edad2020 '!$A$2:$BI$34,8,0)","v":1},{"$f":"VLOOKUP($A$3,'14T-GCM-R_Edad2020 '!$A$2:$BI$34,28,0)","v":1},{"$f":"VLOOKUP($A$3,'14T-GCM-R_Edad2020 '!$A$2:$BI$34,48,0)","v":0},{"$f":"VLOOKUP($A$3,'14T-GCM-R_Edad2021'!$A$2:$BI$34,8,0)","v":2},{"$f":"VLOOKUP($A$3,'14T-GCM-R_Edad2021'!$A$2:$BI$34,28,0)","v":2},{"$f":"VLOOKUP($A$3,'14T-GCM-R_Edad2021'!$A$2:$BI$34,48,0)","v":0},{"$f":"VLOOKUP($A$3,'14T-GCM-R_Edad2022'!$A$2:$BI$34,8,0)","v":1},{"$f":"VLOOKUP($A$3,'14T-GCM-R_Edad2022'!$A$2:$BI$34,28,0)","v":1},{"$f":"VLOOKUP($A$3,'14T-GCM-R_Edad2022'!$A$2:$BI$34,48,0)","v":0}]
["30-34 años",{"$f":"VLOOKUP($A$3,'14T-GCM-R_Edad2020 '!$A$2:$BI$34,9,0)","v":0},{"$f":"VLOOKUP($A$3,'14T-GCM-R_Edad2020 '!$A$2:$BI$34,29,0)","v":0},{"$f":"VLOOKUP($A$3,'14T-GCM-R_Edad2020 '!$A$2:$BI$34,49,0)","v":0},{"$f":"VLOOKUP($A$3,'14T-GCM-R_Edad2021'!$A$2:$BI$34,9,0)","v":1},{"$f":"VLOOKUP($A$3,'14T-GCM-R_Edad2021'!$A$2:$BI$34,29,0)","v":0},{"$f":"VLOOKUP($A$3,'14T-GCM-R_Edad2021'!$A$2:$BI$34,49,0)","v":1},{"$f":"VLOOKUP($A$3,'14T-GCM-R_Edad2022'!$A$2:$BI$34,9,0)","v":1},{"$f":"VLOOKUP($A$3,'14T-GCM-R_Edad2022'!$A$2:$BI$34,29,0)","v":0},{"$f":"VLOOKUP($A$3,'14T-GCM-R_Edad2022'!$A$2:$BI$34,49,0)","v":1}]
["35-39 años",{"$f":"VLOOKUP($A$3,'14T-GCM-R_Edad2020 '!$A$2:$BI$34,10,0)","v":2},{"$f":"VLOOKUP($A$3,'14T-GCM-R_Edad2020 '!$A$2:$BI$34,30,0)","v":1},{"$f":"VLOOKUP($A$3,'14T-GCM-R_Edad2020 '!$A$2:$BI$34,50,0)","v":1},{"$f":"VLOOKUP($A$3,'14T-GCM-R_Edad2021'!$A$2:$BI$34,10,0)","v":3},{"$f":"VLOOKUP($A$3,'14T-GCM-R_Edad2021'!$A$2:$BI$34,30,0)","v":2},{"$f":"VLOOKUP($A$3,'14T-GCM-R_Edad2021'!$A$2:$BI$34,50,0)","v":1},{"$f":"VLOOKUP($A$3,'14T-GCM-R_Edad2022'!$A$2:$BI$34,10,0)","v":2},{"$f":"VLOOKUP($A$3,'14T-GCM-R_Edad2022'!$A$2:$BI$34,30,0)","v":2},{"$f":"VLOOKUP($A$3,'14T-GCM-R_Edad2022'!$A$2:$BI$34,50,0)","v":0}]
["40-44 años",{"$f":"VLOOKUP($A$3,'14T-GCM-R_Edad2020 '!$A$2:$BI$34,11,0)","v":1},{"$f":"VLOOKUP($A$3,'14T-GCM-R_Edad2020 '!$A$2:$BI$34,31,0)","v":0},{"$f":"VLOOKUP($A$3,'14T-GCM-R_Edad2020 '!$A$2:$BI$34,51,0)","v":1},{"$f":"VLOOKUP($A$3,'14T-GCM-R_Edad2021'!$A$2:$BI$34,11,0)","v":0},{"$f":"VLOOKUP($A$3,'14T-GCM-R_Edad2021'!$A$2:$BI$34,31,0)","v":0},{"$f":"VLOOKUP($A$3,'14T-GCM-R_Edad2021'!$A$2:$BI$34,51,0)","v":0},{"$f":"VLOOKUP($A$3,'14T-GCM-R_Edad2022'!$A$2:$BI$34,11,0)","v":2},{"$f":"VLOOKUP($A$3,'14T-GCM-R_Edad2022'!$A$2:$BI$34,31,0)","v":0},{"$f":"VLOOKUP($A$3,'14T-GCM-R_Edad2022'!$A$2:$BI$34,51,0)","v":2}]
["45-49 años",{"$f":"VLOOKUP($A$3,'14T-GCM-R_Edad2020 '!$A$2:$BI$34,12,0)","v":0},{"$f":"VLOOKUP($A$3,'14T-GCM-R_Edad2020 '!$A$2:$BI$34,32,0)","v":0},{"$f":"VLOOKUP($A$3,'14T-GCM-R_Edad2020 '!$A$2:$BI$34,52,0)","v":0},{"$f":"VLOOKUP($A$3,'14T-GCM-R_Edad2021'!$A$2:$BI$34,12,0)","v":2},{"$f":"VLOOKUP($A$3,'14T-GCM-R_Edad2021'!$A$2:$BI$34,32,0)","v":2},{"$f":"VLOOKUP($A$3,'14T-GCM-R_Edad2021'!$A$2:$BI$34,52,0)","v":0},{"$f":"VLOOKUP($A$3,'14T-GCM-R_Edad2022'!$A$2:$BI$34,12,0)","v":5},{"$f":"VLOOKUP($A$3,'14T-GCM-R_Edad2022'!$A$2:$BI$34,32,0)","v":1},{"$f":"VLOOKUP($A$3,'14T-GCM-R_Edad2022'!$A$2:$BI$34,52,0)","v":4}]
["50-54 años",{"$f":"VLOOKUP($A$3,'14T-GCM-R_Edad2020 '!$A$2:$BI$34,13,0)","v":4},{"$f":"VLOOKUP($A$3,'14T-GCM-R_Edad2020 '!$A$2:$BI$34,33,0)","v":4},{"$f":"VLOOKUP($A$3,'14T-GCM-R_Edad2020 '!$A$2:$BI$34,53,0)","v":0},{"$f":"VLOOKUP($A$3,'14T-GCM-R_Edad2021'!$A$2:$BI$34,13,0)","v":4},{"$f":"VLOOKUP($A$3,'14T-GCM-R_Edad2021'!$A$2:$BI$34,33,0)","v":2},{"$f":"VLOOKUP($A$3,'14T-GCM-R_Edad2021'!$A$2:$BI$34,53,0)","v":2},{"$f":"VLOOKUP($A$3,'14T-GCM-R_Edad2022'!$A$2:$BI$34,13,0)","v":4},{"$f":"VLOOKUP($A$3,'14T-GCM-R_Edad2022'!$A$2:$BI$34,33,0)","v":1},{"$f":"VLOOKUP($A$3,'14T-GCM-R_Edad2022'!$A$2:$BI$34,53,0)","v":3}]
["55-59 años",{"$f":"VLOOKUP($A$3,'14T-GCM-R_Edad2020 '!$A$2:$BI$34,14,0)","v":1},{"$f":"VLOOKUP($A$3,'14T-GCM-R_Edad2020 '!$A$2:$BI$34,34,0)","v":0},{"$f":"VLOOKUP($A$3,'14T-GCM-R_Edad2020 '!$A$2:$BI$34,54,0)","v":1},{"$f":"VLOOKUP($A$3,'14T-GCM-R_Edad2021'!$A$2:$BI$34,14,0)","v":6},{"$f":"VLOOKUP($A$3,'14T-GCM-R_Edad2021'!$A$2:$BI$34,34,0)","v":4},{"$f":"VLOOKUP($A$3,'14T-GCM-R_Edad2021'!$A$2:$BI$34,54,0)","v":2},{"$f":"VLOOKUP($A$3,'14T-GCM-R_Edad2022'!$A$2:$BI$34,14,0)","v":3},{"$f":"VLOOKUP($A$3,'14T-GCM-R_Edad2022'!$A$2:$BI$34,34,0)","v":1},{"$f":"VLOOKUP($A$3,'14T-GCM-R_Edad2022'!$A$2:$BI$34,54,0)","v":2}]
["60-64 años",{"$f":"VLOOKUP($A$3,'14T-GCM-R_Edad2020 '!$A$2:$BI$34,15,0)","v":5},{"$f":"VLOOKUP($A$3,'14T-GCM-R_Edad2020 '!$A$2:$BI$34,35,0)","v":4},{"$f":"VLOOKUP($A$3,'14T-GCM-R_Edad2020 '!$A$2:$BI$34,55,0)","v":1},{"$f":"VLOOKUP($A$3,'14T-GCM-R_Edad2021'!$A$2:$BI$34,15,0)","v":3},{"$f":"VLOOKUP($A$3,'14T-GCM-R_Edad2021'!$A$2:$BI$34,35,0)","v":1},{"$f":"VLOOKUP($A$3,'14T-GCM-R_Edad2021'!$A$2:$BI$34,55,0)","v":2},{"$f":"VLOOKUP($A$3,'14T-GCM-R_Edad2022'!$A$2:$BI$34,15,0)","v":5},{"$f":"VLOOKUP($A$3,'14T-GCM-R_Edad2022'!$A$2:$BI$34,35,0)","v":3},{"$f":"VLOOKUP($A$3,'14T-GCM-R_Edad2022'!$A$2:$BI$34,55,0)","v":2}]
["65-69 años",{"$f":"VLOOKUP($A$3,'14T-GCM-R_Edad2020 '!$A$2:$BI$34,16,0)","v":4},{"$f":"VLOOKUP($A$3,'14T-GCM-R_Edad2020 '!$A$2:$BI$34,36,0)","v":0},{"$f":"VLOOKUP($A$3,'14T-GCM-R_Edad2020 '!$A$2:$BI$34,56,0)","v":4},{"$f":"VLOOKUP($A$3,'14T-GCM-R_Edad2021'!$A$2:$BI$34,16,0)","v":4},{"$f":"VLOOKUP($A$3,'14T-GCM-R_Edad2021'!$A$2:$BI$34,36,0)","v":2},{"$f":"VLOOKUP($A$3,'14T-GCM-R_Edad2021'!$A$2:$BI$34,56,0)","v":2},{"$f":"VLOOKUP($A$3,'14T-GCM-R_Edad2022'!$A$2:$BI$34,16,0)","v":5},{"$f":"VLOOKUP($A$3,'14T-GCM-R_Edad2022'!$A$2:$BI$34,36,0)","v":3},{"$f":"VLOOKUP($A$3,'14T-GCM-R_Edad2022'!$A$2:$BI$34,56,0)","v":2}]
["70-74 años",{"$f":"VLOOKUP($A$3,'14T-GCM-R_Edad2020 '!$A$2:$BI$34,17,0)","v":10},{"$f":"VLOOKUP($A$3,'14T-GCM-R_Edad2020 '!$A$2:$BI$34,37,0)","v":4},{"$f":"VLOOKUP($A$3,'14T-GCM-R_Edad2020 '!$A$2:$BI$34,57,0)","v":6},{"$f":"VLOOKUP($A$3,'14T-GCM-R_Edad2021'!$A$2:$BI$34,17,0)","v":5},{"$f":"VLOOKUP($A$3,'14T-GCM-R_Edad2021'!$A$2:$BI$34,37,0)","v":4},{"$f":"VLOOKUP($A$3,'14T-GCM-R_Edad2021'!$A$2:$BI$34,57,0)","v":1},{"$f":"VLOOKUP($A$3,'14T-GCM-R_Edad2022'!$A$2:$BI$34,17,0)","v":10},{"$f":"VLOOKUP($A$3,'14T-GCM-R_Edad2022'!$A$2:$BI$34,37,0)","v":2},{"$f":"VLOOKUP($A$3,'14T-GCM-R_Edad2022'!$A$2:$BI$34,57,0)","v":8}]
["75-79 años",{"$f":"VLOOKUP($A$3,'14T-GCM-R_Edad2020 '!$A$2:$BI$34,18,0)","v":4},{"$f":"VLOOKUP($A$3,'14T-GCM-R_Edad2020 '!$A$2:$BI$34,38,0)","v":2},{"$f":"VLOOKUP($A$3,'14T-GCM-R_Edad2020 '!$A$2:$BI$34,58,0)","v":2},{"$f":"VLOOKUP($A$3,'14T-GCM-R_Edad2021'!$A$2:$BI$34,18,0)","v":7},{"$f":"VLOOKUP($A$3,'14T-GCM-R_Edad2021'!$A$2:$BI$34,38,0)","v":4},{"$f":"VLOOKUP($A$3,'14T-GCM-R_Edad2021'!$A$2:$BI$34,58,0)","v":3},{"$f":"VLOOKUP($A$3,'14T-GCM-R_Edad2022'!$A$2:$BI$34,18,0)","v":8},{"$f":"VLOOKUP($A$3,'14T-GCM-R_Edad2022'!$A$2:$BI$34,38,0)","v":5},{"$f":"VLOOKUP($A$3,'14T-GCM-R_Edad2022'!$A$2:$BI$34,58,0)","v":3}]
["80-84 años",{"$f":"VLOOKUP($A$3,'14T-GCM-R_Edad2020 '!$A$2:$BI$34,19,0)","v":16},{"$f":"VLOOKUP($A$3,'14T-GCM-R_Edad2020 '!$A$2:$BI$34,39,0)","v":9},{"$f":"VLOOKUP($A$3,'14T-GCM-R_Edad2020 '!$A$2:$BI$34,59,0)","v":7},{"$f":"VLOOKUP($A$3,'14T-GCM-R_Edad2021'!$A$2:$BI$34,19,0)","v":17},{"$f":"VLOOKUP($A$3,'14T-GCM-R_Edad2021'!$A$2:$BI$34,39,0)","v":10},{"$f":"VLOOKUP($A$3,'14T-GCM-R_Edad2021'!$A$2:$BI$34,59,0)","v":7},{"$f":"VLOOKUP($A$3,'14T-GCM-R_Edad2022'!$A$2:$BI$34,19,0)","v":14},{"$f":"VLOOKUP($A$3,'14T-GCM-R_Edad2022'!$A$2:$BI$34,39,0)","v":2},{"$f":"VLOOKUP($A$3,'14T-GCM-R_Edad2022'!$A$2:$BI$34,59,0)","v":12}]
["85 años y más",{"$f":"VLOOKUP($A$3,'14T-GCM-R_Edad2020 '!$A$2:$BI$34,20,0)","v":17},{"$f":"VLOOKUP($A$3,'14T-GCM-R_Edad2020 '!$A$2:$BI$34,40,0)","v":0},{"$f":"VLOOKUP($A$3,'14T-GCM-R_Edad2020 '!$A$2:$BI$34,60,0)","v":17},{"$f":"VLOOKUP($A$3,'14T-GCM-R_Edad2021'!$A$2:$BI$34,20,0)","v":9},{"$f":"VLOOKUP($A$3,'14T-GCM-R_Edad2021'!$A$2:$BI$34,40,0)","v":0},{"$f":"VLOOKUP($A$3,'14T-GCM-R_Edad2021'!$A$2:$BI$34,60,0)","v":9},{"$f":"VLOOKUP($A$3,'14T-GCM-R_Edad2022'!$A$2:$BI$34,20,0)","v":9},{"$f":"VLOOKUP($A$3,'14T-GCM-R_Edad2022'!$A$2:$BI$34,40,0)","v":9},{"$f":"VLOOKUP($A$3,'14T-GCM-R_Edad2022'!$A$2:$BI$34,60,0)","v":0}]
["No especificado",{"$f":"VLOOKUP($A$3,'14T-GCM-R_Edad2020 '!$A$2:$BI$34,21,0)","v":0},{"$f":"VLOOKUP($A$3,'14T-GCM-R_Edad2020 '!$A$2:$BI$34,41,0)","v":0},{"$f":"VLOOKUP($A$3,'14T-GCM-R_Edad2020 '!$A$2:$BI$34,61,0)","v":0},{"$f":"VLOOKUP($A$3,'14T-GCM-R_Edad2021'!$A$2:$BI$34,21,0)","v":0},{"$f":"VLOOKUP($A$3,'14T-GCM-R_Edad2021'!$A$2:$BI$34,41,0)","v":0},{"$f":"VLOOKUP($A$3,'14T-GCM-R_Edad2021'!$A$2:$BI$34,61,0)","v":0},{"$f":"VLOOKUP($A$3,'14T-GCM-R_Edad2022'!$A$2:$BI$34,21,0)","v":0},{"$f":"VLOOKUP($A$3,'14T-GCM-R_Edad2022'!$A$2:$BI$34,41,0)","v":0},{"$f":"VLOOKUP($A$3,'14T-GCM-R_Edad2022'!$A$2:$BI$34,61,0)","v":0}]
["Total",{"$f":"SUM(B4:B23)","v":67},27,40,63,33,30,72,30,42]

{"sheet":"15T-GCM-R_Edad2020 ","index":118,"n_rows":34,"n_cols":61,"rows_kept":34,"cut":false,"hidden":true,"merged":[]}
[1,2,3,4,5,6,7,8,9,10,11,12,13,14,15,16,17,18,19,20,21,22,23,24,25,26,27,28,29,30,31,32,33,34,35,36,37,38,39,40,41,42,43,44,45,46,47,48,49,50,51,52,53,54,55,56,57,58,59,60,61]
["ESTADO","Menores de 1 año","1-4 años","5-9 años","10-14 años","15-19 años","20-24 años","25-29 años","30-34 años","35-39 años","40-44 años","45-49 años","50-54 años","55-59 años","60-64 años","65-69 años","70-74 años","75-79 años","80-84 años","85 años y más","No especificado","H Menores de 1 año","H 1-4 años","H 5-9 años","H 10-14 años","H 15-19 años","H 20-24 años","H 25-29 años","H 30-34 años","H 35-39 años","H 40-44 años","H 45-49 años","H 50-54 años","H 55-59 años","H 60-64 años","H 65-69 años","H 70-74 años","H 75-79 años","H 80-84 años","H 85 años y más","H No especificado","M Menores de 1 año","M 1-4 años","M 5-9 años","M 10-14 años","M 15-19 años","M 20-24 años","M 25-29 años","M 30-34 años","M 35-39 años","M 40-44 años","M 45-49 años","M 50-54 años","M 55-59 años","M 60-64 años","M 65-69 años","M 70-74 años","M 75-79 años","M 80-84 años","M 85 años y    ás","M No especificado"]
["Aguascalientes",0,0,0,0,1,4,0,0,0,2,3,2,2,2,8,6,7,4,16,0,0,0,0,0,1,2,0,0,0,0,1,1,1,1,2,2,3,1,3,0,0,0,0,0,0,2,0,0,0,2,2,1,1,1,6,4,4,3,13,0]
["Baja California",1,1,1,3,5,6,3,5,6,9,12,5,13,13,16,11,10,12,26,0,0,0,1,1,2,3,1,2,2,2,5,2,3,5,7,4,0,3,4,0,1,1,0,2,3,3,2,3,4,7,7,3,10,8,9,7,10,9,22,0]
["Baja California Sur",0,0,0,1,0,0,0,0,1,0,0,3,1,2,6,1,2,2,3,0,0,0,0,0,0,0,0,0,1,0,0,1,1,0,3,0,2,2,0,0,0,0,0,1,0,0,0,0,0,0,0,2,0,2,3,1,0,0,3,0]
["Campeche",0,0,0,0,0,0,2,0,0,1,2,4,1,0,4,1,1,0,3,0,0,0,0,0,0,0,0,0,0,0,0,2,0,0,0,0,1,0,0,0,0,0,0,0,0,0,2,0,0,1,2,2,1,0,4,1,0,0,3,0]
["Coahuila",0,0,0,1,1,1,3,2,1,6,6,9,10,9,13,15,11,9,14,0,0,0,0,0,0,0,1,0,0,3,1,1,3,1,4,7,2,5,2,0,0,0,0,1,1,1,2,2,1,3,5,8,7,8,9,8,9,4,12,0]
["Colima",0,0,0,0,1,0,0,1,0,0,4,1,3,1,4,3,1,4,2,0,0,0,0,0,1,0,0,1,0,0,1,0,1,0,2,3,0,2,0,0,0,0,0,0,0,0,0,0,0,0,3,1,2,1,2,0,1,2,2,0]
["Chiapas",0,0,1,0,5,7,2,5,6,7,10,8,12,13,5,19,15,23,37,0,0,0,0,0,1,0,0,1,0,3,4,2,2,3,2,11,7,7,19,0,0,0,1,0,4,7,2,4,6,4,6,6,10,10,3,8,8,16,18,0]
["Chihuahua",0,0,0,1,1,1,6,3,7,3,7,14,15,14,18,20,12,18,13,0,0,0,0,0,0,0,1,2,4,0,1,4,5,4,6,5,4,8,3,0,0,0,0,1,1,1,5,1,3,3,6,10,10,10,12,15,8,10,10,0]
["Ciudad de México",1,2,1,4,14,12,14,11,33,25,33,49,28,64,70,63,73,56,140,0,0,2,0,2,3,2,2,1,5,13,11,14,9,22,18,17,16,19,32,0,1,0,1,2,11,10,12,10,28,12,22,35,19,42,52,46,57,37,108,0]
["Durango",0,0,1,0,0,2,1,1,2,4,5,3,4,5,8,6,7,8,7,0,0,0,0,0,0,0,0,0,1,1,1,2,0,1,6,1,2,3,4,0,0,0,1,0,0,2,1,1,1,3,4,1,4,4,2,5,5,5,3,0]
["Guanajuato",0,0,0,0,8,7,5,11,7,12,8,20,13,13,15,15,19,30,36,1,0,0,0,0,2,1,3,4,1,2,3,8,8,4,5,6,9,10,15,0,0,0,0,0,6,6,2,7,6,10,5,12,5,9,10,9,10,20,21,1]
["Guerrero",0,0,0,1,2,3,2,2,4,2,7,4,13,5,8,10,15,15,33,0,0,0,0,0,0,0,0,0,1,1,1,2,7,2,5,6,3,9,10,0,0,0,0,1,2,3,2,2,3,1,6,2,6,3,3,4,12,6,23,0]
["Hidalgo",0,0,0,0,1,3,4,2,4,4,9,4,6,5,8,10,13,15,35,0,0,0,0,0,0,2,2,0,0,1,1,0,5,2,3,3,5,5,13,0,0,0,0,0,1,1,2,2,4,3,8,4,1,3,5,7,8,10,22,0]
["Jalisco",0,3,2,4,8,5,13,11,13,21,23,22,22,27,32,33,47,37,82,0,0,1,1,2,2,1,5,2,1,6,7,4,7,10,16,13,19,16,24,0,0,2,1,2,6,4,8,9,12,15,16,18,15,17,16,20,28,21,58,0]
["México",0,1,1,1,5,14,14,12,21,33,32,39,46,47,48,62,64,74,171,0,0,1,0,0,1,7,3,3,6,11,12,15,15,17,18,21,24,38,45,0,0,0,1,1,4,7,11,9,15,22,20,24,31,30,30,41,40,36,126,0]
["Michoacán",0,0,0,0,1,3,3,4,5,7,11,11,8,8,16,15,23,16,54,0,0,0,0,0,0,0,1,1,2,2,3,2,2,2,5,1,11,3,20,0,0,0,0,0,1,3,2,3,3,5,8,9,6,6,11,14,12,13,34,0]
["Morelos",0,0,0,0,0,1,1,1,2,3,3,9,5,5,10,5,8,7,25,0,0,0,0,0,0,0,1,1,0,2,0,3,0,1,3,1,4,4,10,0,0,0,0,0,0,1,0,0,2,1,3,6,5,4,7,4,4,3,15,0]
["Nayarit",0,0,0,0,1,1,1,0,2,0,1,1,1,3,8,6,3,4,13,0,0,0,0,0,0,0,1,0,0,0,0,0,0,3,3,0,2,3,2,0,0,0,0,0,1,1,0,0,2,0,1,1,1,0,5,6,1,1,11,0]
["Nuevo León",0,1,2,1,5,1,12,10,7,12,11,13,20,21,18,29,23,39,68,0,0,1,1,0,1,0,4,2,2,5,6,6,4,7,6,10,4,14,25,0,0,0,1,1,4,1,8,8,5,7,5,7,16,14,12,19,19,25,43,0]
["Oaxaca",0,1,0,1,3,5,5,4,2,6,9,10,8,8,12,21,25,28,57,0,0,0,0,0,2,2,0,2,0,3,3,2,1,4,4,5,9,10,27,0,0,1,0,1,1,3,5,2,2,3,6,8,7,4,8,16,16,18,30,0]
["Puebla",0,1,1,3,9,6,3,5,8,4,14,10,14,28,27,29,35,55,134,0,0,0,1,0,2,0,0,0,1,1,3,3,5,10,6,15,18,15,36,0,0,1,0,3,7,6,3,5,7,3,11,7,9,18,21,14,17,40,98,0]
["Querétaro",0,0,2,1,1,6,0,5,0,4,5,5,3,6,8,8,7,5,22,0,0,0,1,0,0,1,0,1,0,2,1,2,1,3,3,1,4,0,5,0,0,0,1,1,1,5,0,4,0,2,4,3,2,3,5,7,3,5,17,0]
["Quintana Roo",0,0,0,0,0,1,1,1,1,0,3,3,6,5,6,3,1,2,2,0,0,0,0,0,0,0,0,0,0,0,1,0,2,3,3,2,0,1,0,0,0,0,0,0,0,1,1,1,1,0,2,3,4,2,3,1,1,1,2,0]
["San Luis Potosí",0,0,0,0,3,0,2,0,3,6,5,7,5,11,11,15,14,12,22,0,0,0,0,0,0,0,0,0,0,0,1,4,0,6,0,3,4,4,8,0,0,0,0,0,3,0,2,0,3,6,4,3,5,5,11,12,10,8,14,0]
["Sinaloa",0,1,0,0,0,3,0,1,3,5,6,10,8,10,16,14,13,23,39,0,0,1,0,0,0,0,0,0,1,1,2,3,5,7,5,4,4,10,16,0,0,0,0,0,0,3,0,1,2,4,4,7,3,3,11,10,9,13,23,0]
["Sonora",0,0,0,0,2,4,2,4,2,8,6,9,9,12,13,7,14,14,16,1,0,0,0,0,1,1,1,1,1,3,1,1,4,6,6,3,2,3,4,1,0,0,0,0,1,3,1,3,1,5,5,8,5,6,7,4,12,11,12,0]
["Tabasco",0,0,0,0,2,4,2,4,4,4,4,6,6,6,7,7,11,3,9,0,0,0,0,0,1,0,1,1,0,0,2,1,0,2,1,3,4,2,5,0,0,0,0,0,1,4,1,3,4,4,2,5,6,4,6,4,7,1,4,0]
["Tamaulipas",0,1,0,0,2,3,4,1,8,6,7,7,10,7,15,9,8,10,15,1,0,1,0,0,2,1,1,1,4,3,1,3,4,3,4,5,5,3,2,1,0,0,0,0,0,2,3,0,4,3,6,4,6,4,11,4,3,7,13,0]
["Tlaxcala",0,0,0,0,1,2,2,3,3,3,4,2,6,2,1,2,9,4,10,0,0,0,0,0,0,0,0,1,0,0,2,1,2,1,0,2,3,1,4,0,0,0,0,0,1,2,2,2,3,3,2,1,4,1,1,0,6,3,6,0]
["Veracruz",3,1,0,2,4,6,5,8,7,7,11,23,19,30,31,39,18,41,56,0,2,1,0,1,0,1,1,2,3,2,4,6,5,16,14,17,6,15,25,0,1,0,0,1,4,5,4,6,4,5,7,17,14,14,17,22,12,26,31,0]
["Yucatán",0,0,0,2,0,3,1,2,7,10,3,5,1,8,5,6,8,7,18,0,0,0,0,0,0,2,0,1,1,7,1,2,0,3,1,1,2,5,5,0,0,0,0,2,0,1,1,1,6,3,2,3,1,5,4,5,6,2,13,0]
["Zacatecas",0,0,0,2,1,2,1,0,2,6,8,2,10,5,6,12,10,14,23,0,0,0,0,0,1,0,0,0,1,0,1,0,1,1,3,6,5,9,6,0,0,0,0,2,0,2,1,0,1,6,7,2,9,4,3,6,5,5,17,0]

{"sheet":"15T-GCM-R_Edad2021","index":119,"n_rows":34,"n_cols":61,"rows_kept":34,"cut":false,"hidden":true,"merged":[]}
[1,2,3,4,5,6,7,8,9,10,11,12,13,14,15,16,17,18,19,20,21,22,23,24,25,26,27,28,29,30,31,32,33,34,35,36,37,38,39,40,41,42,43,44,45,46,47,48,49,50,51,52,53,54,55,56,57,58,59,60,61]
["ESTADO","Menores de 1 año","1-4 años","5-9 años","10-14 años","15-19 años","20-24 años","25-29 años","30-34 años","35-39 años","40-44 años","45-49 años","50-54 años","55-59 años","60-64 años","65-69 años","70-74 años","75-79 años","80-84 años","85 años y más","No especificado","H Menores de 1 año","H 1-4 años","H 5-9 años","H 10-14 años","H 15-19 años","H 20-24 años","H 25-29 años","H 30-34 años","H 35-39 años","H 40-44 años","H 45-49 años","H 50-54 años","H 55-59 años","H 60-64 años","H 65-69 años","H 70-74 años","H 75-79 años","H 80-84 años","H 85 años y más","H No especificado","   M Menores de 1 año ","M 1-4 años","M 5-9 años","M 10-14 años","M 15-19 años","M 20-24 años","M 25-29 años","M 30-34 años","M 35-39 años","M 40-44 años","M 45-49 años","M 50-54 años","M 55-59 años","M 60-64 años","M 65-69 años","M 70-74 años","M 75-79 años","M 80-84 años","M 85 años y    ás","M No especificado"]
["Aguascalientes",0,0,0,0,2,1,1,1,2,3,5,2,9,3,7,0,4,8,8,0,0,0,0,0,1,0,1,0,1,2,3,0,4,3,4,0,1,3,0,0,0,0,0,0,1,1,0,1,1,1,2,2,5,0,3,0,3,5,8,0]
["Baja California",1,1,0,2,3,5,1,6,5,13,8,13,10,8,13,8,9,7,5,0,0,0,0,2,1,0,0,0,3,10,2,7,2,3,4,4,1,1,2,0,1,1,0,0,2,5,1,6,2,3,6,6,8,5,9,4,8,6,3,0]
["Baja California Sur",0,0,0,1,1,0,1,0,2,1,1,2,2,3,4,3,3,0,2,0,0,0,0,1,0,0,1,0,1,0,0,1,0,1,1,0,1,0,0,0,0,0,0,0,1,0,0,0,1,1,1,1,2,2,3,3,2,0,2,0]
["Campeche",0,0,0,0,1,0,2,2,4,2,3,4,1,3,2,3,1,4,3,0,0,0,0,0,0,0,0,1,2,0,2,0,1,1,2,1,0,2,0,0,0,0,0,0,1,0,2,1,2,2,1,4,0,2,0,2,1,2,3,0]
["Coahuila",0,0,0,0,0,3,3,3,6,6,4,6,15,14,13,15,8,12,6,0,0,0,0,0,0,0,2,2,3,2,0,2,4,3,3,6,3,5,0,0,0,0,0,0,0,3,1,1,3,4,4,4,11,11,10,9,5,7,6,0]
["Colima",0,0,0,0,0,1,0,1,0,0,0,0,2,2,3,3,2,4,6,0,0,0,0,0,0,0,0,0,0,0,0,0,1,0,1,1,0,1,0,0,0,0,0,0,0,1,0,1,0,0,0,0,1,2,2,2,2,3,6,0]
["Chiapas",0,0,1,2,6,6,5,3,7,8,12,8,13,7,15,15,19,15,20,0,0,0,0,1,1,0,3,1,3,3,4,2,7,2,5,7,9,7,0,0,0,0,1,1,5,6,2,2,4,5,8,6,6,5,10,8,10,8,20,0]
["Chihuahua",0,0,0,1,4,1,2,1,3,5,7,9,11,12,16,9,10,9,6,0,0,0,0,0,1,0,0,1,0,2,4,3,5,3,5,3,6,1,0,0,0,0,0,1,3,1,2,0,3,3,3,6,6,9,11,6,4,8,6,0]
["Ciudad de México",1,1,2,11,7,15,22,26,26,33,40,46,64,87,78,72,62,92,121,0,0,1,2,6,4,8,4,13,8,10,21,15,23,23,26,27,23,55,0,0,1,0,0,5,3,7,18,13,18,23,19,31,41,64,52,45,39,37,121,0]
["Durango",0,0,1,0,2,1,2,1,3,3,5,1,8,3,7,6,6,19,3,0,0,0,1,0,2,1,0,0,2,3,2,1,2,0,2,2,1,9,0,0,0,0,0,0,0,0,2,1,1,0,3,0,6,3,5,4,5,10,3,0]
["Guanajuato",1,0,2,2,1,5,8,4,5,12,10,13,12,26,24,11,20,25,22,0,0,0,1,1,0,2,2,1,3,5,4,7,4,10,9,4,8,11,0,0,1,0,1,1,1,3,6,3,2,7,6,6,8,16,15,7,12,14,22,0]
["Guerrero",0,1,0,1,0,0,1,4,3,2,7,3,10,13,9,10,15,14,12,0,0,0,0,0,0,0,0,0,1,1,1,0,3,3,4,5,5,6,0,0,0,1,0,1,0,0,1,4,2,1,6,3,7,10,5,5,10,8,12,0]
["Hidalgo",0,0,0,0,0,1,2,3,5,5,7,6,12,9,11,11,9,12,15,0,0,0,0,0,0,0,0,2,2,2,3,1,3,3,4,4,6,5,0,0,0,0,0,0,0,1,2,1,3,3,4,5,9,6,7,7,3,7,15,0]
["Jalisco",0,0,1,5,6,2,6,8,6,21,24,28,36,26,48,42,38,49,44,0,0,0,1,1,1,0,3,3,2,10,9,15,17,10,17,12,14,24,0,0,0,0,0,4,5,2,3,5,4,11,15,13,19,16,31,30,24,25,44,0]
["México",0,1,2,7,5,12,14,22,26,28,45,45,46,55,44,63,59,111,128,0,0,0,1,3,2,4,5,8,7,14,14,13,13,24,23,27,20,70,0,0,0,1,1,4,3,8,9,14,19,14,31,32,33,31,21,36,39,41,128,0]
["Michoacán",2,0,0,2,2,4,3,6,8,16,9,21,11,15,18,25,27,41,32,0,1,0,0,1,2,0,1,2,5,7,3,10,3,4,5,5,8,24,0,0,1,0,0,1,0,4,2,4,3,9,6,11,8,11,13,20,19,17,32,0]
["Morelos",0,0,0,1,1,3,3,2,3,7,3,6,6,7,13,5,7,11,11,0,0,0,0,0,1,2,1,1,0,2,0,1,3,1,2,3,4,6,0,0,0,0,0,1,0,1,2,1,3,5,3,5,3,6,11,2,3,5,11,0]
["Nayarit",0,0,0,1,0,0,0,1,1,3,4,6,2,6,5,5,3,10,6,0,0,0,0,1,0,0,0,0,0,0,1,2,1,5,2,2,1,2,0,0,0,0,0,0,0,0,0,1,1,3,3,4,1,1,3,3,2,8,6,0]
["Nuevo León",1,0,2,0,4,4,7,4,12,8,10,15,18,23,20,25,25,29,33,0,1,0,2,0,1,2,1,1,6,2,2,8,6,8,10,8,15,13,0,0,0,0,0,0,3,2,6,3,6,6,8,7,12,15,10,17,10,16,33,0]
["Oaxaca",1,0,0,0,0,1,3,1,9,5,11,11,11,10,21,32,38,52,49,0,0,0,0,0,0,0,2,0,2,3,6,2,4,4,11,13,17,30,0,0,1,0,0,0,0,1,1,1,7,2,5,9,7,6,10,19,21,22,49,0]
["Puebla",1,1,0,3,2,6,4,8,4,9,18,16,17,28,37,36,44,77,92,0,1,1,0,2,0,1,2,2,1,2,11,6,6,14,16,21,20,48,0,0,0,0,0,1,2,5,2,6,3,7,7,10,11,14,21,15,24,29,92,0]
["Querétaro",0,0,1,0,1,3,1,3,6,4,8,7,8,11,9,14,10,15,19,0,0,0,1,0,1,0,1,0,1,1,3,1,2,6,2,10,6,5,0,0,0,0,0,0,0,3,0,3,5,3,5,6,6,5,7,4,4,10,19,0]
["Quintana Roo",0,0,0,1,2,2,2,2,3,2,4,5,6,5,3,2,4,3,3,0,0,0,0,1,1,1,1,0,1,1,3,1,2,0,2,0,0,0,0,0,0,0,0,0,1,1,1,2,2,1,1,4,4,5,1,2,4,3,3,0]
["San Luis Potosí",0,0,0,1,1,4,4,3,7,4,8,7,14,12,14,12,12,10,12,0,0,0,0,0,0,0,2,0,2,2,3,2,5,3,4,5,5,7,0,0,0,0,0,1,1,4,2,3,5,2,5,5,9,9,10,7,7,3,12,0]
["Sinaloa",1,0,0,0,0,1,0,2,7,3,5,9,10,11,16,9,14,16,23,0,1,0,0,0,0,0,0,1,1,0,1,6,2,3,6,1,8,8,0,0,0,0,0,0,0,1,0,1,6,3,4,3,8,8,10,8,6,8,23,0]
["Sonora",0,0,0,0,0,2,2,6,4,9,3,5,11,10,7,10,6,7,7,0,0,0,0,0,0,0,1,1,4,5,2,1,4,4,2,4,2,1,0,0,0,0,0,0,0,2,1,5,0,4,1,4,7,6,5,6,4,6,7,0]
["Tabasco",0,0,0,1,1,1,3,4,5,4,3,9,6,5,5,7,7,6,1,0,0,0,0,0,0,0,1,1,1,0,0,1,2,3,3,2,2,3,0,0,0,0,0,1,1,1,2,3,4,4,3,8,4,2,2,5,5,3,1,0]
["Tamaulipas",0,0,0,2,0,2,3,3,4,5,2,9,14,10,9,9,7,9,8,0,0,0,0,2,0,0,1,1,3,2,0,4,5,2,2,3,4,7,0,0,0,0,0,0,0,2,2,2,1,3,2,5,9,8,7,6,3,2,8,0]
["Tlaxcala",0,0,0,1,0,3,1,3,1,1,0,4,6,5,4,5,5,2,4,0,0,0,0,1,0,1,0,1,1,0,0,0,3,2,2,2,2,0,0,0,0,0,0,0,0,2,1,2,0,1,0,4,3,3,2,3,3,2,4,0]
["Veracruz",0,0,2,1,3,5,5,10,16,16,15,21,26,24,31,33,41,43,44,0,0,0,1,1,1,0,2,3,3,6,7,9,8,9,17,17,16,22,0,0,0,0,1,0,2,5,3,7,13,10,8,12,18,15,14,16,25,21,44,0]
["Yucatán",0,0,0,2,3,2,2,5,5,3,2,6,14,11,8,9,8,9,6,0,0,0,0,0,1,0,0,1,1,2,1,3,3,4,6,6,4,5,0,0,0,0,0,2,2,2,2,4,4,1,1,3,11,7,2,3,4,4,6,0]
["Zacatecas",0,0,0,0,0,1,2,1,5,2,5,3,13,3,8,15,17,27,14,0,0,0,0,0,0,1,0,0,2,1,3,1,3,2,2,7,6,17,0,0,0,0,0,0,0,0,2,1,3,1,2,2,10,1,6,8,11,10,14,0]

{"sheet":"15T-GCM-R_Edad2022","index":120,"n_rows":34,"n_cols":61,"rows_kept":34,"cut":false,"hidden":true,"merged":[]}
[1,2,3,4,5,6,7,8,9,10,11,12,13,14,15,16,17,18,19,20,21,22,23,24,25,26,27,28,29,30,31,32,33,34,35,36,37,38,39,40,41,42,43,44,45,46,47,48,49,50,51,52,53,54,55,56,57,58,59,60,61]
["ESTADO","Menores de 1 año","1-4 años","5-9 años","10-14 años","15-19 años","20-24 años","25-29 años","30-34 años","35-39 años","40-44 años","45-49 años","50-54 años","55-59 años","60-64 años","65-69 años","70-74 años","75-79 años","80-84 años","85 años y más","No especificado","H Menores de 1 año","H 1-4 años","H 5-9 años","H 10-14 años","H 15-19 años","H 20-24 años","H 25-29 años","H 30-34 años","H 35-39 años","H 40-44 años","H 45-49 años","H 50-54 años","H 55-59 años","H 60-64 años","H 65-69 años","H 70-74 años","H 75-79 años","H 80-84 años","H 85 años y más","H No especificado","   M Menores de 1 año ","M 1-4 años","M 5-9 años","M 10-14 años","M 15-19 años","M 20-24 años","M 25-29 años","M 30-34 años","M 35-39 años","M 40-44 años","M 45-49 años","M 50-54 años","M 55-59 años","M 60-64 años","M 65-69 años","M 70-74 años","M 75-79 años","M 80-84 años","M 85 años y    ás","M No especificado"]
["Aguascalientes",0,0,0,0,0,1,1,0,4,1,4,5,6,4,5,5,6,3,11,0,0,0,0,0,0,1,0,0,1,0,2,1,2,1,2,2,3,0,3,0,0,0,0,0,0,0,1,0,3,1,2,4,4,3,3,3,3,3,8,0]
["Baja California",0,0,0,0,1,4,3,4,5,10,12,13,9,15,10,16,9,9,10,1,0,0,0,0,1,0,1,2,2,5,2,4,5,5,5,4,5,4,2,1,0,0,0,0,0,4,2,2,3,5,10,9,4,10,5,12,4,5,8,0]
["Baja California Sur",0,0,0,1,1,0,1,0,0,4,0,4,0,3,2,2,1,1,1,0,0,0,0,0,0,0,1,0,0,1,0,1,0,1,0,0,1,0,0,0,0,0,0,1,1,0,0,0,0,3,0,3,0,2,2,2,0,1,1,0]
["Campeche",0,0,0,1,1,0,1,1,2,1,1,1,3,5,2,3,2,3,2,0,0,0,0,1,0,0,0,0,0,0,1,0,1,4,1,0,1,0,0,0,0,0,0,0,1,0,1,1,2,1,0,1,2,1,1,3,1,3,2,0]
["Coahuila",0,0,0,1,3,2,3,5,3,10,8,7,15,12,13,19,11,12,21,0,0,0,0,0,1,1,0,4,3,4,1,3,4,2,5,5,6,3,4,0,0,0,0,1,2,1,3,1,0,6,7,4,11,10,8,14,5,9,17,0]
["Colima",0,0,0,0,0,0,2,0,0,1,0,1,4,1,5,4,5,1,7,0,0,0,0,0,0,0,1,0,0,1,0,1,2,1,2,4,1,0,2,0,0,0,0,0,0,0,1,0,0,0,0,0,2,0,3,0,4,1,5,0]
["Chiapas",0,0,0,1,4,1,2,7,4,2,8,7,14,14,17,9,7,12,31,0,0,0,0,0,1,0,0,5,0,1,2,2,8,7,5,6,3,4,16,0,0,0,0,1,3,1,2,2,4,1,6,5,6,7,12,3,4,8,15,0]
["Chihuahua",0,0,0,1,2,3,0,5,5,4,10,12,14,13,5,19,14,18,18,0,0,0,0,0,0,1,0,1,2,0,5,7,7,5,2,7,6,10,6,0,0,0,0,1,2,2,0,4,3,4,5,5,7,8,3,12,8,8,12,0]
["Ciudad de México",0,1,1,6,9,11,11,25,29,31,44,58,68,74,71,81,94,78,169,0,0,0,0,1,1,3,3,9,7,8,12,20,22,23,19,25,34,26,39,0,0,1,1,5,8,8,8,16,22,23,32,38,46,51,52,56,60,52,130,0]
["Durango",0,0,0,0,1,1,2,5,4,2,5,4,4,3,10,5,5,7,6,0,0,0,0,0,0,0,0,1,2,0,2,0,2,2,3,2,1,2,2,0,0,0,0,0,1,1,2,4,2,2,3,4,2,1,7,3,4,5,4,0]
["Guanajuato",0,1,0,3,8,5,4,3,10,10,7,14,24,15,19,20,23,15,31,0,0,1,0,0,1,2,2,0,3,1,0,5,8,3,4,11,9,6,9,0,0,0,0,3,7,3,2,3,7,9,7,9,16,12,15,9,14,9,22,0]
["Guerrero",0,0,0,0,1,1,5,3,5,5,7,4,5,12,8,9,10,9,26,0,0,0,0,0,0,1,2,0,1,3,2,1,0,3,0,4,7,4,11,0,0,0,0,0,1,0,3,3,4,2,5,3,5,9,8,5,3,5,15,0]
["Hidalgo",0,0,0,1,0,1,0,1,2,7,6,5,6,7,11,7,18,13,23,0,0,0,0,1,0,0,0,0,0,3,4,1,1,3,4,4,8,5,7,0,0,0,0,0,0,1,0,1,2,4,2,4,5,4,7,3,10,8,16,0]
["Jalisco",0,0,0,1,6,5,13,8,6,15,16,23,23,33,52,31,42,30,67,0,0,0,0,0,0,0,5,1,3,9,7,12,10,12,16,11,19,4,18,0,0,0,0,1,6,5,8,7,3,6,9,11,13,21,36,20,23,26,49,0]
["México",0,0,0,1,5,7,17,14,20,25,41,34,57,54,56,58,46,63,172,0,0,0,0,0,2,1,5,2,7,13,10,13,16,17,17,21,17,21,47,0,0,0,0,1,3,6,12,12,13,12,31,21,41,37,39,37,29,42,125,0]
["Michoacán",0,0,0,3,4,4,4,2,8,9,8,11,12,15,16,23,19,17,60,0,0,0,0,2,2,1,1,0,5,3,4,1,5,7,4,12,7,6,18,0,0,0,0,1,2,3,3,2,3,6,4,10,7,8,12,11,12,11,42,0]
["Morelos",0,0,1,0,3,0,3,2,2,3,3,6,7,2,9,12,7,8,14,0,0,0,0,0,0,0,2,1,0,2,3,2,2,2,2,3,3,3,3,0,0,0,1,0,3,0,1,1,2,1,0,4,5,0,7,9,4,5,11,0]
["Nayarit",0,0,2,0,0,3,2,0,3,1,4,5,5,6,6,5,11,10,10,0,0,0,2,0,0,1,0,0,0,0,3,1,0,5,4,1,5,2,4,0,0,0,0,0,0,2,2,0,3,1,1,4,5,1,2,4,6,8,6,0]
["Nuevo León",1,0,0,0,2,3,8,8,6,9,21,15,25,22,19,23,21,22,58,0,1,0,0,0,0,1,1,2,2,3,7,6,10,7,9,7,5,11,16,0,0,0,0,0,2,2,7,6,4,6,14,9,15,15,10,16,16,11,42,0]
["Oaxaca",0,0,0,2,1,0,1,3,5,9,5,9,10,16,17,19,21,33,81,0,0,0,0,1,1,0,0,0,1,3,3,3,5,3,6,6,9,14,35,0,0,0,0,1,0,0,1,3,4,6,2,6,5,13,11,13,12,19,46,0]
["Puebla",0,1,1,1,0,5,3,5,7,10,14,15,18,21,20,31,52,41,116,0,0,1,0,0,0,1,0,1,3,3,8,6,5,5,6,10,18,17,40,0,0,0,1,1,0,4,3,4,4,7,6,9,13,16,14,21,34,24,76,0]
["Querétaro",1,0,1,0,1,0,4,3,3,0,6,9,12,15,6,15,12,17,59,0,0,0,1,0,0,0,0,2,1,0,1,3,6,8,4,4,7,12,25,0,1,0,0,0,1,0,4,1,2,0,5,6,6,7,2,11,5,5,34,0]
["Quintana Roo",0,0,0,0,0,0,1,1,2,3,8,3,6,3,1,5,10,6,4,0,0,0,0,0,0,0,0,1,0,1,5,1,5,0,1,1,3,2,2,0,0,0,0,0,0,0,1,0,2,2,3,2,1,3,0,4,7,4,2,0]
["San Luis Potosí",0,0,0,1,0,6,3,0,5,8,3,2,4,9,10,9,14,9,15,0,0,0,0,0,0,1,1,0,2,2,3,2,2,4,3,1,6,3,3,0,0,0,0,1,0,5,2,0,3,6,0,0,2,5,7,8,8,6,12,0]
["Sinaloa",1,0,1,1,1,3,2,2,4,5,7,3,10,4,12,13,19,20,28,0,1,0,0,0,1,0,0,1,1,2,1,1,6,2,4,3,6,9,13,0,0,0,1,1,0,3,2,1,3,3,6,2,4,2,8,10,13,11,15,0]
["Sonora",0,0,0,0,0,6,1,2,6,8,6,13,17,11,8,17,11,7,13,0,0,0,0,0,0,1,0,2,3,6,4,6,5,6,5,2,4,4,1,0,0,0,0,0,0,5,1,0,3,2,2,7,12,5,3,15,7,3,12,0]
["Tabasco",0,0,1,3,1,0,1,4,1,3,3,3,7,2,11,3,3,6,4,0,0,0,0,1,0,0,0,1,1,0,0,0,3,2,4,1,1,2,1,0,0,0,1,2,1,0,1,3,0,3,3,3,4,0,7,2,2,4,3,0]
["Tamaulipas",0,1,0,0,3,2,2,7,5,1,1,6,6,12,10,7,9,6,21,0,0,0,0,0,1,1,0,4,0,0,1,1,1,7,4,3,2,0,7,0,0,1,0,0,2,1,2,3,5,1,0,5,5,5,6,4,7,6,14,0]
["Tlaxcala",0,0,1,1,2,2,1,0,2,2,3,1,1,4,5,2,3,6,4,0,0,0,1,0,0,1,0,0,0,0,1,0,0,3,0,0,1,1,1,0,0,0,0,1,2,1,1,0,2,2,2,1,1,1,5,2,2,5,3,0]
["Veracruz",0,0,0,3,3,4,8,6,9,6,18,21,21,26,24,30,23,31,66,1,0,0,0,1,0,1,2,3,3,3,5,5,2,6,17,19,10,15,16,0,0,0,0,2,3,3,6,3,6,3,13,16,19,20,7,11,13,16,50,1]
["Yucatán",1,0,1,1,2,5,3,0,4,8,3,4,4,7,7,5,6,6,12,0,1,0,0,1,0,1,1,0,2,0,2,1,0,2,2,2,3,1,5,0,0,0,1,0,2,4,2,0,2,8,1,3,4,5,5,3,3,5,7,0]
["Zacatecas",0,0,1,1,0,1,2,2,3,4,3,3,9,4,4,11,18,7,29,0,0,0,0,1,0,0,1,0,1,1,2,0,5,1,1,2,5,1,9,0,0,0,1,0,0,1,1,2,2,3,1,3,4,3,3,9,13,6,20,0]

{"sheet":"15 GCM-G_Edad","index":121,"n_rows":24,"n_cols":10,"rows_kept":24,"cut":false,"hidden":false,"merged":[[0,0,0,9]]}
[" Enfermedades del sistema osteomuscular\ny del tejido conjuntivo"]
["SELECCIONE UNA ENTIDAD"]
["Hidalgo","2020","H - 2020","M - 2020","2021","H - 2021","M - 2021","2022","H - 2022","M - 2022"]
["Menores de 1 año",{"$f":"VLOOKUP($A$3,'15T-GCM-R_Edad2020 '!$A$2:$BI$34,2,0)","v":0},{"$f":"VLOOKUP($A$3,'15T-GCM-R_Edad2020 '!$A$2:$BI$34,22,0)","v":0},{"$f":"VLOOKUP($A$3,'15T-GCM-R_Edad2020 '!$A$2:$BI$34,42,0)","v":0},{"$f":"VLOOKUP($A$3,'15T-GCM-R_Edad2021'!$A$2:$BI$34,2,0)","v":0},{"$f":"VLOOKUP($A$3,'15T-GCM-R_Edad2021'!$A$2:$BI$34,22,0)","v":0},{"$f":"VLOOKUP($A$3,'15T-GCM-R_Edad2021'!$A$2:$BI$34,42,0)","v":0},{"$f":"VLOOKUP($A$3,'15T-GCM-R_Edad2022'!$A$2:$BI$34,2,0)","v":0},{"$f":"VLOOKUP($A$3,'15T-GCM-R_Edad2022'!$A$2:$BI$34,22,0)","v":0},{"$f":"VLOOKUP($A$3,'15T-GCM-R_Edad2022'!$A$2:$BI$34,42,0)","v":0}]
["1-4 años",{"$f":"VLOOKUP($A$3,'15T-GCM-R_Edad2020 '!$A$2:$BI$34,3,0)","v":0},{"$f":"VLOOKUP($A$3,'15T-GCM-R_Edad2020 '!$A$2:$BI$34,23,0)","v":0},{"$f":"VLOOKUP($A$3,'15T-GCM-R_Edad2020 '!$A$2:$BI$34,43,0)","v":0},{"$f":"VLOOKUP($A$3,'15T-GCM-R_Edad2021'!$A$2:$BI$34,3,0)","v":0},{"$f":"VLOOKUP($A$3,'15T-GCM-R_Edad2021'!$A$2:$BI$34,23,0)","v":0},{"$f":"VLOOKUP($A$3,'15T-GCM-R_Edad2021'!$A$2:$BI$34,43,0)","v":0},{"$f":"VLOOKUP($A$3,'15T-GCM-R_Edad2022'!$A$2:$BI$34,3,0)","v":0},{"$f":"VLOOKUP($A$3,'15T-GCM-R_Edad2022'!$A$2:$BI$34,23,0)","v":0},{"$f":"VLOOKUP($A$3,'15T-GCM-R_Edad2022'!$A$2:$BI$34,43,0)","v":0}]
["5-9 años",{"$f":"VLOOKUP($A$3,'15T-GCM-R_Edad2020 '!$A$2:$BI$34,4,0)","v":0},{"$f":"VLOOKUP($A$3,'15T-GCM-R_Edad2020 '!$A$2:$BI$34,24,0)","v":0},{"$f":"VLOOKUP($A$3,'15T-GCM-R_Edad2020 '!$A$2:$BI$34,44,0)","v":0},{"$f":"VLOOKUP($A$3,'15T-GCM-R_Edad2021'!$A$2:$BI$34,4,0)","v":0},{"$f":"VLOOKUP($A$3,'15T-GCM-R_Edad2021'!$A$2:$BI$34,24,0)","v":0},{"$f":"VLOOKUP($A$3,'15T-GCM-R_Edad2021'!$A$2:$BI$34,44,0)","v":0},{"$f":"VLOOKUP($A$3,'15T-GCM-R_Edad2022'!$A$2:$BI$34,4,0)","v":0},{"$f":"VLOOKUP($A$3,'15T-GCM-R_Edad2022'!$A$2:$BI$34,24,0)","v":0},{"$f":"VLOOKUP($A$3,'15T-GCM-R_Edad2022'!$A$2:$BI$34,44,0)","v":0}]
["10-14 años",{"$f":"VLOOKUP($A$3,'15T-GCM-R_Edad2020 '!$A$2:$BI$34,5,0)","v":0},{"$f":"VLOOKUP($A$3,'15T-GCM-R_Edad2020 '!$A$2:$BI$34,25,0)","v":0},{"$f":"VLOOKUP($A$3,'15T-GCM-R_Edad2020 '!$A$2:$BI$34,45,0)","v":0},{"$f":"VLOOKUP($A$3,'15T-GCM-R_Edad2021'!$A$2:$BI$34,5,0)","v":0},{"$f":"VLOOKUP($A$3,'15T-GCM-R_Edad2021'!$A$2:$BI$34,25,0)","v":0},{"$f":"VLOOKUP($A$3,'15T-GCM-R_Edad2021'!$A$2:$BI$34,45,0)","v":0},{"$f":"VLOOKUP($A$3,'15T-GCM-R_Edad2022'!$A$2:$BI$34,5,0)","v":1},{"$f":"VLOOKUP($A$3,'15T-GCM-R_Edad2022'!$A$2:$BI$34,25,0)","v":1},{"$f":"VLOOKUP($A$3,'15T-GCM-R_Edad2022'!$A$2:$BI$34,45,0)","v":0}]
["15-19 años",{"$f":"VLOOKUP($A$3,'15T-GCM-R_Edad2020 '!$A$2:$BI$34,6,0)","v":1},{"$f":"VLOOKUP($A$3,'15T-GCM-R_Edad2020 '!$A$2:$BI$34,26,0)","v":0},{"$f":"VLOOKUP($A$3,'15T-GCM-R_Edad2020 '!$A$2:$BI$34,46,0)","v":1},{"$f":"VLOOKUP($A$3,'15T-GCM-R_Edad2021'!$A$2:$BI$34,6,0)","v":0},{"$f":"VLOOKUP($A$3,'15T-GCM-R_Edad2021'!$A$2:$BI$34,26,0)","v":0},{"$f":"VLOOKUP($A$3,'15T-GCM-R_Edad2021'!$A$2:$BI$34,46,0)","v":0},{"$f":"VLOOKUP($A$3,'15T-GCM-R_Edad2022'!$A$2:$BI$34,6,0)","v":0},{"$f":"VLOOKUP($A$3,'15T-GCM-R_Edad2022'!$A$2:$BI$34,26,0)","v":0},{"$f":"VLOOKUP($A$3,'15T-GCM-R_Edad2022'!$A$2:$BI$34,46,0)","v":0}]
["20-24 años",{"$f":"VLOOKUP($A$3,'15T-GCM-R_Edad2020 '!$A$2:$BI$34,7,0)","v":3},{"$f":"VLOOKUP($A$3,'15T-GCM-R_Edad2020 '!$A$2:$BI$34,27,0)","v":2},{"$f":"VLOOKUP($A$3,'15T-GCM-R_Edad2020 '!$A$2:$BI$34,47,0)","v":1},{"$f":"VLOOKUP($A$3,'15T-GCM-R_Edad2021'!$A$2:$BI$34,7,0)","v":1},{"$f":"VLOOKUP($A$3,'15T-GCM-R_Edad2021'!$A$2:$BI$34,27,0)","v":0},{"$f":"VLOOKUP($A$3,'15T-GCM-R_Edad2021'!$A$2:$BI$34,47,0)","v":1},{"$f":"VLOOKUP($A$3,'15T-GCM-R_Edad2022'!$A$2:$BI$34,7,0)","v":1},{"$f":"VLOOKUP($A$3,'15T-GCM-R_Edad2022'!$A$2:$BI$34,27,0)","v":0},{"$f":"VLOOKUP($A$3,'15T-GCM-R_Edad2022'!$A$2:$BI$34,47,0)","v":1}]
["25-29 años",{"$f":"VLOOKUP($A$3,'15T-GCM-R_Edad2020 '!$A$2:$BI$34,8,0)","v":4},{"$f":"VLOOKUP($A$3,'15T-GCM-R_Edad2020 '!$A$2:$BI$34,28,0)","v":2},{"$f":"VLOOKUP($A$3,'15T-GCM-R_Edad2020 '!$A$2:$BI$34,48,0)","v":2},{"$f":"VLOOKUP($A$3,'15T-GCM-R_Edad2021'!$A$2:$BI$34,8,0)","v":2},{"$f":"VLOOKUP($A$3,'15T-GCM-R_Edad2021'!$A$2:$BI$34,28,0)","v":0},{"$f":"VLOOKUP($A$3,'15T-GCM-R_Edad2021'!$A$2:$BI$34,48,0)","v":2},{"$f":"VLOOKUP($A$3,'15T-GCM-R_Edad2022'!$A$2:$BI$34,8,0)","v":0},{"$f":"VLOOKUP($A$3,'15T-GCM-R_Edad2022'!$A$2:$BI$34,28,0)","v":0},{"$f":"VLOOKUP($A$3,'15T-GCM-R_Edad2022'!$A$2:$BI$34,48,0)","v":0}]
["30-34 años",{"$f":"VLOOKUP($A$3,'15T-GCM-R_Edad2020 '!$A$2:$BI$34,9,0)","v":2},{"$f":"VLOOKUP($A$3,'15T-GCM-R_Edad2020 '!$A$2:$BI$34,29,0)","v":0},{"$f":"VLOOKUP($A$3,'15T-GCM-R_Edad2020 '!$A$2:$BI$34,49,0)","v":2},{"$f":"VLOOKUP($A$3,'15T-GCM-R_Edad2021'!$A$2:$BI$34,9,0)","v":3},{"$f":"VLOOKUP($A$3,'15T-GCM-R_Edad2021'!$A$2:$BI$34,29,0)","v":2},{"$f":"VLOOKUP($A$3,'15T-GCM-R_Edad2021'!$A$2:$BI$34,49,0)","v":1},{"$f":"VLOOKUP($A$3,'15T-GCM-R_Edad2022'!$A$2:$BI$34,9,0)","v":1},{"$f":"VLOOKUP($A$3,'15T-GCM-R_Edad2022'!$A$2:$BI$34,29,0)","v":0},{"$f":"VLOOKUP($A$3,'15T-GCM-R_Edad2022'!$A$2:$BI$34,49,0)","v":1}]
["35-39 años",{"$f":"VLOOKUP($A$3,'15T-GCM-R_Edad2020 '!$A$2:$BI$34,10,0)","v":4},{"$f":"VLOOKUP($A$3,'15T-GCM-R_Edad2020 '!$A$2:$BI$34,30,0)","v":0},{"$f":"VLOOKUP($A$3,'15T-GCM-R_Edad2020 '!$A$2:$BI$34,50,0)","v":4},{"$f":"VLOOKUP($A$3,'15T-GCM-R_Edad2021'!$A$2:$BI$34,10,0)","v":5},{"$f":"VLOOKUP($A$3,'15T-GCM-R_Edad2021'!$A$2:$BI$34,30,0)","v":2},{"$f":"VLOOKUP($A$3,'15T-GCM-R_Edad2021'!$A$2:$BI$34,50,0)","v":3},{"$f":"VLOOKUP($A$3,'15T-GCM-R_Edad2022'!$A$2:$BI$34,10,0)","v":2},{"$f":"VLOOKUP($A$3,'15T-GCM-R_Edad2022'!$A$2:$BI$34,30,0)","v":0},{"$f":"VLOOKUP($A$3,'15T-GCM-R_Edad2022'!$A$2:$BI$34,50,0)","v":2}]
["40-44 años",{"$f":"VLOOKUP($A$3,'15T-GCM-R_Edad2020 '!$A$2:$BI$34,11,0)","v":4},{"$f":"VLOOKUP($A$3,'15T-GCM-R_Edad2020 '!$A$2:$BI$34,31,0)","v":1},{"$f":"VLOOKUP($A$3,'15T-GCM-R_Edad2020 '!$A$2:$BI$34,51,0)","v":3},{"$f":"VLOOKUP($A$3,'15T-GCM-R_Edad2021'!$A$2:$BI$34,11,0)","v":5},{"$f":"VLOOKUP($A$3,'15T-GCM-R_Edad2021'!$A$2:$BI$34,31,0)","v":2},{"$f":"VLOOKUP($A$3,'15T-GCM-R_Edad2021'!$A$2:$BI$34,51,0)","v":3},{"$f":"VLOOKUP($A$3,'15T-GCM-R_Edad2022'!$A$2:$BI$34,11,0)","v":7},{"$f":"VLOOKUP($A$3,'15T-GCM-R_Edad2022'!$A$2:$BI$34,31,0)","v":3},{"$f":"VLOOKUP($A$3,'15T-GCM-R_Edad2022'!$A$2:$BI$34,51,0)","v":4}]
["45-49 años",{"$f":"VLOOKUP($A$3,'15T-GCM-R_Edad2020 '!$A$2:$BI$34,12,0)","v":9},{"$f":"VLOOKUP($A$3,'15T-GCM-R_Edad2020 '!$A$2:$BI$34,32,0)","v":1},{"$f":"VLOOKUP($A$3,'15T-GCM-R_Edad2020 '!$A$2:$BI$34,52,0)","v":8},{"$f":"VLOOKUP($A$3,'15T-GCM-R_Edad2021'!$A$2:$BI$34,12,0)","v":7},{"$f":"VLOOKUP($A$3,'15T-GCM-R_Edad2021'!$A$2:$BI$34,32,0)","v":3},{"$f":"VLOOKUP($A$3,'15T-GCM-R_Edad2021'!$A$2:$BI$34,52,0)","v":4},{"$f":"VLOOKUP($A$3,'15T-GCM-R_Edad2022'!$A$2:$BI$34,12,0)","v":6},{"$f":"VLOOKUP($A$3,'15T-GCM-R_Edad2022'!$A$2:$BI$34,32,0)","v":4},{"$f":"VLOOKUP($A$3,'15T-GCM-R_Edad2022'!$A$2:$BI$34,52,0)","v":2}]
["50-54 años",{"$f":"VLOOKUP($A$3,'15T-GCM-R_Edad2020 '!$A$2:$BI$34,13,0)","v":4},{"$f":"VLOOKUP($A$3,'15T-GCM-R_Edad2020 '!$A$2:$BI$34,33,0)","v":0},{"$f":"VLOOKUP($A$3,'15T-GCM-R_Edad2020 '!$A$2:$BI$34,53,0)","v":4},{"$f":"VLOOKUP($A$3,'15T-GCM-R_Edad2021'!$A$2:$BI$34,13,0)","v":6},{"$f":"VLOOKUP($A$3,'15T-GCM-R_Edad2021'!$A$2:$BI$34,33,0)","v":1},{"$f":"VLOOKUP($A$3,'15T-GCM-R_Edad2021'!$A$2:$BI$34,53,0)","v":5},{"$f":"VLOOKUP($A$3,'15T-GCM-R_Edad2022'!$A$2:$BI$34,13,0)","v":5},{"$f":"VLOOKUP($A$3,'15T-GCM-R_Edad2022'!$A$2:$BI$34,33,0)","v":1},{"$f":"VLOOKUP($A$3,'15T-GCM-R_Edad2022'!$A$2:$BI$34,53,0)","v":4}]
["55-59 años",{"$f":"VLOOKUP($A$3,'15T-GCM-R_Edad2020 '!$A$2:$BI$34,14,0)","v":6},{"$f":"VLOOKUP($A$3,'15T-GCM-R_Edad2020 '!$A$2:$BI$34,34,0)","v":5},{"$f":"VLOOKUP($A$3,'15T-GCM-R_Edad2020 '!$A$2:$BI$34,54,0)","v":1},{"$f":"VLOOKUP($A$3,'15T-GCM-R_Edad2021'!$A$2:$BI$34,14,0)","v":12},{"$f":"VLOOKUP($A$3,'15T-GCM-R_Edad2021'!$A$2:$BI$34,34,0)","v":3},{"$f":"VLOOKUP($A$3,'15T-GCM-R_Edad2021'!$A$2:$BI$34,54,0)","v":9},{"$f":"VLOOKUP($A$3,'15T-GCM-R_Edad2022'!$A$2:$BI$34,14,0)","v":6},{"$f":"VLOOKUP($A$3,'15T-GCM-R_Edad2022'!$A$2:$BI$34,34,0)","v":1},{"$f":"VLOOKUP($A$3,'15T-GCM-R_Edad2022'!$A$2:$BI$34,54,0)","v":5}]
["60-64 años",{"$f":"VLOOKUP($A$3,'15T-GCM-R_Edad2020 '!$A$2:$BI$34,15,0)","v":5},{"$f":"VLOOKUP($A$3,'15T-GCM-R_Edad2020 '!$A$2:$BI$34,35,0)","v":2},{"$f":"VLOOKUP($A$3,'15T-GCM-R_Edad2020 '!$A$2:$BI$34,55,0)","v":3},{"$f":"VLOOKUP($A$3,'15T-GCM-R_Edad2021'!$A$2:$BI$34,15,0)","v":9},{"$f":"VLOOKUP($A$3,'15T-GCM-R_Edad2021'!$A$2:$BI$34,35,0)","v":3},{"$f":"VLOOKUP($A$3,'15T-GCM-R_Edad2021'!$A$2:$BI$34,55,0)","v":6},{"$f":"VLOOKUP($A$3,'15T-GCM-R_Edad2022'!$A$2:$BI$34,15,0)","v":7},{"$f":"VLOOKUP($A$3,'15T-GCM-R_Edad2022'!$A$2:$BI$34,35,0)","v":3},{"$f":"VLOOKUP($A$3,'15T-GCM-R_Edad2022'!$A$2:$BI$34,55,0)","v":4}]
["65-69 años",{"$f":"VLOOKUP($A$3,'15T-GCM-R_Edad2020 '!$A$2:$BI$34,16,0)","v":8},{"$f":"VLOOKUP($A$3,'15T-GCM-R_Edad2020 '!$A$2:$BI$34,36,0)","v":3},{"$f":"VLOOKUP($A$3,'15T-GCM-R_Edad2020 '!$A$2:$BI$34,56,0)","v":5},{"$f":"VLOOKUP($A$3,'15T-GCM-R_Edad2021'!$A$2:$BI$34,16,0)","v":11},{"$f":"VLOOKUP($A$3,'15T-GCM-R_Edad2021'!$A$2:$BI$34,36,0)","v":4},{"$f":"VLOOKUP($A$3,'15T-GCM-R_Edad2021'!$A$2:$BI$34,56,0)","v":7},{"$f":"VLOOKUP($A$3,'15T-GCM-R_Edad2022'!$A$2:$BI$34,16,0)","v":11},{"$f":"VLOOKUP($A$3,'15T-GCM-R_Edad2022'!$A$2:$BI$34,36,0)","v":4},{"$f":"VLOOKUP($A$3,'15T-GCM-R_Edad2022'!$A$2:$BI$34,56,0)","v":7}]
["70-74 años",{"$f":"VLOOKUP($A$3,'15T-GCM-R_Edad2020 '!$A$2:$BI$34,17,0)","v":10},{"$f":"VLOOKUP($A$3,'15T-GCM-R_Edad2020 '!$A$2:$BI$34,37,0)","v":3},{"$f":"VLOOKUP($A$3,'15T-GCM-R_Edad2020 '!$A$2:$BI$34,57,0)","v":7},{"$f":"VLOOKUP($A$3,'15T-GCM-R_Edad2021'!$A$2:$BI$34,17,0)","v":11},{"$f":"VLOOKUP($A$3,'15T-GCM-R_Edad2021'!$A$2:$BI$34,37,0)","v":4},{"$f":"VLOOKUP($A$3,'15T-GCM-R_Edad2021'!$A$2:$BI$34,57,0)","v":7},{"$f":"VLOOKUP($A$3,'15T-GCM-R_Edad2022'!$A$2:$BI$34,17,0)","v":7},{"$f":"VLOOKUP($A$3,'15T-GCM-R_Edad2022'!$A$2:$BI$34,37,0)","v":4},{"$f":"VLOOKUP($A$3,'15T-GCM-R_Edad2022'!$A$2:$BI$34,57,0)","v":3}]
["75-79 años",{"$f":"VLOOKUP($A$3,'15T-GCM-R_Edad2020 '!$A$2:$BI$34,18,0)","v":13},{"$f":"VLOOKUP($A$3,'15T-GCM-R_Edad2020 '!$A$2:$BI$34,38,0)","v":5},{"$f":"VLOOKUP($A$3,'15T-GCM-R_Edad2020 '!$A$2:$BI$34,58,0)","v":8},{"$f":"VLOOKUP($A$3,'15T-GCM-R_Edad2021'!$A$2:$BI$34,18,0)","v":9},{"$f":"VLOOKUP($A$3,'15T-GCM-R_Edad2021'!$A$2:$BI$34,38,0)","v":6},{"$f":"VLOOKUP($A$3,'15T-GCM-R_Edad2021'!$A$2:$BI$34,58,0)","v":3},{"$f":"VLOOKUP($A$3,'15T-GCM-R_Edad2022'!$A$2:$BI$34,18,0)","v":18},{"$f":"VLOOKUP($A$3,'15T-GCM-R_Edad2022'!$A$2:$BI$34,38,0)","v":8},{"$f":"VLOOKUP($A$3,'15T-GCM-R_Edad2022'!$A$2:$BI$34,58,0)","v":10}]
["80-84 años",{"$f":"VLOOKUP($A$3,'15T-GCM-R_Edad2020 '!$A$2:$BI$34,19,0)","v":15},{"$f":"VLOOKUP($A$3,'15T-GCM-R_Edad2020 '!$A$2:$BI$34,39,0)","v":5},{"$f":"VLOOKUP($A$3,'15T-GCM-R_Edad2020 '!$A$2:$BI$34,59,0)","v":10},{"$f":"VLOOKUP($A$3,'15T-GCM-R_Edad2021'!$A$2:$BI$34,19,0)","v":12},{"$f":"VLOOKUP($A$3,'15T-GCM-R_Edad2021'!$A$2:$BI$34,39,0)","v":5},{"$f":"VLOOKUP($A$3,'15T-GCM-R_Edad2021'!$A$2:$BI$34,59,0)","v":7},{"$f":"VLOOKUP($A$3,'15T-GCM-R_Edad2022'!$A$2:$BI$34,19,0)","v":13},{"$f":"VLOOKUP($A$3,'15T-GCM-R_Edad2022'!$A$2:$BI$34,39,0)","v":5},{"$f":"VLOOKUP($A$3,'15T-GCM-R_Edad2022'!$A$2:$BI$34,59,0)","v":8}]
["85 años y más",{"$f":"VLOOKUP($A$3,'15T-GCM-R_Edad2020 '!$A$2:$BI$34,20,0)","v":35},{"$f":"VLOOKUP($A$3,'15T-GCM-R_Edad2020 '!$A$2:$BI$34,40,0)","v":13},{"$f":"VLOOKUP($A$3,'15T-GCM-R_Edad2020 '!$A$2:$BI$34,60,0)","v":22},{"$f":"VLOOKUP($A$3,'15T-GCM-R_Edad2021'!$A$2:$BI$34,20,0)","v":15},{"$f":"VLOOKUP($A$3,'15T-GCM-R_Edad2021'!$A$2:$BI$34,40,0)","v":0},{"$f":"VLOOKUP($A$3,'15T-GCM-R_Edad2021'!$A$2:$BI$34,60,0)","v":15},{"$f":"VLOOKUP($A$3,'15T-GCM-R_Edad2022'!$A$2:$BI$34,20,0)","v":23},{"$f":"VLOOKUP($A$3,'15T-GCM-R_Edad2022'!$A$2:$BI$34,40,0)","v":7},{"$f":"VLOOKUP($A$3,'15T-GCM-R_Edad2022'!$A$2:$BI$34,60,0)","v":16}]
["No especificado",{"$f":"VLOOKUP($A$3,'15T-GCM-R_Edad2020 '!$A$2:$BI$34,21,0)","v":0},{"$f":"VLOOKUP($A$3,'15T-GCM-R_Edad2020 '!$A$2:$BI$34,41,0)","v":0},{"$f":"VLOOKUP($A$3,'15T-GCM-R_Edad2020 '!$A$2:$BI$34,61,0)","v":0},{"$f":"VLOOKUP($A$3,'15T-GCM-R_Edad2021'!$A$2:$BI$34,21,0)","v":0},{"$f":"VLOOKUP($A$3,'15T-GCM-R_Edad2021'!$A$2:$BI$34,41,0)","v":0},{"$f":"VLOOKUP($A$3,'15T-GCM-R_Edad2021'!$A$2:$BI$34,61,0)","v":0},{"$f":"VLOOKUP($A$3,'15T-GCM-R_Edad2022'!$A$2:$BI$34,21,0)","v":0},{"$f":"VLOOKUP($A$3,'15T-GCM-R_Edad2022'!$A$2:$BI$34,41,0)","v":0},{"$f":"VLOOKUP($A$3,'15T-GCM-R_Edad2022'!$A$2:$BI$34,61,0)","v":0}]
["Total",{"$f":"SUM(B4:B23)","v":123},42,81,108,35,73,108,41,67]

{"sheet":"16T-GCM-R_Edad2020  ","index":122,"n_rows":34,"n_cols":61,"rows_kept":34,"cut":false,"hidden":true,"merged":[]}
[1,2,3,4,5,6,7,8,9,10,11,12,13,14,15,16,17,18,19,20,21,22,23,24,25,26,27,28,29,30,31,32,33,34,35,36,37,38,39,40,41,42,43,44,45,46,47,48,49,50,51,52,53,54,55,56,57,58,59,60,61]
["ESTADO","Menores de 1 año","1-4 años","5-9 años","10-14 años","15-19 años","20-24 años","25-29 años","30-34 años","35-39 años","40-44 años","45-49 años","50-54 años","55-59 años","60-64 años","65-69 años","70-74 años","75-79 años","80-84 años","85 años y más","No especificado","H Menores de 1 año","H 1-4 años","H 5-9 años","H 10-14 años","H 15-19 años","H 20-24 años","H 25-29 años","H 30-34 años","H 35-39 años","H 40-44 años","H 45-49 años","H 50-54 años","H 55-59 años","H 60-64 años","H 65-69 años","H 70-74 años","H 75-79 años","H 80-84 años","H 85 años y más","H No especificado","   M Menores de 1 año ","M 1-4 años","M 5-9 años","M 10-14 años","M 15-19 años","M 20-24 años","M 25-29 años","M 30-34 años","M 35-39 años","M 40-44 años","M 45-49 años","M 50-54 años","M 55-59 años","M 60-64 años","M 65-69 años","M 70-74 años","M 75-79 años","M 80-84 años","M 85 años y    ás","M No especificado"]
["Aguascalientes",0,0,0,0,3,7,7,11,5,7,12,9,19,15,23,25,32,37,61,0,0,0,0,0,0,5,5,9,3,2,7,7,12,10,12,12,15,18,35,0,0,0,0,0,3,2,2,2,2,5,5,2,7,5,11,13,17,19,26,0]
["Baja California",2,1,2,1,1,5,16,7,19,22,34,46,48,62,67,60,65,62,100,5,1,1,2,1,0,1,10,4,9,12,24,29,30,36,40,35,39,32,55,4,1,0,0,0,1,4,6,3,10,10,10,17,18,26,27,25,26,30,45,1]
["Baja California Sur",0,1,0,0,0,1,1,3,3,2,5,4,5,13,7,20,12,15,30,1,0,1,0,0,0,0,0,2,2,1,3,3,3,1,2,11,5,7,15,1,0,0,0,0,0,1,1,1,1,1,2,1,2,12,5,9,7,8,15,0]
["Campeche",0,0,0,0,0,3,2,5,5,7,13,12,11,17,24,16,25,22,24,0,0,0,0,0,0,1,1,2,1,4,6,7,5,10,17,10,15,14,10,0,0,0,0,0,0,2,1,3,4,3,7,5,6,7,7,6,10,8,14,0]
["Coahuila",1,2,3,0,0,3,5,8,9,24,37,56,58,90,83,78,81,96,122,1,1,1,0,0,0,0,3,2,6,9,18,36,35,48,48,41,44,53,65,1,0,1,3,0,0,3,2,6,3,15,19,20,23,42,35,37,37,43,57,0]
["Colima",0,0,0,0,1,0,3,5,4,7,12,10,6,10,20,15,24,23,34,0,0,0,0,0,0,0,3,5,3,3,6,5,3,4,11,6,11,9,24,0,0,0,0,0,1,0,0,0,1,4,6,5,3,6,9,9,13,14,10,0]
["Chiapas",5,3,3,10,19,22,33,35,40,42,61,79,99,131,155,159,178,156,244,0,3,1,2,4,13,17,19,23,28,21,36,45,44,70,87,98,105,103,148,0,2,2,1,6,6,5,14,12,12,21,25,34,55,61,68,61,73,53,96,0]
["Chihuahua",0,1,1,2,6,3,8,10,18,16,35,57,53,64,65,95,89,98,117,0,0,0,1,2,3,2,4,4,10,8,22,30,26,34,30,58,47,47,53,0,0,1,0,0,3,1,4,6,8,8,13,27,27,30,35,37,42,51,64,0]
["Ciudad de México",16,4,4,6,10,19,43,60,71,67,113,150,199,234,303,311,345,356,657,2,9,2,1,1,5,10,26,37,38,32,58,87,114,135,145,173,180,184,321,2,7,2,3,5,5,9,17,23,33,35,55,63,85,99,158,138,165,172,336,0]
["Durango",1,2,0,0,3,0,2,4,3,10,8,11,18,25,23,31,40,39,47,0,1,1,0,0,1,0,0,2,1,7,3,5,5,14,15,14,24,22,23,0,0,1,0,0,2,0,2,2,2,3,5,6,13,11,8,17,16,17,24,0]
["Guanajuato",3,2,3,3,11,23,47,30,24,24,43,59,85,103,103,110,118,136,224,1,3,2,2,2,6,16,27,22,13,13,19,28,46,48,41,58,60,85,120,0,0,0,1,1,5,7,20,8,11,11,24,31,39,55,62,52,58,51,104,1]
["Guerrero",2,0,0,2,0,6,9,9,10,26,18,35,32,46,63,71,75,84,140,0,0,0,0,1,0,2,8,4,4,12,12,21,15,28,28,45,46,52,92,0,2,0,0,1,0,4,1,5,6,14,6,14,17,18,35,26,29,32,48,0]
["Hidalgo",4,1,0,3,4,7,24,19,18,20,20,29,31,33,51,52,68,65,113,0,3,0,0,2,3,6,20,11,10,7,12,16,17,21,30,28,37,34,54,0,1,1,0,1,1,1,4,8,8,13,8,13,14,12,21,24,31,31,59,0]
["Jalisco",3,3,6,5,15,41,69,63,58,51,67,89,131,165,205,241,236,250,435,0,2,3,3,2,12,29,42,41,32,30,39,44,65,94,107,122,116,121,218,0,1,0,3,3,3,12,27,22,26,21,28,45,66,71,98,119,120,129,217,0]
["México",10,5,5,1,21,50,96,106,81,94,134,153,232,221,256,264,283,279,538,1,7,2,2,0,13,29,60,66,41,51,64,74,125,118,145,148,163,159,286,0,3,3,3,1,8,21,36,40,40,43,70,79,107,103,111,116,120,120,252,1]
["Michoacán",3,0,1,1,2,10,22,17,24,27,36,36,41,60,89,101,106,133,210,1,2,0,0,1,2,7,15,8,17,15,19,19,28,36,50,52,54,72,118,1,1,0,1,0,0,3,7,9,7,12,17,17,13,24,39,49,52,61,92,0]
["Morelos",1,0,1,2,0,7,11,12,5,11,19,18,41,56,43,66,67,71,138,0,1,0,1,1,0,4,9,6,1,8,12,7,20,25,27,32,33,42,76,0,0,0,0,1,0,3,2,6,4,3,7,11,21,31,16,34,34,29,62,0]
["Nayarit",0,0,1,1,1,1,4,8,4,7,9,11,15,12,21,30,21,23,46,0,0,0,0,0,0,0,2,4,4,5,6,5,9,5,12,11,13,16,25,0,0,0,1,1,1,1,2,4,0,2,3,6,6,7,9,19,8,7,21,0]
["Nuevo León",3,1,1,3,5,3,9,13,18,27,53,87,101,120,119,123,133,131,215,1,2,0,1,0,2,0,3,3,5,10,34,50,53,47,56,64,67,64,106,0,1,1,0,3,3,3,6,10,13,17,19,37,48,73,63,59,66,67,109,1]
["Oaxaca",2,3,5,2,2,8,13,11,16,14,36,32,53,62,69,61,91,122,232,0,1,1,3,2,0,2,10,4,6,9,24,16,21,31,44,34,51,67,133,0,1,2,2,0,2,6,3,7,10,5,12,16,32,31,25,27,40,55,99,0]
["Puebla",3,4,3,2,14,19,48,29,27,40,55,64,92,112,125,128,166,154,270,2,2,2,0,1,10,10,26,18,17,15,30,36,44,54,67,78,103,74,148,2,1,2,3,1,4,9,22,11,10,25,25,28,48,58,58,50,63,80,122,0]
["Querétaro",3,0,3,0,2,5,16,8,13,16,17,36,36,37,26,52,37,51,101,0,3,0,0,0,2,1,11,4,9,10,10,22,18,13,13,17,20,29,47,0,0,0,3,0,0,4,5,4,4,6,7,14,18,24,13,35,17,22,54,0]
["Quintana Roo",1,0,0,0,1,3,7,2,4,8,23,17,33,27,21,27,22,15,25,0,0,0,0,0,1,1,4,0,2,5,13,8,14,13,9,19,16,11,15,0,1,0,0,0,0,2,3,2,2,3,10,9,19,14,12,8,6,4,10,0]
["San Luis Potosí",2,0,0,1,3,7,10,13,12,13,21,32,43,53,55,46,68,78,142,0,2,0,0,1,3,3,7,8,9,7,14,14,20,21,33,28,46,39,89,0,0,0,0,0,0,4,3,5,3,6,7,18,23,32,22,18,22,39,53,0]
["Sinaloa",0,0,1,1,3,5,6,3,4,9,14,20,36,45,60,38,64,79,102,0,0,0,1,1,2,3,3,3,1,5,6,12,17,28,32,19,40,47,49,0,0,0,0,0,1,2,3,0,3,4,8,8,19,17,28,19,24,32,53,0]
["Sonora",1,2,0,1,4,2,7,7,13,14,22,44,37,50,73,90,91,79,109,0,1,2,0,0,3,2,4,4,6,9,8,21,20,26,42,40,51,46,58,0,0,0,0,1,1,0,3,3,7,5,14,23,17,24,31,50,40,33,51,0]
["Tabasco",4,1,0,3,2,1,9,14,16,21,29,27,54,56,50,50,44,50,82,0,2,1,0,2,1,1,3,10,9,9,16,13,25,29,28,33,30,31,57,0,2,0,0,1,1,0,6,4,7,12,13,14,29,27,22,17,14,19,25,0]
["Tamaulipas",0,2,2,1,5,6,2,15,5,27,33,39,74,95,78,89,82,96,155,0,0,2,2,1,3,3,1,6,3,12,20,20,41,57,33,42,41,52,77,0,0,0,0,0,2,3,1,9,2,15,13,19,33,38,45,47,41,44,78,0]
["Tlaxcala",3,0,0,0,4,12,22,16,10,10,12,12,13,37,28,26,26,26,52,0,2,0,0,0,3,6,16,7,4,2,5,6,7,21,18,13,14,14,23,0,1,0,0,0,1,6,6,9,6,8,7,6,6,16,10,13,12,12,29,0]
["Veracruz",3,1,1,5,17,16,40,44,47,62,83,109,121,190,215,185,220,247,380,1,1,1,1,3,10,5,25,28,33,29,48,51,73,100,113,99,135,147,206,1,2,0,0,2,7,11,15,16,14,33,35,58,48,90,102,86,85,100,174,0]
["Yucatán",1,2,0,0,4,4,3,3,6,25,31,43,50,73,57,81,67,71,106,2,1,1,0,0,3,3,2,1,1,10,11,19,18,34,31,42,40,41,52,2,0,1,0,0,1,1,1,2,5,15,20,24,32,39,26,39,27,30,54,0]
["Zacatecas",3,0,2,0,0,0,4,4,5,7,4,11,17,19,14,24,42,48,117,0,2,0,1,0,0,0,3,2,1,2,4,7,9,11,8,11,30,29,68,0,1,0,1,0,0,0,1,2,4,5,0,4,8,8,6,13,12,19,49,0]

{"sheet":"16T-GCM-R_Edad2021","index":123,"n_rows":34,"n_cols":61,"rows_kept":34,"cut":false,"hidden":true,"merged":[]}
[1,2,3,4,5,6,7,8,9,10,11,12,13,14,15,16,17,18,19,20,21,22,23,24,25,26,27,28,29,30,31,32,33,34,35,36,37,38,39,40,41,42,43,44,45,46,47,48,49,50,51,52,53,54,55,56,57,58,59,60,61]
["ESTADO","Menores de 1 año","1-4 años","5-9 años","10-14 años","15-19 años","20-24 años","25-29 años","30-34 años","35-39 años","40-44 años","45-49 años","50-54 años","55-59 años","60-64 años","65-69 años","70-74 años","75-79 años","80-84 años","85 años y más","No especificado","H Menores de 1 año","H 1-4 años","H 5-9 años","H 10-14 años","H 15-19 años","H 20-24 años","H 25-29 años","H 30-34 años","H 35-39 años","H 40-44 años","H 45-49 años","H 50-54 años","H 55-59 años","H 60-64 años","H 65-69 años","H 70-74 años","H 75-79 años","H 80-84 años","H 85 años y más","H No especificado","   M Menores de 1 año ","M 1-4 años","M 5-9 años","M 10-14 años","M 15-19 años","M 20-24 años","M 25-29 años","M 30-34 años","M 35-39 años","M 40-44 años","M 45-49 años","M 50-54 años","M 55-59 años","M 60-64 años","M 65-69 años","M 70-74 años","M 75-79 años","M 80-84 años","M 85 años y    ás","M No especificado"]
["Aguascalientes",4,0,0,2,1,7,9,11,6,10,7,18,19,20,15,32,33,29,51,0,3,0,0,0,0,4,5,9,4,6,1,9,8,8,9,16,21,16,27,0,1,0,0,2,1,3,4,2,2,4,6,9,11,12,6,16,12,13,24,0]
["Baja California",5,1,1,1,7,10,4,18,15,26,31,51,42,73,74,81,77,60,93,3,4,1,0,0,2,7,3,7,7,17,15,26,25,42,42,34,41,37,37,3,1,0,1,1,5,3,1,11,8,9,16,25,17,31,32,47,36,23,56,0]
["Baja California Sur",1,0,0,0,0,3,3,2,8,2,5,6,7,13,16,16,16,21,28,0,0,0,0,0,0,2,1,2,4,0,4,2,3,7,11,7,9,10,16,0,1,0,0,0,0,1,2,0,4,2,1,4,4,6,5,9,7,11,12,0]
["Campeche",0,0,0,0,1,0,1,2,4,9,7,13,13,22,19,30,25,20,33,0,0,0,0,0,1,0,0,2,0,5,6,4,5,12,4,20,14,13,18,0,0,0,0,0,0,0,1,0,4,4,1,9,8,10,15,10,11,7,15,0]
["Coahuila",0,1,1,2,1,7,5,12,14,12,32,28,48,72,70,59,76,79,99,0,0,1,1,0,1,4,4,6,5,7,13,10,26,37,39,26,37,40,51,0,0,0,0,2,0,3,1,6,9,5,19,18,22,35,31,33,39,39,48,0]
["Colima",1,0,1,0,0,0,4,6,8,2,8,6,16,25,23,27,21,21,38,0,1,0,1,0,0,0,2,4,6,1,2,2,6,9,12,7,8,6,19,0,0,0,0,0,0,0,2,2,2,1,6,4,10,16,11,20,13,15,19,0]
["Chiapas",6,7,3,10,15,20,27,27,40,44,62,74,103,157,133,156,172,146,235,0,3,5,1,3,10,12,16,11,18,22,31,35,53,88,72,90,98,85,137,0,3,2,2,7,5,8,11,16,22,22,31,39,50,69,61,66,74,61,98,0]
["Chihuahua",6,1,0,4,3,3,9,12,10,24,27,45,43,62,77,88,85,110,112,1,3,0,0,3,0,2,3,6,6,14,14,24,21,29,37,49,38,60,43,1,3,1,0,1,3,1,6,6,4,10,13,21,22,33,40,39,47,50,69,0]
["Ciudad de México",10,3,4,4,11,21,31,42,45,83,109,133,179,238,270,339,342,339,631,1,5,2,2,2,4,12,18,26,21,47,57,68,84,103,129,168,167,144,274,1,5,1,2,2,7,9,13,16,24,36,52,65,95,135,141,171,175,195,357,0]
["Durango",1,2,1,0,1,3,1,1,4,6,4,16,23,20,22,45,51,39,45,1,0,2,1,0,1,2,1,0,2,4,0,7,12,10,15,20,21,20,27,1,1,0,0,0,0,1,0,1,2,2,4,9,11,10,7,25,30,19,18,0]
["Guanajuato",1,0,0,3,3,25,41,36,18,26,33,74,72,99,114,130,151,154,240,0,1,0,0,1,1,14,27,26,10,15,16,42,33,49,50,59,79,81,115,0,0,0,0,2,2,11,14,10,8,11,17,32,39,50,64,71,72,73,125,0]
["Guerrero",2,4,3,0,2,5,5,10,11,22,26,34,49,54,71,52,88,84,133,0,1,2,2,0,1,2,2,7,4,12,13,19,21,30,40,27,54,43,77,0,1,2,1,0,1,3,3,3,7,10,13,15,28,24,31,25,34,41,56,0]
["Hidalgo",3,0,1,2,4,7,16,14,10,11,15,21,36,38,53,47,55,53,93,0,2,0,1,2,2,5,8,9,6,6,9,13,23,23,29,30,38,27,53,0,1,0,0,0,2,2,8,5,4,5,6,8,13,15,24,17,17,26,40,0]
["Jalisco",8,4,2,2,13,32,69,65,43,67,63,96,114,167,230,223,260,250,410,2,7,4,0,2,6,24,50,47,25,40,32,54,61,78,118,109,164,133,193,1,1,0,2,0,7,8,19,18,18,27,31,42,53,89,112,114,96,117,217,1]
["México",20,3,2,2,25,40,80,101,81,72,130,151,190,214,274,261,267,293,436,0,9,2,1,1,17,25,50,60,46,35,69,73,83,104,155,150,131,153,236,0,11,1,1,1,8,15,30,41,35,37,61,78,107,110,119,111,136,140,200,0]
["Michoacán",3,1,3,1,7,12,18,17,29,26,34,57,67,71,97,95,121,111,241,1,3,0,1,0,6,8,13,11,17,11,25,36,32,40,53,50,68,54,135,1,0,1,2,1,1,4,5,6,12,15,9,21,35,31,44,45,53,57,106,0]
["Morelos",1,1,0,0,0,2,13,12,6,14,13,31,27,46,55,45,54,50,133,0,1,1,0,0,0,1,7,8,2,4,6,16,12,27,23,19,30,24,67,0,0,0,0,0,0,1,6,4,4,10,7,15,15,19,32,26,24,26,66,0]
["Nayarit",2,0,0,0,0,2,2,4,7,5,10,7,15,15,23,18,34,43,43,1,1,0,0,0,0,1,2,2,5,1,4,3,7,7,13,9,18,22,21,1,1,0,0,0,0,1,0,2,2,4,6,4,8,8,10,9,16,21,22,0]
["Nuevo León",4,4,1,3,5,9,10,7,20,36,50,63,85,80,77,121,139,116,191,2,3,3,1,2,3,6,4,2,8,14,28,37,45,41,39,72,61,53,72,1,1,1,0,1,2,3,6,5,12,22,22,26,40,39,38,49,78,63,119,1]
["Oaxaca",4,0,3,8,5,5,10,14,8,22,18,30,43,73,82,94,126,150,222,1,3,0,1,2,4,2,5,9,5,9,11,18,23,38,43,46,78,89,139,1,1,0,2,6,1,3,5,5,3,13,7,12,20,35,39,48,48,61,83,0]
["Puebla",2,1,3,2,5,22,32,29,42,53,56,70,79,123,126,130,173,168,306,1,1,0,1,1,3,11,25,15,20,31,28,33,44,71,70,74,94,85,161,1,1,1,2,1,2,11,7,14,22,22,28,37,35,52,56,56,79,83,145,0]
["Querétaro",1,1,3,1,6,3,13,11,5,10,21,27,27,41,54,52,48,44,101,0,0,1,1,1,4,2,8,8,2,6,9,15,16,22,25,26,30,15,51,0,1,0,2,0,2,1,5,3,3,4,12,12,11,19,29,26,18,29,50,0]
["Quintana Roo",1,0,0,0,0,1,2,6,4,12,15,18,27,33,30,27,30,21,27,0,0,0,0,0,0,0,1,4,1,6,7,11,10,16,15,10,16,7,11,0,1,0,0,0,0,1,1,2,3,6,8,7,17,17,15,17,14,14,16,0]
["San Luis Potosí",3,1,0,3,2,3,17,17,12,15,16,22,37,48,60,59,58,68,151,0,2,0,0,1,1,1,7,9,7,7,9,10,22,18,33,32,30,40,74,0,1,1,0,2,1,2,10,8,5,8,7,12,15,30,27,27,28,28,77,0]
["Sinaloa",3,0,1,0,2,2,3,7,8,13,18,28,27,51,48,60,71,69,85,1,2,0,1,0,1,1,1,4,4,8,14,8,16,30,27,30,38,43,45,0,1,0,0,0,1,1,2,3,4,5,4,20,11,21,21,30,33,26,40,1]
["Sonora",3,3,1,0,4,8,7,12,17,10,20,23,51,56,70,74,87,87,111,0,2,3,0,0,1,6,3,7,11,6,11,10,23,31,39,35,47,40,51,0,1,0,1,0,3,2,4,5,6,4,9,13,28,25,31,39,40,47,60,0]
["Tabasco",2,3,4,2,6,4,7,6,14,22,44,30,42,50,73,39,43,46,65,0,1,2,2,1,5,3,6,3,5,12,19,12,21,23,40,30,24,21,42,0,1,1,2,1,1,1,1,3,9,10,25,18,21,27,33,9,19,25,23,0]
["Tamaulipas",0,0,0,1,9,4,11,13,15,29,40,45,57,88,70,74,98,101,127,1,0,0,0,0,7,0,8,7,4,19,23,18,31,47,41,42,62,54,55,1,0,0,0,1,2,4,3,6,11,10,17,27,26,41,29,32,36,47,72,0]
["Tlaxcala",1,0,1,2,8,9,18,16,13,11,18,17,15,13,26,23,20,32,42,0,1,0,1,1,5,7,11,9,8,4,8,11,10,7,10,14,15,19,20,0,0,0,0,1,3,2,7,7,5,7,10,6,5,6,16,9,5,13,22,0]
["Veracruz",2,2,2,5,9,16,28,33,39,58,73,109,169,190,190,256,208,249,406,0,2,0,0,3,6,10,18,19,25,27,36,56,81,102,93,141,117,127,225,0,0,2,2,2,3,6,10,14,14,31,37,53,88,88,97,115,91,122,181,0]
["Yucatán",1,1,0,3,0,7,4,10,19,21,28,30,45,62,73,76,74,92,88,0,0,0,0,1,0,4,2,2,9,8,10,16,21,29,37,42,37,57,50,0,1,1,0,2,0,3,2,8,10,13,18,14,24,33,36,34,37,35,38,0]
["Zacatecas",0,0,0,1,2,3,5,2,5,6,10,15,17,23,24,31,32,42,101,0,0,0,0,1,0,1,4,2,4,4,5,8,7,13,12,21,18,20,48,0,0,0,0,0,2,2,1,0,1,2,5,7,10,10,12,10,14,22,53,0]

{"sheet":"16T-GCM-R_Edad2022","index":124,"n_rows":34,"n_cols":61,"rows_kept":34,"cut":false,"hidden":true,"merged":[]}
[1,2,3,4,5,6,7,8,9,10,11,12,13,14,15,16,17,18,19,20,21,22,23,24,25,26,27,28,29,30,31,32,33,34,35,36,37,38,39,40,41,42,43,44,45,46,47,48,49,50,51,52,53,54,55,56,57,58,59,60,61]
["ESTADO","Menores de 1 año","1-4 años","5-9 años","10-14 años","15-19 años","20-24 años","25-29 años","30-34 años","35-39 años","40-44 años","45-49 años","50-54 años","55-59 años","60-64 años","65-69 años","70-74 años","75-79 años","80-84 años","85 años y más","No especificado","H Menores de 1 año","H 1-4 años","H 5-9 años","H 10-14 años","H 15-19 años","H 20-24 años","H 25-29 años","H 30-34 años","H 35-39 años","H 40-44 años","H 45-49 años","H 50-54 años","H 55-59 años","H 60-64 años","H 65-69 años","H 70-74 años","H 75-79 años","H 80-84 años","H 85 años y más","H No especificado","   M Menores de 1 año ","M 1-4 años","M 5-9 años","M 10-14 años","M 15-19 años","M 20-24 años","M 25-29 años","M 30-34 años","M 35-39 años","M 40-44 años","M 45-49 años","M 50-54 años","M 55-59 años","M 60-64 años","M 65-69 años","M 70-74 años","M 75-79 años","M 80-84 años","M 85 años y    ás","M No especificado"]
["Aguascalientes",3,0,0,0,4,8,8,13,5,6,10,12,14,21,29,32,34,34,84,0,1,0,0,0,4,5,7,11,4,3,7,9,5,9,15,16,16,12,36,0,2,0,0,0,0,3,1,2,1,3,3,3,9,12,14,16,18,22,48,0]
["Baja California",0,1,0,0,3,5,17,13,17,30,57,62,70,79,69,78,90,73,134,4,0,1,0,0,1,5,6,7,6,11,38,36,39,42,37,41,46,35,49,4,0,0,0,0,2,0,11,6,11,19,19,26,31,37,32,37,44,38,85,0]
["Baja California Sur",1,0,0,1,0,0,4,2,2,4,3,13,9,10,10,10,22,13,34,1,1,0,0,1,0,0,1,0,2,3,3,9,6,6,6,7,14,7,18,1,0,0,0,0,0,0,3,2,0,1,0,4,3,4,4,3,8,6,16,0]
["Campeche",0,0,0,0,1,1,0,4,6,4,9,9,12,15,19,22,17,21,38,0,0,0,0,0,1,0,0,2,2,2,4,5,5,7,8,13,7,14,20,0,0,0,0,0,0,1,0,2,4,2,5,4,7,8,11,9,10,7,18,0]
["Coahuila",4,1,1,0,1,3,3,7,13,14,34,26,49,68,66,90,94,81,109,0,2,1,1,0,1,2,3,5,10,8,18,12,23,29,37,36,49,38,52,0,2,0,0,0,0,1,0,2,3,6,16,14,26,39,29,54,45,43,57,0]
["Colima",0,0,0,0,0,2,1,4,6,4,6,5,9,17,28,22,28,21,32,0,0,0,0,0,0,1,1,3,5,2,2,3,7,11,9,14,15,7,14,0,0,0,0,0,0,1,0,1,1,2,4,2,2,6,19,8,13,14,18,0]
["Chiapas",5,5,2,8,13,17,13,33,36,35,44,60,80,122,117,125,124,147,231,0,2,4,1,6,9,9,8,20,19,17,21,32,42,58,57,64,61,86,130,0,3,1,1,2,4,8,5,13,17,18,23,28,38,64,60,61,63,61,101,0]
["Chihuahua",3,0,0,2,1,6,6,13,13,25,37,54,65,76,90,108,127,133,147,2,2,0,0,1,1,3,3,5,6,11,25,29,32,35,45,61,58,73,73,2,1,0,0,1,0,3,3,8,7,14,12,25,33,41,45,47,69,60,74,0]
["Ciudad de México",17,4,6,3,8,19,28,50,45,57,106,168,170,260,328,359,374,402,701,2,10,2,3,0,3,10,16,32,25,30,61,88,85,135,172,193,184,170,293,2,7,2,3,3,5,9,12,18,20,27,45,80,85,125,156,166,190,232,408,0]
["Durango",1,0,0,1,1,4,1,5,3,5,9,12,24,31,36,35,47,39,58,0,1,0,0,0,0,2,1,3,2,5,5,6,14,15,20,14,23,19,29,0,0,0,0,1,1,2,0,2,1,0,4,6,10,16,16,21,24,20,29,0]
["Guanajuato",7,1,2,6,7,21,30,30,22,31,63,76,88,110,128,144,167,151,275,0,5,1,1,2,2,13,19,17,14,19,29,41,45,59,67,66,88,73,130,0,2,0,1,4,5,8,11,13,8,12,34,35,43,51,61,78,79,78,145,0]
["Guerrero",1,1,0,0,0,2,2,11,10,13,22,33,45,52,64,65,72,75,163,0,1,1,0,0,0,2,1,6,8,3,15,21,22,31,38,42,41,46,81,0,0,0,0,0,0,0,1,5,2,10,7,12,23,21,26,23,31,29,82,0]
["Hidalgo",3,3,1,0,2,4,14,20,16,18,27,30,35,63,49,60,49,57,99,0,2,3,0,0,1,2,10,12,9,7,12,17,19,26,24,31,23,31,56,0,1,0,1,0,1,2,4,8,7,11,15,13,16,37,25,29,26,26,43,0]
["Jalisco",3,5,5,1,13,44,68,82,61,69,90,90,158,196,208,227,268,276,480,1,1,2,3,0,6,28,45,57,27,43,55,51,103,102,105,124,146,146,219,1,2,3,2,1,7,16,23,25,34,26,35,39,55,94,103,103,122,130,261,0]
["México",12,5,1,1,17,33,61,85,73,76,114,192,186,258,328,314,348,295,553,3,7,5,1,0,9,18,42,52,38,37,54,93,93,118,171,166,167,155,257,3,5,0,0,1,8,15,19,33,35,39,60,99,93,140,157,148,181,140,296,0]
["Michoacán",5,2,2,4,7,9,11,19,23,23,33,38,66,64,85,93,96,113,226,0,3,1,1,1,5,7,8,11,16,16,15,27,39,33,52,45,47,59,110,0,2,1,1,3,2,2,3,8,7,7,18,11,27,31,33,48,49,54,116,0]
["Morelos",1,0,0,1,5,7,8,13,8,14,20,29,44,58,65,68,81,69,128,0,1,0,0,0,1,6,7,8,8,8,16,18,23,25,34,39,37,33,60,0,0,0,0,1,4,1,1,5,0,6,4,11,21,33,31,29,44,36,68,0]
["Nayarit",1,0,0,1,1,0,2,4,3,7,5,13,16,14,21,29,32,47,60,3,1,0,0,0,1,0,0,0,2,1,0,6,11,8,12,15,17,25,33,3,0,0,0,1,0,0,2,4,1,6,5,7,5,6,9,14,15,22,27,0]
["Nuevo León",6,5,2,1,3,7,9,15,19,34,51,87,109,120,137,164,152,131,248,1,4,3,0,0,2,6,4,9,12,18,24,40,52,62,60,77,80,57,122,0,2,2,2,1,1,1,5,6,7,16,27,47,57,58,77,87,72,74,126,1]
["Oaxaca",1,2,1,1,2,2,7,4,11,25,25,34,55,71,64,76,108,106,235,1,1,2,1,1,1,0,4,3,3,10,14,16,30,36,34,47,60,59,113,1,0,0,0,0,1,2,3,1,8,15,11,18,25,35,30,29,48,47,122,0]
["Puebla",5,5,1,3,9,17,20,34,28,47,45,63,83,117,145,141,125,167,311,1,4,3,1,0,7,10,13,18,10,29,25,29,52,61,75,69,69,95,137,1,1,2,0,3,2,7,7,16,18,18,20,34,31,56,70,72,56,72,174,0]
["Querétaro",1,1,0,1,5,6,12,4,9,17,16,35,37,51,65,77,59,58,109,0,0,1,0,0,2,4,9,4,4,10,9,19,20,18,26,44,30,37,49,0,1,0,0,1,3,2,3,0,5,7,7,16,17,33,39,33,29,21,60,0]
["Quintana Roo",2,0,0,1,1,3,3,4,2,10,9,14,24,35,24,30,35,28,36,0,1,0,0,0,1,2,1,0,1,7,2,8,11,15,8,15,18,16,23,0,1,0,0,1,0,1,2,4,1,3,7,6,13,20,16,15,17,12,13,0]
["San Luis Potosí",3,0,0,3,3,4,10,14,8,23,29,30,53,63,66,77,79,74,123,0,0,0,0,3,1,2,6,7,4,12,12,18,19,28,28,40,46,46,61,0,3,0,0,0,2,2,4,7,4,11,17,12,34,35,38,37,33,28,62,0]
["Sinaloa",3,1,0,1,1,4,6,1,4,11,13,18,23,33,49,80,81,77,128,0,2,1,0,1,1,1,4,0,2,6,7,9,8,17,23,36,46,37,51,0,1,0,0,0,0,3,2,1,2,5,6,9,15,16,26,44,35,40,77,0]
["Sonora",2,2,0,1,1,5,4,8,10,18,29,29,51,63,70,77,110,95,114,2,1,1,0,1,1,1,2,3,5,7,17,14,30,28,31,39,56,41,51,2,1,1,0,0,0,4,2,5,5,11,12,15,21,35,39,38,54,54,63,0]
["Tabasco",0,0,0,0,3,2,6,9,11,16,19,31,53,63,65,65,27,47,69,2,0,0,0,0,1,2,4,5,7,9,13,15,23,31,28,34,16,25,39,2,0,0,0,0,2,0,2,4,4,7,6,16,30,32,37,31,11,22,30,0]
["Tamaulipas",1,1,1,0,3,3,3,11,9,21,36,55,75,75,81,84,112,95,168,4,0,1,1,0,0,3,2,4,3,8,19,33,34,38,39,47,52,36,70,3,1,0,0,0,3,0,1,7,6,13,17,22,41,37,42,37,60,59,98,1]
["Tlaxcala",0,0,2,0,1,9,22,17,8,16,4,13,9,18,31,28,32,23,47,0,0,0,1,0,1,5,14,12,5,9,2,7,4,6,13,15,18,12,30,0,0,0,1,0,0,4,8,5,3,7,2,6,5,12,18,13,14,11,17,0]
["Veracruz",3,2,3,5,11,23,32,48,41,46,69,127,150,182,196,265,226,251,416,0,1,1,1,3,4,10,22,34,25,31,36,75,70,106,92,121,132,130,212,0,2,1,2,2,7,13,10,14,16,15,33,52,80,76,104,144,94,121,204,0]
["Yucatán",2,0,1,2,0,3,3,10,8,24,23,30,36,58,56,77,71,81,96,1,1,0,1,0,0,3,1,4,5,17,12,16,17,28,20,28,38,49,50,1,1,0,0,2,0,0,2,6,3,7,11,14,19,30,36,49,33,32,46,0]
["Zacatecas",0,0,0,0,0,2,6,5,4,5,15,21,12,25,36,44,37,48,96,0,0,0,0,0,0,0,4,3,4,2,11,10,4,13,14,23,20,31,46,0,0,0,0,0,0,2,2,2,0,3,4,11,8,12,22,21,17,17,50,0]

{"sheet":"16 GCM-G_Edad","index":125,"n_rows":24,"n_cols":10,"rows_kept":24,"cut":false,"hidden":false,"merged":[[0,0,0,9]]}
[" Enfermedades del sistema genitourinario"]
["SELECCIONE UNA ENTIDAD"]
["Guerrero","2020","H - 2020","M - 2020","2021","H - 2021","M - 2021","2022","H - 2022","M - 2022"]
["Menores de 1 año",{"$f":"VLOOKUP($A$3,'16T-GCM-R_Edad2020  '!$A$2:$BI$34,2,0)","v":2},{"$f":"VLOOKUP($A$3,'16T-GCM-R_Edad2020  '!$A$2:$BI$34,22,0)","v":0},{"$f":"VLOOKUP($A$3,'16T-GCM-R_Edad2020  '!$A$2:$BI$34,42,0)","v":2},{"$f":"VLOOKUP($A$3,'16T-GCM-R_Edad2021'!$A$2:$BI$34,2,0)","v":2},{"$f":"VLOOKUP($A$3,'16T-GCM-R_Edad2021'!$A$2:$BI$34,22,0)","v":1},{"$f":"VLOOKUP($A$3,'16T-GCM-R_Edad2021'!$A$2:$BI$34,42,0)","v":1},{"$f":"VLOOKUP($A$3,'16T-GCM-R_Edad2022'!$A$2:$BI$34,2,0)","v":1},{"$f":"VLOOKUP($A$3,'16T-GCM-R_Edad2022'!$A$2:$BI$34,22,0)","v":1},{"$f":"VLOOKUP($A$3,'16T-GCM-R_Edad2022'!$A$2:$BI$34,42,0)","v":0}]
["1-4 años",{"$f":"VLOOKUP($A$3,'16T-GCM-R_Edad2020  '!$A$2:$BI$34,3,0)","v":0},{"$f":"VLOOKUP($A$3,'16T-GCM-R_Edad2020  '!$A$2:$BI$34,23,0)","v":0},{"$f":"VLOOKUP($A$3,'16T-GCM-R_Edad2020  '!$A$2:$BI$34,43,0)","v":0},{"$f":"VLOOKUP($A$3,'16T-GCM-R_Edad2021'!$A$2:$BI$34,3,0)","v":4},{"$f":"VLOOKUP($A$3,'16T-GCM-R_Edad2021'!$A$2:$BI$34,23,0)","v":2},{"$f":"VLOOKUP($A$3,'16T-GCM-R_Edad2021'!$A$2:$BI$34,43,0)","v":2},{"$f":"VLOOKUP($A$3,'16T-GCM-R_Edad2022'!$A$2:$BI$34,3,0)","v":1},{"$f":"VLOOKUP($A$3,'16T-GCM-R_Edad2022'!$A$2:$BI$34,23,0)","v":1},{"$f":"VLOOKUP($A$3,'16T-GCM-R_Edad2022'!$A$2:$BI$34,43,0)","v":0}]
["5-9 años",{"$f":"VLOOKUP($A$3,'16T-GCM-R_Edad2020  '!$A$2:$BI$34,4,0)","v":0},{"$f":"VLOOKUP($A$3,'16T-GCM-R_Edad2020  '!$A$2:$BI$34,24,0)","v":0},{"$f":"VLOOKUP($A$3,'16T-GCM-R_Edad2020  '!$A$2:$BI$34,44,0)","v":0},{"$f":"VLOOKUP($A$3,'16T-GCM-R_Edad2021'!$A$2:$BI$34,4,0)","v":3},{"$f":"VLOOKUP($A$3,'16T-GCM-R_Edad2021'!$A$2:$BI$34,24,0)","v":2},{"$f":"VLOOKUP($A$3,'16T-GCM-R_Edad2021'!$A$2:$BI$34,44,0)","v":1},{"$f":"VLOOKUP($A$3,'16T-GCM-R_Edad2022'!$A$2:$BI$34,4,0)","v":0},{"$f":"VLOOKUP($A$3,'16T-GCM-R_Edad2022'!$A$2:$BI$34,24,0)","v":0},{"$f":"VLOOKUP($A$3,'16T-GCM-R_Edad2022'!$A$2:$BI$34,44,0)","v":0}]
["10-14 años",{"$f":"VLOOKUP($A$3,'16T-GCM-R_Edad2020  '!$A$2:$BI$34,5,0)","v":2},{"$f":"VLOOKUP($A$3,'16T-GCM-R_Edad2020  '!$A$2:$BI$34,25,0)","v":1},{"$f":"VLOOKUP($A$3,'16T-GCM-R_Edad2020  '!$A$2:$BI$34,45,0)","v":1},{"$f":"VLOOKUP($A$3,'16T-GCM-R_Edad2021'!$A$2:$BI$34,5,0)","v":0},{"$f":"VLOOKUP($A$3,'16T-GCM-R_Edad2021'!$A$2:$BI$34,25,0)","v":0},{"$f":"VLOOKUP($A$3,'16T-GCM-R_Edad2021'!$A$2:$BI$34,45,0)","v":0},{"$f":"VLOOKUP($A$3,'16T-GCM-R_Edad2022'!$A$2:$BI$34,5,0)","v":0},{"$f":"VLOOKUP($A$3,'16T-GCM-R_Edad2022'!$A$2:$BI$34,25,0)","v":0},{"$f":"VLOOKUP($A$3,'16T-GCM-R_Edad2022'!$A$2:$BI$34,45,0)","v":0}]
["15-19 años",{"$f":"VLOOKUP($A$3,'16T-GCM-R_Edad2020  '!$A$2:$BI$34,6,0)","v":0},{"$f":"VLOOKUP($A$3,'16T-GCM-R_Edad2020  '!$A$2:$BI$34,26,0)","v":0},{"$f":"VLOOKUP($A$3,'16T-GCM-R_Edad2020  '!$A$2:$BI$34,46,0)","v":0},{"$f":"VLOOKUP($A$3,'16T-GCM-R_Edad2021'!$A$2:$BI$34,6,0)","v":2},{"$f":"VLOOKUP($A$3,'16T-GCM-R_Edad2021'!$A$2:$BI$34,26,0)","v":1},{"$f":"VLOOKUP($A$3,'16T-GCM-R_Edad2021'!$A$2:$BI$34,46,0)","v":1},{"$f":"VLOOKUP($A$3,'16T-GCM-R_Edad2022'!$A$2:$BI$34,6,0)","v":0},{"$f":"VLOOKUP($A$3,'16T-GCM-R_Edad2022'!$A$2:$BI$34,26,0)","v":0},{"$f":"VLOOKUP($A$3,'16T-GCM-R_Edad2022'!$A$2:$BI$34,46,0)","v":0}]
["20-24 años",{"$f":"VLOOKUP($A$3,'16T-GCM-R_Edad2020  '!$A$2:$BI$34,7,0)","v":6},{"$f":"VLOOKUP($A$3,'16T-GCM-R_Edad2020  '!$A$2:$BI$34,27,0)","v":2},{"$f":"VLOOKUP($A$3,'16T-GCM-R_Edad2020  '!$A$2:$BI$34,47,0)","v":4},{"$f":"VLOOKUP($A$3,'16T-GCM-R_Edad2021'!$A$2:$BI$34,7,0)","v":5},{"$f":"VLOOKUP($A$3,'16T-GCM-R_Edad2021'!$A$2:$BI$34,27,0)","v":2},{"$f":"VLOOKUP($A$3,'16T-GCM-R_Edad2021'!$A$2:$BI$34,47,0)","v":3},{"$f":"VLOOKUP($A$3,'16T-GCM-R_Edad2022'!$A$2:$BI$34,7,0)","v":2},{"$f":"VLOOKUP($A$3,'16T-GCM-R_Edad2022'!$A$2:$BI$34,27,0)","v":2},{"$f":"VLOOKUP($A$3,'16T-GCM-R_Edad2022'!$A$2:$BI$34,47,0)","v":0}]
["25-29 años",{"$f":"VLOOKUP($A$3,'16T-GCM-R_Edad2020  '!$A$2:$BI$34,8,0)","v":9},{"$f":"VLOOKUP($A$3,'16T-GCM-R_Edad2020  '!$A$2:$BI$34,28,0)","v":8},{"$f":"VLOOKUP($A$3,'16T-GCM-R_Edad2020  '!$A$2:$BI$34,48,0)","v":1},{"$f":"VLOOKUP($A$3,'16T-GCM-R_Edad2021'!$A$2:$BI$34,8,0)","v":5},{"$f":"VLOOKUP($A$3,'16T-GCM-R_Edad2021'!$A$2:$BI$34,28,0)","v":2},{"$f":"VLOOKUP($A$3,'16T-GCM-R_Edad2021'!$A$2:$BI$34,48,0)","v":3},{"$f":"VLOOKUP($A$3,'16T-GCM-R_Edad2022'!$A$2:$BI$34,8,0)","v":2},{"$f":"VLOOKUP($A$3,'16T-GCM-R_Edad2022'!$A$2:$BI$34,28,0)","v":1},{"$f":"VLOOKUP($A$3,'16T-GCM-R_Edad2022'!$A$2:$BI$34,48,0)","v":1}]
["30-34 años",{"$f":"VLOOKUP($A$3,'16T-GCM-R_Edad2020  '!$A$2:$BI$34,9,0)","v":9},{"$f":"VLOOKUP($A$3,'16T-GCM-R_Edad2020  '!$A$2:$BI$34,29,0)","v":4},{"$f":"VLOOKUP($A$3,'16T-GCM-R_Edad2020  '!$A$2:$BI$34,49,0)","v":5},{"$f":"VLOOKUP($A$3,'16T-GCM-R_Edad2021'!$A$2:$BI$34,9,0)","v":10},{"$f":"VLOOKUP($A$3,'16T-GCM-R_Edad2021'!$A$2:$BI$34,29,0)","v":7},{"$f":"VLOOKUP($A$3,'16T-GCM-R_Edad2021'!$A$2:$BI$34,49,0)","v":3},{"$f":"VLOOKUP($A$3,'16T-GCM-R_Edad2022'!$A$2:$BI$34,9,0)","v":11},{"$f":"VLOOKUP($A$3,'16T-GCM-R_Edad2022'!$A$2:$BI$34,29,0)","v":6},{"$f":"VLOOKUP($A$3,'16T-GCM-R_Edad2022'!$A$2:$BI$34,49,0)","v":5}]
["35-39 años",{"$f":"VLOOKUP($A$3,'16T-GCM-R_Edad2020  '!$A$2:$BI$34,10,0)","v":10},{"$f":"VLOOKUP($A$3,'16T-GCM-R_Edad2020  '!$A$2:$BI$34,30,0)","v":4},{"$f":"VLOOKUP($A$3,'16T-GCM-R_Edad2020  '!$A$2:$BI$34,50,0)","v":6},{"$f":"VLOOKUP($A$3,'16T-GCM-R_Edad2021'!$A$2:$BI$34,10,0)","v":11},{"$f":"VLOOKUP($A$3,'16T-GCM-R_Edad2021'!$A$2:$BI$34,30,0)","v":4},{"$f":"VLOOKUP($A$3,'16T-GCM-R_Edad2021'!$A$2:$BI$34,50,0)","v":7},{"$f":"VLOOKUP($A$3,'16T-GCM-R_Edad2022'!$A$2:$BI$34,10,0)","v":10},{"$f":"VLOOKUP($A$3,'16T-GCM-R_Edad2022'!$A$2:$BI$34,30,0)","v":8},{"$f":"VLOOKUP($A$3,'16T-GCM-R_Edad2022'!$A$2:$BI$34,50,0)","v":2}]
["40-44 años",{"$f":"VLOOKUP($A$3,'16T-GCM-R_Edad2020  '!$A$2:$BI$34,11,0)","v":26},{"$f":"VLOOKUP($A$3,'16T-GCM-R_Edad2020  '!$A$2:$BI$34,31,0)","v":12},{"$f":"VLOOKUP($A$3,'16T-GCM-R_Edad2020  '!$A$2:$BI$34,51,0)","v":14},{"$f":"VLOOKUP($A$3,'16T-GCM-R_Edad2021'!$A$2:$BI$34,11,0)","v":22},{"$f":"VLOOKUP($A$3,'16T-GCM-R_Edad2021'!$A$2:$BI$34,31,0)","v":12},{"$f":"VLOOKUP($A$3,'16T-GCM-R_Edad2021'!$A$2:$BI$34,51,0)","v":10},{"$f":"VLOOKUP($A$3,'16T-GCM-R_Edad2022'!$A$2:$BI$34,11,0)","v":13},{"$f":"VLOOKUP($A$3,'16T-GCM-R_Edad2022'!$A$2:$BI$34,31,0)","v":3},{"$f":"VLOOKUP($A$3,'16T-GCM-R_Edad2022'!$A$2:$BI$34,51,0)","v":10}]
["45-49 años",{"$f":"VLOOKUP($A$3,'16T-GCM-R_Edad2020  '!$A$2:$BI$34,12,0)","v":18},{"$f":"VLOOKUP($A$3,'16T-GCM-R_Edad2020  '!$A$2:$BI$34,32,0)","v":12},{"$f":"VLOOKUP($A$3,'16T-GCM-R_Edad2020  '!$A$2:$BI$34,52,0)","v":6},{"$f":"VLOOKUP($A$3,'16T-GCM-R_Edad2021'!$A$2:$BI$34,12,0)","v":26},{"$f":"VLOOKUP($A$3,'16T-GCM-R_Edad2021'!$A$2:$BI$34,32,0)","v":13},{"$f":"VLOOKUP($A$3,'16T-GCM-R_Edad2021'!$A$2:$BI$34,52,0)","v":13},{"$f":"VLOOKUP($A$3,'16T-GCM-R_Edad2022'!$A$2:$BI$34,12,0)","v":22},{"$f":"VLOOKUP($A$3,'16T-GCM-R_Edad2022'!$A$2:$BI$34,32,0)","v":15},{"$f":"VLOOKUP($A$3,'16T-GCM-R_Edad2022'!$A$2:$BI$34,52,0)","v":7}]
["50-54 años",{"$f":"VLOOKUP($A$3,'16T-GCM-R_Edad2020  '!$A$2:$BI$34,13,0)","v":35},{"$f":"VLOOKUP($A$3,'16T-GCM-R_Edad2020  '!$A$2:$BI$34,33,0)","v":21},{"$f":"VLOOKUP($A$3,'16T-GCM-R_Edad2020  '!$A$2:$BI$34,53,0)","v":14},{"$f":"VLOOKUP($A$3,'16T-GCM-R_Edad2021'!$A$2:$BI$34,13,0)","v":34},{"$f":"VLOOKUP($A$3,'16T-GCM-R_Edad2021'!$A$2:$BI$34,33,0)","v":19},{"$f":"VLOOKUP($A$3,'16T-GCM-R_Edad2021'!$A$2:$BI$34,53,0)","v":15},{"$f":"VLOOKUP($A$3,'16T-GCM-R_Edad2022'!$A$2:$BI$34,13,0)","v":33},{"$f":"VLOOKUP($A$3,'16T-GCM-R_Edad2022'!$A$2:$BI$34,33,0)","v":21},{"$f":"VLOOKUP($A$3,'16T-GCM-R_Edad2022'!$A$2:$BI$34,53,0)","v":12}]
["55-59 años",{"$f":"VLOOKUP($A$3,'16T-GCM-R_Edad2020  '!$A$2:$BI$34,14,0)","v":32},{"$f":"VLOOKUP($A$3,'16T-GCM-R_Edad2020  '!$A$2:$BI$34,34,0)","v":15},{"$f":"VLOOKUP($A$3,'16T-GCM-R_Edad2020  '!$A$2:$BI$34,54,0)","v":17},{"$f":"VLOOKUP($A$3,'16T-GCM-R_Edad2021'!$A$2:$BI$34,14,0)","v":49},{"$f":"VLOOKUP($A$3,'16T-GCM-R_Edad2021'!$A$2:$BI$34,34,0)","v":21},{"$f":"VLOOKUP($A$3,'16T-GCM-R_Edad2021'!$A$2:$BI$34,54,0)","v":28},{"$f":"VLOOKUP($A$3,'16T-GCM-R_Edad2022'!$A$2:$BI$34,14,0)","v":45},{"$f":"VLOOKUP($A$3,'16T-GCM-R_Edad2022'!$A$2:$BI$34,34,0)","v":22},{"$f":"VLOOKUP($A$3,'16T-GCM-R_Edad2022'!$A$2:$BI$34,54,0)","v":23}]
["60-64 años",{"$f":"VLOOKUP($A$3,'16T-GCM-R_Edad2020  '!$A$2:$BI$34,15,0)","v":46},{"$f":"VLOOKUP($A$3,'16T-GCM-R_Edad2020  '!$A$2:$BI$34,35,0)","v":28},{"$f":"VLOOKUP($A$3,'16T-GCM-R_Edad2020  '!$A$2:$BI$34,55,0)","v":18},{"$f":"VLOOKUP($A$3,'16T-GCM-R_Edad2021'!$A$2:$BI$34,15,0)","v":54},{"$f":"VLOOKUP($A$3,'16T-GCM-R_Edad2021'!$A$2:$BI$34,35,0)","v":30},{"$f":"VLOOKUP($A$3,'16T-GCM-R_Edad2021'!$A$2:$BI$34,55,0)","v":24},{"$f":"VLOOKUP($A$3,'16T-GCM-R_Edad2022'!$A$2:$BI$34,15,0)","v":52},{"$f":"VLOOKUP($A$3,'16T-GCM-R_Edad2022'!$A$2:$BI$34,35,0)","v":31},{"$f":"VLOOKUP($A$3,'16T-GCM-R_Edad2022'!$A$2:$BI$34,55,0)","v":21}]
["65-69 años",{"$f":"VLOOKUP($A$3,'16T-GCM-R_Edad2020  '!$A$2:$BI$34,16,0)","v":63},{"$f":"VLOOKUP($A$3,'16T-GCM-R_Edad2020  '!$A$2:$BI$34,36,0)","v":28},{"$f":"VLOOKUP($A$3,'16T-GCM-R_Edad2020  '!$A$2:$BI$34,56,0)","v":35},{"$f":"VLOOKUP($A$3,'16T-GCM-R_Edad2021'!$A$2:$BI$34,16,0)","v":71},{"$f":"VLOOKUP($A$3,'16T-GCM-R_Edad2021'!$A$2:$BI$34,36,0)","v":40},{"$f":"VLOOKUP($A$3,'16T-GCM-R_Edad2021'!$A$2:$BI$34,56,0)","v":31},{"$f":"VLOOKUP($A$3,'16T-GCM-R_Edad2022'!$A$2:$BI$34,16,0)","v":64},{"$f":"VLOOKUP($A$3,'16T-GCM-R_Edad2022'!$A$2:$BI$34,36,0)","v":38},{"$f":"VLOOKUP($A$3,'16T-GCM-R_Edad2022'!$A$2:$BI$34,56,0)","v":26}]
["70-74 años",{"$f":"VLOOKUP($A$3,'16T-GCM-R_Edad2020  '!$A$2:$BI$34,17,0)","v":71},{"$f":"VLOOKUP($A$3,'16T-GCM-R_Edad2020  '!$A$2:$BI$34,37,0)","v":45},{"$f":"VLOOKUP($A$3,'16T-GCM-R_Edad2020  '!$A$2:$BI$34,57,0)","v":26},{"$f":"VLOOKUP($A$3,'16T-GCM-R_Edad2021'!$A$2:$BI$34,17,0)","v":52},{"$f":"VLOOKUP($A$3,'16T-GCM-R_Edad2021'!$A$2:$BI$34,37,0)","v":27},{"$f":"VLOOKUP($A$3,'16T-GCM-R_Edad2021'!$A$2:$BI$34,57,0)","v":25},{"$f":"VLOOKUP($A$3,'16T-GCM-R_Edad2022'!$A$2:$BI$34,17,0)","v":65},{"$f":"VLOOKUP($A$3,'16T-GCM-R_Edad2022'!$A$2:$BI$34,37,0)","v":42},{"$f":"VLOOKUP($A$3,'16T-GCM-R_Edad2022'!$A$2:$BI$34,57,0)","v":23}]
["75-79 años",{"$f":"VLOOKUP($A$3,'16T-GCM-R_Edad2020  '!$A$2:$BI$34,18,0)","v":75},{"$f":"VLOOKUP($A$3,'16T-GCM-R_Edad2020  '!$A$2:$BI$34,38,0)","v":46},{"$f":"VLOOKUP($A$3,'16T-GCM-R_Edad2020  '!$A$2:$BI$34,58,0)","v":29},{"$f":"VLOOKUP($A$3,'16T-GCM-R_Edad2021'!$A$2:$BI$34,18,0)","v":88},{"$f":"VLOOKUP($A$3,'16T-GCM-R_Edad2021'!$A$2:$BI$34,38,0)","v":54},{"$f":"VLOOKUP($A$3,'16T-GCM-R_Edad2021'!$A$2:$BI$34,58,0)","v":34},{"$f":"VLOOKUP($A$3,'16T-GCM-R_Edad2022'!$A$2:$BI$34,18,0)","v":72},{"$f":"VLOOKUP($A$3,'16T-GCM-R_Edad2022'!$A$2:$BI$34,38,0)","v":41},{"$f":"VLOOKUP($A$3,'16T-GCM-R_Edad2022'!$A$2:$BI$34,58,0)","v":31}]
["80-84 años",{"$f":"VLOOKUP($A$3,'16T-GCM-R_Edad2020  '!$A$2:$BI$34,19,0)","v":84},{"$f":"VLOOKUP($A$3,'16T-GCM-R_Edad2020  '!$A$2:$BI$34,39,0)","v":52},{"$f":"VLOOKUP($A$3,'16T-GCM-R_Edad2020  '!$A$2:$BI$34,59,0)","v":32},{"$f":"VLOOKUP($A$3,'16T-GCM-R_Edad2021'!$A$2:$BI$34,19,0)","v":84},{"$f":"VLOOKUP($A$3,'16T-GCM-R_Edad2021'!$A$2:$BI$34,39,0)","v":43},{"$f":"VLOOKUP($A$3,'16T-GCM-R_Edad2021'!$A$2:$BI$34,59,0)","v":41},{"$f":"VLOOKUP($A$3,'16T-GCM-R_Edad2022'!$A$2:$BI$34,19,0)","v":75},{"$f":"VLOOKUP($A$3,'16T-GCM-R_Edad2022'!$A$2:$BI$34,39,0)","v":46},{"$f":"VLOOKUP($A$3,'16T-GCM-R_Edad2022'!$A$2:$BI$34,59,0)","v":29}]
["85 años y más",{"$f":"VLOOKUP($A$3,'16T-GCM-R_Edad2020  '!$A$2:$BI$34,20,0)","v":140},{"$f":"VLOOKUP($A$3,'16T-GCM-R_Edad2020  '!$A$2:$BI$34,40,0)","v":92},{"$f":"VLOOKUP($A$3,'16T-GCM-R_Edad2020  '!$A$2:$BI$34,60,0)","v":48},{"$f":"VLOOKUP($A$3,'16T-GCM-R_Edad2021'!$A$2:$BI$34,20,0)","v":133},{"$f":"VLOOKUP($A$3,'16T-GCM-R_Edad2021'!$A$2:$BI$34,40,0)","v":77},{"$f":"VLOOKUP($A$3,'16T-GCM-R_Edad2021'!$A$2:$BI$34,60,0)","v":56},{"$f":"VLOOKUP($A$3,'16T-GCM-R_Edad2022'!$A$2:$BI$34,20,0)","v":163},{"$f":"VLOOKUP($A$3,'16T-GCM-R_Edad2022'!$A$2:$BI$34,40,0)","v":81},{"$f":"VLOOKUP($A$3,'16T-GCM-R_Edad2022'!$A$2:$BI$34,60,0)","v":82}]
["No especificado",{"$f":"VLOOKUP($A$3,'16T-GCM-R_Edad2020  '!$A$2:$BI$34,21,0)","v":0},{"$f":"VLOOKUP($A$3,'16T-GCM-R_Edad2020  '!$A$2:$BI$34,41,0)","v":0},{"$f":"VLOOKUP($A$3,'16T-GCM-R_Edad2020  '!$A$2:$BI$34,61,0)","v":0},{"$f":"VLOOKUP($A$3,'16T-GCM-R_Edad2021'!$A$2:$BI$34,21,0)","v":0},{"$f":"VLOOKUP($A$3,'16T-GCM-R_Edad2021'!$A$2:$BI$34,41,0)","v":0},{"$f":"VLOOKUP($A$3,'16T-GCM-R_Edad2021'!$A$2:$BI$34,61,0)","v":0},{"$f":"VLOOKUP($A$3,'16T-GCM-R_Edad2022'!$A$2:$BI$34,21,0)","v":0},{"$f":"VLOOKUP($A$3,'16T-GCM-R_Edad2022'!$A$2:$BI$34,41,0)","v":0},{"$f":"VLOOKUP($A$3,'16T-GCM-R_Edad2022'!$A$2:$BI$34,61,0)","v":0}]
["Total",{"$f":"SUM(B4:B23)","v":628},370,258,655,357,298,631,{"$f":"SUM(I4:I23)","v":359},{"$f":"SUM(J4:J23)","v":272}]

{"sheet":"17T-GCM-R_Edad2020  ","index":126,"n_rows":34,"n_cols":61,"rows_kept":34,"cut":false,"hidden":true,"merged":[]}
[1,2,3,4,5,6,7,8,9,10,11,12,13,14,15,16,17,18,19,20,21,22,23,24,25,26,27,28,29,30,31,32,33,34,35,36,37,38,39,40,41,42,43,44,45,46,47,48,49,50,51,52,53,54,55,56,57,58,59,60,61]
["ESTADO","Menores de 1 año","1-4 años","5-9 años","10-14 años","15-19 años","20-24 años","25-29 años","30-34 años","35-39 años","40-44 años","45-49 años","50-54 años","55-59 años","60-64 años","65-69 años","70-74 años","75-79 años","80-84 años","85 años y más","No especificado","H Menores de 1 año","H 1-4 años","H 5-9 años","H 10-14 años","H 15-19 años","H 20-24 años","H 25-29 años","H 30-34 años","H 35-39 años","H 40-44 años","H 45-49 años","H 50-54 años","H 55-59 años","H 60-64 años","H 65-69 años","H 70-74 años","H 75-79 años","H 80-84 años","H 85 años y más","H No especificado","   M Menores de 1 año ","M 1-4 años","M 5-9 años","M 10-14 años","M 15-19 años","M 20-24 años","M 25-29 años","M 30-34 años","M 35-39 años","M 40-44 años","M 45-49 años","M 50-54 años","M 55-59 años","M 60-64 años","M 65-69 años","M 70-74 años","M 75-79 años","M 80-84 años","M 85 años y    ás","M No especificado"]
["Aguascalientes",0,0,0,0,2,4,1,6,4,0,0,0,0,0,0,0,0,0,0,0,null,null,null,null,null,null,null,null,null,null,null,null,null,null,null,null,null,null,null,null,0,0,0,0,2,4,1,6,4,0,0,0,0,0,0,0,0,0,0,0]
["Baja California",0,0,0,0,2,8,7,6,6,1,0,0,0,0,0,0,0,0,0,0,null,null,null,null,null,null,null,null,null,null,null,null,null,null,null,null,null,null,null,null,0,0,0,0,2,8,7,6,6,1,0,0,0,0,0,0,0,0,0,0]
["Baja California Sur",0,0,0,0,0,0,1,1,0,0,1,0,0,0,0,0,0,0,0,0,null,null,null,null,null,null,null,null,null,null,null,null,null,null,null,null,null,null,null,null,0,0,0,0,0,0,1,1,0,0,1,0,0,0,0,0,0,0,0,0]
["Campeche",0,0,0,0,1,1,1,1,3,2,0,0,0,0,0,0,0,0,0,0,null,null,null,null,null,null,null,null,null,null,null,null,null,null,null,null,null,null,null,null,0,0,0,0,1,1,1,1,3,2,0,0,0,0,0,0,0,0,0,0]
["Coahuila",0,0,0,0,1,12,7,7,5,2,0,0,0,0,0,0,0,0,0,0,null,null,null,null,null,null,null,null,null,null,null,null,null,null,null,null,null,null,null,null,0,0,0,0,1,12,7,7,5,2,0,0,0,0,0,0,0,0,0,0]
["Colima",0,0,0,0,1,1,0,0,1,0,0,0,0,0,0,0,0,0,0,0,null,null,null,null,null,null,null,null,null,null,null,null,null,null,null,null,null,null,null,null,0,0,0,0,1,1,0,0,1,0,0,0,0,0,0,0,0,0,0,0]
["Chiapas",0,0,0,1,8,10,24,18,12,1,0,0,0,0,0,0,0,0,0,0,null,null,null,null,null,null,null,null,null,null,null,null,null,null,null,null,null,null,null,null,0,0,0,1,8,10,24,18,12,1,0,0,0,0,0,0,0,0,0,0]
["Chihuahua",0,0,0,1,5,15,8,9,7,3,1,1,0,0,0,0,0,0,0,0,null,null,null,null,null,null,null,null,null,null,null,null,null,null,null,null,null,null,null,null,0,0,0,1,5,15,8,9,7,3,1,1,0,0,0,0,0,0,0,0]
["Ciudad de México",0,0,0,0,5,15,29,20,22,10,1,0,0,0,0,0,0,0,0,0,null,null,null,null,null,null,null,null,null,null,null,null,null,null,null,null,null,null,null,null,0,0,0,0,5,15,29,20,22,10,1,0,0,0,0,0,0,0,0,0]
["Durango",0,0,0,0,1,3,1,2,4,2,0,0,0,0,0,0,0,0,0,0,null,null,null,null,null,null,null,null,null,null,null,null,null,null,null,null,null,null,null,null,0,0,0,0,1,3,1,2,4,2,0,0,0,0,0,0,0,0,0,0]
["Guanajuato",0,0,0,0,2,9,12,15,6,2,0,0,0,0,0,0,0,0,0,0,null,null,null,null,null,null,null,null,null,null,null,null,null,null,null,null,null,null,null,null,0,0,0,0,2,9,12,15,6,2,0,0,0,0,0,0,0,0,0,0]
["Guerrero",0,0,0,0,3,8,13,9,10,1,1,0,0,0,0,0,0,0,0,0,null,null,null,null,null,null,null,null,null,null,null,null,null,null,null,null,null,null,null,null,0,0,0,0,3,8,13,9,10,1,1,0,0,0,0,0,0,0,0,0]
["Hidalgo",0,0,0,0,3,3,2,4,2,0,0,0,0,0,0,0,0,0,0,0,null,null,null,null,null,null,null,null,null,null,null,null,null,null,null,null,null,null,null,null,0,0,0,0,3,3,2,4,2,0,0,0,0,0,0,0,0,0,0,0]
["Jalisco",0,0,0,0,5,21,11,12,18,5,2,0,0,0,0,0,0,0,0,0,null,null,null,null,null,null,null,null,null,null,null,null,null,null,null,null,null,null,null,null,0,0,0,0,5,21,11,12,18,5,2,0,0,0,0,0,0,0,0,0]
["México",0,0,0,0,11,30,22,29,24,8,1,1,0,0,0,0,0,0,0,0,null,null,null,null,null,null,null,null,null,null,null,null,null,null,null,null,null,null,null,null,0,0,0,0,11,30,22,29,24,8,1,1,0,0,0,0,0,0,0,0]
["Michoacán",0,0,0,1,5,5,14,15,8,2,0,0,0,0,0,0,0,0,0,0,null,null,null,null,null,null,null,null,null,null,null,null,null,null,null,null,null,null,null,null,0,0,0,1,5,5,14,15,8,2,0,0,0,0,0,0,0,0,0,0]
["Morelos",0,0,0,0,2,3,3,3,2,1,0,0,0,0,0,0,0,0,0,0,null,null,null,null,null,null,null,null,null,null,null,null,null,null,null,null,null,null,null,null,0,0,0,0,2,3,3,3,2,1,0,0,0,0,0,0,0,0,0,0]
["Nayarit",0,0,0,0,3,5,3,2,0,1,0,0,0,0,0,0,0,0,0,0,null,null,null,null,null,null,null,null,null,null,null,null,null,null,null,null,null,null,null,null,0,0,0,0,3,5,3,2,0,1,0,0,0,0,0,0,0,0,0,0]
["Nuevo León",0,0,0,0,4,9,10,6,10,1,1,0,0,0,0,0,0,0,0,0,null,null,null,null,null,null,null,null,null,null,null,null,null,null,null,null,null,null,null,null,0,0,0,0,4,9,10,6,10,1,1,0,0,0,0,0,0,0,0,0]
["Oaxaca",0,0,0,0,6,7,11,14,9,5,0,0,0,0,0,0,0,0,0,0,null,null,null,null,null,null,null,null,null,null,null,null,null,null,null,null,null,null,null,null,0,0,0,0,6,7,11,14,9,5,0,0,0,0,0,0,0,0,0,0]
["Puebla",0,0,0,1,4,8,14,16,16,2,0,1,0,0,0,0,0,0,0,0,null,null,null,null,null,null,null,null,null,null,null,null,null,null,null,null,null,null,null,null,0,0,0,1,4,8,14,16,16,2,0,1,0,0,0,0,0,0,0,0]
["Querétaro",0,0,0,0,1,1,2,4,4,0,0,0,0,0,0,0,0,0,0,0,null,null,null,null,null,null,null,null,null,null,null,null,null,null,null,null,null,null,null,null,0,0,0,0,1,1,2,4,4,0,0,0,0,0,0,0,0,0,0,0]
["Quintana Roo",0,0,0,0,5,5,4,3,2,3,0,0,0,0,0,0,0,0,0,0,null,null,null,null,null,null,null,null,null,null,null,null,null,null,null,null,null,null,null,null,0,0,0,0,5,5,4,3,2,3,0,0,0,0,0,0,0,0,0,0]
["San Luis Potosí",0,0,0,0,1,12,9,4,1,3,0,0,0,0,0,0,0,0,0,0,null,null,null,null,null,null,null,null,null,null,null,null,null,null,null,null,null,null,null,null,0,0,0,0,1,12,9,4,1,3,0,0,0,0,0,0,0,0,0,0]
["Sinaloa",0,0,0,0,5,5,7,7,7,2,1,0,0,0,0,0,0,0,0,0,null,null,null,null,null,null,null,null,null,null,null,null,null,null,null,null,null,null,null,null,0,0,0,0,5,5,7,7,7,2,1,0,0,0,0,0,0,0,0,0]
["Sonora",0,0,0,0,3,9,5,6,3,2,0,0,0,0,0,0,0,0,0,0,null,null,null,null,null,null,null,null,null,null,null,null,null,null,null,null,null,null,null,null,0,0,0,0,3,9,5,6,3,2,0,0,0,0,0,0,0,0,0,0]
["Tabasco",0,0,0,0,0,3,7,11,6,5,0,0,0,0,0,0,0,0,0,0,null,null,null,null,null,null,null,null,null,null,null,null,null,null,null,null,null,null,null,null,0,0,0,0,0,3,7,11,6,5,0,0,0,0,0,0,0,0,0,0]
["Tamaulipas",0,0,0,1,5,7,6,11,5,3,0,0,0,0,0,0,0,0,0,0,null,null,null,null,null,null,null,null,null,null,null,null,null,null,null,null,null,null,null,null,0,0,0,1,5,7,6,11,5,3,0,0,0,0,0,0,0,0,0,0]
["Tlaxcala",0,0,0,0,1,3,4,3,2,0,0,0,0,0,0,0,0,0,0,0,null,null,null,null,null,null,null,null,null,null,null,null,null,null,null,null,null,null,null,null,0,0,0,0,1,3,4,3,2,0,0,0,0,0,0,0,0,0,0,0]
["Veracruz",0,0,0,0,2,10,10,6,11,5,1,0,0,0,0,0,0,0,0,0,null,null,null,null,null,null,null,null,null,null,null,null,null,null,null,null,null,null,null,null,0,0,0,0,2,10,10,6,11,5,1,0,0,0,0,0,0,0,0,0]
["Yucatán",0,0,0,0,0,1,6,6,7,2,0,0,0,0,0,0,0,0,0,0,null,null,null,null,null,null,null,null,null,null,null,null,null,null,null,null,null,null,null,null,0,0,0,0,0,1,6,6,7,2,0,0,0,0,0,0,0,0,0,0]
["Zacatecas",0,0,0,0,2,4,6,6,4,0,0,0,0,0,0,0,0,0,0,0,null,null,null,null,null,null,null,null,null,null,null,null,null,null,null,null,null,null,null,null,0,0,0,0,2,4,6,6,4,0,0,0,0,0,0,0,0,0,0,0]

{"sheet":"17T-GCM-R_Edad2021","index":127,"n_rows":34,"n_cols":61,"rows_kept":34,"cut":false,"hidden":true,"merged":[]}
[1,2,3,4,5,6,7,8,9,10,11,12,13,14,15,16,17,18,19,20,21,22,23,24,25,26,27,28,29,30,31,32,33,34,35,36,37,38,39,40,41,42,43,44,45,46,47,48,49,50,51,52,53,54,55,56,57,58,59,60,61]
["ESTADO","Menores de 1 año","1-4 años","5-9 años","10-14 años","15-19 años","20-24 años","25-29 años","30-34 años","35-39 años","40-44 años","45-49 años","50-54 años","55-59 años","60-64 años","65-69 años","70-74 años","75-79 años","80-84 años","85 años y más","No especificado","H Menores de 1 año","H 1-4 años","H 5-9 años","H 10-14 años","H 15-19 años","H 20-24 años","H 25-29 años","H 30-34 años","H 35-39 años","H 40-44 años","H 45-49 años","H 50-54 años","H 55-59 años","H 60-64 años","H 65-69 años","H 70-74 años","H 75-79 años","H 80-84 años","H 85 años y más","H No especificado","   M Menores de 1 año ","M 1-4 años","M 5-9 años","M 10-14 años","M 15-19 años","M 20-24 años","M 25-29 años","M 30-34 años","M 35-39 años","M 40-44 años","M 45-49 años","M 50-54 años","M 55-59 años","M 60-64 años","M 65-69 años","M 70-74 años","M 75-79 años","M 80-84 años","M 85 años y    ás","M No especificado"]
["Aguascalientes",0,0,0,0,2,0,4,0,3,2,3,0,0,0,0,0,0,0,0,0,null,null,null,null,null,null,null,null,null,null,null,null,null,null,null,null,null,null,null,null,0,0,0,0,2,0,4,0,3,2,3,0,0,0,0,0,0,0,0,0]
["Baja California",0,0,0,0,2,7,10,5,8,2,0,1,0,0,0,0,0,0,0,0,null,null,null,null,null,null,null,null,null,null,null,null,null,null,null,null,null,null,null,null,0,0,0,0,2,7,10,5,8,2,0,1,0,0,0,0,0,0,0,0]
["Baja California Sur",0,0,0,0,1,1,1,4,0,0,0,0,0,0,0,0,0,0,0,0,null,null,null,null,null,null,null,null,null,null,null,null,null,null,null,null,null,null,null,null,0,0,0,0,1,1,1,4,0,0,0,0,0,0,0,0,0,0,0,0]
["Campeche",0,0,0,0,3,1,2,2,1,1,1,0,0,0,0,0,0,0,0,0,null,null,null,null,null,null,null,null,null,null,null,null,null,null,null,null,null,null,null,null,0,0,0,0,3,1,2,2,1,1,1,0,0,0,0,0,0,0,0,0]
["Coahuila",0,0,0,0,1,4,7,10,4,1,0,0,0,0,0,0,0,0,0,0,null,null,null,null,null,null,null,null,null,null,null,null,null,null,null,null,null,null,null,null,0,0,0,0,1,4,7,10,4,1,0,0,0,0,0,0,0,0,0,0]
["Colima",0,0,0,0,1,2,1,0,0,1,0,0,0,0,0,0,0,0,0,0,null,null,null,null,null,null,null,null,null,null,null,null,null,null,null,null,null,null,null,null,0,0,0,0,1,2,1,0,0,1,0,0,0,0,0,0,0,0,0,0]
["Chiapas",0,0,0,1,5,16,12,11,14,10,0,0,0,0,0,0,0,0,0,0,null,null,null,null,null,null,null,null,null,null,null,null,null,null,null,null,null,null,null,null,0,0,0,1,5,16,12,11,14,10,0,0,0,0,0,0,0,0,0,0]
["Chihuahua",0,0,0,0,4,9,12,11,4,1,2,0,0,0,0,0,0,0,0,0,null,null,null,null,null,null,null,null,null,null,null,null,null,null,null,null,null,null,null,null,0,0,0,0,4,9,12,11,4,1,2,0,0,0,0,0,0,0,0,0]
["Ciudad de México",0,0,0,1,5,13,27,14,21,5,1,1,1,0,0,0,0,0,0,0,null,null,null,null,null,null,null,null,null,null,null,null,null,null,null,null,null,null,null,null,0,0,0,1,5,13,27,14,21,5,1,1,1,0,0,0,0,0,0,0]
["Durango",0,0,0,0,2,4,4,2,4,1,0,0,0,0,0,0,0,0,0,1,null,null,null,null,null,null,null,null,null,null,null,null,null,null,null,null,null,null,null,null,0,0,0,0,2,4,4,2,4,1,0,0,0,0,0,0,0,0,0,1]
["Guanajuato",0,0,0,0,1,13,11,9,5,2,0,0,0,0,0,0,0,0,0,0,null,null,null,null,null,null,null,null,null,null,null,null,null,null,null,null,null,null,null,null,0,0,0,0,1,13,11,9,5,2,0,0,0,0,0,0,0,0,0,0]
["Guerrero",0,0,0,0,6,7,11,11,6,3,0,0,0,0,0,0,0,0,0,0,null,null,null,null,null,null,null,null,null,null,null,null,null,null,null,null,null,null,null,null,0,0,0,0,6,7,11,11,6,3,0,0,0,0,0,0,0,0,0,0]
["Hidalgo",0,0,0,0,5,7,10,8,2,2,0,0,0,0,0,0,0,0,0,0,null,null,null,null,null,null,null,null,null,null,null,null,null,null,null,null,null,null,null,null,0,0,0,0,5,7,10,8,2,2,0,0,0,0,0,0,0,0,0,0]
["Jalisco",0,0,0,0,6,10,15,27,13,9,0,0,0,0,0,0,0,0,0,0,null,null,null,null,null,null,null,null,null,null,null,null,null,null,null,null,null,null,null,null,0,0,0,0,6,10,15,27,13,9,0,0,0,0,0,0,0,0,0,0]
["México",0,0,0,0,8,26,30,31,24,11,4,1,0,0,0,0,0,0,0,0,null,null,null,null,null,null,null,null,null,null,null,null,null,null,null,null,null,null,null,null,0,0,0,0,8,26,30,31,24,11,4,1,0,0,0,0,0,0,0,0]
["Michoacán",0,0,0,2,6,10,10,6,13,3,1,0,0,0,0,0,0,0,0,0,null,null,null,null,null,null,null,null,null,null,null,null,null,null,null,null,null,null,null,null,0,0,0,2,6,10,10,6,13,3,1,0,0,0,0,0,0,0,0,0]
["Morelos",0,0,0,0,0,1,4,4,4,1,0,0,0,0,0,0,0,0,0,0,null,null,null,null,null,null,null,null,null,null,null,null,null,null,null,null,null,null,null,null,0,0,0,0,0,1,4,4,4,1,0,0,0,0,0,0,0,0,0,0]
["Nayarit",0,0,0,0,0,5,4,5,5,2,0,0,0,0,0,0,0,0,0,0,null,null,null,null,null,null,null,null,null,null,null,null,null,null,null,null,null,null,null,null,0,0,0,0,0,5,4,5,5,2,0,0,0,0,0,0,0,0,0,0]
["Nuevo León",0,0,0,0,2,8,16,13,13,5,0,0,0,0,0,0,0,0,0,0,null,null,null,null,null,null,null,null,null,null,null,null,null,null,null,null,null,null,null,null,0,0,0,0,2,8,16,13,13,5,0,0,0,0,0,0,0,0,0,0]
["Oaxaca",0,0,0,0,7,6,14,6,12,3,0,0,0,0,0,0,0,0,0,0,null,null,null,null,null,null,null,null,null,null,null,null,null,null,null,null,null,null,null,null,0,0,0,0,7,6,14,6,12,3,0,0,0,0,0,0,0,0,0,0]
["Puebla",0,0,0,0,5,17,22,24,17,6,0,0,0,0,0,0,0,0,0,0,null,null,null,null,null,null,null,null,null,null,null,null,null,null,null,null,null,null,null,null,0,0,0,0,5,17,22,24,17,6,0,0,0,0,0,0,0,0,0,0]
["Querétaro",0,0,0,0,1,3,4,4,4,2,1,0,0,0,0,0,0,0,0,0,null,null,null,null,null,null,null,null,null,null,null,null,null,null,null,null,null,null,null,null,0,0,0,0,1,3,4,4,4,2,1,0,0,0,0,0,0,0,0,0]
["Quintana Roo",0,0,0,0,1,3,4,3,8,0,0,0,0,0,0,0,0,0,0,0,null,null,null,null,null,null,null,null,null,null,null,null,null,null,null,null,null,null,null,null,0,0,0,0,1,3,4,3,8,0,0,0,0,0,0,0,0,0,0,0]
["San Luis Potosí",0,0,0,0,3,5,1,6,6,0,0,0,0,0,0,0,0,0,0,0,null,null,null,null,null,null,null,null,null,null,null,null,null,null,null,null,null,null,null,null,0,0,0,0,3,5,1,6,6,0,0,0,0,0,0,0,0,0,0,0]
["Sinaloa",0,0,0,0,6,8,8,5,11,2,0,0,0,0,0,0,0,0,0,0,null,null,null,null,null,null,null,null,null,null,null,null,null,null,null,null,null,null,null,null,0,0,0,0,6,8,8,5,11,2,0,0,0,0,0,0,0,0,0,0]
["Sonora",0,0,0,0,3,1,3,7,9,2,0,0,0,0,0,0,0,0,0,0,null,null,null,null,null,null,null,null,null,null,null,null,null,null,null,null,null,null,null,null,0,0,0,0,3,1,3,7,9,2,0,0,0,0,0,0,0,0,0,0]
["Tabasco",0,0,0,0,6,4,6,5,5,2,0,0,0,0,0,0,0,0,0,0,null,null,null,null,null,null,null,null,null,null,null,null,null,null,null,null,null,null,null,null,0,0,0,0,6,4,6,5,5,2,0,0,0,0,0,0,0,0,0,0]
["Tamaulipas",0,0,0,0,0,9,9,13,8,4,1,0,0,0,0,0,0,0,0,0,null,null,null,null,null,null,null,null,null,null,null,null,null,null,null,null,null,null,null,null,0,0,0,0,0,9,9,13,8,4,1,0,0,0,0,0,0,0,0,0]
["Tlaxcala",0,0,0,0,1,3,1,1,0,1,0,0,0,0,0,0,0,0,0,0,null,null,null,null,null,null,null,null,null,null,null,null,null,null,null,null,null,null,null,null,0,0,0,0,1,3,1,1,0,1,0,0,0,0,0,0,0,0,0,0]
["Veracruz",0,0,0,0,6,5,24,21,21,2,0,0,0,0,0,0,0,0,0,0,null,null,null,null,null,null,null,null,null,null,null,null,null,null,null,null,null,null,null,null,0,0,0,0,6,5,24,21,21,2,0,0,0,0,0,0,0,0,0,0]
["Yucatán",0,0,0,0,2,7,7,8,6,0,0,0,0,0,0,0,0,0,0,0,null,null,null,null,null,null,null,null,null,null,null,null,null,null,null,null,null,null,null,null,0,0,0,0,2,7,7,8,6,0,0,0,0,0,0,0,0,0,0,0]
["Zacatecas",0,0,0,0,1,3,5,0,3,0,1,0,0,0,0,0,0,0,0,0,null,null,null,null,null,null,null,null,null,null,null,null,null,null,null,null,null,null,null,null,0,0,0,0,1,3,5,0,3,0,1,0,0,0,0,0,0,0,0,0]

{"sheet":"17T-GCM-R_Edad2022 ","index":128,"n_rows":34,"n_cols":61,"rows_kept":34,"cut":false,"hidden":true,"merged":[]}
[1,2,3,4,5,6,7,8,9,10,11,12,13,14,15,16,17,18,19,20,21,22,23,24,25,26,27,28,29,30,31,32,33,34,35,36,37,38,39,40,41,42,43,44,45,46,47,48,49,50,51,52,53,54,55,56,57,58,59,60,61]
["ESTADO","Menores de 1 año","1-4 años","5-9 años","10-14 años","15-19 años","20-24 años","25-29 años","30-34 años","35-39 años","40-44 años","45-49 años","50-54 años","55-59 años","60-64 años","65-69 años","70-74 años","75-79 años","80-84 años","85 años y más","No especificado","H Menores de 1 año","H 1-4 años","H 5-9 años","H 10-14 años","H 15-19 años","H 20-24 años","H 25-29 años","H 30-34 años","H 35-39 años","H 40-44 años","H 45-49 años","H 50-54 años","H 55-59 años","H 60-64 años","H 65-69 años","H 70-74 años","H 75-79 años","H 80-84 años","H 85 años y más","H No especificado","   M Menores de 1 año ","M 1-4 años","M 5-9 años","M 10-14 años","M 15-19 años","M 20-24 años","M 25-29 años","M 30-34 años","M 35-39 años","M 40-44 años","M 45-49 años","M 50-54 años","M 55-59 años","M 60-64 años","M 65-69 años","M 70-74 años","M 75-79 años","M 80-84 años","M 85 años y    ás","M No especificado"]
["Aguascalientes",0,0,0,0,1,1,2,0,2,0,0,0,0,0,0,0,0,0,0,0,null,null,null,null,null,null,null,null,null,null,null,null,null,null,null,null,null,null,null,null,0,0,0,0,1,1,2,0,2,0,0,0,0,0,0,0,0,0,0,0]
["Baja California",0,0,0,0,2,9,7,6,3,2,0,0,0,0,0,0,0,0,0,0,null,null,null,null,null,null,null,null,null,null,null,null,null,null,null,null,null,null,null,null,0,0,0,0,2,9,7,6,3,2,0,0,0,0,0,0,0,0,0,0]
["Baja California Sur",0,0,0,0,0,0,0,1,1,0,0,0,0,0,0,0,0,0,0,0,null,null,null,null,null,null,null,null,null,null,null,null,null,null,null,null,null,null,null,null,0,0,0,0,0,0,0,1,1,0,0,0,0,0,0,0,0,0,0,0]
["Campeche",0,0,0,0,0,0,2,0,1,0,0,0,0,0,0,0,0,0,0,0,null,null,null,null,null,null,null,null,null,null,null,null,null,null,null,null,null,null,null,null,0,0,0,0,0,0,2,0,1,0,0,0,0,0,0,0,0,0,0,0]
["Coahuila",0,0,0,0,2,11,4,2,1,1,1,0,0,0,0,0,0,0,0,0,null,null,null,null,null,null,null,null,null,null,null,null,null,null,null,null,null,null,null,null,0,0,0,0,2,11,4,2,1,1,1,0,0,0,0,0,0,0,0,0]
["Colima",0,0,0,0,2,1,0,0,1,0,0,0,0,0,0,0,0,0,0,0,null,null,null,null,null,null,null,null,null,null,null,null,null,null,null,null,null,null,null,null,0,0,0,0,2,1,0,0,1,0,0,0,0,0,0,0,0,0,0,0]
["Chiapas",0,0,0,0,7,8,12,10,4,1,0,0,0,0,0,0,0,0,0,0,null,null,null,null,null,null,null,null,null,null,null,null,null,null,null,null,null,null,null,null,0,0,0,0,7,8,12,10,4,1,0,0,0,0,0,0,0,0,0,0]
["Chihuahua",0,0,0,0,6,12,6,5,5,2,0,0,0,0,0,0,0,0,0,0,null,null,null,null,null,null,null,null,null,null,null,null,null,null,null,null,null,null,null,null,0,0,0,0,6,12,6,5,5,2,0,0,0,0,0,0,0,0,0,0]
["Ciudad de México",0,0,0,0,3,9,11,16,12,7,2,0,0,0,0,0,0,0,0,0,null,null,null,null,null,null,null,null,null,null,null,null,null,null,null,null,null,null,null,null,0,0,0,0,3,9,11,16,12,7,2,0,0,0,0,0,0,0,0,0]
["Durango",0,0,0,0,3,8,9,12,10,0,0,0,0,0,0,0,0,0,0,0,null,null,null,null,null,null,null,null,null,null,null,null,null,null,null,null,null,null,null,null,0,0,0,0,3,8,9,12,10,0,0,0,0,0,0,0,0,0,0,0]
["Guanajuato",0,0,0,0,3,8,5,13,6,0,0,0,0,0,0,0,0,0,0,0,null,null,null,null,null,null,null,null,null,null,null,null,null,null,null,null,null,null,null,null,0,0,0,0,3,8,5,13,6,0,0,0,0,0,0,0,0,0,0,0]
["Guerrero",0,0,0,2,4,5,8,5,9,3,0,0,0,0,0,0,0,0,0,0,null,null,null,null,null,null,null,null,null,null,null,null,null,null,null,null,null,null,null,null,0,0,0,2,4,5,8,5,9,3,0,0,0,0,0,0,0,0,0,0]
["Hidalgo",0,0,0,0,0,6,4,5,1,0,0,0,0,0,0,0,0,0,0,0,null,null,null,null,null,null,null,null,null,null,null,null,null,null,null,null,null,null,null,null,0,0,0,0,0,6,4,5,1,0,0,0,0,0,0,0,0,0,0,0]
["Jalisco",0,0,0,1,5,9,17,14,5,6,0,0,0,0,0,0,0,0,0,0,null,null,null,null,null,null,null,null,null,null,null,null,null,null,null,null,null,null,null,null,0,0,0,1,5,9,17,14,5,6,0,0,0,0,0,0,0,0,0,0]
["México",0,0,0,0,5,20,22,16,15,8,1,0,0,0,0,0,0,0,0,0,null,null,null,null,null,null,null,null,null,null,null,null,null,null,null,null,null,null,null,null,0,0,0,0,5,20,22,16,15,8,1,0,0,0,0,0,0,0,0,0]
["Michoacán",0,0,0,1,4,5,10,7,6,3,1,0,0,0,0,0,0,0,1,0,null,null,null,null,null,null,null,null,null,null,null,null,null,null,null,null,null,null,null,null,0,0,0,1,4,5,10,7,6,3,1,0,0,0,0,0,0,0,1,0]
["Morelos",0,0,0,0,0,0,2,2,2,0,0,0,0,0,0,0,0,0,0,0,null,null,null,null,null,null,null,null,null,null,null,null,null,null,null,null,null,null,null,null,0,0,0,0,0,0,2,2,2,0,0,0,0,0,0,0,0,0,0,0]
["Nayarit",0,0,0,0,3,1,5,4,3,1,0,0,0,0,0,0,0,0,0,0,null,null,null,null,null,null,null,null,null,null,null,null,null,null,null,null,null,null,null,null,0,0,0,0,3,1,5,4,3,1,0,0,0,0,0,0,0,0,0,0]
["Nuevo León",0,0,0,0,4,8,7,13,7,4,1,0,0,0,1,0,0,0,0,0,null,null,null,null,null,null,null,null,null,null,null,null,null,null,null,null,null,null,null,null,0,0,0,0,4,8,7,13,7,4,1,0,0,0,1,0,0,0,0,0]
["Oaxaca",0,0,0,0,2,5,18,11,4,0,1,0,0,0,0,0,0,0,0,0,null,null,null,null,null,null,null,null,null,null,null,null,null,null,null,null,null,null,null,null,0,0,0,0,2,5,18,11,4,0,1,0,0,0,0,0,0,0,0,0]
["Puebla",0,0,0,0,3,6,14,11,3,1,1,0,0,0,0,0,0,0,0,0,null,null,null,null,null,null,null,null,null,null,null,null,null,null,null,null,null,null,null,null,0,0,0,0,3,6,14,11,3,1,1,0,0,0,0,0,0,0,0,0]
["Querétaro",0,0,0,0,3,0,5,2,2,1,0,0,0,0,0,0,0,0,0,0,null,null,null,null,null,null,null,null,null,null,null,null,null,null,null,null,null,null,null,null,0,0,0,0,3,0,5,2,2,1,0,0,0,0,0,0,0,0,0,0]
["Quintana Roo",0,0,0,0,2,1,2,1,4,0,0,0,0,0,0,0,0,0,0,0,null,null,null,null,null,null,null,null,null,null,null,null,null,null,null,null,null,null,null,null,0,0,0,0,2,1,2,1,4,0,0,0,0,0,0,0,0,0,0,0]
["San Luis Potosí",0,0,0,0,2,3,5,6,2,0,0,0,0,0,0,0,0,0,0,0,null,null,null,null,null,null,null,null,null,null,null,null,null,null,null,null,null,null,null,null,0,0,0,0,2,3,5,6,2,0,0,0,0,0,0,0,0,0,0,0]
["Sinaloa",0,0,0,0,5,4,0,3,1,0,0,0,0,0,0,0,0,0,0,0,null,null,null,null,null,null,null,null,null,null,null,null,null,null,null,null,null,null,null,null,0,0,0,0,5,4,0,3,1,0,0,0,0,0,0,0,0,0,0,0]
["Sonora",0,0,0,0,1,6,4,6,1,1,0,0,0,0,0,0,0,0,0,0,null,null,null,null,null,null,null,null,null,null,null,null,null,null,null,null,null,null,null,null,0,0,0,0,1,6,4,6,1,1,0,0,0,0,0,0,0,0,0,0]
["Tabasco",0,0,0,0,2,5,8,6,4,1,0,0,0,0,0,0,0,0,0,0,null,null,null,null,null,null,null,null,null,null,null,null,null,null,null,null,null,null,null,null,0,0,0,0,2,5,8,6,4,1,0,0,0,0,0,0,0,0,0,0]
["Tamaulipas",0,0,0,0,0,2,8,7,2,0,1,0,1,0,0,0,0,0,0,0,null,null,null,null,null,null,null,null,null,null,null,null,null,null,null,null,null,null,null,null,0,0,0,0,0,2,8,7,2,0,1,0,1,0,0,0,0,0,0,0]
["Tlaxcala",0,0,0,0,0,1,6,3,5,0,0,0,0,0,0,0,0,0,0,0,null,null,null,null,null,null,null,null,null,null,null,null,null,null,null,null,null,null,null,null,0,0,0,0,0,1,6,3,5,0,0,0,0,0,0,0,0,0,0,0]
["Veracruz",0,0,0,0,8,10,16,12,5,4,0,0,0,0,0,0,0,0,0,0,null,null,null,null,null,null,null,null,null,null,null,null,null,null,null,null,null,null,null,null,0,0,0,0,8,10,16,12,5,4,0,0,0,0,0,0,0,0,0,0]
["Yucatán",0,0,0,0,1,2,2,4,1,1,0,0,0,0,0,0,0,0,0,0,null,null,null,null,null,null,null,null,null,null,null,null,null,null,null,null,null,null,null,null,0,0,0,0,1,2,2,4,1,1,0,0,0,0,0,0,0,0,0,0]
["Zacatecas",0,0,0,0,0,0,2,2,4,0,0,0,0,0,0,0,0,0,0,0,null,null,null,null,null,null,null,null,null,null,null,null,null,null,null,null,null,null,null,null,0,0,0,0,0,0,2,2,4,0,0,0,0,0,0,0,0,0,0,0]

{"sheet":"17 GCM-G_Edad","index":129,"n_rows":14,"n_cols":10,"rows_kept":14,"cut":false,"hidden":false,"merged":[[0,0,0,9]]}
["Embarazo, parto y puerperio"]
["SELECCIONE UNA ENTIDAD"]
["Durango","2020","H - 2020","M - 2020","2021","H - 2021","M - 2021","2022","H - 2022","M - 2022"]
["10-14 años",{"$f":"VLOOKUP($A$3,'17T-GCM-R_Edad2020  '!$A$2:$BI$34,5,0)","v":0},"NA",{"$f":"VLOOKUP($A$3,'17T-GCM-R_Edad2020  '!$A$2:$BI$34,45,0)","v":0},{"$f":"VLOOKUP($A$3,'17T-GCM-R_Edad2021'!$A$2:$BI$34,5,0)","v":0},"NA",{"$f":"VLOOKUP($A$3,'17T-GCM-R_Edad2021'!$A$2:$BI$34,45,0)","v":0},{"$f":"VLOOKUP($A$3,'17T-GCM-R_Edad2022 '!$A$2:$BI$34,5,0)","v":0},"NA",{"$f":"VLOOKUP($A$3,'17T-GCM-R_Edad2022 '!$A$2:$BI$34,45,0)","v":0}]
["15-19 años",{"$f":"VLOOKUP($A$3,'17T-GCM-R_Edad2020  '!$A$2:$BI$34,6,0)","v":1},"NA",{"$f":"VLOOKUP($A$3,'17T-GCM-R_Edad2020  '!$A$2:$BI$34,46,0)","v":1},{"$f":"VLOOKUP($A$3,'17T-GCM-R_Edad2021'!$A$2:$BI$34,6,0)","v":2},"NA",{"$f":"VLOOKUP($A$3,'17T-GCM-R_Edad2021'!$A$2:$BI$34,46,0)","v":2},{"$f":"VLOOKUP($A$3,'17T-GCM-R_Edad2022 '!$A$2:$BI$34,6,0)","v":3},"NA",{"$f":"VLOOKUP($A$3,'17T-GCM-R_Edad2022 '!$A$2:$BI$34,46,0)","v":3}]
["20-24 años",{"$f":"VLOOKUP($A$3,'17T-GCM-R_Edad2020  '!$A$2:$BI$34,7,0)","v":3},"NA",{"$f":"VLOOKUP($A$3,'17T-GCM-R_Edad2020  '!$A$2:$BI$34,47,0)","v":3},{"$f":"VLOOKUP($A$3,'17T-GCM-R_Edad2021'!$A$2:$BI$34,7,0)","v":4},"NA",{"$f":"VLOOKUP($A$3,'17T-GCM-R_Edad2021'!$A$2:$BI$34,47,0)","v":4},{"$f":"VLOOKUP($A$3,'17T-GCM-R_Edad2022 '!$A$2:$BI$34,7,0)","v":8},"NA",{"$f":"VLOOKUP($A$3,'17T-GCM-R_Edad2022 '!$A$2:$BI$34,47,0)","v":8}]
["25-29 años",{"$f":"VLOOKUP($A$3,'17T-GCM-R_Edad2020  '!$A$2:$BI$34,8,0)","v":1},"NA",{"$f":"VLOOKUP($A$3,'17T-GCM-R_Edad2020  '!$A$2:$BI$34,48,0)","v":1},{"$f":"VLOOKUP($A$3,'17T-GCM-R_Edad2021'!$A$2:$BI$34,8,0)","v":4},"NA",{"$f":"VLOOKUP($A$3,'17T-GCM-R_Edad2021'!$A$2:$BI$34,48,0)","v":4},{"$f":"VLOOKUP($A$3,'17T-GCM-R_Edad2022 '!$A$2:$BI$34,8,0)","v":9},"NA",{"$f":"VLOOKUP($A$3,'17T-GCM-R_Edad2022 '!$A$2:$BI$34,48,0)","v":9}]
["30-34 años",{"$f":"VLOOKUP($A$3,'17T-GCM-R_Edad2020  '!$A$2:$BI$34,9,0)","v":2},"NA",{"$f":"VLOOKUP($A$3,'17T-GCM-R_Edad2020  '!$A$2:$BI$34,49,0)","v":2},{"$f":"VLOOKUP($A$3,'17T-GCM-R_Edad2021'!$A$2:$BI$34,9,0)","v":2},"NA",{"$f":"VLOOKUP($A$3,'17T-GCM-R_Edad2021'!$A$2:$BI$34,49,0)","v":2},{"$f":"VLOOKUP($A$3,'17T-GCM-R_Edad2022 '!$A$2:$BI$34,9,0)","v":12},"NA",{"$f":"VLOOKUP($A$3,'17T-GCM-R_Edad2022 '!$A$2:$BI$34,49,0)","v":12}]
["35-39 años",{"$f":"VLOOKUP($A$3,'17T-GCM-R_Edad2020  '!$A$2:$BI$34,10,0)","v":4},"NA",{"$f":"VLOOKUP($A$3,'17T-GCM-R_Edad2020  '!$A$2:$BI$34,50,0)","v":4},{"$f":"VLOOKUP($A$3,'17T-GCM-R_Edad2021'!$A$2:$BI$34,10,0)","v":4},"NA",{"$f":"VLOOKUP($A$3,'17T-GCM-R_Edad2021'!$A$2:$BI$34,50,0)","v":4},{"$f":"VLOOKUP($A$3,'17T-GCM-R_Edad2022 '!$A$2:$BI$34,10,0)","v":10},"NA",{"$f":"VLOOKUP($A$3,'17T-GCM-R_Edad2022 '!$A$2:$BI$34,50,0)","v":10}]
["40-44 años",{"$f":"VLOOKUP($A$3,'17T-GCM-R_Edad2020  '!$A$2:$BI$34,11,0)","v":2},"NA",{"$f":"VLOOKUP($A$3,'17T-GCM-R_Edad2020  '!$A$2:$BI$34,51,0)","v":2},{"$f":"VLOOKUP($A$3,'17T-GCM-R_Edad2021'!$A$2:$BI$34,11,0)","v":1},"NA",{"$f":"VLOOKUP($A$3,'17T-GCM-R_Edad2021'!$A$2:$BI$34,51,0)","v":1},{"$f":"VLOOKUP($A$3,'17T-GCM-R_Edad2022 '!$A$2:$BI$34,11,0)","v":0},"NA",{"$f":"VLOOKUP($A$3,'17T-GCM-R_Edad2022 '!$A$2:$BI$34,51,0)","v":0}]
["45-49 años",{"$f":"VLOOKUP($A$3,'17T-GCM-R_Edad2020  '!$A$2:$BI$34,12,0)","v":0},"NA",{"$f":"VLOOKUP($A$3,'17T-GCM-R_Edad2020  '!$A$2:$BI$34,52,0)","v":0},{"$f":"VLOOKUP($A$3,'17T-GCM-R_Edad2021'!$A$2:$BI$34,12,0)","v":0},"NA",{"$f":"VLOOKUP($A$3,'17T-GCM-R_Edad2021'!$A$2:$BI$34,52,0)","v":0},{"$f":"VLOOKUP($A$3,'17T-GCM-R_Edad2022 '!$A$2:$BI$34,12,0)","v":0},"NA",{"$f":"VLOOKUP($A$3,'17T-GCM-R_Edad2022 '!$A$2:$BI$34,52,0)","v":0}]
["50-54 años",{"$f":"VLOOKUP($A$3,'17T-GCM-R_Edad2020  '!$A$2:$BI$34,13,0)","v":0},"NA",{"$f":"VLOOKUP($A$3,'17T-GCM-R_Edad2020  '!$A$2:$BI$34,53,0)","v":0},{"$f":"VLOOKUP($A$3,'17T-GCM-R_Edad2021'!$A$2:$BI$34,13,0)","v":0},"NA",{"$f":"VLOOKUP($A$3,'17T-GCM-R_Edad2021'!$A$2:$BI$34,53,0)","v":0},{"$f":"VLOOKUP($A$3,'17T-GCM-R_Edad2022 '!$A$2:$BI$34,13,0)","v":0},"NA",{"$f":"VLOOKUP($A$3,'17T-GCM-R_Edad2022 '!$A$2:$BI$34,53,0)","v":0}]
["55-59 años",{"$f":"VLOOKUP($A$3,'17T-GCM-R_Edad2020  '!$A$2:$BI$34,14,0)","v":0},"NA",{"$f":"VLOOKUP($A$3,'17T-GCM-R_Edad2020  '!$A$2:$BI$34,54,0)","v":0},{"$f":"VLOOKUP($A$3,'17T-GCM-R_Edad2021'!$A$2:$BI$34,14,0)","v":0},"NA",{"$f":"VLOOKUP($A$3,'17T-GCM-R_Edad2021'!$A$2:$BI$34,54,0)","v":0},{"$f":"VLOOKUP($A$3,'17T-GCM-R_Edad2022 '!$A$2:$BI$34,14,0)","v":0},"NA",{"$f":"VLOOKUP($A$3,'17T-GCM-R_Edad2022 '!$A$2:$BI$34,54,0)","v":0}]
["Total",{"$f":"SUM(B4:B13)","v":13},"NA",{"$f":"SUM(D4:D13)","v":13},17,"NA",17,42,"NA",42]

{"sheet":"18T-GCM-R_Edad2020   ","index":130,"n_rows":34,"n_cols":61,"rows_kept":34,"cut":false,"hidden":true,"merged":[]}
[1,2,3,4,5,6,7,8,9,10,11,12,13,14,15,16,17,18,19,20,21,22,23,24,25,26,27,28,29,30,31,32,33,34,35,36,37,38,39,40,41,42,43,44,45,46,47,48,49,50,51,52,53,54,55,56,57,58,59,60,61]
["ESTADO","Menores de 1 año","1-4 años","5-9 años","10-14 años","15-19 años","20-24 años","25-29 años","30-34 años","35-39 años","40-44 años","45-49 años","50-54 años","55-59 años","60-64 años","65-69 años","70-74 años","75-79 años","80-84 años","85 años y más","No especificado","H Menores de 1 año","H 1-4 años","H 5-9 años","H 10-14 años","H 15-19 años","H 20-24 años","H 25-29 años","H 30-34 años","H 35-39 años","H 40-44 años","H 45-49 años","H 50-54 años","H 55-59 años","H 60-64 años","H 65-69 años","H 70-74 años","H 75-79 años","H 80-84 años","H 85 años y más","H No especificado","   M Menores de 1 año ","M 1-4 años","M 5-9 años","M 10-14 años","M 15-19 años","M 20-24 años","M 25-29 años","M 30-34 años","M 35-39 años","M 40-44 años","M 45-49 años","M 50-54 años","M 55-59 años","M 60-64 años","M 65-69 años","M 70-74 años","M 75-79 años","M 80-84 años","M 85 años y    ás","M No especificado"]
["Aguascalientes",117,0,0,0,0,0,0,0,0,0,0,0,0,0,0,0,0,0,0,0,78,0,0,0,0,0,0,0,0,0,0,0,0,0,0,0,0,0,0,0,39,0,0,0,0,0,0,0,0,0,0,0,0,0,0,0,0,0,0,0]
["Baja California",250,0,0,0,0,0,0,0,0,0,0,0,0,0,0,0,0,0,0,0,136,0,0,0,0,0,0,0,0,0,0,0,0,0,0,0,0,0,0,0,114,0,0,0,0,0,0,0,0,0,0,0,0,0,0,0,0,0,0,0]
["Baja California Sur",66,0,0,0,0,0,0,0,0,0,0,0,0,0,0,0,0,0,0,0,43,0,0,0,0,0,0,0,0,0,0,0,0,0,0,0,0,0,0,0,23,0,0,0,0,0,0,0,0,0,0,0,0,0,0,0,0,0,0,0]
["Campeche",86,0,0,0,0,0,0,0,0,0,0,0,0,0,0,0,0,0,0,0,47,0,0,0,0,0,0,0,0,0,0,0,0,0,0,0,0,0,0,0,39,0,0,0,0,0,0,0,0,0,0,0,0,0,0,0,0,0,0,0]
["Coahuila",307,0,0,0,0,0,0,0,0,0,0,0,0,0,0,0,0,0,0,0,172,0,0,0,0,0,0,0,0,0,0,0,0,0,0,0,0,0,0,0,135,0,0,0,0,0,0,0,0,0,0,0,0,0,0,0,0,0,0,0]
["Colima",49,0,0,0,0,0,0,0,0,0,0,0,0,0,0,0,0,0,0,0,31,0,0,0,0,0,0,0,0,0,0,0,0,0,0,0,0,0,0,0,18,0,0,0,0,0,0,0,0,0,0,0,0,0,0,0,0,0,0,0]
["Chiapas",450,0,0,0,0,0,0,0,0,0,0,0,0,0,0,0,0,0,0,0,267,0,0,0,0,0,0,0,0,0,0,0,0,0,0,0,0,0,0,0,183,0,0,0,0,0,0,0,0,0,0,0,0,0,0,0,0,0,0,0]
["Chihuahua",405,0,0,0,0,0,0,0,0,0,0,0,0,0,0,0,0,0,0,0,245,0,0,0,0,0,0,0,0,0,0,0,0,0,0,0,0,0,0,0,160,0,0,0,0,0,0,0,0,0,0,0,0,0,0,0,0,0,0,0]
["Ciudad de México",854,0,0,0,0,0,0,0,0,0,0,0,0,0,0,0,0,0,0,0,489,0,0,0,0,0,0,0,0,0,0,0,0,0,0,0,0,0,0,0,365,0,0,0,0,0,0,0,0,0,0,0,0,0,0,0,0,0,0,0]
["Durango",142,0,0,0,0,0,0,0,0,0,0,0,0,0,0,0,0,0,0,0,80,0,0,0,0,0,0,0,0,0,0,0,0,0,0,0,0,0,0,0,62,0,0,0,0,0,0,0,0,0,0,0,0,0,0,0,0,0,0,0]
["Guanajuato",477,0,0,0,0,0,0,0,0,0,0,0,0,0,0,0,0,0,0,0,276,0,0,0,0,0,0,0,0,0,0,0,0,0,0,0,0,0,0,0,201,0,0,0,0,0,0,0,0,0,0,0,0,0,0,0,0,0,0,0]
["Guerrero",214,0,0,0,0,0,0,0,0,0,0,0,0,0,0,0,0,0,0,0,109,0,0,0,0,0,0,0,0,0,0,0,0,0,0,0,0,0,0,0,105,0,0,0,0,0,0,0,0,0,0,0,0,0,0,0,0,0,0,0]
["Hidalgo",183,0,0,0,0,0,0,0,0,0,0,0,0,0,0,0,0,0,0,0,109,0,0,0,0,0,0,0,0,0,0,0,0,0,0,0,0,0,0,0,74,0,0,0,0,0,0,0,0,0,0,0,0,0,0,0,0,0,0,0]
["Jalisco",743,0,0,0,0,0,0,0,0,0,0,0,0,0,0,0,0,0,0,0,415,0,0,0,0,0,0,0,0,0,0,0,0,0,0,0,0,0,0,0,328,0,0,0,0,0,0,0,0,0,0,0,0,0,0,0,0,0,0,0]
["México",1288,0,0,0,0,0,0,0,0,0,0,0,0,0,0,0,0,0,0,0,750,0,0,0,0,0,0,0,0,0,0,0,0,0,0,0,0,0,0,0,538,0,0,0,0,0,0,0,0,0,0,0,0,0,0,0,0,0,0,0]
["Michoacán",264,0,0,0,0,0,0,0,0,0,0,0,0,0,0,0,0,0,0,0,147,0,0,0,0,0,0,0,0,0,0,0,0,0,0,0,0,0,0,0,117,0,0,0,0,0,0,0,0,0,0,0,0,0,0,0,0,0,0,0]
["Morelos",123,0,0,0,0,0,0,0,0,0,0,0,0,0,0,0,0,0,0,0,76,0,0,0,0,0,0,0,0,0,0,0,0,0,0,0,0,0,0,0,47,0,0,0,0,0,0,0,0,0,0,0,0,0,0,0,0,0,0,0]
["Nayarit",56,0,0,0,0,0,0,0,0,0,0,0,0,0,0,0,0,0,0,0,34,0,0,0,0,0,0,0,0,0,0,0,0,0,0,0,0,0,0,0,22,0,0,0,0,0,0,0,0,0,0,0,0,0,0,0,0,0,0,0]
["Nuevo León",394,0,0,0,0,0,0,0,0,0,0,0,0,0,0,0,0,0,0,0,218,0,0,0,0,0,0,0,0,0,0,0,0,0,0,0,0,0,0,0,176,0,0,0,0,0,0,0,0,0,0,0,0,0,0,0,0,0,0,0]
["Oaxaca",280,0,0,0,0,0,0,0,0,0,0,0,0,0,0,0,0,0,0,0,161,0,0,0,0,0,0,0,0,0,0,0,0,0,0,0,0,0,0,0,119,0,0,0,0,0,0,0,0,0,0,0,0,0,0,0,0,0,0,0]
["Puebla",725,0,0,0,0,0,0,0,0,0,0,0,0,0,0,0,0,0,0,0,409,0,0,0,0,0,0,0,0,0,0,0,0,0,0,0,0,0,0,0,316,0,0,0,0,0,0,0,0,0,0,0,0,0,0,0,0,0,0,0]
["Querétaro",185,0,0,0,0,0,0,0,0,0,0,0,0,0,0,0,0,0,0,0,100,0,0,0,0,0,0,0,0,0,0,0,0,0,0,0,0,0,0,0,85,0,0,0,0,0,0,0,0,0,0,0,0,0,0,0,0,0,0,0]
["Quintana Roo",131,0,0,0,0,0,0,0,0,0,0,0,0,0,0,0,0,0,0,0,80,0,0,0,0,0,0,0,0,0,0,0,0,0,0,0,0,0,0,0,51,0,0,0,0,0,0,0,0,0,0,0,0,0,0,0,0,0,0,0]
["San Luis Potosí",182,0,0,0,0,0,0,0,0,0,0,0,0,0,0,0,0,0,0,0,103,0,0,0,0,0,0,0,0,0,0,0,0,0,0,0,0,0,0,0,79,0,0,0,0,0,0,0,0,0,0,0,0,0,0,0,0,0,0,0]
["Sinaloa",159,0,0,0,0,0,0,0,0,0,0,0,0,0,0,0,0,0,0,0,95,0,0,0,0,0,0,0,0,0,0,0,0,0,0,0,0,0,0,0,64,0,0,0,0,0,0,0,0,0,0,0,0,0,0,0,0,0,0,0]
["Sonora",173,0,0,0,0,0,0,0,0,0,0,0,0,0,0,0,0,0,0,0,98,0,0,0,0,0,0,0,0,0,0,0,0,0,0,0,0,0,0,0,75,0,0,0,0,0,0,0,0,0,0,0,0,0,0,0,0,0,0,0]
["Tabasco",326,0,0,0,0,0,0,0,0,0,0,0,0,0,0,0,0,0,0,0,181,0,0,0,0,0,0,0,0,0,0,0,0,0,0,0,0,0,0,0,145,0,0,0,0,0,0,0,0,0,0,0,0,0,0,0,0,0,0,0]
["Tamaulipas",320,0,0,0,0,0,0,0,0,0,0,0,0,0,0,0,0,0,0,0,176,0,0,0,0,0,0,0,0,0,0,0,0,0,0,0,0,0,0,0,144,0,0,0,0,0,0,0,0,0,0,0,0,0,0,0,0,0,0,0]
["Tlaxcala",130,0,0,0,0,0,0,0,0,0,0,0,0,0,0,0,0,0,0,0,71,0,0,0,0,0,0,0,0,0,0,0,0,0,0,0,0,0,0,0,59,0,0,0,0,0,0,0,0,0,0,0,0,0,0,0,0,0,0,0]
["Veracruz",707,0,0,0,0,0,0,0,0,0,0,0,0,0,0,0,0,0,0,0,395,0,0,0,0,0,0,0,0,0,0,0,0,0,0,0,0,0,0,0,312,0,0,0,0,0,0,0,0,0,0,0,0,0,0,0,0,0,0,0]
["Yucatán",171,0,0,0,0,0,0,0,0,0,0,0,0,0,0,0,0,0,0,0,108,0,0,0,0,0,0,0,0,0,0,0,0,0,0,0,0,0,0,0,63,0,0,0,0,0,0,0,0,0,0,0,0,0,0,0,0,0,0,0]
["Zacatecas",132,0,0,0,0,0,0,0,0,0,0,0,0,0,0,0,0,0,0,0,69,0,0,0,0,0,0,0,0,0,0,0,0,0,0,0,0,0,0,0,63,0,0,0,0,0,0,0,0,0,0,0,0,0,0,0,0,0,0,0]

{"sheet":"18T-GCM-R_Edad2021","index":131,"n_rows":34,"n_cols":61,"rows_kept":34,"cut":false,"hidden":true,"merged":[]}
[1,2,3,4,5,6,7,8,9,10,11,12,13,14,15,16,17,18,19,20,21,22,23,24,25,26,27,28,29,30,31,32,33,34,35,36,37,38,39,40,41,42,43,44,45,46,47,48,49,50,51,52,53,54,55,56,57,58,59,60,61]
["ESTADO","Menores de 1 año","1-4 años","5-9 años","10-14 años","15-19 años","20-24 años","25-29 años","30-34 años","35-39 años","40-44 años","45-49 años","50-54 años","55-59 años","60-64 años","65-69 años","70-74 años","75-79 años","80-84 años","85 años y más","No especificado","H Menores de 1 año","H 1-4 años","H 5-9 años","H 10-14 años","H 15-19 años","H 20-24 años","H 25-29 años","H 30-34 años","H 35-39 años","H 40-44 años","H 45-49 años","H 50-54 años","H 55-59 años","H 60-64 años","H 65-69 años","H 70-74 años","H 75-79 años","H 80-84 años","H 85 años y más","H No especificado","   M Menores de 1 año ","M 1-4 años","M 5-9 años","M 10-14 años","M 15-19 años","M 20-24 años","M 25-29 años","M 30-34 años","M 35-39 años","M 40-44 años","M 45-49 años","M 50-54 años","M 55-59 años","M 60-64 años","M 65-69 años","M 70-74 años","M 75-79 años","M 80-84 años","M 85 años y    ás","M No especificado"]
["Aguascalientes",137,0,0,0,0,0,0,0,0,0,0,0,0,0,0,0,0,0,0,0,69,0,0,0,0,0,0,0,0,0,0,0,0,0,0,0,0,0,0,0,68,0,0,0,0,0,0,0,0,0,0,0,0,0,0,0,0,0,0,0]
["Baja California",228,0,0,0,0,0,0,0,0,0,0,0,0,0,0,0,0,0,0,0,132,0,0,0,0,0,0,0,0,0,0,0,0,0,0,0,0,0,0,0,96,0,0,0,0,0,0,0,0,0,0,0,0,0,0,0,0,0,0,0]
["Baja California Sur",62,0,0,0,0,0,0,0,0,0,0,0,0,0,0,0,0,0,0,0,31,0,0,0,0,0,0,0,0,0,0,0,0,0,0,0,0,0,0,0,31,0,0,0,0,0,0,0,0,0,0,0,0,0,0,0,0,0,0,0]
["Campeche",76,0,0,0,0,0,0,0,0,0,0,0,0,0,0,0,0,0,0,0,45,0,0,0,0,0,0,0,0,0,0,0,0,0,0,0,0,0,0,0,31,0,0,0,0,0,0,0,0,0,0,0,0,0,0,0,0,0,0,0]
["Coahuila",356,0,0,0,0,0,0,0,0,0,0,0,0,0,0,0,0,0,0,0,197,0,0,0,0,0,0,0,0,0,0,0,0,0,0,0,0,0,0,0,159,0,0,0,0,0,0,0,0,0,0,0,0,0,0,0,0,0,0,0]
["Colima",44,0,0,0,0,0,0,0,0,0,0,0,0,0,0,0,0,0,0,0,31,0,0,0,0,0,0,0,0,0,0,0,0,0,0,0,0,0,0,0,13,0,0,0,0,0,0,0,0,0,0,0,0,0,0,0,0,0,0,0]
["Chiapas",639,0,0,0,0,0,0,0,0,0,0,0,0,0,0,0,0,0,0,0,352,0,0,0,0,0,0,0,0,0,0,0,0,0,0,0,0,0,0,0,287,0,0,0,0,0,0,0,0,0,0,0,0,0,0,0,0,0,0,0]
["Chihuahua",424,0,0,0,0,0,0,0,0,0,0,0,0,0,0,0,0,0,0,0,235,0,0,0,0,0,0,0,0,0,0,0,0,0,0,0,0,0,0,0,189,0,0,0,0,0,0,0,0,0,0,0,0,0,0,0,0,0,0,0]
["Ciudad de México",763,0,0,0,0,0,0,0,0,0,0,0,0,0,0,0,0,0,0,0,412,0,0,0,0,0,0,0,0,0,0,0,0,0,0,0,0,0,0,0,351,0,0,0,0,0,0,0,0,0,0,0,0,0,0,0,0,0,0,0]
["Durango",223,0,0,0,0,0,0,0,0,0,0,0,0,0,0,0,0,0,0,0,135,0,0,0,0,0,0,0,0,0,0,0,0,0,0,0,0,0,0,0,88,0,0,0,0,0,0,0,0,0,0,0,0,0,0,0,0,0,0,0]
["Guanajuato",449,0,0,0,0,0,0,0,0,0,0,0,0,0,0,0,0,0,0,0,258,0,0,0,0,0,0,0,0,0,0,0,0,0,0,0,0,0,0,0,191,0,0,0,0,0,0,0,0,0,0,0,0,0,0,0,0,0,0,0]
["Guerrero",295,0,0,0,0,0,0,0,0,0,0,0,0,0,0,0,0,0,0,0,165,0,0,0,0,0,0,0,0,0,0,0,0,0,0,0,0,0,0,0,130,0,0,0,0,0,0,0,0,0,0,0,0,0,0,0,0,0,0,0]
["Hidalgo",257,0,0,0,0,0,0,0,0,0,0,0,0,0,0,0,0,0,0,0,146,0,0,0,0,0,0,0,0,0,0,0,0,0,0,0,0,0,0,0,111,0,0,0,0,0,0,0,0,0,0,0,0,0,0,0,0,0,0,0]
["Jalisco",649,0,0,0,0,0,0,0,0,0,0,0,0,0,0,0,0,0,0,0,349,0,0,0,0,0,0,0,0,0,0,0,0,0,0,0,0,0,0,0,300,0,0,0,0,0,0,0,0,0,0,0,0,0,0,0,0,0,0,0]
["México",1172,0,0,0,0,0,0,0,0,0,0,0,0,0,0,0,0,0,0,0,667,0,0,0,0,0,0,0,0,0,0,0,0,0,0,0,0,0,0,0,505,0,0,0,0,0,0,0,0,0,0,0,0,0,0,0,0,0,0,0]
["Michoacán",393,0,0,0,0,0,0,0,0,0,0,0,0,0,0,0,0,0,0,0,240,0,0,0,0,0,0,0,0,0,0,0,0,0,0,0,0,0,0,0,153,0,0,0,0,0,0,0,0,0,0,0,0,0,0,0,0,0,0,0]
["Morelos",135,0,0,0,0,0,0,0,0,0,0,0,0,0,0,0,0,0,0,0,76,0,0,0,0,0,0,0,0,0,0,0,0,0,0,0,0,0,0,0,59,0,0,0,0,0,0,0,0,0,0,0,0,0,0,0,0,0,0,0]
["Nayarit",91,0,0,0,0,0,0,0,0,0,0,0,0,0,0,0,0,0,0,0,51,0,0,0,0,0,0,0,0,0,0,0,0,0,0,0,0,0,0,0,40,0,0,0,0,0,0,0,0,0,0,0,0,0,0,0,0,0,0,0]
["Nuevo León",398,0,0,0,0,0,0,0,0,0,0,0,0,0,0,0,0,0,0,0,237,0,0,0,0,0,0,0,0,0,0,0,0,0,0,0,0,0,0,0,161,0,0,0,0,0,0,0,0,0,0,0,0,0,0,0,0,0,0,0]
["Oaxaca",315,0,0,0,0,0,0,0,0,0,0,0,0,0,0,0,0,0,0,0,187,0,0,0,0,0,0,0,0,0,0,0,0,0,0,0,0,0,0,0,128,0,0,0,0,0,0,0,0,0,0,0,0,0,0,0,0,0,0,0]
["Puebla",639,0,0,0,0,0,0,0,0,0,0,0,0,0,0,0,0,0,0,0,380,0,0,0,0,0,0,0,0,0,0,0,0,0,0,0,0,0,0,0,259,0,0,0,0,0,0,0,0,0,0,0,0,0,0,0,0,0,0,0]
["Querétaro",188,0,0,0,0,0,0,0,0,0,0,0,0,0,0,0,0,0,0,0,104,0,0,0,0,0,0,0,0,0,0,0,0,0,0,0,0,0,0,0,84,0,0,0,0,0,0,0,0,0,0,0,0,0,0,0,0,0,0,0]
["Quintana Roo",124,0,0,0,0,0,0,0,0,0,0,0,0,0,0,0,0,0,0,0,64,0,0,0,0,0,0,0,0,0,0,0,0,0,0,0,0,0,0,0,60,0,0,0,0,0,0,0,0,0,0,0,0,0,0,0,0,0,0,0]
["San Luis Potosí",207,0,0,0,0,0,0,0,0,0,0,0,0,0,0,0,0,0,0,0,118,0,0,0,0,0,0,0,0,0,0,0,0,0,0,0,0,0,0,0,89,0,0,0,0,0,0,0,0,0,0,0,0,0,0,0,0,0,0,0]
["Sinaloa",224,0,0,0,0,0,0,0,0,0,0,0,0,0,0,0,0,0,0,0,140,0,0,0,0,0,0,0,0,0,0,0,0,0,0,0,0,0,0,0,84,0,0,0,0,0,0,0,0,0,0,0,0,0,0,0,0,0,0,0]
["Sonora",179,0,0,0,0,0,0,0,0,0,0,0,0,0,0,0,0,0,0,0,111,0,0,0,0,0,0,0,0,0,0,0,0,0,0,0,0,0,0,0,68,0,0,0,0,0,0,0,0,0,0,0,0,0,0,0,0,0,0,0]
["Tabasco",264,0,0,0,0,0,0,0,0,0,0,0,0,0,0,0,0,0,0,0,161,0,0,0,0,0,0,0,0,0,0,0,0,0,0,0,0,0,0,0,103,0,0,0,0,0,0,0,0,0,0,0,0,0,0,0,0,0,0,0]
["Tamaulipas",380,0,0,0,0,0,0,0,0,0,0,0,0,0,0,0,0,0,0,0,215,0,0,0,0,0,0,0,0,0,0,0,0,0,0,0,0,0,0,0,165,0,0,0,0,0,0,0,0,0,0,0,0,0,0,0,0,0,0,0]
["Tlaxcala",98,0,0,0,0,0,0,0,0,0,0,0,0,0,0,0,0,0,0,0,64,0,0,0,0,0,0,0,0,0,0,0,0,0,0,0,0,0,0,0,34,0,0,0,0,0,0,0,0,0,0,0,0,0,0,0,0,0,0,0]
["Veracruz",665,0,0,0,0,0,0,0,0,0,0,0,0,0,0,0,0,0,0,0,354,0,0,0,0,0,0,0,0,0,0,0,0,0,0,0,0,0,0,0,311,0,0,0,0,0,0,0,0,0,0,0,0,0,0,0,0,0,0,0]
["Yucatán",170,0,0,0,0,0,0,0,0,0,0,0,0,0,0,0,0,0,0,0,102,0,0,0,0,0,0,0,0,0,0,0,0,0,0,0,0,0,0,0,68,0,0,0,0,0,0,0,0,0,0,0,0,0,0,0,0,0,0,0]
["Zacatecas",115,0,0,0,0,0,0,0,0,0,0,0,0,0,0,0,0,0,0,0,73,0,0,0,0,0,0,0,0,0,0,0,0,0,0,0,0,0,0,0,42,0,0,0,0,0,0,0,0,0,0,0,0,0,0,0,0,0,0,0]

{"sheet":"18T-GCM-R_Edad2022 ","index":132,"n_rows":34,"n_cols":61,"rows_kept":34,"cut":false,"hidden":true,"merged":[]}
[1,2,3,4,5,6,7,8,9,10,11,12,13,14,15,16,17,18,19,20,21,22,23,24,25,26,27,28,29,30,31,32,33,34,35,36,37,38,39,40,41,42,43,44,45,46,47,48,49,50,51,52,53,54,55,56,57,58,59,60,61]
["ESTADO","Menores de 1 año","1-4 años","5-9 años","10-14 años","15-19 años","20-24 años","25-29 años","30-34 años","35-39 años","40-44 años","45-49 años","50-54 años","55-59 años","60-64 años","65-69 años","70-74 años","75-79 años","80-84 años","85 años y más","No especificado","H Menores de 1 año","H 1-4 años","H 5-9 años","H 10-14 años","H 15-19 años","H 20-24 años","H 25-29 años","H 30-34 años","H 35-39 años","H 40-44 años","H 45-49 años","H 50-54 años","H 55-59 años","H 60-64 años","H 65-69 años","H 70-74 años","H 75-79 años","H 80-84 años","H 85 años y más","H No especificado","   M Menores de 1 año ","M 1-4 años","M 5-9 años","M 10-14 años","M 15-19 años","M 20-24 años","M 25-29 años","M 30-34 años","M 35-39 años","M 40-44 años","M 45-49 años","M 50-54 años","M 55-59 años","M 60-64 años","M 65-69 años","M 70-74 años","M 75-79 años","M 80-84 años","M 85 años y    ás","M No especificado"]
["Aguascalientes",121,0,0,0,0,0,0,0,0,0,0,0,0,0,0,0,0,0,0,0,74,0,0,0,0,0,0,0,0,0,0,0,0,0,0,0,0,0,0,0,47,0,0,0,0,0,0,0,0,0,0,0,0,0,0,0,0,0,0,0]
["Baja California",242,0,0,0,0,0,0,0,0,0,0,0,0,0,0,0,0,0,0,0,137,0,0,0,0,0,0,0,0,0,0,0,0,0,0,0,0,0,0,0,105,0,0,0,0,0,0,0,0,0,0,0,0,0,0,0,0,0,0,0]
["Baja California Sur",58,0,0,0,0,0,0,0,0,0,0,0,0,0,0,0,0,0,0,0,31,0,0,0,0,0,0,0,0,0,0,0,0,0,0,0,0,0,0,0,27,0,0,0,0,0,0,0,0,0,0,0,0,0,0,0,0,0,0,0]
["Campeche",75,0,0,0,0,0,0,0,0,0,0,0,0,0,0,0,0,0,0,0,40,0,0,0,0,0,0,0,0,0,0,0,0,0,0,0,0,0,0,0,35,0,0,0,0,0,0,0,0,0,0,0,0,0,0,0,0,0,0,0]
["Coahuila",334,0,0,0,0,0,0,0,0,0,0,0,0,0,0,0,0,0,0,0,178,0,0,0,0,0,0,0,0,0,0,0,0,0,0,0,0,0,0,0,156,0,0,0,0,0,0,0,0,0,0,0,0,0,0,0,0,0,0,0]
["Colima",49,0,0,0,0,0,0,0,0,0,0,0,0,0,0,0,0,0,0,0,26,0,0,0,0,0,0,0,0,0,0,0,0,0,0,0,0,0,0,0,23,0,0,0,0,0,0,0,0,0,0,0,0,0,0,0,0,0,0,0]
["Chiapas",627,0,0,0,0,0,0,0,0,0,0,0,0,0,0,0,0,0,0,0,366,0,0,0,0,0,0,0,0,0,0,0,0,0,0,0,0,0,0,0,261,0,0,0,0,0,0,0,0,0,0,0,0,0,0,0,0,0,0,0]
["Chihuahua",392,0,0,0,0,0,0,0,0,0,0,0,0,0,0,0,0,0,0,0,223,0,0,0,0,0,0,0,0,0,0,0,0,0,0,0,0,0,0,0,169,0,0,0,0,0,0,0,0,0,0,0,0,0,0,0,0,0,0,0]
["Ciudad de México",826,0,0,0,0,0,0,0,0,0,0,0,0,0,0,0,0,0,0,0,451,0,0,0,0,0,0,0,0,0,0,0,0,0,0,0,0,0,0,0,375,0,0,0,0,0,0,0,0,0,0,0,0,0,0,0,0,0,0,0]
["Durango",188,0,0,0,0,0,0,0,0,0,0,0,0,0,0,0,0,0,0,0,111,0,0,0,0,0,0,0,0,0,0,0,0,0,0,0,0,0,0,0,77,0,0,0,0,0,0,0,0,0,0,0,0,0,0,0,0,0,0,0]
["Guanajuato",445,0,0,0,0,0,0,0,0,0,0,0,0,0,0,0,0,0,0,0,240,0,0,0,0,0,0,0,0,0,0,0,0,0,0,0,0,0,0,0,205,0,0,0,0,0,0,0,0,0,0,0,0,0,0,0,0,0,0,0]
["Guerrero",303,0,0,0,0,0,0,0,0,0,0,0,0,0,0,0,0,0,0,0,184,0,0,0,0,0,0,0,0,0,0,0,0,0,0,0,0,0,0,0,119,0,0,0,0,0,0,0,0,0,0,0,0,0,0,0,0,0,0,0]
["Hidalgo",239,0,0,0,0,0,0,0,0,0,0,0,0,0,0,0,0,0,0,0,136,0,0,0,0,0,0,0,0,0,0,0,0,0,0,0,0,0,0,0,103,0,0,0,0,0,0,0,0,0,0,0,0,0,0,0,0,0,0,0]
["Jalisco",637,0,0,0,0,0,0,0,0,0,0,0,0,0,0,0,0,0,0,0,373,0,0,0,0,0,0,0,0,0,0,0,0,0,0,0,0,0,0,0,264,0,0,0,0,0,0,0,0,0,0,0,0,0,0,0,0,0,0,0]
["México",1188,0,0,0,0,0,0,0,0,0,0,0,0,0,0,0,0,0,0,0,676,0,0,0,0,0,0,0,0,0,0,0,0,0,0,0,0,0,0,0,512,0,0,0,0,0,0,0,0,0,0,0,0,0,0,0,0,0,0,0]
["Michoacán",404,0,0,0,0,0,0,0,0,0,0,0,0,0,0,0,0,0,0,0,226,0,0,0,0,0,0,0,0,0,0,0,0,0,0,0,0,0,0,0,178,0,0,0,0,0,0,0,0,0,0,0,0,0,0,0,0,0,0,0]
["Morelos",127,0,0,0,0,0,0,0,0,0,0,0,0,0,0,0,0,0,0,0,72,0,0,0,0,0,0,0,0,0,0,0,0,0,0,0,0,0,0,0,55,0,0,0,0,0,0,0,0,0,0,0,0,0,0,0,0,0,0,0]
["Nayarit",87,0,0,0,0,0,0,0,0,0,0,0,0,0,0,0,0,0,0,0,48,0,0,0,0,0,0,0,0,0,0,0,0,0,0,0,0,0,0,0,39,0,0,0,0,0,0,0,0,0,0,0,0,0,0,0,0,0,0,0]
["Nuevo León",408,0,0,0,0,0,0,0,0,0,0,0,0,0,0,0,0,0,0,0,228,0,0,0,0,0,0,0,0,0,0,0,0,0,0,0,0,0,0,0,180,0,0,0,0,0,0,0,0,0,0,0,0,0,0,0,0,0,0,0]
["Oaxaca",289,0,0,0,0,0,0,0,0,0,0,0,0,0,0,0,0,0,0,0,153,0,0,0,0,0,0,0,0,0,0,0,0,0,0,0,0,0,0,0,136,0,0,0,0,0,0,0,0,0,0,0,0,0,0,0,0,0,0,0]
["Puebla",602,0,0,0,0,0,0,0,0,0,0,0,0,0,0,0,0,0,0,0,333,0,0,0,0,0,0,0,0,0,0,0,0,0,0,0,0,0,0,0,269,0,0,0,0,0,0,0,0,0,0,0,0,0,0,0,0,0,0,0]
["Querétaro",189,0,0,0,0,0,0,0,0,0,0,0,0,0,0,0,0,0,0,0,103,0,0,0,0,0,0,0,0,0,0,0,0,0,0,0,0,0,0,0,86,0,0,0,0,0,0,0,0,0,0,0,0,0,0,0,0,0,0,0]
["Quintana Roo",121,0,0,0,0,0,0,0,0,0,0,0,0,0,0,0,0,0,0,0,66,0,0,0,0,0,0,0,0,0,0,0,0,0,0,0,0,0,0,0,55,0,0,0,0,0,0,0,0,0,0,0,0,0,0,0,0,0,0,0]
["San Luis Potosí",217,0,0,0,0,0,0,0,0,0,0,0,0,0,0,0,0,0,0,0,137,0,0,0,0,0,0,0,0,0,0,0,0,0,0,0,0,0,0,0,80,0,0,0,0,0,0,0,0,0,0,0,0,0,0,0,0,0,0,0]
["Sinaloa",221,0,0,0,0,0,0,0,0,0,0,0,0,0,0,0,0,0,0,0,139,0,0,0,0,0,0,0,0,0,0,0,0,0,0,0,0,0,0,0,82,0,0,0,0,0,0,0,0,0,0,0,0,0,0,0,0,0,0,0]
["Sonora",191,0,0,0,0,0,0,0,0,0,0,0,0,0,0,0,0,0,0,0,104,0,0,0,0,0,0,0,0,0,0,0,0,0,0,0,0,0,0,0,87,0,0,0,0,0,0,0,0,0,0,0,0,0,0,0,0,0,0,0]
["Tabasco",240,0,0,0,0,0,0,0,0,0,0,0,0,0,0,0,0,0,0,0,135,0,0,0,0,0,0,0,0,0,0,0,0,0,0,0,0,0,0,0,105,0,0,0,0,0,0,0,0,0,0,0,0,0,0,0,0,0,0,0]
["Tamaulipas",336,0,0,0,0,0,0,0,0,0,0,0,0,0,0,0,0,0,0,0,193,0,0,0,0,0,0,0,0,0,0,0,0,0,0,0,0,0,0,0,143,0,0,0,0,0,0,0,0,0,0,0,0,0,0,0,0,0,0,0]
["Tlaxcala",96,0,0,0,0,0,0,0,0,0,0,0,0,0,0,0,0,0,0,0,53,0,0,0,0,0,0,0,0,0,0,0,0,0,0,0,0,0,0,0,43,0,0,0,0,0,0,0,0,0,0,0,0,0,0,0,0,0,0,0]
["Veracruz",697,0,0,0,0,0,0,0,0,0,0,0,0,0,0,0,0,0,0,0,403,0,0,0,0,0,0,0,0,0,0,0,0,0,0,0,0,0,0,0,294,0,0,0,0,0,0,0,0,0,0,0,0,0,0,0,0,0,0,0]
["Yucatán",147,0,0,0,0,0,0,0,0,0,0,0,0,0,0,0,0,0,0,0,86,0,0,0,0,0,0,0,0,0,0,0,0,0,0,0,0,0,0,0,61,0,0,0,0,0,0,0,0,0,0,0,0,0,0,0,0,0,0,0]
["Zacatecas",84,0,0,0,0,0,0,0,0,0,0,0,0,0,0,0,0,0,0,0,47,0,0,0,0,0,0,0,0,0,0,0,0,0,0,0,0,0,0,0,37,0,0,0,0,0,0,0,0,0,0,0,0,0,0,0,0,0,0,0]

{"sheet":"18 GCM-G_Edad","index":133,"n_rows":5,"n_cols":10,"rows_kept":5,"cut":false,"hidden":false,"merged":[[0,0,0,9]]}
["Ciertas afecciones originadas en el \nperiodo perinatal"]
["SELECCIONE UNA ENTIDAD"]
["Puebla","2020","Hombres 2020","Mujeres 2020","2021","Hombres 2021","Mujeres 2021","2022","Hombres 2022","Mujeres 2022"]
["Menores de 1 año",{"$f":"VLOOKUP($A$3,'18T-GCM-R_Edad2020   '!$A$2:$BI$34,2,0)","v":725},{"$f":"VLOOKUP($A$3,'18T-GCM-R_Edad2020   '!$A$2:$BI$34,22,0)","v":409},{"$f":"VLOOKUP($A$3,'18T-GCM-R_Edad2020   '!$A$2:$BI$34,42,0)","v":316},{"$f":"VLOOKUP($A$3,'18T-GCM-R_Edad2021'!$A$2:$BI$34,2,0)","v":639},{"$f":"VLOOKUP($A$3,'18T-GCM-R_Edad2021'!$A$2:$BI$34,22,0)","v":380},{"$f":"VLOOKUP($A$3,'18T-GCM-R_Edad2021'!$A$2:$BI$34,42,0)","v":259},{"$f":"VLOOKUP($A$3,'18T-GCM-R_Edad2022 '!$A$2:$BI$34,2,0)","v":602},{"$f":"VLOOKUP($A$3,'18T-GCM-R_Edad2022 '!$A$2:$BI$34,22,0)","v":333},{"$f":"VLOOKUP($A$3,'18T-GCM-R_Edad2022 '!$A$2:$BI$34,42,0)","v":269}]
["Total",{"$f":"SUM(B4:B4)","v":725},409,316,639,380,259,602,333,269]

{"sheet":"19T-GCM-R_Edad2020  ","index":134,"n_rows":34,"n_cols":61,"rows_kept":34,"cut":false,"hidden":true,"merged":[]}
[1,2,3,4,5,6,7,8,9,10,11,12,13,14,15,16,17,18,19,20,21,22,23,24,25,26,27,28,29,30,31,32,33,34,35,36,37,38,39,40,41,42,43,44,45,46,47,48,49,50,51,52,53,54,55,56,57,58,59,60,61]
["ESTADO","Menores de 1 año","1-4 años","5-9 años","10-14 años","15-19 años","20-24 años","25-29 años","30-34 años","35-39 años","40-44 años","45-49 años","50-54 años","55-59 años","60-64 años","65-69 años","70-74 años","75-79 años","80-84 años","85 años y más","No especificado","H Menores de 1 año","H 1-4 años","H 5-9 años","H 10-14 años","H 15-19 años","H 20-24 años","H 25-29 años","H 30-34 años","H 35-39 años","H 40-44 años","H 45-49 años","H 50-54 años","H 55-59 años","H 60-64 años","H 65-69 años","H 70-74 años","H 75-79 años","H 80-84 años","H 85 años y más","H No especificado","   M Menores de 1 año ","M 1-4 años","M 5-9 años","M 10-14 años","M 15-19 años","M 20-24 años","M 25-29 años","M 30-34 años","M 35-39 años","M 40-44 años","M 45-49 años","M 50-54 años","M 55-59 años","M 60-64 años","M 65-69 años","M 70-74 años","M 75-79 años","M 80-84 años","M 85 años y    ás","M No especificado"]
["Aguascalientes",46,3,2,0,4,7,3,6,2,3,3,1,2,0,4,1,1,4,1,0,22,1,1,0,2,4,2,5,1,2,3,0,0,0,1,1,0,3,0,0,24,2,1,0,2,3,1,1,1,1,0,1,2,0,3,0,1,1,1,0]
["Baja California",136,20,6,4,4,9,4,6,6,7,8,9,4,2,1,0,1,0,0,0,81,11,5,3,2,6,4,5,1,5,6,3,3,1,0,0,1,0,0,0,55,9,1,1,2,3,0,1,5,2,2,6,1,1,1,0,0,0,0,0]
["Baja California Sur",25,3,1,3,3,1,1,0,0,0,1,1,0,2,0,0,0,0,0,0,14,1,0,1,2,0,1,0,0,0,1,1,0,2,0,0,0,0,0,0,11,2,1,2,1,1,0,0,0,0,0,0,0,0,0,0,0,0,0,0]
["Campeche",28,5,1,2,2,1,1,1,3,0,0,2,3,2,0,0,2,1,1,0,22,3,1,0,1,1,1,1,3,0,0,1,0,0,0,0,2,0,1,0,6,2,0,2,1,0,0,0,0,0,0,1,3,2,0,0,0,1,0,0]
["Coahuila",126,20,8,4,2,4,8,6,1,4,0,4,3,4,1,3,0,2,0,0,63,9,4,4,1,1,7,2,1,3,0,2,1,4,1,2,0,0,0,0,63,11,4,0,1,3,1,4,0,1,0,2,2,0,0,1,0,2,0,0]
["Colima",16,0,0,0,1,1,1,1,0,0,0,0,0,0,0,1,0,0,0,0,11,0,0,0,1,1,0,0,0,0,0,0,0,0,0,1,0,0,0,0,5,0,0,0,0,0,1,1,0,0,0,0,0,0,0,0,0,0,0,0]
["Chiapas",170,48,14,10,25,20,20,8,7,7,10,6,7,9,3,3,4,1,2,1,90,30,6,6,17,13,17,4,4,5,7,2,4,6,3,0,1,0,1,0,80,18,8,4,8,7,3,4,3,2,3,4,3,3,0,3,3,1,1,1]
["Chihuahua",128,8,3,4,10,10,1,7,5,5,4,2,9,4,1,3,3,3,4,0,75,2,1,2,7,3,0,6,3,3,2,2,5,2,0,1,2,1,2,0,53,6,2,2,3,7,1,1,2,2,2,0,4,2,1,2,1,2,2,0]
["Ciudad de México",613,90,28,29,26,29,30,27,22,15,16,19,21,7,6,2,3,4,9,0,319,47,19,17,15,17,19,14,16,8,5,7,10,4,2,2,2,2,4,0,294,43,9,12,11,12,11,13,6,7,11,12,11,3,4,0,1,2,5,0]
["Durango",43,12,3,0,2,3,1,2,3,2,1,0,2,1,0,1,0,0,1,0,28,8,1,0,1,0,0,1,1,0,1,0,1,1,0,0,0,0,0,0,15,4,2,0,1,3,1,1,2,2,0,0,1,0,0,1,0,0,1,0]
["Guanajuato",286,33,14,13,15,18,19,8,6,4,3,6,3,2,1,1,1,1,0,0,154,16,8,7,5,13,13,5,5,3,1,3,3,1,0,1,1,0,0,0,132,17,6,6,10,5,6,3,1,1,2,3,0,1,1,0,0,1,0,0]
["Guerrero",66,21,7,7,6,7,6,6,2,4,1,1,2,4,5,2,1,2,4,0,37,9,3,3,4,4,5,4,0,3,0,1,1,2,3,2,1,1,3,0,29,12,4,4,2,3,1,2,2,1,1,0,1,2,2,0,0,1,1,0]
["Hidalgo",70,11,6,1,4,5,4,8,5,7,4,2,2,0,2,2,0,2,4,0,39,6,4,0,3,4,3,2,3,4,1,1,2,0,1,0,0,0,2,0,31,5,2,1,1,1,1,6,2,3,3,1,0,0,1,2,0,2,2,0]
["Jalisco",392,45,18,18,20,17,11,9,13,6,4,7,13,6,3,2,2,3,5,0,216,26,8,11,15,10,3,5,8,3,2,4,7,3,2,0,1,0,3,0,176,19,10,7,5,7,8,4,5,3,2,3,6,3,1,2,1,3,2,0]
["México",509,67,17,19,30,45,43,40,25,13,31,15,15,13,10,5,5,3,4,0,303,39,9,8,15,36,26,23,16,5,18,5,6,8,5,1,5,1,2,0,206,28,8,11,15,9,17,17,9,8,13,10,9,5,5,4,0,2,2,0]
["Michoacán",129,26,3,11,9,7,6,10,4,7,5,4,1,4,5,2,2,2,8,0,71,12,3,6,7,4,3,7,3,3,1,2,0,2,3,1,1,1,4,0,58,14,0,5,2,3,3,3,1,4,4,2,1,2,2,1,1,1,4,0]
["Morelos",48,10,3,5,4,6,7,8,3,2,2,1,4,2,1,1,2,2,0,0,29,8,1,2,2,5,5,7,1,1,1,1,2,1,1,0,1,1,0,0,19,2,2,3,2,1,2,1,2,1,1,0,2,1,0,1,1,1,0,0]
["Nayarit",25,2,1,3,0,2,5,0,0,0,1,1,1,0,1,0,0,0,1,0,14,2,1,0,0,2,4,0,0,0,0,0,1,0,1,0,0,0,1,0,11,0,0,3,0,0,1,0,0,0,1,1,0,0,0,0,0,0,0,0]
["Nuevo León",276,32,12,6,4,8,9,5,3,4,9,9,5,5,3,3,5,2,3,1,141,17,8,3,2,5,5,3,3,1,5,3,2,3,1,1,2,2,1,0,135,15,4,3,2,3,4,2,0,3,4,6,3,2,2,2,3,0,2,1]
["Oaxaca",131,24,6,8,10,10,3,9,4,4,4,5,3,4,4,3,2,4,2,0,68,21,3,7,6,6,2,5,2,0,3,4,2,2,3,3,0,2,0,0,63,3,3,1,4,4,1,4,2,4,1,1,1,2,1,0,2,2,2,0]
["Puebla",379,45,18,23,18,25,18,18,9,10,4,7,8,3,8,3,5,2,11,0,200,23,10,14,7,18,15,12,4,6,2,2,2,3,5,2,3,2,8,0,179,22,8,9,11,7,3,6,5,4,2,5,6,0,3,1,2,0,3,0]
["Querétaro",98,15,1,3,4,2,4,8,3,1,4,2,0,0,2,2,0,0,1,0,51,9,1,0,3,1,4,4,2,0,2,1,0,0,0,0,0,0,1,0,47,6,0,3,1,1,0,4,1,1,2,1,0,0,2,2,0,0,0,0]
["Quintana Roo",54,4,4,4,2,1,3,4,1,0,3,1,1,0,0,1,1,0,1,0,28,3,1,4,1,0,1,2,0,0,0,0,1,0,0,1,0,0,0,0,26,1,3,0,1,1,2,2,1,0,3,1,0,0,0,0,1,0,1,0]
["San Luis Potosí",103,8,3,1,6,3,3,8,3,3,1,1,1,1,0,1,1,0,1,0,48,5,2,1,2,2,1,4,1,2,0,0,1,1,0,0,0,0,0,0,55,3,1,0,4,1,2,4,2,1,1,1,0,0,0,1,1,0,1,0]
["Sinaloa",56,8,0,2,2,5,0,2,5,0,5,5,2,2,3,2,2,1,3,1,29,7,0,1,1,4,0,1,3,0,3,4,1,0,0,1,2,0,2,1,27,1,0,1,1,1,0,1,2,0,2,1,1,2,3,1,0,1,1,0]
["Sonora",79,11,1,3,5,5,5,3,1,4,4,3,0,4,1,1,0,0,3,0,43,6,0,2,1,2,3,0,0,2,3,2,0,1,0,1,0,0,1,0,36,5,1,1,4,3,2,3,1,2,1,1,0,3,1,0,0,0,2,0]
["Tabasco",137,21,3,4,13,6,3,1,4,1,1,4,5,1,0,0,0,1,0,0,65,15,1,4,4,3,2,1,2,1,1,1,2,0,0,0,0,0,0,0,72,6,2,0,9,3,1,0,2,0,0,3,3,1,0,0,0,1,0,0]
["Tamaulipas",115,10,1,6,4,3,1,3,1,7,3,3,3,2,1,0,0,2,3,0,55,7,1,3,2,2,1,3,1,3,2,0,1,0,1,0,0,0,2,0,60,3,0,3,2,1,0,0,0,4,1,3,2,2,0,0,0,2,1,0]
["Tlaxcala",57,10,4,5,8,9,5,4,2,2,1,0,0,0,0,2,0,0,1,0,35,7,4,2,3,5,2,3,1,1,1,0,0,0,0,2,0,0,0,0,22,3,0,3,5,4,3,1,1,1,0,0,0,0,0,0,0,0,1,0]
["Veracruz",278,44,20,19,17,23,26,14,14,14,12,10,18,6,2,8,5,4,10,0,156,19,14,11,9,13,18,9,8,8,7,5,10,2,2,6,2,2,4,0,122,25,6,8,8,10,8,5,6,6,5,5,8,4,0,2,3,2,6,0]
["Yucatán",101,11,2,3,2,3,2,3,2,1,0,2,1,3,1,3,0,0,1,0,60,3,1,2,0,1,1,3,0,1,0,0,0,2,0,2,0,0,0,0,41,8,1,1,2,2,1,0,2,0,0,2,1,1,1,1,0,0,1,0]
["Zacatecas",42,7,2,1,4,2,1,1,1,1,4,0,0,1,2,0,0,1,3,0,20,5,2,0,3,0,1,1,0,1,2,0,0,1,1,0,0,1,2,0,22,2,0,1,1,2,0,0,1,0,2,0,0,0,1,0,0,0,1,0]

{"sheet":"19T-GCM-R_Edad2021 ","index":135,"n_rows":34,"n_cols":61,"rows_kept":34,"cut":false,"hidden":true,"merged":[]}
[1,2,3,4,5,6,7,8,9,10,11,12,13,14,15,16,17,18,19,20,21,22,23,24,25,26,27,28,29,30,31,32,33,34,35,36,37,38,39,40,41,42,43,44,45,46,47,48,49,50,51,52,53,54,55,56,57,58,59,60,61]
["ESTADO","Menores de 1 año","1-4 años","5-9 años","10-14 años","15-19 años","20-24 años","25-29 años","30-34 años","35-39 años","40-44 años","45-49 años","50-54 años","55-59 años","60-64 años","65-69 años","70-74 años","75-79 años","80-84 años","85 años y más","No especificado","H Menores de 1 año","H 1-4 años","H 5-9 años","H 10-14 años","H 15-19 años","H 20-24 años","H 25-29 años","H 30-34 años","H 35-39 años","H 40-44 años","H 45-49 años","H 50-54 años","H 55-59 años","H 60-64 años","H 65-69 años","H 70-74 años","H 75-79 años","H 80-84 años","H 85 años y más","H No especificado","   M Menores de 1 año ","M 1-4 años","M 5-9 años","M 10-14 años","M 15-19 años","M 20-24 años","M 25-29 años","M 30-34 años","M 35-39 años","M 40-44 años","M 45-49 años","M 50-54 años","M 55-59 años","M 60-64 años","M 65-69 años","M 70-74 años","M 75-79 años","M 80-84 años","M 85 años y    ás","M No especificado"]
["Aguascalientes",51,9,0,2,3,4,5,5,1,0,1,1,2,0,1,0,0,0,1,0,25,2,0,1,2,2,4,1,1,0,0,0,1,0,0,0,0,0,1,0,26,7,0,1,1,2,1,4,0,0,1,1,1,0,1,0,0,0,0,0]
["Baja California",117,12,5,9,5,5,6,5,6,3,3,7,3,4,3,1,2,1,2,0,68,7,3,1,3,3,3,4,6,1,1,4,2,4,1,0,1,0,1,0,49,5,2,8,2,2,3,1,0,2,2,3,1,0,2,1,1,1,1,0]
["Baja California Sur",21,2,0,0,1,1,0,0,0,0,0,1,1,2,1,0,0,1,0,1,15,0,0,0,0,1,0,0,0,0,0,1,0,1,0,0,0,1,0,1,6,2,0,0,1,0,0,0,0,0,0,0,1,1,1,0,0,0,0,0]
["Campeche",32,6,1,0,2,2,1,1,1,0,0,0,0,1,1,0,0,0,0,0,16,1,1,0,2,1,1,1,0,0,0,0,0,0,0,0,0,0,0,0,16,5,0,0,0,1,0,0,1,0,0,0,0,1,1,0,0,0,0,0]
["Coahuila",133,17,1,6,2,5,5,1,5,3,3,1,2,0,2,0,1,0,2,1,78,9,1,5,0,2,3,1,2,2,0,1,0,0,2,0,0,0,2,1,55,8,0,1,2,3,2,0,3,1,3,0,2,0,0,0,1,0,0,0]
["Colima",21,1,0,1,1,1,1,1,0,3,1,1,2,2,0,0,0,0,0,0,14,1,0,0,1,1,1,0,0,2,1,1,0,0,0,0,0,0,0,0,7,0,0,1,0,0,0,1,0,1,0,0,2,2,0,0,0,0,0,0]
["Chiapas",241,73,12,17,20,17,14,11,10,7,5,4,4,6,4,3,2,0,3,0,123,41,5,12,10,10,9,6,8,3,4,2,1,5,3,2,0,0,1,0,118,32,7,5,10,7,5,5,2,4,1,2,3,1,1,1,2,0,2,0]
["Chihuahua",145,13,5,5,5,3,8,5,5,3,6,2,2,7,2,1,3,2,2,0,82,6,4,3,2,3,5,2,3,1,3,1,1,5,2,0,1,1,2,0,63,7,1,2,3,0,3,3,2,2,3,1,1,2,0,1,2,1,0,0]
["Ciudad de México",530,81,29,16,31,20,24,19,7,16,15,13,15,10,14,4,2,11,11,0,270,34,17,7,17,11,15,9,2,7,5,8,10,3,4,1,2,6,3,0,260,47,12,9,14,9,9,10,5,9,10,5,5,7,10,3,0,5,8,0]
["Durango",60,13,2,3,1,1,5,1,0,2,0,0,1,0,0,0,1,1,0,0,36,6,2,1,1,1,4,1,0,0,0,0,1,0,0,0,0,1,0,0,24,7,0,2,0,0,1,0,0,2,0,0,0,0,0,0,1,0,0,0]
["Guanajuato",238,46,14,10,11,14,16,7,9,10,10,1,9,5,2,0,3,1,2,0,137,26,8,4,9,9,11,2,8,6,3,1,4,3,1,0,1,1,1,0,101,20,6,6,2,5,5,5,1,4,7,0,5,2,1,0,2,0,1,0]
["Guerrero",95,21,6,5,4,4,9,3,5,1,1,4,1,0,3,0,0,1,3,0,55,13,2,4,2,2,6,3,5,1,0,1,0,0,3,0,0,1,0,0,40,8,4,1,2,2,3,0,0,0,1,3,1,0,0,0,0,0,3,0]
["Hidalgo",50,15,2,3,6,1,6,7,5,0,3,0,2,0,1,1,1,0,1,0,27,7,1,1,5,0,6,4,4,0,1,0,0,0,0,1,0,0,1,0,23,8,1,2,1,1,0,3,1,0,2,0,2,0,1,0,1,0,0,0]
["Jalisco",425,48,13,15,13,8,7,9,8,11,9,8,7,5,4,4,1,3,3,0,213,23,5,10,9,5,1,5,6,4,6,4,5,3,3,0,0,2,3,0,212,25,8,5,4,3,6,4,2,7,3,4,2,2,1,4,1,1,0,0]
["México",409,65,19,21,20,36,41,34,22,20,16,13,11,12,8,5,3,8,9,0,235,36,8,14,15,24,27,21,18,15,10,5,6,6,4,4,2,4,4,0,174,29,11,7,5,12,14,13,4,5,6,8,5,6,4,1,1,4,5,0]
["Michoacán",156,20,9,6,10,9,9,11,11,8,6,6,4,2,1,4,3,3,5,0,89,15,4,3,7,6,6,8,7,4,4,5,1,0,0,1,0,2,3,0,67,5,5,3,3,3,3,3,4,4,2,1,3,2,1,3,3,1,2,0]
["Morelos",53,7,3,4,1,1,3,1,2,1,2,2,1,0,2,0,3,1,0,0,34,2,0,2,0,1,2,0,1,1,2,2,0,0,1,0,2,0,0,0,19,5,3,2,1,0,1,1,1,0,0,0,1,0,1,0,1,1,0,0]
["Nayarit",28,2,0,1,0,1,2,3,0,1,2,2,1,0,3,0,0,0,0,0,17,0,0,0,0,1,0,2,0,1,1,1,1,0,3,0,0,0,0,0,11,2,0,1,0,0,2,1,0,0,1,1,0,0,0,0,0,0,0,0]
["Nuevo León",281,30,11,7,10,12,7,10,5,4,3,2,2,6,5,0,6,1,4,0,159,14,6,3,7,5,4,5,4,3,3,2,2,2,3,0,0,1,3,0,122,16,5,4,3,7,3,5,1,1,0,0,0,4,2,0,6,0,1,0]
["Oaxaca",133,28,10,6,8,8,10,8,4,6,7,2,5,9,3,4,2,1,6,0,63,13,6,2,3,4,3,4,2,3,2,2,3,4,3,3,0,0,2,0,70,15,4,4,5,4,7,4,2,3,5,0,2,5,0,1,2,1,4,0]
["Puebla",307,71,24,22,21,25,25,16,12,5,6,8,3,5,4,7,2,3,5,0,159,30,16,14,13,14,17,9,7,4,4,2,0,2,3,4,2,1,2,0,148,41,8,8,8,11,8,7,5,1,2,6,3,3,1,3,0,2,3,0]
["Querétaro",86,16,7,6,3,1,5,6,4,3,1,2,1,2,3,0,2,0,0,0,39,8,1,4,2,0,2,5,3,2,0,0,1,1,2,0,1,0,0,0,47,8,6,2,1,1,3,1,1,1,1,2,0,1,1,0,1,0,0,0]
["Quintana Roo",50,11,4,7,2,2,4,3,1,1,1,0,1,1,0,0,0,1,1,0,27,6,2,4,0,2,2,1,1,0,0,0,0,0,0,0,0,1,1,0,23,5,2,3,2,0,2,2,0,1,1,0,1,1,0,0,0,0,0,0]
["San Luis Potosí",124,15,2,5,3,7,8,9,3,2,4,2,1,1,0,0,0,0,0,0,72,7,2,3,1,4,4,7,1,1,1,1,0,1,0,0,0,0,0,0,52,8,0,2,2,3,4,2,2,1,3,1,1,0,0,0,0,0,0,0]
["Sinaloa",70,14,5,3,1,2,3,4,1,2,4,1,4,2,2,1,0,1,1,0,33,6,2,2,1,2,2,3,1,0,4,1,2,1,1,1,0,1,1,0,37,8,3,1,0,0,1,1,0,2,0,0,2,1,1,0,0,0,0,0]
["Sonora",94,11,2,4,3,4,4,0,3,2,2,1,5,3,2,5,2,3,1,0,54,7,1,1,2,3,2,0,2,0,1,1,2,2,1,2,1,2,1,0,40,4,1,3,1,1,2,0,1,2,1,0,3,1,1,3,1,1,0,0]
["Tabasco",137,15,7,7,10,12,6,8,1,2,1,3,3,2,0,4,1,0,0,0,75,8,3,7,6,9,5,5,1,2,1,2,2,1,0,1,1,0,0,0,62,7,4,0,4,3,1,3,0,0,0,1,1,1,0,3,0,0,0,0]
["Tamaulipas",115,19,2,3,2,4,2,1,3,2,4,0,3,0,1,0,2,2,0,0,55,7,2,2,1,3,1,0,2,1,3,0,1,0,0,0,1,0,0,0,60,12,0,1,1,1,1,1,1,1,1,0,2,0,1,0,1,2,0,0]
["Tlaxcala",58,9,4,5,3,7,5,4,3,1,0,1,0,3,1,0,1,0,2,0,29,5,2,2,1,7,2,4,0,1,0,0,0,2,0,0,0,0,1,0,29,4,2,3,2,0,3,0,3,0,0,1,0,1,1,0,1,0,1,0]
["Veracruz",252,43,12,14,18,14,15,19,22,13,10,13,4,7,5,8,7,3,10,0,130,22,6,9,10,9,6,13,13,4,7,8,3,4,3,4,4,2,8,0,122,21,6,5,8,5,9,6,9,9,3,5,1,3,2,4,3,1,2,0]
["Yucatán",82,16,3,2,2,6,4,4,4,1,2,2,1,2,0,1,1,2,0,0,41,8,3,1,1,2,3,3,2,0,1,2,0,2,0,0,1,0,0,0,41,8,0,1,1,4,1,1,2,1,1,0,1,0,0,1,0,2,0,0]
["Zacatecas",51,11,2,3,1,2,2,2,0,2,3,3,0,0,1,1,1,0,0,0,29,8,0,2,0,1,2,1,0,2,0,2,0,0,1,0,0,0,0,0,22,3,2,1,1,1,0,1,0,0,3,1,0,0,0,1,1,0,0,0]

{"sheet":"19T-GCM-R_Edad2022 ","index":136,"n_rows":34,"n_cols":61,"rows_kept":34,"cut":false,"hidden":true,"merged":[]}
[1,2,3,4,5,6,7,8,9,10,11,12,13,14,15,16,17,18,19,20,21,22,23,24,25,26,27,28,29,30,31,32,33,34,35,36,37,38,39,40,41,42,43,44,45,46,47,48,49,50,51,52,53,54,55,56,57,58,59,60,61]
["ESTADO","Menores de 1 año","1-4 años","5-9 años","10-14 años","15-19 años","20-24 años","25-29 años","30-34 años","35-39 años","40-44 años","45-49 años","50-54 años","55-59 años","60-64 años","65-69 años","70-74 años","75-79 años","80-84 años","85 años y más","No especificado","H Menores de 1 año","H 1-4 años","H 5-9 años","H 10-14 años","H 15-19 años","H 20-24 años","H 25-29 años","H 30-34 años","H 35-39 años","H 40-44 años","H 45-49 años","H 50-54 años","H 55-59 años","H 60-64 años","H 65-69 años","H 70-74 años","H 75-79 años","H 80-84 años","H 85 años y más","H No especificado","   M Menores de 1 año ","M 1-4 años","M 5-9 años","M 10-14 años","M 15-19 años","M 20-24 años","M 25-29 años","M 30-34 años","M 35-39 años","M 40-44 años","M 45-49 años","M 50-54 años","M 55-59 años","M 60-64 años","M 65-69 años","M 70-74 años","M 75-79 años","M 80-84 años","M 85 años y    ás","M No especificado"]
["Aguascalientes",45,12,2,1,0,1,4,3,1,0,4,0,1,1,0,0,0,1,2,0,22,6,1,1,0,1,1,2,1,0,3,0,0,1,0,0,0,0,1,0,23,6,1,0,0,0,3,1,0,0,1,0,1,0,0,0,0,1,1,0]
["Baja California",125,18,7,3,5,5,6,3,9,4,3,3,4,2,2,2,2,3,1,0,63,6,2,1,5,2,3,2,5,2,2,1,2,0,0,1,1,2,0,0,62,12,5,2,0,3,3,1,4,2,1,2,2,2,2,1,1,1,1,0]
["Baja California Sur",24,1,1,3,0,0,0,0,0,0,1,2,1,1,1,0,0,0,0,0,12,1,1,2,0,0,0,0,0,0,1,0,1,1,0,0,0,0,0,0,12,0,0,1,0,0,0,0,0,0,0,2,0,0,1,0,0,0,0,0]
["Campeche",35,7,4,0,1,2,3,2,1,2,0,1,1,1,1,0,0,0,1,0,24,5,2,0,0,2,1,1,1,2,0,0,1,0,0,0,0,0,1,0,11,2,2,0,1,0,2,1,0,0,0,1,0,1,1,0,0,0,0,0]
["Coahuila",116,28,8,7,2,1,8,4,1,3,3,5,2,0,3,1,0,0,1,1,66,15,6,2,0,0,1,2,0,2,2,3,1,0,0,0,0,0,1,0,50,13,2,5,2,1,7,2,1,1,1,2,1,0,3,1,0,0,0,1]
["Colima",19,1,1,1,1,0,3,0,1,0,0,0,3,1,0,0,0,0,0,0,10,0,0,1,1,0,1,0,0,0,0,0,2,0,0,0,0,0,0,0,9,1,1,0,0,0,2,0,1,0,0,0,1,1,0,0,0,0,0,0]
["Chiapas",229,61,14,14,19,12,14,5,4,5,7,1,6,7,2,3,3,1,1,0,120,26,8,7,10,8,12,3,2,2,3,0,3,4,0,3,2,1,0,0,109,35,6,7,9,4,2,2,2,3,4,1,3,3,2,0,1,0,1,0]
["Chihuahua",130,10,6,4,2,6,10,8,3,5,1,4,4,4,0,3,2,2,3,0,82,7,4,2,2,4,5,2,1,4,0,2,2,3,0,2,1,2,0,0,48,3,2,2,0,2,5,6,2,1,1,2,2,1,0,1,1,0,3,0]
["Ciudad de México",545,104,30,24,19,15,20,22,11,15,15,9,15,13,11,6,4,2,5,0,292,54,17,13,8,11,10,14,3,6,8,4,8,4,4,4,2,0,3,0,253,50,13,11,11,4,10,8,8,9,7,5,7,9,7,2,2,2,2,0]
["Durango",74,6,4,1,1,0,0,1,0,1,1,0,1,0,1,0,0,1,0,1,47,3,3,1,1,0,0,0,0,1,1,0,1,0,1,0,0,1,0,0,27,3,1,0,0,0,0,1,0,0,0,0,0,0,0,0,0,0,0,1]
["Guanajuato",265,22,11,13,10,14,16,11,10,3,8,6,3,3,3,0,3,0,3,0,148,16,7,3,4,8,10,7,4,2,5,3,1,2,3,0,1,0,2,0,117,6,4,10,6,6,6,4,6,1,3,3,2,1,0,0,2,0,1,0]
["Guerrero",97,23,4,2,5,5,3,5,4,3,1,5,1,1,3,3,4,2,1,0,45,11,1,1,2,4,2,5,2,2,1,2,1,1,1,2,2,1,0,0,52,12,3,1,3,1,1,0,2,1,0,3,0,0,2,1,2,1,1,0]
["Hidalgo",67,10,5,7,4,5,7,6,4,0,5,4,3,2,6,3,3,2,2,0,37,5,3,3,2,2,5,6,2,0,4,2,1,2,5,3,1,1,0,0,30,5,2,4,2,3,2,0,2,0,1,2,2,0,1,0,2,1,2,0]
["Jalisco",379,58,26,18,14,8,13,13,8,6,13,7,6,6,2,6,1,3,1,0,176,24,13,12,11,6,9,8,2,4,5,4,3,4,0,1,0,1,1,0,203,34,13,6,3,2,4,5,6,2,8,3,3,2,2,5,1,2,0,0]
["México",429,77,19,14,36,33,45,27,21,18,20,13,13,6,7,4,9,2,9,3,232,37,7,10,24,16,25,18,13,10,9,6,7,5,4,1,5,0,2,3,197,40,12,4,12,17,20,9,8,8,11,7,6,1,3,3,4,2,7,0]
["Michoacán",166,22,6,7,12,5,6,6,7,3,5,5,5,6,1,4,4,1,4,1,82,8,1,1,11,1,2,6,5,2,0,1,2,2,0,2,2,1,1,1,84,14,5,6,1,4,4,0,2,1,5,4,3,4,1,2,2,0,3,0]
["Morelos",63,17,2,2,2,5,2,7,1,3,0,1,2,2,0,0,1,2,1,0,37,7,1,1,2,3,1,5,1,3,0,0,2,1,0,0,1,0,1,0,26,10,1,1,0,2,1,2,0,0,0,1,0,1,0,0,0,2,0,0]
["Nayarit",33,4,2,2,3,2,3,1,1,0,1,0,1,2,0,2,1,0,0,1,16,3,1,1,3,1,2,0,1,0,0,0,1,1,0,1,0,0,0,1,17,1,1,1,0,1,1,1,0,0,1,0,0,1,0,1,1,0,0,0]
["Nuevo León",259,42,10,12,8,5,6,4,9,3,4,10,7,6,1,2,1,1,2,0,148,24,6,6,1,2,6,3,6,1,1,2,4,4,0,1,1,1,0,0,111,18,4,6,7,3,0,1,3,2,3,8,3,2,1,1,0,0,2,0]
["Oaxaca",120,25,10,14,11,9,12,5,4,5,5,5,3,3,3,2,2,2,5,1,57,12,5,7,8,5,10,2,3,2,3,2,1,3,3,2,2,1,2,0,63,13,5,7,3,4,2,3,1,3,2,3,2,0,0,0,0,1,3,1]
["Puebla",358,75,23,22,21,30,14,6,7,9,5,8,4,4,5,2,1,1,5,0,199,44,7,11,8,21,9,4,2,6,2,4,3,2,4,2,0,1,1,0,159,31,16,11,13,9,5,2,5,3,3,4,1,2,1,0,1,0,4,0]
["Querétaro",87,15,5,5,5,3,10,4,2,5,3,1,3,2,0,0,2,2,0,0,49,7,1,4,2,3,4,3,2,4,1,0,3,0,0,0,0,2,0,0,38,8,4,1,3,0,6,1,0,1,2,1,0,2,0,0,2,0,0,0]
["Quintana Roo",48,3,1,6,2,3,1,3,3,4,1,0,1,2,1,1,0,1,0,0,28,1,1,3,1,3,1,3,2,1,0,0,0,1,1,1,0,0,0,0,20,2,0,3,1,0,0,0,1,3,1,0,1,1,0,0,0,1,0,0]
["San Luis Potosí",124,14,3,2,8,6,10,4,9,5,2,3,2,2,1,0,0,0,0,0,74,7,3,1,4,5,7,3,5,2,0,0,1,0,0,0,0,0,0,0,50,7,0,1,4,1,3,1,4,3,2,3,1,2,1,0,0,0,0,0]
["Sinaloa",87,11,3,2,3,4,1,2,3,2,2,2,5,2,0,1,2,1,2,1,56,7,2,0,2,3,1,1,2,1,0,1,4,0,0,1,2,1,0,0,31,4,1,2,1,1,0,1,1,1,2,1,1,2,0,0,0,0,2,1]
["Sonora",66,10,2,6,5,3,4,4,3,2,6,4,2,0,1,0,1,1,1,0,37,8,1,4,2,2,1,2,3,2,1,0,1,0,0,0,0,1,1,0,29,2,1,2,3,1,3,2,0,0,5,4,1,0,1,0,1,0,0,0]
["Tabasco",109,20,8,9,6,10,3,1,4,3,2,6,1,3,1,1,0,0,3,0,50,12,4,7,2,7,1,1,1,3,1,3,0,2,1,1,0,0,1,0,59,8,4,2,4,3,2,0,3,0,1,3,1,1,0,0,0,0,2,0]
["Tamaulipas",141,10,6,3,2,5,4,1,2,3,3,6,2,3,4,0,1,2,0,0,78,5,4,1,1,3,4,0,1,2,3,4,1,2,3,0,1,1,0,0,63,5,2,2,1,2,0,1,1,1,0,2,1,1,1,0,0,1,0,0]
["Tlaxcala",68,11,4,7,4,8,6,3,1,1,0,4,1,0,1,0,0,1,0,0,34,5,2,6,2,4,4,3,0,0,0,3,1,0,1,0,0,0,0,0,34,6,2,1,2,4,2,0,1,1,0,1,0,0,0,0,0,1,0,0]
["Veracruz",263,41,11,22,34,14,15,15,10,14,13,8,5,7,7,5,8,7,9,0,138,14,4,12,19,7,9,7,5,9,9,6,0,6,4,4,4,2,3,0,125,27,7,10,15,7,6,8,5,5,4,2,5,1,3,1,4,5,6,0]
["Yucatán",88,11,6,7,6,5,5,6,3,1,1,2,1,1,0,1,0,0,0,0,42,6,4,1,3,4,3,2,2,1,0,1,0,1,0,0,0,0,0,0,46,5,2,6,3,1,2,4,1,0,1,1,1,0,0,1,0,0,0,0]
["Zacatecas",47,6,2,5,3,0,3,1,1,0,1,0,2,1,0,2,0,0,1,1,28,3,1,1,2,0,1,0,0,0,1,0,1,0,0,0,0,0,0,1,19,3,1,4,1,0,2,1,1,0,0,0,1,1,0,2,0,0,1,0]

{"sheet":"19 GCM-G_Edad","index":137,"n_rows":24,"n_cols":10,"rows_kept":24,"cut":false,"hidden":false,"merged":[[0,0,0,9]]}
["Malformaciones congénitas, deformidades\ny anomalías cromosómicas"]
["SELECCIONE UNA ENTIDAD"]
["Morelos","2020","H - 2020","M - 2020","2021","H - 2021","M - 2021","2022","H - 2022","M - 2022"]
["Menores de 1 año",{"$f":"VLOOKUP($A$3,'19T-GCM-R_Edad2020  '!$A$2:$BI$34,2,0)","v":48},{"$f":"VLOOKUP($A$3,'19T-GCM-R_Edad2020  '!$A$2:$BI$34,22,0)","v":29},{"$f":"VLOOKUP($A$3,'19T-GCM-R_Edad2020  '!$A$2:$BI$34,42,0)","v":19},{"$f":"VLOOKUP($A$3,'19T-GCM-R_Edad2021 '!$A$2:$BI$34,2,0)","v":53},{"$f":"VLOOKUP($A$3,'19T-GCM-R_Edad2021 '!$A$2:$BI$34,22,0)","v":34},{"$f":"VLOOKUP($A$3,'19T-GCM-R_Edad2021 '!$A$2:$BI$34,42,0)","v":19},{"$f":"VLOOKUP($A$3,'19T-GCM-R_Edad2022 '!$A$2:$BI$34,2,0)","v":63},{"$f":"VLOOKUP($A$3,'19T-GCM-R_Edad2022 '!$A$2:$BI$34,22,0)","v":37},{"$f":"VLOOKUP($A$3,'19T-GCM-R_Edad2022 '!$A$2:$BI$34,42,0)","v":26}]
["1-4 años",{"$f":"VLOOKUP($A$3,'19T-GCM-R_Edad2020  '!$A$2:$BI$34,3,0)","v":10},{"$f":"VLOOKUP($A$3,'19T-GCM-R_Edad2020  '!$A$2:$BI$34,23,0)","v":8},{"$f":"VLOOKUP($A$3,'19T-GCM-R_Edad2020  '!$A$2:$BI$34,43,0)","v":2},{"$f":"VLOOKUP($A$3,'19T-GCM-R_Edad2021 '!$A$2:$BI$34,3,0)","v":7},{"$f":"VLOOKUP($A$3,'19T-GCM-R_Edad2021 '!$A$2:$BI$34,23,0)","v":2},{"$f":"VLOOKUP($A$3,'19T-GCM-R_Edad2021 '!$A$2:$BI$34,43,0)","v":5},{"$f":"VLOOKUP($A$3,'19T-GCM-R_Edad2022 '!$A$2:$BI$34,3,0)","v":17},{"$f":"VLOOKUP($A$3,'19T-GCM-R_Edad2022 '!$A$2:$BI$34,23,0)","v":7},{"$f":"VLOOKUP($A$3,'19T-GCM-R_Edad2022 '!$A$2:$BI$34,43,0)","v":10}]
["5-9 años",{"$f":"VLOOKUP($A$3,'19T-GCM-R_Edad2020  '!$A$2:$BI$34,4,0)","v":3},{"$f":"VLOOKUP($A$3,'19T-GCM-R_Edad2020  '!$A$2:$BI$34,24,0)","v":1},{"$f":"VLOOKUP($A$3,'19T-GCM-R_Edad2020  '!$A$2:$BI$34,44,0)","v":2},{"$f":"VLOOKUP($A$3,'19T-GCM-R_Edad2021 '!$A$2:$BI$34,4,0)","v":3},{"$f":"VLOOKUP($A$3,'19T-GCM-R_Edad2021 '!$A$2:$BI$34,24,0)","v":0},{"$f":"VLOOKUP($A$3,'19T-GCM-R_Edad2021 '!$A$2:$BI$34,44,0)","v":3},{"$f":"VLOOKUP($A$3,'19T-GCM-R_Edad2022 '!$A$2:$BI$34,4,0)","v":2},{"$f":"VLOOKUP($A$3,'19T-GCM-R_Edad2022 '!$A$2:$BI$34,24,0)","v":1},{"$f":"VLOOKUP($A$3,'19T-GCM-R_Edad2022 '!$A$2:$BI$34,44,0)","v":1}]
["10-14 años",{"$f":"VLOOKUP($A$3,'19T-GCM-R_Edad2020  '!$A$2:$BI$34,5,0)","v":5},{"$f":"VLOOKUP($A$3,'19T-GCM-R_Edad2020  '!$A$2:$BI$34,25,0)","v":2},{"$f":"VLOOKUP($A$3,'19T-GCM-R_Edad2020  '!$A$2:$BI$34,45,0)","v":3},{"$f":"VLOOKUP($A$3,'19T-GCM-R_Edad2021 '!$A$2:$BI$34,5,0)","v":4},{"$f":"VLOOKUP($A$3,'19T-GCM-R_Edad2021 '!$A$2:$BI$34,25,0)","v":2},{"$f":"VLOOKUP($A$3,'19T-GCM-R_Edad2021 '!$A$2:$BI$34,45,0)","v":2},{"$f":"VLOOKUP($A$3,'19T-GCM-R_Edad2022 '!$A$2:$BI$34,5,0)","v":2},{"$f":"VLOOKUP($A$3,'19T-GCM-R_Edad2022 '!$A$2:$BI$34,25,0)","v":1},{"$f":"VLOOKUP($A$3,'19T-GCM-R_Edad2022 '!$A$2:$BI$34,45,0)","v":1}]
["15-19 años",{"$f":"VLOOKUP($A$3,'19T-GCM-R_Edad2020  '!$A$2:$BI$34,6,0)","v":4},{"$f":"VLOOKUP($A$3,'19T-GCM-R_Edad2020  '!$A$2:$BI$34,26,0)","v":2},{"$f":"VLOOKUP($A$3,'19T-GCM-R_Edad2020  '!$A$2:$BI$34,46,0)","v":2},{"$f":"VLOOKUP($A$3,'19T-GCM-R_Edad2021 '!$A$2:$BI$34,6,0)","v":1},{"$f":"VLOOKUP($A$3,'19T-GCM-R_Edad2021 '!$A$2:$BI$34,26,0)","v":0},{"$f":"VLOOKUP($A$3,'19T-GCM-R_Edad2021 '!$A$2:$BI$34,46,0)","v":1},{"$f":"VLOOKUP($A$3,'19T-GCM-R_Edad2022 '!$A$2:$BI$34,6,0)","v":2},{"$f":"VLOOKUP($A$3,'19T-GCM-R_Edad2022 '!$A$2:$BI$34,26,0)","v":2},{"$f":"VLOOKUP($A$3,'19T-GCM-R_Edad2022 '!$A$2:$BI$34,46,0)","v":0}]
["20-24 años",{"$f":"VLOOKUP($A$3,'19T-GCM-R_Edad2020  '!$A$2:$BI$34,7,0)","v":6},{"$f":"VLOOKUP($A$3,'19T-GCM-R_Edad2020  '!$A$2:$BI$34,27,0)","v":5},{"$f":"VLOOKUP($A$3,'19T-GCM-R_Edad2020  '!$A$2:$BI$34,47,0)","v":1},{"$f":"VLOOKUP($A$3,'19T-GCM-R_Edad2021 '!$A$2:$BI$34,7,0)","v":1},{"$f":"VLOOKUP($A$3,'19T-GCM-R_Edad2021 '!$A$2:$BI$34,27,0)","v":1},{"$f":"VLOOKUP($A$3,'19T-GCM-R_Edad2021 '!$A$2:$BI$34,47,0)","v":0},{"$f":"VLOOKUP($A$3,'19T-GCM-R_Edad2022 '!$A$2:$BI$34,7,0)","v":5},{"$f":"VLOOKUP($A$3,'19T-GCM-R_Edad2022 '!$A$2:$BI$34,27,0)","v":3},{"$f":"VLOOKUP($A$3,'19T-GCM-R_Edad2022 '!$A$2:$BI$34,47,0)","v":2}]
["25-29 años",{"$f":"VLOOKUP($A$3,'19T-GCM-R_Edad2020  '!$A$2:$BI$34,8,0)","v":7},{"$f":"VLOOKUP($A$3,'19T-GCM-R_Edad2020  '!$A$2:$BI$34,28,0)","v":5},{"$f":"VLOOKUP($A$3,'19T-GCM-R_Edad2020  '!$A$2:$BI$34,48,0)","v":2},{"$f":"VLOOKUP($A$3,'19T-GCM-R_Edad2021 '!$A$2:$BI$34,8,0)","v":3},{"$f":"VLOOKUP($A$3,'19T-GCM-R_Edad2021 '!$A$2:$BI$34,28,0)","v":2},{"$f":"VLOOKUP($A$3,'19T-GCM-R_Edad2021 '!$A$2:$BI$34,48,0)","v":1},{"$f":"VLOOKUP($A$3,'19T-GCM-R_Edad2022 '!$A$2:$BI$34,8,0)","v":2},{"$f":"VLOOKUP($A$3,'19T-GCM-R_Edad2022 '!$A$2:$BI$34,28,0)","v":1},{"$f":"VLOOKUP($A$3,'19T-GCM-R_Edad2022 '!$A$2:$BI$34,48,0)","v":1}]
["30-34 años",{"$f":"VLOOKUP($A$3,'19T-GCM-R_Edad2020  '!$A$2:$BI$34,9,0)","v":8},{"$f":"VLOOKUP($A$3,'19T-GCM-R_Edad2020  '!$A$2:$BI$34,29,0)","v":7},{"$f":"VLOOKUP($A$3,'19T-GCM-R_Edad2020  '!$A$2:$BI$34,49,0)","v":1},{"$f":"VLOOKUP($A$3,'19T-GCM-R_Edad2021 '!$A$2:$BI$34,9,0)","v":1},{"$f":"VLOOKUP($A$3,'19T-GCM-R_Edad2021 '!$A$2:$BI$34,29,0)","v":0},{"$f":"VLOOKUP($A$3,'19T-GCM-R_Edad2021 '!$A$2:$BI$34,49,0)","v":1},{"$f":"VLOOKUP($A$3,'19T-GCM-R_Edad2022 '!$A$2:$BI$34,9,0)","v":7},{"$f":"VLOOKUP($A$3,'19T-GCM-R_Edad2022 '!$A$2:$BI$34,29,0)","v":5},{"$f":"VLOOKUP($A$3,'19T-GCM-R_Edad2022 '!$A$2:$BI$34,49,0)","v":2}]
["35-39 años",{"$f":"VLOOKUP($A$3,'19T-GCM-R_Edad2020  '!$A$2:$BI$34,10,0)","v":3},{"$f":"VLOOKUP($A$3,'19T-GCM-R_Edad2020  '!$A$2:$BI$34,30,0)","v":1},{"$f":"VLOOKUP($A$3,'19T-GCM-R_Edad2020  '!$A$2:$BI$34,50,0)","v":2},{"$f":"VLOOKUP($A$3,'19T-GCM-R_Edad2021 '!$A$2:$BI$34,10,0)","v":2},{"$f":"VLOOKUP($A$3,'19T-GCM-R_Edad2021 '!$A$2:$BI$34,30,0)","v":1},{"$f":"VLOOKUP($A$3,'19T-GCM-R_Edad2021 '!$A$2:$BI$34,50,0)","v":1},{"$f":"VLOOKUP($A$3,'19T-GCM-R_Edad2022 '!$A$2:$BI$34,10,0)","v":1},{"$f":"VLOOKUP($A$3,'19T-GCM-R_Edad2022 '!$A$2:$BI$34,30,0)","v":1},{"$f":"VLOOKUP($A$3,'19T-GCM-R_Edad2022 '!$A$2:$BI$34,50,0)","v":0}]
["40-44 años",{"$f":"VLOOKUP($A$3,'19T-GCM-R_Edad2020  '!$A$2:$BI$34,11,0)","v":2},{"$f":"VLOOKUP($A$3,'19T-GCM-R_Edad2020  '!$A$2:$BI$34,31,0)","v":1},{"$f":"VLOOKUP($A$3,'19T-GCM-R_Edad2020  '!$A$2:$BI$34,51,0)","v":1},{"$f":"VLOOKUP($A$3,'19T-GCM-R_Edad2021 '!$A$2:$BI$34,11,0)","v":1},{"$f":"VLOOKUP($A$3,'19T-GCM-R_Edad2021 '!$A$2:$BI$34,31,0)","v":1},{"$f":"VLOOKUP($A$3,'19T-GCM-R_Edad2021 '!$A$2:$BI$34,51,0)","v":0},{"$f":"VLOOKUP($A$3,'19T-GCM-R_Edad2022 '!$A$2:$BI$34,11,0)","v":3},{"$f":"VLOOKUP($A$3,'19T-GCM-R_Edad2022 '!$A$2:$BI$34,31,0)","v":3},{"$f":"VLOOKUP($A$3,'19T-GCM-R_Edad2022 '!$A$2:$BI$34,51,0)","v":0}]
["45-49 años",{"$f":"VLOOKUP($A$3,'19T-GCM-R_Edad2020  '!$A$2:$BI$34,12,0)","v":2},{"$f":"VLOOKUP($A$3,'19T-GCM-R_Edad2020  '!$A$2:$BI$34,32,0)","v":1},{"$f":"VLOOKUP($A$3,'19T-GCM-R_Edad2020  '!$A$2:$BI$34,52,0)","v":1},{"$f":"VLOOKUP($A$3,'19T-GCM-R_Edad2021 '!$A$2:$BI$34,12,0)","v":2},{"$f":"VLOOKUP($A$3,'19T-GCM-R_Edad2021 '!$A$2:$BI$34,32,0)","v":2},{"$f":"VLOOKUP($A$3,'19T-GCM-R_Edad2021 '!$A$2:$BI$34,52,0)","v":0},{"$f":"VLOOKUP($A$3,'19T-GCM-R_Edad2022 '!$A$2:$BI$34,12,0)","v":0},{"$f":"VLOOKUP($A$3,'19T-GCM-R_Edad2022 '!$A$2:$BI$34,32,0)","v":0},{"$f":"VLOOKUP($A$3,'19T-GCM-R_Edad2022 '!$A$2:$BI$34,52,0)","v":0}]
["50-54 años",{"$f":"VLOOKUP($A$3,'19T-GCM-R_Edad2020  '!$A$2:$BI$34,13,0)","v":1},{"$f":"VLOOKUP($A$3,'19T-GCM-R_Edad2020  '!$A$2:$BI$34,33,0)","v":1},{"$f":"VLOOKUP($A$3,'19T-GCM-R_Edad2020  '!$A$2:$BI$34,53,0)","v":0},{"$f":"VLOOKUP($A$3,'19T-GCM-R_Edad2021 '!$A$2:$BI$34,13,0)","v":2},{"$f":"VLOOKUP($A$3,'19T-GCM-R_Edad2021 '!$A$2:$BI$34,33,0)","v":2},{"$f":"VLOOKUP($A$3,'19T-GCM-R_Edad2021 '!$A$2:$BI$34,53,0)","v":0},{"$f":"VLOOKUP($A$3,'19T-GCM-R_Edad2022 '!$A$2:$BI$34,13,0)","v":1},{"$f":"VLOOKUP($A$3,'19T-GCM-R_Edad2022 '!$A$2:$BI$34,33,0)","v":0},{"$f":"VLOOKUP($A$3,'19T-GCM-R_Edad2022 '!$A$2:$BI$34,53,0)","v":1}]
["55-59 años",{"$f":"VLOOKUP($A$3,'19T-GCM-R_Edad2020  '!$A$2:$BI$34,14,0)","v":4},{"$f":"VLOOKUP($A$3,'19T-GCM-R_Edad2020  '!$A$2:$BI$34,34,0)","v":2},{"$f":"VLOOKUP($A$3,'19T-GCM-R_Edad2020  '!$A$2:$BI$34,54,0)","v":2},{"$f":"VLOOKUP($A$3,'19T-GCM-R_Edad2021 '!$A$2:$BI$34,14,0)","v":1},{"$f":"VLOOKUP($A$3,'19T-GCM-R_Edad2021 '!$A$2:$BI$34,34,0)","v":0},{"$f":"VLOOKUP($A$3,'19T-GCM-R_Edad2021 '!$A$2:$BI$34,54,0)","v":1},{"$f":"VLOOKUP($A$3,'19T-GCM-R_Edad2022 '!$A$2:$BI$34,14,0)","v":2},{"$f":"VLOOKUP($A$3,'19T-GCM-R_Edad2022 '!$A$2:$BI$34,34,0)","v":2},{"$f":"VLOOKUP($A$3,'19T-GCM-R_Edad2022 '!$A$2:$BI$34,54,0)","v":0}]
["60-64 años",{"$f":"VLOOKUP($A$3,'19T-GCM-R_Edad2020  '!$A$2:$BI$34,15,0)","v":2},{"$f":"VLOOKUP($A$3,'19T-GCM-R_Edad2020  '!$A$2:$BI$34,35,0)","v":1},{"$f":"VLOOKUP($A$3,'19T-GCM-R_Edad2020  '!$A$2:$BI$34,55,0)","v":1},{"$f":"VLOOKUP($A$3,'19T-GCM-R_Edad2021 '!$A$2:$BI$34,15,0)","v":0},{"$f":"VLOOKUP($A$3,'19T-GCM-R_Edad2021 '!$A$2:$BI$34,35,0)","v":0},{"$f":"VLOOKUP($A$3,'19T-GCM-R_Edad2021 '!$A$2:$BI$34,55,0)","v":0},{"$f":"VLOOKUP($A$3,'19T-GCM-R_Edad2022 '!$A$2:$BI$34,15,0)","v":2},{"$f":"VLOOKUP($A$3,'19T-GCM-R_Edad2022 '!$A$2:$BI$34,35,0)","v":1},{"$f":"VLOOKUP($A$3,'19T-GCM-R_Edad2022 '!$A$2:$BI$34,55,0)","v":1}]
["65-69 años",{"$f":"VLOOKUP($A$3,'19T-GCM-R_Edad2020  '!$A$2:$BI$34,16,0)","v":1},{"$f":"VLOOKUP($A$3,'19T-GCM-R_Edad2020  '!$A$2:$BI$34,36,0)","v":1},{"$f":"VLOOKUP($A$3,'19T-GCM-R_Edad2020  '!$A$2:$BI$34,56,0)","v":0},{"$f":"VLOOKUP($A$3,'19T-GCM-R_Edad2021 '!$A$2:$BI$34,16,0)","v":2},{"$f":"VLOOKUP($A$3,'19T-GCM-R_Edad2021 '!$A$2:$BI$34,36,0)","v":1},{"$f":"VLOOKUP($A$3,'19T-GCM-R_Edad2021 '!$A$2:$BI$34,56,0)","v":1},{"$f":"VLOOKUP($A$3,'19T-GCM-R_Edad2022 '!$A$2:$BI$34,16,0)","v":0},{"$f":"VLOOKUP($A$3,'19T-GCM-R_Edad2022 '!$A$2:$BI$34,36,0)","v":0},{"$f":"VLOOKUP($A$3,'19T-GCM-R_Edad2022 '!$A$2:$BI$34,56,0)","v":0}]
["70-74 años",{"$f":"VLOOKUP($A$3,'19T-GCM-R_Edad2020  '!$A$2:$BI$34,17,0)","v":1},{"$f":"VLOOKUP($A$3,'19T-GCM-R_Edad2020  '!$A$2:$BI$34,37,0)","v":0},{"$f":"VLOOKUP($A$3,'19T-GCM-R_Edad2020  '!$A$2:$BI$34,57,0)","v":1},{"$f":"VLOOKUP($A$3,'19T-GCM-R_Edad2021 '!$A$2:$BI$34,17,0)","v":0},{"$f":"VLOOKUP($A$3,'19T-GCM-R_Edad2021 '!$A$2:$BI$34,37,0)","v":0},{"$f":"VLOOKUP($A$3,'19T-GCM-R_Edad2021 '!$A$2:$BI$34,57,0)","v":0},{"$f":"VLOOKUP($A$3,'19T-GCM-R_Edad2022 '!$A$2:$BI$34,17,0)","v":0},{"$f":"VLOOKUP($A$3,'19T-GCM-R_Edad2022 '!$A$2:$BI$34,37,0)","v":0},{"$f":"VLOOKUP($A$3,'19T-GCM-R_Edad2022 '!$A$2:$BI$34,57,0)","v":0}]
["75-79 años",{"$f":"VLOOKUP($A$3,'19T-GCM-R_Edad2020  '!$A$2:$BI$34,18,0)","v":2},{"$f":"VLOOKUP($A$3,'19T-GCM-R_Edad2020  '!$A$2:$BI$34,38,0)","v":1},{"$f":"VLOOKUP($A$3,'19T-GCM-R_Edad2020  '!$A$2:$BI$34,58,0)","v":1},{"$f":"VLOOKUP($A$3,'19T-GCM-R_Edad2021 '!$A$2:$BI$34,18,0)","v":3},{"$f":"VLOOKUP($A$3,'19T-GCM-R_Edad2021 '!$A$2:$BI$34,38,0)","v":2},{"$f":"VLOOKUP($A$3,'19T-GCM-R_Edad2021 '!$A$2:$BI$34,58,0)","v":1},{"$f":"VLOOKUP($A$3,'19T-GCM-R_Edad2022 '!$A$2:$BI$34,18,0)","v":1},{"$f":"VLOOKUP($A$3,'19T-GCM-R_Edad2022 '!$A$2:$BI$34,38,0)","v":1},{"$f":"VLOOKUP($A$3,'19T-GCM-R_Edad2022 '!$A$2:$BI$34,58,0)","v":0}]
["80-84 años",{"$f":"VLOOKUP($A$3,'19T-GCM-R_Edad2020  '!$A$2:$BI$34,19,0)","v":2},{"$f":"VLOOKUP($A$3,'19T-GCM-R_Edad2020  '!$A$2:$BI$34,39,0)","v":1},{"$f":"VLOOKUP($A$3,'19T-GCM-R_Edad2020  '!$A$2:$BI$34,59,0)","v":1},{"$f":"VLOOKUP($A$3,'19T-GCM-R_Edad2021 '!$A$2:$BI$34,19,0)","v":1},{"$f":"VLOOKUP($A$3,'19T-GCM-R_Edad2021 '!$A$2:$BI$34,39,0)","v":0},{"$f":"VLOOKUP($A$3,'19T-GCM-R_Edad2021 '!$A$2:$BI$34,59,0)","v":1},{"$f":"VLOOKUP($A$3,'19T-GCM-R_Edad2022 '!$A$2:$BI$34,19,0)","v":2},{"$f":"VLOOKUP($A$3,'19T-GCM-R_Edad2022 '!$A$2:$BI$34,39,0)","v":0},{"$f":"VLOOKUP($A$3,'19T-GCM-R_Edad2022 '!$A$2:$BI$34,59,0)","v":2}]
["85 años y más",{"$f":"VLOOKUP($A$3,'19T-GCM-R_Edad2020  '!$A$2:$BI$34,20,0)","v":0},{"$f":"VLOOKUP($A$3,'19T-GCM-R_Edad2020  '!$A$2:$BI$34,40,0)","v":0},{"$f":"VLOOKUP($A$3,'19T-GCM-R_Edad2020  '!$A$2:$BI$34,60,0)","v":0},{"$f":"VLOOKUP($A$3,'19T-GCM-R_Edad2021 '!$A$2:$BI$34,20,0)","v":0},{"$f":"VLOOKUP($A$3,'19T-GCM-R_Edad2021 '!$A$2:$BI$34,40,0)","v":0},{"$f":"VLOOKUP($A$3,'19T-GCM-R_Edad2021 '!$A$2:$BI$34,60,0)","v":0},{"$f":"VLOOKUP($A$3,'19T-GCM-R_Edad2022 '!$A$2:$BI$34,20,0)","v":1},{"$f":"VLOOKUP($A$3,'19T-GCM-R_Edad2022 '!$A$2:$BI$34,40,0)","v":1},{"$f":"VLOOKUP($A$3,'19T-GCM-R_Edad2022 '!$A$2:$BI$34,60,0)","v":0}]
["No especificado",{"$f":"VLOOKUP($A$3,'19T-GCM-R_Edad2020  '!$A$2:$BI$34,21,0)","v":0},{"$f":"VLOOKUP($A$3,'19T-GCM-R_Edad2020  '!$A$2:$BI$34,41,0)","v":0},{"$f":"VLOOKUP($A$3,'19T-GCM-R_Edad2020  '!$A$2:$BI$34,61,0)","v":0},{"$f":"VLOOKUP($A$3,'19T-GCM-R_Edad2021 '!$A$2:$BI$34,21,0)","v":0},{"$f":"VLOOKUP($A$3,'19T-GCM-R_Edad2021 '!$A$2:$BI$34,41,0)","v":0},{"$f":"VLOOKUP($A$3,'19T-GCM-R_Edad2021 '!$A$2:$BI$34,61,0)","v":0},{"$f":"VLOOKUP($A$3,'19T-GCM-R_Edad2022 '!$A$2:$BI$34,21,0)","v":0},{"$f":"VLOOKUP($A$3,'19T-GCM-R_Edad2022 '!$A$2:$BI$34,41,0)","v":0},{"$f":"VLOOKUP($A$3,'19T-GCM-R_Edad2022 '!$A$2:$BI$34,61,0)","v":0}]
["Total",{"$f":"SUM(B4:B23)","v":111},69,42,87,50,37,113,66,47]

{"sheet":"20T-GCM-R_Edad2020  ","index":138,"n_rows":34,"n_cols":61,"rows_kept":34,"cut":false,"hidden":true,"merged":[]}
[1,2,3,4,5,6,7,8,9,10,11,12,13,14,15,16,17,18,19,20,21,22,23,24,25,26,27,28,29,30,31,32,33,34,35,36,37,38,39,40,41,42,43,44,45,46,47,48,49,50,51,52,53,54,55,56,57,58,59,60,61]
["ESTADO","Menores de 1 año","1-4 años","5-9 años","10-14 años","15-19 años","20-24 años","25-29 años","30-34 años","35-39 años","40-44 años","45-49 años","50-54 años","55-59 años","60-64 años","65-69 años","70-74 años","75-79 años","80-84 años","85 años y más","No especificado","H Menores de 1 año","H 1-4 años","H 5-9 años","H 10-14 años","H 15-19 años","H 20-24 años","H 25-29 años","H 30-34 años","H 35-39 años","H 40-44 años","H 45-49 años","H 50-54 años","H 55-59 años","H 60-64 años","H 65-69 años","H 70-74 años","H 75-79 años","H 80-84 años","H 85 años y más","H No especificado","   M Menores de 1 año ","M 1-4 años","M 5-9 años","M 10-14 años","M 15-19 años","M 20-24 años","M 25-29 años","M 30-34 años","M 35-39 años","M 40-44 años","M 45-49 años","M 50-54 años","M 55-59 años","M 60-64 años","M 65-69 años","M 70-74 años","M 75-79 años","M 80-84 años","M 85 años y    ás","M No especificado"]
["Aguascalientes",3,0,0,0,0,0,2,0,0,0,0,2,1,0,1,2,0,3,22,0,1,0,0,0,0,0,0,0,0,0,0,1,0,0,0,1,0,2,5,0,2,0,0,0,0,0,2,0,0,0,0,1,1,0,1,1,0,1,17,0]
["Baja California",11,1,2,0,4,12,6,6,7,5,15,11,19,14,10,13,5,12,46,19,7,1,2,0,3,9,5,4,4,4,12,9,18,11,5,8,4,6,21,16,4,0,0,0,1,3,1,2,3,1,3,2,1,3,5,5,1,6,25,3]
["Baja California Sur",3,0,0,0,0,0,1,1,0,0,1,1,2,0,0,1,1,2,8,0,2,0,0,0,0,0,1,1,0,0,0,1,1,0,0,1,0,1,3,0,1,0,0,0,0,0,0,0,0,0,1,0,1,0,0,0,1,1,5,0]
["Campeche",2,0,0,0,0,2,0,1,2,1,0,4,6,4,11,9,26,44,176,0,2,0,0,0,0,1,0,0,0,1,0,2,4,3,6,8,13,23,104,0,0,0,0,0,0,1,0,1,2,0,0,2,2,1,5,1,13,21,72,0]
["Coahuila",8,1,0,0,2,5,3,1,5,2,2,4,3,16,8,46,76,118,361,0,4,1,0,0,1,4,1,1,2,0,1,3,2,10,7,30,37,57,155,0,4,0,0,0,1,1,2,0,3,2,1,1,1,6,1,16,39,61,206,0]
["Colima",2,0,0,0,2,1,0,1,0,2,1,0,0,1,0,3,3,10,90,0,1,0,0,0,0,0,0,0,0,1,1,0,0,1,0,3,2,9,43,0,1,0,0,0,2,1,0,1,0,1,0,0,0,0,0,0,1,1,47,0]
["Chiapas",42,15,9,10,11,13,19,24,21,21,22,33,38,50,88,142,229,332,742,3,25,4,4,5,6,5,8,18,14,11,11,20,22,31,48,80,135,188,402,3,17,11,5,5,5,8,11,6,7,10,11,13,16,19,40,62,94,144,340,0]
["Chihuahua",11,0,3,2,2,4,1,5,5,5,4,7,13,22,15,22,20,25,116,3,7,0,2,1,1,3,1,0,3,4,3,6,6,13,8,12,14,16,47,3,4,0,1,1,1,1,0,5,2,1,1,1,7,9,7,10,6,9,69,0]
["Ciudad de México",1,1,0,0,2,4,1,2,2,3,5,3,7,10,6,9,6,2,7,5,1,1,0,0,2,1,0,2,1,2,2,3,3,6,3,5,4,0,1,4,0,0,0,0,0,3,1,0,1,1,3,0,4,4,3,4,2,2,6,1]
["Durango",6,1,0,0,0,0,0,1,2,5,7,8,7,3,12,13,16,16,51,4,3,1,0,0,0,0,0,1,1,5,4,5,4,1,7,5,12,5,22,3,3,0,0,0,0,0,0,0,1,0,3,3,3,2,5,8,4,11,29,1]
["Guanajuato",39,2,0,0,0,1,1,1,1,3,4,1,4,3,5,5,11,20,118,0,23,0,0,0,0,0,0,1,0,3,3,1,0,3,3,4,5,13,51,0,16,2,0,0,0,1,1,0,1,0,1,0,4,0,2,1,6,7,67,0]
["Guerrero",11,4,1,2,5,13,9,6,5,13,6,14,13,19,17,41,41,59,229,0,9,3,0,0,1,10,7,4,5,9,3,8,12,16,11,27,22,32,102,0,2,1,1,2,4,3,2,2,0,4,3,6,1,3,6,14,19,27,127,0]
["Hidalgo",16,0,0,0,2,2,4,1,1,4,1,1,2,5,5,1,16,25,80,0,9,0,0,0,2,2,0,1,0,3,0,0,1,4,4,1,12,11,35,0,7,0,0,0,0,0,4,0,1,1,1,1,1,1,1,0,4,14,45,0]
["Jalisco",23,2,1,1,3,8,3,4,8,6,6,9,8,15,13,20,23,39,312,19,10,1,0,0,1,6,2,3,5,5,5,6,3,13,8,17,11,23,137,18,13,1,1,1,2,2,1,1,3,1,1,3,5,2,5,3,12,16,175,1]
["México",46,11,0,3,1,2,2,1,2,1,3,5,3,3,3,2,7,14,64,6,19,6,0,3,1,1,1,1,1,1,1,3,2,2,1,2,6,8,22,6,27,5,0,0,0,1,1,0,1,0,2,2,1,1,2,0,1,6,42,0]
["Michoacán",18,2,1,0,2,1,1,2,3,1,3,5,3,6,10,15,27,52,268,0,9,1,1,0,1,1,1,2,0,0,1,2,1,4,6,4,11,22,127,0,9,1,0,0,1,0,0,0,3,1,2,3,2,2,4,11,16,30,141,0]
["Morelos",12,1,0,0,1,0,1,1,2,0,3,3,7,8,11,14,5,14,60,0,8,1,0,0,1,0,0,1,1,0,3,2,3,6,8,10,3,6,26,0,4,0,0,0,0,0,1,0,1,0,0,1,4,2,3,4,2,8,34,0]
["Nayarit",3,0,0,0,1,1,3,1,4,1,3,2,0,1,7,4,2,17,63,3,0,0,0,0,0,1,2,1,3,1,2,2,0,1,2,2,0,9,22,3,3,0,0,0,1,0,1,0,1,0,1,0,0,0,5,2,2,8,41,0]
["Nuevo León",8,0,1,0,3,1,2,1,3,3,6,6,6,5,2,8,10,24,95,4,6,0,1,0,3,1,2,0,0,2,3,5,3,1,2,3,4,11,42,4,2,0,0,0,0,0,0,1,3,1,3,1,3,4,0,5,6,13,53,0]
["Oaxaca",24,2,2,1,2,3,7,8,2,12,10,15,22,22,20,44,90,173,635,0,16,1,2,0,2,3,4,4,1,8,9,9,13,12,16,32,49,93,303,0,8,1,0,1,0,0,3,4,1,4,1,6,9,10,4,12,41,80,332,0]
["Puebla",135,2,0,3,4,3,1,6,5,4,2,2,7,6,12,20,25,71,279,4,93,1,0,1,2,1,1,5,4,4,2,0,6,4,5,14,11,38,121,4,42,1,0,2,2,2,0,1,1,0,0,2,1,2,7,6,14,33,158,0]
["Querétaro",7,0,0,0,1,1,3,1,0,4,1,0,3,0,2,14,18,23,106,3,5,0,0,0,1,1,1,0,0,3,1,0,2,0,1,6,11,6,47,2,2,0,0,0,0,0,2,1,0,1,0,0,1,0,1,8,7,17,59,1]
["Quintana Roo",10,2,0,1,1,1,2,0,1,0,2,2,2,2,8,15,25,18,95,1,5,2,0,1,1,1,2,0,1,0,1,2,1,2,7,7,21,14,49,1,5,0,0,0,0,0,0,0,0,0,1,0,1,0,1,8,4,4,46,0]
["San Luis Potosí",11,0,0,0,0,0,0,2,1,3,3,1,6,4,4,22,30,49,164,0,8,0,0,0,0,0,0,1,0,1,3,0,3,3,2,14,21,27,84,0,3,0,0,0,0,0,0,1,1,2,0,1,3,1,2,8,9,22,80,0]
["Sinaloa",7,2,0,0,0,6,8,6,9,9,5,9,5,8,8,6,13,21,64,2,5,1,0,0,0,6,7,5,6,7,3,9,4,3,7,5,9,9,27,2,2,1,0,0,0,0,1,1,3,2,2,0,1,5,1,1,4,12,37,0]
["Sonora",19,1,2,2,0,3,7,15,7,7,10,4,9,14,11,12,12,15,44,10,10,1,1,2,0,2,7,14,7,4,9,4,8,8,10,8,6,10,17,9,9,0,1,0,0,1,0,1,0,3,1,0,1,6,1,4,6,5,27,1]
["Tabasco",15,0,0,1,1,0,5,1,2,5,7,6,12,11,11,33,40,64,301,0,10,0,0,0,0,0,5,1,2,3,6,5,9,4,4,22,24,32,155,0,5,0,0,1,1,0,0,0,0,2,1,1,3,7,7,11,16,32,146,0]
["Tamaulipas",10,0,0,0,1,3,1,1,5,6,6,9,9,27,7,13,30,45,174,0,7,0,0,0,0,3,1,1,3,3,5,7,3,19,4,8,14,29,89,0,3,0,0,0,1,0,0,0,2,3,1,2,6,8,3,5,16,16,85,0]
["Tlaxcala",11,0,0,0,1,0,2,0,1,1,3,2,1,0,1,3,5,15,101,0,4,0,0,0,1,0,0,0,1,1,2,2,0,0,1,1,3,7,46,0,7,0,0,0,0,0,2,0,0,0,1,0,1,0,0,2,2,8,55,0]
["Veracruz",27,3,3,3,3,6,3,4,7,6,7,10,12,19,25,34,59,117,378,1,20,1,1,3,1,6,2,2,4,3,3,6,7,14,15,15,34,62,153,1,7,2,2,0,2,0,1,2,3,3,4,4,5,5,10,19,25,55,225,0]
["Yucatán",6,1,0,0,2,1,0,4,0,1,4,3,1,5,12,15,29,51,203,2,1,1,0,0,2,1,0,1,0,1,2,3,1,3,8,10,19,37,103,2,5,0,0,0,0,0,0,3,0,0,2,0,0,2,4,5,10,14,100,0]
["Zacatecas",6,0,0,1,3,2,2,2,2,3,5,3,2,3,3,6,13,8,85,2,5,0,0,1,2,2,2,0,0,2,4,2,2,1,2,4,8,4,40,1,1,0,0,0,1,0,0,2,2,1,1,1,0,2,1,2,5,4,45,1]

{"sheet":"20T-GCM-R_Edad2021 ","index":139,"n_rows":34,"n_cols":61,"rows_kept":34,"cut":false,"hidden":true,"merged":[]}
[1,2,3,4,5,6,7,8,9,10,11,12,13,14,15,16,17,18,19,20,21,22,23,24,25,26,27,28,29,30,31,32,33,34,35,36,37,38,39,40,41,42,43,44,45,46,47,48,49,50,51,52,53,54,55,56,57,58,59,60,61]
["ESTADO","Menores de 1 año","1-4 años","5-9 años","10-14 años","15-19 años","20-24 años","25-29 años","30-34 años","35-39 años","40-44 años","45-49 años","50-54 años","55-59 años","60-64 años","65-69 años","70-74 años","75-79 años","80-84 años","85 años y más","No especificado","H Menores de 1 año","H 1-4 años","H 5-9 años","H 10-14 años","H 15-19 años","H 20-24 años","H 25-29 años","H 30-34 años","H 35-39 años","H 40-44 años","H 45-49 años","H 50-54 años","H 55-59 años","H 60-64 años","H 65-69 años","H 70-74 años","H 75-79 años","H 80-84 años","H 85 años y más","H No especificado","   M Menores de 1 año ","M 1-4 años","M 5-9 años","M 10-14 años","M 15-19 años","M 20-24 años","M 25-29 años","M 30-34 años","M 35-39 años","M 40-44 años","M 45-49 años","M 50-54 años","M 55-59 años","M 60-64 años","M 65-69 años","M 70-74 años","M 75-79 años","M 80-84 años","M 85 años y    ás","M No especificado"]
["Aguascalientes",1,1,0,0,0,0,2,0,1,0,2,1,0,0,1,2,1,4,42,0,1,1,0,0,0,0,1,0,1,0,2,1,0,0,1,1,1,3,18,0,0,0,0,0,0,0,1,0,0,0,0,0,0,0,0,1,0,1,24,0]
["Baja California",7,0,0,0,4,12,9,15,12,7,9,12,14,13,5,6,4,7,36,38,4,0,0,0,2,10,8,14,10,6,9,7,11,7,5,5,4,4,22,34,3,0,0,0,2,2,1,1,2,1,0,5,3,6,0,1,0,3,14,4]
["Baja California Sur",0,0,0,0,0,0,0,0,0,0,2,0,0,0,2,0,0,1,8,1,0,0,0,0,0,0,0,0,0,0,1,0,0,0,2,0,0,1,1,1,0,0,0,0,0,0,0,0,0,0,1,0,0,0,0,0,0,0,7,0]
["Campeche",4,0,0,0,0,0,1,3,1,0,0,2,3,2,3,7,26,57,190,0,4,0,0,0,0,0,1,3,0,0,0,2,2,1,3,3,20,29,95,0,0,0,0,0,0,0,0,0,1,0,0,0,1,1,0,4,6,28,95,0]
["Coahuila",9,0,1,0,2,3,3,1,2,1,11,2,6,8,26,39,68,91,288,1,5,0,1,0,1,2,1,1,1,1,8,1,2,3,16,21,37,48,129,1,4,0,0,0,1,1,2,0,1,0,3,1,4,5,10,18,31,43,159,0]
["Colima",4,1,0,0,0,3,1,0,0,0,2,0,1,1,4,8,7,21,139,0,2,1,0,0,0,3,1,0,0,0,1,0,1,1,1,4,2,13,54,0,2,0,0,0,0,0,0,0,0,0,1,0,0,0,3,4,5,8,85,0]
["Chiapas",46,20,11,10,11,20,17,14,18,22,27,36,33,56,75,131,233,356,788,0,29,3,3,5,6,16,12,10,13,14,15,24,20,33,45,87,120,199,399,0,17,17,8,5,5,4,5,4,5,8,12,12,13,23,30,44,113,157,389,0]
["Chihuahua",11,0,0,0,3,3,1,1,4,5,6,11,6,11,17,19,19,27,84,0,6,0,0,0,2,2,1,0,2,4,5,9,5,7,11,9,9,18,47,0,5,0,0,0,1,1,0,1,2,1,1,2,1,4,6,10,10,9,37,0]
["Ciudad de México",24,2,2,1,6,13,12,14,20,22,25,31,18,23,25,23,13,17,26,3,13,2,0,0,4,9,9,10,14,16,19,26,13,16,19,14,6,11,6,2,11,0,2,1,2,4,3,4,6,6,6,5,5,7,6,9,7,6,20,1]
["Durango",8,4,0,0,1,3,4,0,5,5,7,7,18,9,7,24,28,35,68,4,7,1,0,0,1,0,2,0,3,2,6,5,8,8,6,16,13,21,32,1,1,3,0,0,0,3,2,0,2,3,1,2,10,1,1,8,15,14,36,3]
["Guanajuato",33,0,0,0,1,4,0,0,2,2,3,4,5,4,6,7,16,22,128,1,22,0,0,0,0,2,0,0,1,1,2,1,3,3,3,4,5,14,41,1,11,0,0,0,1,2,0,0,1,1,1,3,2,1,3,3,11,8,87,0]
["Guerrero",4,2,0,2,3,6,4,9,5,14,11,13,14,15,15,37,47,70,218,4,2,1,0,1,2,5,3,7,3,11,10,13,9,10,10,25,26,36,101,3,2,1,0,1,1,1,1,2,2,3,1,0,5,5,5,12,21,34,117,1]
["Hidalgo",16,1,1,0,0,2,1,2,1,2,1,0,0,6,1,9,9,29,112,0,6,0,0,0,0,2,0,2,1,2,1,0,0,3,0,6,5,17,39,0,10,1,1,0,0,0,1,0,0,0,0,0,0,3,1,3,4,12,73,0]
["Jalisco",19,0,1,2,1,5,6,4,7,7,6,10,13,23,28,33,56,77,400,2,13,0,1,2,1,2,4,2,5,6,4,6,11,16,19,25,34,28,157,2,6,0,0,0,0,3,2,2,2,1,2,4,2,7,9,8,22,49,243,0]
["México",31,7,1,1,1,2,5,0,1,2,2,4,3,4,4,5,10,5,57,2,16,1,0,0,1,1,4,0,1,1,2,3,3,1,3,3,7,1,26,2,15,6,1,1,0,1,1,0,0,1,0,1,0,3,1,2,3,4,31,0]
["Michoacán",28,3,0,0,0,0,3,2,2,6,7,7,7,11,12,31,35,85,326,8,17,3,0,0,0,0,1,2,2,5,5,3,6,4,8,16,20,44,135,5,11,0,0,0,0,0,2,0,0,1,2,4,1,7,4,15,15,41,191,3]
["Morelos",7,1,1,0,1,0,0,1,3,1,2,2,2,2,1,4,7,6,29,7,7,1,0,0,1,0,0,1,2,1,0,1,2,2,1,4,4,4,17,7,0,0,1,0,0,0,0,0,1,0,2,1,0,0,0,0,3,2,12,0]
["Nayarit",3,1,0,0,0,0,1,1,1,2,1,0,1,3,1,6,8,17,102,3,2,0,0,0,0,0,1,0,1,1,1,0,1,2,0,3,6,12,54,2,1,1,0,0,0,0,0,1,0,1,0,0,0,1,1,3,2,5,48,1]
["Nuevo León",9,0,0,0,1,0,4,3,3,1,1,1,6,5,8,9,6,15,92,1,5,0,0,0,1,0,3,2,1,1,0,1,4,4,5,6,5,11,42,1,4,0,0,0,0,0,1,1,2,0,1,0,2,1,3,3,1,4,50,0]
["Oaxaca",25,5,0,4,1,4,5,6,7,12,12,8,13,19,38,75,100,218,840,1,14,3,0,2,1,2,4,5,5,7,8,2,7,13,22,49,53,112,410,1,11,2,0,2,0,2,1,1,2,5,4,6,6,6,16,26,47,106,430,0]
["Puebla",136,8,0,1,3,0,4,3,2,4,9,6,9,6,5,17,31,82,328,0,74,5,0,0,3,0,2,2,1,3,3,4,3,4,2,11,13,42,145,0,62,3,0,1,0,0,2,1,1,1,6,2,6,2,3,6,18,40,183,0]
["Querétaro",9,0,0,0,1,0,0,1,1,1,3,2,1,1,2,8,12,26,116,4,6,0,0,0,1,0,0,1,1,0,2,2,0,0,1,5,8,10,51,3,3,0,0,0,0,0,0,0,0,1,1,0,1,1,1,3,4,16,65,1]
["Quintana Roo",3,0,0,0,0,0,1,0,0,1,2,2,1,6,5,5,10,30,103,1,1,0,0,0,0,0,1,0,0,1,2,1,1,4,5,3,4,20,54,1,2,0,0,0,0,0,0,0,0,0,0,1,0,2,0,2,6,10,49,0]
["San Luis Potosí",14,0,0,0,3,1,1,3,4,1,3,5,6,2,12,12,26,38,153,0,8,0,0,0,3,0,1,3,3,0,2,5,3,2,7,5,19,24,66,0,6,0,0,0,0,1,0,0,1,1,1,0,3,0,5,7,7,14,87,0]
["Sinaloa",7,2,0,0,1,5,4,0,5,8,9,11,8,3,10,15,13,24,72,5,4,1,0,0,0,5,2,0,4,7,8,8,3,2,6,10,8,10,29,3,3,1,0,0,1,0,2,0,1,1,1,3,5,1,4,5,5,14,43,2]
["Sonora",19,0,1,1,0,2,3,4,4,4,5,5,8,12,12,16,22,34,72,6,12,0,1,0,0,2,3,4,4,3,3,4,6,8,10,11,13,21,30,6,7,0,0,1,0,0,0,0,0,1,2,1,2,4,2,5,9,13,42,0]
["Tabasco",19,3,0,0,1,4,12,7,9,13,10,13,16,15,22,37,51,96,374,0,12,1,0,0,0,2,9,6,8,6,8,10,8,13,10,25,23,42,173,0,7,2,0,0,1,2,3,1,1,7,2,3,8,2,12,12,28,54,201,0]
["Tamaulipas",6,0,1,2,1,2,2,1,2,5,3,2,9,9,12,19,27,58,207,8,1,0,1,1,1,2,0,0,2,4,2,2,5,7,7,11,18,28,101,7,5,0,0,1,0,0,2,1,0,1,1,0,4,2,5,8,9,30,106,1]
["Tlaxcala",20,0,0,0,0,0,1,2,0,0,2,2,1,2,3,3,4,16,97,0,13,0,0,0,0,0,0,2,0,0,0,1,1,0,2,2,2,10,35,0,7,0,0,0,0,0,1,0,0,0,2,1,0,2,1,1,2,6,62,0]
["Veracruz",38,7,1,1,3,4,6,5,9,11,10,11,9,18,24,39,59,119,440,1,23,3,1,1,3,4,3,4,7,8,7,7,6,13,12,24,32,64,196,1,15,4,0,0,0,0,3,1,2,3,3,4,3,5,12,15,27,55,244,0]
["Yucatán",8,2,0,0,1,1,1,1,1,1,4,1,6,3,2,21,27,62,266,0,6,1,0,0,1,0,1,1,0,1,2,1,5,2,0,12,12,32,126,0,2,1,0,0,0,1,0,0,1,0,2,0,1,1,2,9,15,30,140,0]
["Zacatecas",5,0,0,1,2,0,3,2,3,3,3,4,1,6,8,6,12,20,73,4,3,0,0,0,1,0,3,2,2,2,3,2,0,6,6,2,8,12,36,3,2,0,0,1,1,0,0,0,1,1,0,2,1,0,2,4,4,8,37,1]

{"sheet":"20T-GCM-R_Edad2022 ","index":140,"n_rows":34,"n_cols":61,"rows_kept":34,"cut":false,"hidden":true,"merged":[]}
[1,2,3,4,5,6,7,8,9,10,11,12,13,14,15,16,17,18,19,20,21,22,23,24,25,26,27,28,29,30,31,32,33,34,35,36,37,38,39,40,41,42,43,44,45,46,47,48,49,50,51,52,53,54,55,56,57,58,59,60,61]
["ESTADO","Menores de 1 año","1-4 años","5-9 años","10-14 años","15-19 años","20-24 años","25-29 años","30-34 años","35-39 años","40-44 años","45-49 años","50-54 años","55-59 años","60-64 años","65-69 años","70-74 años","75-79 años","80-84 años","85 años y más","No especificado","H Menores de 1 año","H 1-4 años","H 5-9 años","H 10-14 años","H 15-19 años","H 20-24 años","H 25-29 años","H 30-34 años","H 35-39 años","H 40-44 años","H 45-49 años","H 50-54 años","H 55-59 años","H 60-64 años","H 65-69 años","H 70-74 años","H 75-79 años","H 80-84 años","H 85 años y más","H No especificado","   M Menores de 1 año ","M 1-4 años","M 5-9 años","M 10-14 años","M 15-19 años","M 20-24 años","M 25-29 años","M 30-34 años","M 35-39 años","M 40-44 años","M 45-49 años","M 50-54 años","M 55-59 años","M 60-64 años","M 65-69 años","M 70-74 años","M 75-79 años","M 80-84 años","M 85 años y    ás","M No especificado"]
["Aguascalientes",3,0,0,0,0,0,0,1,0,1,3,0,0,2,3,3,3,8,35,0,2,0,0,0,0,0,0,1,0,1,3,0,0,2,2,1,2,7,12,0,1,0,0,0,0,0,0,0,0,0,0,0,0,0,1,2,1,1,23,0]
["Baja California",11,1,0,0,6,10,17,21,16,20,27,17,17,12,12,9,10,9,36,54,9,1,0,0,4,8,13,15,13,17,24,14,15,12,10,6,8,4,9,49,2,0,0,0,2,2,4,6,3,3,3,3,2,0,2,3,2,5,27,5]
["Baja California Sur",6,0,0,0,0,0,1,1,0,0,1,0,2,1,2,1,1,1,12,2,5,0,0,0,0,0,1,1,0,0,1,0,1,1,2,1,0,0,5,2,1,0,0,0,0,0,0,0,0,0,0,0,1,0,0,0,1,1,7,0]
["Campeche",5,0,0,1,1,0,1,0,1,1,2,0,2,2,6,5,13,29,137,0,5,0,0,0,0,0,0,0,1,0,2,0,0,1,4,2,6,15,58,0,0,0,0,1,1,0,1,0,0,1,0,0,2,1,2,3,7,14,79,0]
["Coahuila",8,2,0,0,2,4,0,4,6,6,7,6,5,11,11,25,46,68,183,1,4,2,0,0,1,3,0,3,6,5,4,4,2,7,8,13,29,38,85,1,4,0,0,0,1,1,0,1,0,1,3,2,3,4,3,12,17,30,98,0]
["Colima",7,2,0,0,0,0,1,0,0,0,1,2,2,1,3,11,10,30,138,2,6,1,0,0,0,0,0,0,0,0,1,0,2,0,2,7,4,18,55,2,1,1,0,0,0,0,1,0,0,0,0,2,0,1,1,4,6,12,83,0]
["Chiapas",45,23,6,10,26,23,18,15,16,20,24,31,31,44,69,103,149,237,656,0,22,14,3,6,16,16,16,10,12,16,13,23,21,27,33,68,67,122,312,0,23,9,3,4,10,7,2,5,4,4,11,8,10,17,36,35,82,115,344,0]
["Chihuahua",9,0,1,1,5,1,2,3,5,3,13,6,10,7,13,26,30,41,107,4,6,0,0,1,1,1,0,2,3,2,10,3,5,6,8,13,11,20,49,2,3,0,1,0,4,0,2,1,2,1,3,3,5,1,5,13,19,21,58,2]
["Ciudad de México",15,1,0,2,3,6,17,11,22,15,28,17,19,21,18,15,16,6,39,4,10,1,0,2,1,2,10,6,18,8,23,11,16,17,13,12,8,3,22,3,5,0,0,0,2,4,7,5,4,7,5,6,3,4,5,3,8,3,17,1]
["Durango",6,2,0,0,0,7,7,2,3,2,5,5,9,8,10,8,18,21,54,5,5,1,0,0,0,4,4,1,3,2,1,4,6,2,8,4,11,13,23,3,1,1,0,0,0,3,3,1,0,0,4,1,3,6,2,4,7,8,31,2]
["Guanajuato",34,0,0,1,1,4,2,0,0,1,1,5,1,2,5,7,8,29,149,1,22,0,0,1,1,1,1,0,0,1,1,4,1,1,4,6,5,16,61,1,12,0,0,0,0,3,1,0,0,0,0,1,0,1,1,1,3,13,88,0]
["Guerrero",5,0,0,3,10,10,7,8,4,5,10,10,16,18,19,26,39,53,237,11,4,0,0,1,5,8,4,6,4,4,5,5,12,9,12,16,28,32,98,10,1,0,0,2,5,2,3,2,0,1,5,5,4,9,7,10,11,21,139,1]
["Hidalgo",18,2,1,0,3,1,0,2,0,1,4,2,2,5,5,12,12,21,145,0,13,1,1,0,2,0,0,2,0,1,2,0,2,4,4,6,8,12,62,0,5,1,0,0,1,1,0,0,0,0,2,2,0,1,1,6,4,9,83,0]
["Jalisco",34,1,2,1,6,5,6,4,7,5,11,8,14,24,15,26,41,72,330,0,15,1,1,0,6,3,6,3,5,5,8,4,12,15,10,12,26,36,125,0,19,0,1,1,0,2,0,1,2,0,3,4,2,9,5,14,15,36,205,0]
["México",26,5,3,2,2,0,3,2,3,4,3,6,1,3,3,5,3,5,32,2,15,2,2,1,1,0,3,1,1,3,1,3,1,2,2,1,2,2,15,1,11,3,1,1,1,0,0,1,2,1,2,3,0,1,1,4,1,3,17,1]
["Michoacán",17,5,1,1,1,1,1,2,3,5,3,9,8,7,15,15,33,68,258,2,10,5,0,0,1,0,0,1,3,4,2,6,7,4,8,10,19,37,125,2,7,0,1,1,0,1,1,1,0,1,1,3,1,3,7,5,14,31,133,0]
["Morelos",17,0,0,0,0,0,1,2,1,0,0,1,2,0,0,2,2,6,16,0,10,0,0,0,0,0,1,1,1,0,0,1,2,0,0,2,1,2,4,0,7,0,0,0,0,0,0,1,0,0,0,0,0,0,0,0,1,4,12,0]
["Nayarit",7,3,0,1,1,4,4,0,1,2,2,1,8,6,7,9,11,15,122,5,3,3,0,0,0,2,2,0,0,1,2,0,6,4,2,5,6,6,59,3,4,0,0,1,1,2,2,0,1,1,0,1,2,2,5,4,5,9,63,2]
["Nuevo León",3,1,0,0,0,1,2,4,3,4,4,3,6,2,4,6,10,24,73,0,1,0,0,0,0,1,1,1,3,2,4,3,2,2,2,4,4,7,26,0,2,1,0,0,0,0,1,3,0,2,0,0,4,0,2,2,6,17,47,0]
["Oaxaca",23,5,0,1,1,2,6,3,8,5,9,4,9,20,13,37,86,182,668,0,14,3,0,1,1,2,6,2,4,4,7,3,7,10,7,21,53,90,283,0,9,2,0,0,0,0,0,1,4,1,2,1,2,10,6,16,33,92,385,0]
["Puebla",154,3,1,0,1,1,3,6,5,4,3,5,5,10,6,13,26,45,216,7,90,2,0,0,1,1,0,6,3,2,2,2,3,7,5,6,13,31,92,6,64,1,1,0,0,0,3,0,2,2,1,3,2,3,1,7,13,14,124,1]
["Querétaro",2,0,0,0,3,2,1,0,0,2,0,2,4,2,3,6,10,24,139,0,0,0,0,0,2,2,1,0,0,1,0,1,4,2,2,4,5,16,56,0,2,0,0,0,1,0,0,0,0,1,0,1,0,0,1,2,5,8,83,0]
["Quintana Roo",11,1,0,0,0,0,1,1,1,1,2,2,4,1,5,5,19,29,93,0,8,0,0,0,0,0,1,1,0,1,1,1,3,1,2,3,8,16,55,0,3,1,0,0,0,0,0,0,1,0,1,1,1,0,3,2,11,13,38,0]
["San Luis Potosí",13,0,1,0,0,4,3,1,5,2,4,2,2,7,3,11,15,31,144,0,8,0,0,0,0,3,2,0,3,2,4,1,0,5,1,6,9,18,78,0,5,0,1,0,0,1,1,1,2,0,0,1,2,2,2,5,6,13,66,0]
["Sinaloa",14,1,1,0,2,4,5,6,7,7,6,13,12,18,9,10,20,16,82,0,9,0,1,0,2,2,4,3,5,6,3,7,11,16,5,5,12,8,39,0,5,1,0,0,0,2,1,3,2,1,3,6,1,2,4,5,8,8,43,0]
["Sonora",26,2,0,0,4,4,5,4,7,7,4,5,7,14,10,25,24,22,91,3,15,1,0,0,2,2,4,3,5,5,4,4,5,9,6,15,14,9,36,3,11,1,0,0,2,2,1,1,2,2,0,1,2,5,4,10,10,13,55,0]
["Tabasco",20,4,2,2,1,1,2,4,5,6,11,8,7,11,11,28,34,70,249,2,11,2,1,2,1,1,2,3,5,4,10,5,5,7,4,16,21,40,111,2,9,2,1,0,0,0,0,1,0,2,1,3,2,4,7,12,13,30,138,0]
["Tamaulipas",7,0,0,0,0,2,1,2,2,4,3,9,21,13,14,19,28,60,234,4,4,0,0,0,0,1,1,2,2,4,2,5,13,8,11,11,14,29,101,4,3,0,0,0,0,1,0,0,0,0,1,4,8,5,3,8,14,31,133,0]
["Tlaxcala",20,0,0,1,0,1,0,0,3,0,1,1,0,1,2,1,4,8,76,0,10,0,0,1,0,1,0,0,1,0,1,0,0,0,0,1,1,6,36,0,10,0,0,0,0,0,0,0,2,0,0,1,0,1,2,0,3,2,40,0]
["Veracruz",35,1,0,0,3,4,7,6,5,7,15,13,14,7,16,28,53,79,419,1,19,1,0,0,1,3,6,5,4,5,11,9,10,5,10,15,27,42,182,1,16,0,0,0,2,1,1,1,1,2,4,4,4,2,6,13,26,37,237,0]
["Yucatán",7,0,0,2,0,0,2,1,3,2,2,4,6,7,7,25,42,75,327,1,3,0,0,1,0,0,2,1,3,2,1,1,5,3,4,9,24,35,145,0,4,0,0,1,0,0,0,0,0,0,1,3,1,4,3,16,18,40,182,1]
["Zacatecas",4,3,0,0,0,3,2,3,1,2,3,3,3,3,1,8,12,13,92,3,3,2,0,0,0,1,2,3,1,1,2,1,3,2,1,4,8,12,45,3,1,1,0,0,0,2,0,0,0,1,1,2,0,1,0,4,4,1,47,0]

{"sheet":"20 GCM-G_Edad","index":141,"n_rows":24,"n_cols":15,"rows_kept":24,"cut":false,"hidden":false,"merged":[[0,0,0,9]]}
["Síntomas, signos y hallazgos anormales clínicos \ny de laboratorio, no clasificados en otra parte"]
["SELECCIONE UNA ENTIDAD"]
["Hidalgo","2020","H - 2020","M - 2020","2021","H - 2021","M - 2021","2022","H - 2022","M - 2022"]
["Menores de 1 año",{"$f":"VLOOKUP($A$3,'20T-GCM-R_Edad2020  '!$A$2:$BI$34,2,0)","v":16},{"$f":"VLOOKUP($A$3,'20T-GCM-R_Edad2020  '!$A$2:$BI$34,22,0)","v":9},{"$f":"VLOOKUP($A$3,'20T-GCM-R_Edad2020  '!$A$2:$BI$34,42,0)","v":7},{"$f":"VLOOKUP($A$3,'20T-GCM-R_Edad2021 '!$A$2:$BI$34,2,0)","v":16},{"$f":"VLOOKUP($A$3,'20T-GCM-R_Edad2021 '!$A$2:$BI$34,22,0)","v":6},{"$f":"VLOOKUP($A$3,'20T-GCM-R_Edad2021 '!$A$2:$BI$34,42,0)","v":10},{"$f":"VLOOKUP($A$3,'20T-GCM-R_Edad2022 '!$A$2:$BI$34,2,0)","v":18},{"$f":"VLOOKUP($A$3,'20T-GCM-R_Edad2022 '!$A$2:$BI$34,22,0)","v":13},{"$f":"VLOOKUP($A$3,'20T-GCM-R_Edad2022 '!$A$2:$BI$34,42,0)","v":5},null,null,null,null,"  "]
["1-4 años",{"$f":"VLOOKUP($A$3,'20T-GCM-R_Edad2020  '!$A$2:$BI$34,3,0)","v":0},{"$f":"VLOOKUP($A$3,'20T-GCM-R_Edad2020  '!$A$2:$BI$34,23,0)","v":0},{"$f":"VLOOKUP($A$3,'20T-GCM-R_Edad2020  '!$A$2:$BI$34,43,0)","v":0},{"$f":"VLOOKUP($A$3,'20T-GCM-R_Edad2021 '!$A$2:$BI$34,3,0)","v":1},{"$f":"VLOOKUP($A$3,'20T-GCM-R_Edad2021 '!$A$2:$BI$34,23,0)","v":0},{"$f":"VLOOKUP($A$3,'20T-GCM-R_Edad2021 '!$A$2:$BI$34,43,0)","v":1},{"$f":"VLOOKUP($A$3,'20T-GCM-R_Edad2022 '!$A$2:$BI$34,3,0)","v":2},{"$f":"VLOOKUP($A$3,'20T-GCM-R_Edad2022 '!$A$2:$BI$34,23,0)","v":1},{"$f":"VLOOKUP($A$3,'20T-GCM-R_Edad2022 '!$A$2:$BI$34,43,0)","v":1}]
["5-9 años",{"$f":"VLOOKUP($A$3,'20T-GCM-R_Edad2020  '!$A$2:$BI$34,4,0)","v":0},{"$f":"VLOOKUP($A$3,'20T-GCM-R_Edad2020  '!$A$2:$BI$34,24,0)","v":0},{"$f":"VLOOKUP($A$3,'20T-GCM-R_Edad2020  '!$A$2:$BI$34,44,0)","v":0},{"$f":"VLOOKUP($A$3,'20T-GCM-R_Edad2021 '!$A$2:$BI$34,4,0)","v":1},{"$f":"VLOOKUP($A$3,'20T-GCM-R_Edad2021 '!$A$2:$BI$34,24,0)","v":0},{"$f":"VLOOKUP($A$3,'20T-GCM-R_Edad2021 '!$A$2:$BI$34,44,0)","v":1},{"$f":"VLOOKUP($A$3,'20T-GCM-R_Edad2022 '!$A$2:$BI$34,4,0)","v":1},{"$f":"VLOOKUP($A$3,'20T-GCM-R_Edad2022 '!$A$2:$BI$34,24,0)","v":1},{"$f":"VLOOKUP($A$3,'20T-GCM-R_Edad2022 '!$A$2:$BI$34,44,0)","v":0}]
["10-14 años",{"$f":"VLOOKUP($A$3,'20T-GCM-R_Edad2020  '!$A$2:$BI$34,5,0)","v":0},{"$f":"VLOOKUP($A$3,'20T-GCM-R_Edad2020  '!$A$2:$BI$34,25,0)","v":0},{"$f":"VLOOKUP($A$3,'20T-GCM-R_Edad2020  '!$A$2:$BI$34,45,0)","v":0},{"$f":"VLOOKUP($A$3,'20T-GCM-R_Edad2021 '!$A$2:$BI$34,5,0)","v":0},{"$f":"VLOOKUP($A$3,'20T-GCM-R_Edad2021 '!$A$2:$BI$34,25,0)","v":0},{"$f":"VLOOKUP($A$3,'20T-GCM-R_Edad2021 '!$A$2:$BI$34,45,0)","v":0},{"$f":"VLOOKUP($A$3,'20T-GCM-R_Edad2022 '!$A$2:$BI$34,5,0)","v":0},{"$f":"VLOOKUP($A$3,'20T-GCM-R_Edad2022 '!$A$2:$BI$34,25,0)","v":0},{"$f":"VLOOKUP($A$3,'20T-GCM-R_Edad2022 '!$A$2:$BI$34,45,0)","v":0}]
["15-19 años",{"$f":"VLOOKUP($A$3,'20T-GCM-R_Edad2020  '!$A$2:$BI$34,6,0)","v":2},{"$f":"VLOOKUP($A$3,'20T-GCM-R_Edad2020  '!$A$2:$BI$34,26,0)","v":2},{"$f":"VLOOKUP($A$3,'20T-GCM-R_Edad2020  '!$A$2:$BI$34,46,0)","v":0},{"$f":"VLOOKUP($A$3,'20T-GCM-R_Edad2021 '!$A$2:$BI$34,6,0)","v":0},{"$f":"VLOOKUP($A$3,'20T-GCM-R_Edad2021 '!$A$2:$BI$34,26,0)","v":0},{"$f":"VLOOKUP($A$3,'20T-GCM-R_Edad2021 '!$A$2:$BI$34,46,0)","v":0},{"$f":"VLOOKUP($A$3,'20T-GCM-R_Edad2022 '!$A$2:$BI$34,6,0)","v":3},{"$f":"VLOOKUP($A$3,'20T-GCM-R_Edad2022 '!$A$2:$BI$34,26,0)","v":2},{"$f":"VLOOKUP($A$3,'20T-GCM-R_Edad2022 '!$A$2:$BI$34,46,0)","v":1}]
["20-24 años",{"$f":"VLOOKUP($A$3,'20T-GCM-R_Edad2020  '!$A$2:$BI$34,7,0)","v":2},{"$f":"VLOOKUP($A$3,'20T-GCM-R_Edad2020  '!$A$2:$BI$34,27,0)","v":2},{"$f":"VLOOKUP($A$3,'20T-GCM-R_Edad2020  '!$A$2:$BI$34,47,0)","v":0},{"$f":"VLOOKUP($A$3,'20T-GCM-R_Edad2021 '!$A$2:$BI$34,7,0)","v":2},{"$f":"VLOOKUP($A$3,'20T-GCM-R_Edad2021 '!$A$2:$BI$34,27,0)","v":2},{"$f":"VLOOKUP($A$3,'20T-GCM-R_Edad2021 '!$A$2:$BI$34,47,0)","v":0},{"$f":"VLOOKUP($A$3,'20T-GCM-R_Edad2022 '!$A$2:$BI$34,7,0)","v":1},{"$f":"VLOOKUP($A$3,'20T-GCM-R_Edad2022 '!$A$2:$BI$34,27,0)","v":0},{"$f":"VLOOKUP($A$3,'20T-GCM-R_Edad2022 '!$A$2:$BI$34,47,0)","v":1}]
["25-29 años",{"$f":"VLOOKUP($A$3,'20T-GCM-R_Edad2020  '!$A$2:$BI$34,8,0)","v":4},{"$f":"VLOOKUP($A$3,'20T-GCM-R_Edad2020  '!$A$2:$BI$34,28,0)","v":0},{"$f":"VLOOKUP($A$3,'20T-GCM-R_Edad2020  '!$A$2:$BI$34,48,0)","v":4},{"$f":"VLOOKUP($A$3,'20T-GCM-R_Edad2021 '!$A$2:$BI$34,8,0)","v":1},{"$f":"VLOOKUP($A$3,'20T-GCM-R_Edad2021 '!$A$2:$BI$34,28,0)","v":0},{"$f":"VLOOKUP($A$3,'20T-GCM-R_Edad2021 '!$A$2:$BI$34,48,0)","v":1},{"$f":"VLOOKUP($A$3,'20T-GCM-R_Edad2022 '!$A$2:$BI$34,8,0)","v":0},{"$f":"VLOOKUP($A$3,'20T-GCM-R_Edad2022 '!$A$2:$BI$34,28,0)","v":0},{"$f":"VLOOKUP($A$3,'20T-GCM-R_Edad2022 '!$A$2:$BI$34,48,0)","v":0}]
["30-34 años",{"$f":"VLOOKUP($A$3,'20T-GCM-R_Edad2020  '!$A$2:$BI$34,9,0)","v":1},{"$f":"VLOOKUP($A$3,'20T-GCM-R_Edad2020  '!$A$2:$BI$34,29,0)","v":1},{"$f":"VLOOKUP($A$3,'20T-GCM-R_Edad2020  '!$A$2:$BI$34,49,0)","v":0},{"$f":"VLOOKUP($A$3,'20T-GCM-R_Edad2021 '!$A$2:$BI$34,9,0)","v":2},{"$f":"VLOOKUP($A$3,'20T-GCM-R_Edad2021 '!$A$2:$BI$34,29,0)","v":2},{"$f":"VLOOKUP($A$3,'20T-GCM-R_Edad2021 '!$A$2:$BI$34,49,0)","v":0},{"$f":"VLOOKUP($A$3,'20T-GCM-R_Edad2022 '!$A$2:$BI$34,9,0)","v":2},{"$f":"VLOOKUP($A$3,'20T-GCM-R_Edad2022 '!$A$2:$BI$34,29,0)","v":2},{"$f":"VLOOKUP($A$3,'20T-GCM-R_Edad2022 '!$A$2:$BI$34,49,0)","v":0}]
["35-39 años",{"$f":"VLOOKUP($A$3,'20T-GCM-R_Edad2020  '!$A$2:$BI$34,10,0)","v":1},{"$f":"VLOOKUP($A$3,'20T-GCM-R_Edad2020  '!$A$2:$BI$34,30,0)","v":0},{"$f":"VLOOKUP($A$3,'20T-GCM-R_Edad2020  '!$A$2:$BI$34,50,0)","v":1},{"$f":"VLOOKUP($A$3,'20T-GCM-R_Edad2021 '!$A$2:$BI$34,10,0)","v":1},{"$f":"VLOOKUP($A$3,'20T-GCM-R_Edad2021 '!$A$2:$BI$34,30,0)","v":1},{"$f":"VLOOKUP($A$3,'20T-GCM-R_Edad2021 '!$A$2:$BI$34,50,0)","v":0},{"$f":"VLOOKUP($A$3,'20T-GCM-R_Edad2022 '!$A$2:$BI$34,10,0)","v":0},{"$f":"VLOOKUP($A$3,'20T-GCM-R_Edad2022 '!$A$2:$BI$34,30,0)","v":0},{"$f":"VLOOKUP($A$3,'20T-GCM-R_Edad2022 '!$A$2:$BI$34,50,0)","v":0}]
["40-44 años",{"$f":"VLOOKUP($A$3,'20T-GCM-R_Edad2020  '!$A$2:$BI$34,11,0)","v":4},{"$f":"VLOOKUP($A$3,'20T-GCM-R_Edad2020  '!$A$2:$BI$34,31,0)","v":3},{"$f":"VLOOKUP($A$3,'20T-GCM-R_Edad2020  '!$A$2:$BI$34,51,0)","v":1},{"$f":"VLOOKUP($A$3,'20T-GCM-R_Edad2021 '!$A$2:$BI$34,11,0)","v":2},{"$f":"VLOOKUP($A$3,'20T-GCM-R_Edad2021 '!$A$2:$BI$34,31,0)","v":2},{"$f":"VLOOKUP($A$3,'20T-GCM-R_Edad2021 '!$A$2:$BI$34,51,0)","v":0},{"$f":"VLOOKUP($A$3,'20T-GCM-R_Edad2022 '!$A$2:$BI$34,11,0)","v":1},{"$f":"VLOOKUP($A$3,'20T-GCM-R_Edad2022 '!$A$2:$BI$34,31,0)","v":1},{"$f":"VLOOKUP($A$3,'20T-GCM-R_Edad2022 '!$A$2:$BI$34,51,0)","v":0}]
["45-49 años",{"$f":"VLOOKUP($A$3,'20T-GCM-R_Edad2020  '!$A$2:$BI$34,12,0)","v":1},{"$f":"VLOOKUP($A$3,'20T-GCM-R_Edad2020  '!$A$2:$BI$34,32,0)","v":0},{"$f":"VLOOKUP($A$3,'20T-GCM-R_Edad2020  '!$A$2:$BI$34,52,0)","v":1},{"$f":"VLOOKUP($A$3,'20T-GCM-R_Edad2021 '!$A$2:$BI$34,12,0)","v":1},{"$f":"VLOOKUP($A$3,'20T-GCM-R_Edad2021 '!$A$2:$BI$34,32,0)","v":1},{"$f":"VLOOKUP($A$3,'20T-GCM-R_Edad2021 '!$A$2:$BI$34,52,0)","v":0},{"$f":"VLOOKUP($A$3,'20T-GCM-R_Edad2022 '!$A$2:$BI$34,12,0)","v":4},{"$f":"VLOOKUP($A$3,'20T-GCM-R_Edad2022 '!$A$2:$BI$34,32,0)","v":2},{"$f":"VLOOKUP($A$3,'20T-GCM-R_Edad2022 '!$A$2:$BI$34,52,0)","v":2}]
["50-54 años",{"$f":"VLOOKUP($A$3,'20T-GCM-R_Edad2020  '!$A$2:$BI$34,13,0)","v":1},{"$f":"VLOOKUP($A$3,'20T-GCM-R_Edad2020  '!$A$2:$BI$34,33,0)","v":0},{"$f":"VLOOKUP($A$3,'20T-GCM-R_Edad2020  '!$A$2:$BI$34,53,0)","v":1},{"$f":"VLOOKUP($A$3,'20T-GCM-R_Edad2021 '!$A$2:$BI$34,13,0)","v":0},{"$f":"VLOOKUP($A$3,'20T-GCM-R_Edad2021 '!$A$2:$BI$34,33,0)","v":0},{"$f":"VLOOKUP($A$3,'20T-GCM-R_Edad2021 '!$A$2:$BI$34,53,0)","v":0},{"$f":"VLOOKUP($A$3,'20T-GCM-R_Edad2022 '!$A$2:$BI$34,13,0)","v":2},{"$f":"VLOOKUP($A$3,'20T-GCM-R_Edad2022 '!$A$2:$BI$34,33,0)","v":0},{"$f":"VLOOKUP($A$3,'20T-GCM-R_Edad2022 '!$A$2:$BI$34,53,0)","v":2}]
["55-59 años",{"$f":"VLOOKUP($A$3,'20T-GCM-R_Edad2020  '!$A$2:$BI$34,14,0)","v":2},{"$f":"VLOOKUP($A$3,'20T-GCM-R_Edad2020  '!$A$2:$BI$34,34,0)","v":1},{"$f":"VLOOKUP($A$3,'20T-GCM-R_Edad2020  '!$A$2:$BI$34,54,0)","v":1},{"$f":"VLOOKUP($A$3,'20T-GCM-R_Edad2021 '!$A$2:$BI$34,14,0)","v":0},{"$f":"VLOOKUP($A$3,'20T-GCM-R_Edad2021 '!$A$2:$BI$34,34,0)","v":0},{"$f":"VLOOKUP($A$3,'20T-GCM-R_Edad2021 '!$A$2:$BI$34,54,0)","v":0},{"$f":"VLOOKUP($A$3,'20T-GCM-R_Edad2022 '!$A$2:$BI$34,14,0)","v":2},{"$f":"VLOOKUP($A$3,'20T-GCM-R_Edad2022 '!$A$2:$BI$34,34,0)","v":2},{"$f":"VLOOKUP($A$3,'20T-GCM-R_Edad2022 '!$A$2:$BI$34,54,0)","v":0}]
["60-64 años",{"$f":"VLOOKUP($A$3,'20T-GCM-R_Edad2020  '!$A$2:$BI$34,15,0)","v":5},{"$f":"VLOOKUP($A$3,'20T-GCM-R_Edad2020  '!$A$2:$BI$34,35,0)","v":4},{"$f":"VLOOKUP($A$3,'20T-GCM-R_Edad2020  '!$A$2:$BI$34,55,0)","v":1},{"$f":"VLOOKUP($A$3,'20T-GCM-R_Edad2021 '!$A$2:$BI$34,15,0)","v":6},{"$f":"VLOOKUP($A$3,'20T-GCM-R_Edad2021 '!$A$2:$BI$34,35,0)","v":3},{"$f":"VLOOKUP($A$3,'20T-GCM-R_Edad2021 '!$A$2:$BI$34,55,0)","v":3},{"$f":"VLOOKUP($A$3,'20T-GCM-R_Edad2022 '!$A$2:$BI$34,15,0)","v":5},{"$f":"VLOOKUP($A$3,'20T-GCM-R_Edad2022 '!$A$2:$BI$34,35,0)","v":4},{"$f":"VLOOKUP($A$3,'20T-GCM-R_Edad2022 '!$A$2:$BI$34,55,0)","v":1}]
["65-69 años",{"$f":"VLOOKUP($A$3,'20T-GCM-R_Edad2020  '!$A$2:$BI$34,16,0)","v":5},{"$f":"VLOOKUP($A$3,'20T-GCM-R_Edad2020  '!$A$2:$BI$34,36,0)","v":4},{"$f":"VLOOKUP($A$3,'20T-GCM-R_Edad2020  '!$A$2:$BI$34,56,0)","v":1},{"$f":"VLOOKUP($A$3,'20T-GCM-R_Edad2021 '!$A$2:$BI$34,16,0)","v":1},{"$f":"VLOOKUP($A$3,'20T-GCM-R_Edad2021 '!$A$2:$BI$34,36,0)","v":0},{"$f":"VLOOKUP($A$3,'20T-GCM-R_Edad2021 '!$A$2:$BI$34,56,0)","v":1},{"$f":"VLOOKUP($A$3,'20T-GCM-R_Edad2022 '!$A$2:$BI$34,16,0)","v":5},{"$f":"VLOOKUP($A$3,'20T-GCM-R_Edad2022 '!$A$2:$BI$34,36,0)","v":4},{"$f":"VLOOKUP($A$3,'20T-GCM-R_Edad2022 '!$A$2:$BI$34,56,0)","v":1}]
["70-74 años",{"$f":"VLOOKUP($A$3,'20T-GCM-R_Edad2020  '!$A$2:$BI$34,17,0)","v":1},{"$f":"VLOOKUP($A$3,'20T-GCM-R_Edad2020  '!$A$2:$BI$34,37,0)","v":1},{"$f":"VLOOKUP($A$3,'20T-GCM-R_Edad2020  '!$A$2:$BI$34,57,0)","v":0},{"$f":"VLOOKUP($A$3,'20T-GCM-R_Edad2021 '!$A$2:$BI$34,17,0)","v":9},{"$f":"VLOOKUP($A$3,'20T-GCM-R_Edad2021 '!$A$2:$BI$34,37,0)","v":6},{"$f":"VLOOKUP($A$3,'20T-GCM-R_Edad2021 '!$A$2:$BI$34,57,0)","v":3},{"$f":"VLOOKUP($A$3,'20T-GCM-R_Edad2022 '!$A$2:$BI$34,17,0)","v":12},{"$f":"VLOOKUP($A$3,'20T-GCM-R_Edad2022 '!$A$2:$BI$34,37,0)","v":6},{"$f":"VLOOKUP($A$3,'20T-GCM-R_Edad2022 '!$A$2:$BI$34,57,0)","v":6}]
["75-79 años",{"$f":"VLOOKUP($A$3,'20T-GCM-R_Edad2020  '!$A$2:$BI$34,18,0)","v":16},{"$f":"VLOOKUP($A$3,'20T-GCM-R_Edad2020  '!$A$2:$BI$34,38,0)","v":12},{"$f":"VLOOKUP($A$3,'20T-GCM-R_Edad2020  '!$A$2:$BI$34,58,0)","v":4},{"$f":"VLOOKUP($A$3,'20T-GCM-R_Edad2021 '!$A$2:$BI$34,18,0)","v":9},{"$f":"VLOOKUP($A$3,'20T-GCM-R_Edad2021 '!$A$2:$BI$34,38,0)","v":5},{"$f":"VLOOKUP($A$3,'20T-GCM-R_Edad2021 '!$A$2:$BI$34,58,0)","v":4},{"$f":"VLOOKUP($A$3,'20T-GCM-R_Edad2022 '!$A$2:$BI$34,18,0)","v":12},{"$f":"VLOOKUP($A$3,'20T-GCM-R_Edad2022 '!$A$2:$BI$34,38,0)","v":8},{"$f":"VLOOKUP($A$3,'20T-GCM-R_Edad2022 '!$A$2:$BI$34,58,0)","v":4}]
["80-84 años",{"$f":"VLOOKUP($A$3,'20T-GCM-R_Edad2020  '!$A$2:$BI$34,19,0)","v":25},{"$f":"VLOOKUP($A$3,'20T-GCM-R_Edad2020  '!$A$2:$BI$34,39,0)","v":11},{"$f":"VLOOKUP($A$3,'20T-GCM-R_Edad2020  '!$A$2:$BI$34,59,0)","v":14},{"$f":"VLOOKUP($A$3,'20T-GCM-R_Edad2021 '!$A$2:$BI$34,19,0)","v":29},{"$f":"VLOOKUP($A$3,'20T-GCM-R_Edad2021 '!$A$2:$BI$34,39,0)","v":17},{"$f":"VLOOKUP($A$3,'20T-GCM-R_Edad2021 '!$A$2:$BI$34,59,0)","v":12},{"$f":"VLOOKUP($A$3,'20T-GCM-R_Edad2022 '!$A$2:$BI$34,19,0)","v":21},{"$f":"VLOOKUP($A$3,'20T-GCM-R_Edad2022 '!$A$2:$BI$34,39,0)","v":12},{"$f":"VLOOKUP($A$3,'20T-GCM-R_Edad2022 '!$A$2:$BI$34,59,0)","v":9}]
["85 años y más",{"$f":"VLOOKUP($A$3,'20T-GCM-R_Edad2020  '!$A$2:$BI$34,20,0)","v":80},{"$f":"VLOOKUP($A$3,'20T-GCM-R_Edad2020  '!$A$2:$BI$34,40,0)","v":35},{"$f":"VLOOKUP($A$3,'20T-GCM-R_Edad2020  '!$A$2:$BI$34,60,0)","v":45},{"$f":"VLOOKUP($A$3,'20T-GCM-R_Edad2021 '!$A$2:$BI$34,20,0)","v":112},{"$f":"VLOOKUP($A$3,'20T-GCM-R_Edad2021 '!$A$2:$BI$34,40,0)","v":39},{"$f":"VLOOKUP($A$3,'20T-GCM-R_Edad2021 '!$A$2:$BI$34,60,0)","v":73},{"$f":"VLOOKUP($A$3,'20T-GCM-R_Edad2022 '!$A$2:$BI$34,20,0)","v":145},{"$f":"VLOOKUP($A$3,'20T-GCM-R_Edad2022 '!$A$2:$BI$34,40,0)","v":62},{"$f":"VLOOKUP($A$3,'20T-GCM-R_Edad2022 '!$A$2:$BI$34,60,0)","v":83}]
["No especificado",{"$f":"VLOOKUP($A$3,'19T-GCM-R_Edad2020  '!$A$2:$BI$34,21,0)","v":0},{"$f":"VLOOKUP($A$3,'20T-GCM-R_Edad2020  '!$A$2:$BI$34,41,0)","v":0},{"$f":"VLOOKUP($A$3,'20T-GCM-R_Edad2020  '!$A$2:$BI$34,61,0)","v":0},{"$f":"VLOOKUP($A$3,'20T-GCM-R_Edad2021 '!$A$2:$BI$34,21,0)","v":0},{"$f":"VLOOKUP($A$3,'20T-GCM-R_Edad2021 '!$A$2:$BI$34,41,0)","v":0},{"$f":"VLOOKUP($A$3,'20T-GCM-R_Edad2021 '!$A$2:$BI$34,61,0)","v":0},{"$f":"VLOOKUP($A$3,'20T-GCM-R_Edad2022 '!$A$2:$BI$34,21,0)","v":0},{"$f":"VLOOKUP($A$3,'20T-GCM-R_Edad2022 '!$A$2:$BI$34,41,0)","v":0},{"$f":"VLOOKUP($A$3,'20T-GCM-R_Edad2022 '!$A$2:$BI$34,61,0)","v":0}]
["Total",{"$f":"SUM(B4:B23)","v":166},85,81,193,84,109,236,120,116]

{"sheet":"1GCM-G-Edad_Ent.Fed","index":142,"n_rows":36,"n_cols":4,"rows_kept":36,"cut":false,"hidden":false,"merged":[[0,0,0,3]]}
["Enfermedades del sistema\ncirculatorio"]
["SELECCIONE UN GRUPO DE EDAD"]
["80-84 años","2020","2021","2022"]
["Aguascalientes",{"$f":"VLOOKUP($A$3,Tabla29[],MATCH(TablaA51[[#This Row],[80-84 años]],Tabla29[#Headers],0),FALSE)","v":208},{"$f":"VLOOKUP($A$3,Tabla30[],MATCH(TablaA51[[#This Row],[80-84 años]],Tabla30[#Headers],0),FALSE)","v":280},{"$f":"VLOOKUP($A$3,Tabla31[],MATCH(TablaA51[[#This Row],[80-84 años]],Tabla31[#Headers],0),FALSE)","v":258}]
["Baja California",{"$f":"VLOOKUP($A$3,Tabla29[],MATCH(TablaA51[[#This Row],[80-84 años]],Tabla29[#Headers],0),FALSE)","v":790},{"$f":"VLOOKUP($A$3,Tabla30[],MATCH(TablaA51[[#This Row],[80-84 años]],Tabla30[#Headers],0),FALSE)","v":668},{"$f":"VLOOKUP($A$3,Tabla31[],MATCH(TablaA51[[#This Row],[80-84 años]],Tabla31[#Headers],0),FALSE)","v":713}]
["Baja California Sur",{"$f":"VLOOKUP($A$3,Tabla29[],MATCH(TablaA51[[#This Row],[80-84 años]],Tabla29[#Headers],0),FALSE)","v":126},{"$f":"VLOOKUP($A$3,Tabla30[],MATCH(TablaA51[[#This Row],[80-84 años]],Tabla30[#Headers],0),FALSE)","v":122},{"$f":"VLOOKUP($A$3,Tabla31[],MATCH(TablaA51[[#This Row],[80-84 años]],Tabla31[#Headers],0),FALSE)","v":154}]
["Campeche",{"$f":"VLOOKUP($A$3,Tabla29[],MATCH(TablaA51[[#This Row],[80-84 años]],Tabla29[#Headers],0),FALSE)","v":274},{"$f":"VLOOKUP($A$3,Tabla30[],MATCH(TablaA51[[#This Row],[80-84 años]],Tabla30[#Headers],0),FALSE)","v":279},{"$f":"VLOOKUP($A$3,Tabla31[],MATCH(TablaA51[[#This Row],[80-84 años]],Tabla31[#Headers],0),FALSE)","v":207}]
["Coahuila",{"$f":"VLOOKUP($A$3,Tabla29[],MATCH(TablaA51[[#This Row],[80-84 años]],Tabla29[#Headers],0),FALSE)","v":935},{"$f":"VLOOKUP($A$3,Tabla30[],MATCH(TablaA51[[#This Row],[80-84 años]],Tabla30[#Headers],0),FALSE)","v":798},{"$f":"VLOOKUP($A$3,Tabla31[],MATCH(TablaA51[[#This Row],[80-84 años]],Tabla31[#Headers],0),FALSE)","v":831}]
["Colima",{"$f":"VLOOKUP($A$3,Tabla29[],MATCH(TablaA51[[#This Row],[80-84 años]],Tabla29[#Headers],0),FALSE)","v":202},{"$f":"VLOOKUP($A$3,Tabla30[],MATCH(TablaA51[[#This Row],[80-84 años]],Tabla30[#Headers],0),FALSE)","v":195},{"$f":"VLOOKUP($A$3,Tabla31[],MATCH(TablaA51[[#This Row],[80-84 años]],Tabla31[#Headers],0),FALSE)","v":180}]
["Chiapas",{"$f":"VLOOKUP($A$3,Tabla29[],MATCH(TablaA51[[#This Row],[80-84 años]],Tabla29[#Headers],0),FALSE)","v":1517},{"$f":"VLOOKUP($A$3,Tabla30[],MATCH(TablaA51[[#This Row],[80-84 años]],Tabla30[#Headers],0),FALSE)","v":1555},{"$f":"VLOOKUP($A$3,Tabla31[],MATCH(TablaA51[[#This Row],[80-84 años]],Tabla31[#Headers],0),FALSE)","v":1291}]
["Chihuahua",{"$f":"VLOOKUP($A$3,Tabla29[],MATCH(TablaA51[[#This Row],[80-84 años]],Tabla29[#Headers],0),FALSE)","v":1434},{"$f":"VLOOKUP($A$3,Tabla30[],MATCH(TablaA51[[#This Row],[80-84 años]],Tabla30[#Headers],0),FALSE)","v":1162},{"$f":"VLOOKUP($A$3,Tabla31[],MATCH(TablaA51[[#This Row],[80-84 años]],Tabla31[#Headers],0),FALSE)","v":1192}]
["Ciudad de México",{"$f":"VLOOKUP($A$3,Tabla29[],MATCH(TablaA51[[#This Row],[80-84 años]],Tabla29[#Headers],0),FALSE)","v":3871},{"$f":"VLOOKUP($A$3,Tabla30[],MATCH(TablaA51[[#This Row],[80-84 años]],Tabla30[#Headers],0),FALSE)","v":3530},{"$f":"VLOOKUP($A$3,Tabla31[],MATCH(TablaA51[[#This Row],[80-84 años]],Tabla31[#Headers],0),FALSE)","v":3021}]
["Durango",{"$f":"VLOOKUP($A$3,Tabla29[],MATCH(TablaA51[[#This Row],[80-84 años]],Tabla29[#Headers],0),FALSE)","v":640},{"$f":"VLOOKUP($A$3,Tabla30[],MATCH(TablaA51[[#This Row],[80-84 años]],Tabla30[#Headers],0),FALSE)","v":665},{"$f":"VLOOKUP($A$3,Tabla31[],MATCH(TablaA51[[#This Row],[80-84 años]],Tabla31[#Headers],0),FALSE)","v":562}]
["Guanajuato",{"$f":"VLOOKUP($A$3,Tabla29[],MATCH(TablaA51[[#This Row],[80-84 años]],Tabla29[#Headers],0),FALSE)","v":1741},{"$f":"VLOOKUP($A$3,Tabla30[],MATCH(TablaA51[[#This Row],[80-84 años]],Tabla30[#Headers],0),FALSE)","v":1927},{"$f":"VLOOKUP($A$3,Tabla31[],MATCH(TablaA51[[#This Row],[80-84 años]],Tabla31[#Headers],0),FALSE)","v":1652}]
["Guerrero",{"$f":"VLOOKUP($A$3,Tabla29[],MATCH(TablaA51[[#This Row],[80-84 años]],Tabla29[#Headers],0),FALSE)","v":869},{"$f":"VLOOKUP($A$3,Tabla30[],MATCH(TablaA51[[#This Row],[80-84 años]],Tabla30[#Headers],0),FALSE)","v":925},{"$f":"VLOOKUP($A$3,Tabla31[],MATCH(TablaA51[[#This Row],[80-84 años]],Tabla31[#Headers],0),FALSE)","v":807}]
["Hidalgo",{"$f":"VLOOKUP($A$3,Tabla29[],MATCH(TablaA51[[#This Row],[80-84 años]],Tabla29[#Headers],0),FALSE)","v":909},{"$f":"VLOOKUP($A$3,Tabla30[],MATCH(TablaA51[[#This Row],[80-84 años]],Tabla30[#Headers],0),FALSE)","v":971},{"$f":"VLOOKUP($A$3,Tabla31[],MATCH(TablaA51[[#This Row],[80-84 años]],Tabla31[#Headers],0),FALSE)","v":830}]
["Jalisco",{"$f":"VLOOKUP($A$3,Tabla29[],MATCH(TablaA51[[#This Row],[80-84 años]],Tabla29[#Headers],0),FALSE)","v":2117},{"$f":"VLOOKUP($A$3,Tabla30[],MATCH(TablaA51[[#This Row],[80-84 años]],Tabla30[#Headers],0),FALSE)","v":2222},{"$f":"VLOOKUP($A$3,Tabla31[],MATCH(TablaA51[[#This Row],[80-84 años]],Tabla31[#Headers],0),FALSE)","v":2073}]
["México",{"$f":"VLOOKUP($A$3,Tabla29[],MATCH(TablaA51[[#This Row],[80-84 años]],Tabla29[#Headers],0),FALSE)","v":3810},{"$f":"VLOOKUP($A$3,Tabla30[],MATCH(TablaA51[[#This Row],[80-84 años]],Tabla30[#Headers],0),FALSE)","v":3897},{"$f":"VLOOKUP($A$3,Tabla31[],MATCH(TablaA51[[#This Row],[80-84 años]],Tabla31[#Headers],0),FALSE)","v":3459}]
["Michoacán",{"$f":"VLOOKUP($A$3,Tabla29[],MATCH(TablaA51[[#This Row],[80-84 años]],Tabla29[#Headers],0),FALSE)","v":1250},{"$f":"VLOOKUP($A$3,Tabla30[],MATCH(TablaA51[[#This Row],[80-84 años]],Tabla30[#Headers],0),FALSE)","v":1534},{"$f":"VLOOKUP($A$3,Tabla31[],MATCH(TablaA51[[#This Row],[80-84 años]],Tabla31[#Headers],0),FALSE)","v":1226}]
["Morelos",{"$f":"VLOOKUP($A$3,Tabla29[],MATCH(TablaA51[[#This Row],[80-84 años]],Tabla29[#Headers],0),FALSE)","v":647},{"$f":"VLOOKUP($A$3,Tabla30[],MATCH(TablaA51[[#This Row],[80-84 años]],Tabla30[#Headers],0),FALSE)","v":735},{"$f":"VLOOKUP($A$3,Tabla31[],MATCH(TablaA51[[#This Row],[80-84 años]],Tabla31[#Headers],0),FALSE)","v":646}]
["Nayarit",{"$f":"VLOOKUP($A$3,Tabla29[],MATCH(TablaA51[[#This Row],[80-84 años]],Tabla29[#Headers],0),FALSE)","v":294},{"$f":"VLOOKUP($A$3,Tabla30[],MATCH(TablaA51[[#This Row],[80-84 años]],Tabla30[#Headers],0),FALSE)","v":305},{"$f":"VLOOKUP($A$3,Tabla31[],MATCH(TablaA51[[#This Row],[80-84 años]],Tabla31[#Headers],0),FALSE)","v":251}]
["Nuevo León",{"$f":"VLOOKUP($A$3,Tabla29[],MATCH(TablaA51[[#This Row],[80-84 años]],Tabla29[#Headers],0),FALSE)","v":1449},{"$f":"VLOOKUP($A$3,Tabla30[],MATCH(TablaA51[[#This Row],[80-84 años]],Tabla30[#Headers],0),FALSE)","v":1585},{"$f":"VLOOKUP($A$3,Tabla31[],MATCH(TablaA51[[#This Row],[80-84 años]],Tabla31[#Headers],0),FALSE)","v":1586}]
["Oaxaca",{"$f":"VLOOKUP($A$3,Tabla29[],MATCH(TablaA51[[#This Row],[80-84 años]],Tabla29[#Headers],0),FALSE)","v":1449},{"$f":"VLOOKUP($A$3,Tabla30[],MATCH(TablaA51[[#This Row],[80-84 años]],Tabla30[#Headers],0),FALSE)","v":1663},{"$f":"VLOOKUP($A$3,Tabla31[],MATCH(TablaA51[[#This Row],[80-84 años]],Tabla31[#Headers],0),FALSE)","v":1428}]
["Puebla",{"$f":"VLOOKUP($A$3,Tabla29[],MATCH(TablaA51[[#This Row],[80-84 años]],Tabla29[#Headers],0),FALSE)","v":2047},{"$f":"VLOOKUP($A$3,Tabla30[],MATCH(TablaA51[[#This Row],[80-84 años]],Tabla30[#Headers],0),FALSE)","v":2524},{"$f":"VLOOKUP($A$3,Tabla31[],MATCH(TablaA51[[#This Row],[80-84 años]],Tabla31[#Headers],0),FALSE)","v":1952}]
["Querétaro",{"$f":"VLOOKUP($A$3,Tabla29[],MATCH(TablaA51[[#This Row],[80-84 años]],Tabla29[#Headers],0),FALSE)","v":454},{"$f":"VLOOKUP($A$3,Tabla30[],MATCH(TablaA51[[#This Row],[80-84 años]],Tabla30[#Headers],0),FALSE)","v":517},{"$f":"VLOOKUP($A$3,Tabla31[],MATCH(TablaA51[[#This Row],[80-84 años]],Tabla31[#Headers],0),FALSE)","v":466}]
["Quintana Roo",{"$f":"VLOOKUP($A$3,Tabla29[],MATCH(TablaA51[[#This Row],[80-84 años]],Tabla29[#Headers],0),FALSE)","v":206},{"$f":"VLOOKUP($A$3,Tabla30[],MATCH(TablaA51[[#This Row],[80-84 años]],Tabla30[#Headers],0),FALSE)","v":253},{"$f":"VLOOKUP($A$3,Tabla31[],MATCH(TablaA51[[#This Row],[80-84 años]],Tabla31[#Headers],0),FALSE)","v":215}]
["San Luis Potosí",{"$f":"VLOOKUP($A$3,Tabla29[],MATCH(TablaA51[[#This Row],[80-84 años]],Tabla29[#Headers],0),FALSE)","v":960},{"$f":"VLOOKUP($A$3,Tabla30[],MATCH(TablaA51[[#This Row],[80-84 años]],Tabla30[#Headers],0),FALSE)","v":1012},{"$f":"VLOOKUP($A$3,Tabla31[],MATCH(TablaA51[[#This Row],[80-84 años]],Tabla31[#Headers],0),FALSE)","v":857}]
["Sinaloa",{"$f":"VLOOKUP($A$3,Tabla29[],MATCH(TablaA51[[#This Row],[80-84 años]],Tabla29[#Headers],0),FALSE)","v":979},{"$f":"VLOOKUP($A$3,Tabla30[],MATCH(TablaA51[[#This Row],[80-84 años]],Tabla30[#Headers],0),FALSE)","v":916},{"$f":"VLOOKUP($A$3,Tabla31[],MATCH(TablaA51[[#This Row],[80-84 años]],Tabla31[#Headers],0),FALSE)","v":825}]
["Sonora",{"$f":"VLOOKUP($A$3,Tabla29[],MATCH(TablaA51[[#This Row],[80-84 años]],Tabla29[#Headers],0),FALSE)","v":1036},{"$f":"VLOOKUP($A$3,Tabla30[],MATCH(TablaA51[[#This Row],[80-84 años]],Tabla30[#Headers],0),FALSE)","v":835},{"$f":"VLOOKUP($A$3,Tabla31[],MATCH(TablaA51[[#This Row],[80-84 años]],Tabla31[#Headers],0),FALSE)","v":888}]
["Tabasco",{"$f":"VLOOKUP($A$3,Tabla29[],MATCH(TablaA51[[#This Row],[80-84 años]],Tabla29[#Headers],0),FALSE)","v":754},{"$f":"VLOOKUP($A$3,Tabla30[],MATCH(TablaA51[[#This Row],[80-84 años]],Tabla30[#Headers],0),FALSE)","v":657},{"$f":"VLOOKUP($A$3,Tabla31[],MATCH(TablaA51[[#This Row],[80-84 años]],Tabla31[#Headers],0),FALSE)","v":644}]
["Tamaulipas",{"$f":"VLOOKUP($A$3,Tabla29[],MATCH(TablaA51[[#This Row],[80-84 años]],Tabla29[#Headers],0),FALSE)","v":960},{"$f":"VLOOKUP($A$3,Tabla30[],MATCH(TablaA51[[#This Row],[80-84 años]],Tabla30[#Headers],0),FALSE)","v":972},{"$f":"VLOOKUP($A$3,Tabla31[],MATCH(TablaA51[[#This Row],[80-84 años]],Tabla31[#Headers],0),FALSE)","v":964}]
["Tlaxcala",{"$f":"VLOOKUP($A$3,Tabla29[],MATCH(TablaA51[[#This Row],[80-84 años]],Tabla29[#Headers],0),FALSE)","v":366},{"$f":"VLOOKUP($A$3,Tabla30[],MATCH(TablaA51[[#This Row],[80-84 años]],Tabla30[#Headers],0),FALSE)","v":358},{"$f":"VLOOKUP($A$3,Tabla31[],MATCH(TablaA51[[#This Row],[80-84 años]],Tabla31[#Headers],0),FALSE)","v":342}]
["Veracruz",{"$f":"VLOOKUP($A$3,Tabla29[],MATCH(TablaA51[[#This Row],[80-84 años]],Tabla29[#Headers],0),FALSE)","v":3226},{"$f":"VLOOKUP($A$3,Tabla30[],MATCH(TablaA51[[#This Row],[80-84 años]],Tabla30[#Headers],0),FALSE)","v":3376},{"$f":"VLOOKUP($A$3,Tabla31[],MATCH(TablaA51[[#This Row],[80-84 años]],Tabla31[#Headers],0),FALSE)","v":2961}]
["Yucatán",{"$f":"VLOOKUP($A$3,Tabla29[],MATCH(TablaA51[[#This Row],[80-84 años]],Tabla29[#Headers],0),FALSE)","v":869},{"$f":"VLOOKUP($A$3,Tabla30[],MATCH(TablaA51[[#This Row],[80-84 años]],Tabla30[#Headers],0),FALSE)","v":818},{"$f":"VLOOKUP($A$3,Tabla31[],MATCH(TablaA51[[#This Row],[80-84 años]],Tabla31[#Headers],0),FALSE)","v":836}]
["Zacatecas",{"$f":"VLOOKUP($A$3,Tabla29[],MATCH(TablaA51[[#This Row],[80-84 años]],Tabla29[#Headers],0),FALSE)","v":517},{"$f":"VLOOKUP($A$3,Tabla30[],MATCH(TablaA51[[#This Row],[80-84 años]],Tabla30[#Headers],0),FALSE)","v":510},{"$f":"VLOOKUP($A$3,Tabla31[],MATCH(TablaA51[[#This Row],[80-84 años]],Tabla31[#Headers],0),FALSE)","v":499}]
["Total",{"$f":"SUM(B4:B35)","v":36906},{"$f":"SUM(C4:C35)","v":37766},33816]

{"sheet":"2GCM-G-Edad_Ent.Fed","index":143,"n_rows":36,"n_cols":4,"rows_kept":36,"cut":false,"hidden":false,"merged":[[0,0,0,3]]}
["Asignación provisoria de nuevas \nafecciones de etiología incierta\n o de uso emergente, sin especificación"]
["SELECCIONE UN GRUPO DE EDAD"]
["70-74 años","2020","2021","2022"]
["Aguascalientes",{"$f":"VLOOKUP($A$3,Tabla32[],MATCH(TablaA52[[#This Row],[70-74 años]],Tabla32[#Headers],0),FALSE)","v":317},{"$f":"VLOOKUP($A$3,Tabla33[],MATCH(TablaA52[[#This Row],[70-74 años]],Tabla33[#Headers],0),FALSE)","v":284},{"$f":"VLOOKUP($A$3,Tabla34[],MATCH(TablaA52[[#This Row],[70-74 años]],Tabla34[#Headers],0),FALSE)","v":89}]
["Baja California",{"$f":"VLOOKUP($A$3,Tabla32[],MATCH(TablaA52[[#This Row],[70-74 años]],Tabla32[#Headers],0),FALSE)","v":941},{"$f":"VLOOKUP($A$3,Tabla33[],MATCH(TablaA52[[#This Row],[70-74 años]],Tabla33[#Headers],0),FALSE)","v":644},{"$f":"VLOOKUP($A$3,Tabla34[],MATCH(TablaA52[[#This Row],[70-74 años]],Tabla34[#Headers],0),FALSE)","v":155}]
["Baja California Sur",{"$f":"VLOOKUP($A$3,Tabla32[],MATCH(TablaA52[[#This Row],[70-74 años]],Tabla32[#Headers],0),FALSE)","v":94},{"$f":"VLOOKUP($A$3,Tabla33[],MATCH(TablaA52[[#This Row],[70-74 años]],Tabla33[#Headers],0),FALSE)","v":163},{"$f":"VLOOKUP($A$3,Tabla34[],MATCH(TablaA52[[#This Row],[70-74 años]],Tabla34[#Headers],0),FALSE)","v":47}]
["Campeche",{"$f":"VLOOKUP($A$3,Tabla32[],MATCH(TablaA52[[#This Row],[70-74 años]],Tabla32[#Headers],0),FALSE)","v":184},{"$f":"VLOOKUP($A$3,Tabla33[],MATCH(TablaA52[[#This Row],[70-74 años]],Tabla33[#Headers],0),FALSE)","v":196},{"$f":"VLOOKUP($A$3,Tabla34[],MATCH(TablaA52[[#This Row],[70-74 años]],Tabla34[#Headers],0),FALSE)","v":25}]
["Coahuila",{"$f":"VLOOKUP($A$3,Tabla32[],MATCH(TablaA52[[#This Row],[70-74 años]],Tabla32[#Headers],0),FALSE)","v":854},{"$f":"VLOOKUP($A$3,Tabla33[],MATCH(TablaA52[[#This Row],[70-74 años]],Tabla33[#Headers],0),FALSE)","v":637},{"$f":"VLOOKUP($A$3,Tabla34[],MATCH(TablaA52[[#This Row],[70-74 años]],Tabla34[#Headers],0),FALSE)","v":197}]
["Colima",{"$f":"VLOOKUP($A$3,Tabla32[],MATCH(TablaA52[[#This Row],[70-74 años]],Tabla32[#Headers],0),FALSE)","v":134},{"$f":"VLOOKUP($A$3,Tabla33[],MATCH(TablaA52[[#This Row],[70-74 años]],Tabla33[#Headers],0),FALSE)","v":205},{"$f":"VLOOKUP($A$3,Tabla34[],MATCH(TablaA52[[#This Row],[70-74 años]],Tabla34[#Headers],0),FALSE)","v":21}]
["Chiapas",{"$f":"VLOOKUP($A$3,Tabla32[],MATCH(TablaA52[[#This Row],[70-74 años]],Tabla32[#Headers],0),FALSE)","v":332},{"$f":"VLOOKUP($A$3,Tabla33[],MATCH(TablaA52[[#This Row],[70-74 años]],Tabla33[#Headers],0),FALSE)","v":372},{"$f":"VLOOKUP($A$3,Tabla34[],MATCH(TablaA52[[#This Row],[70-74 años]],Tabla34[#Headers],0),FALSE)","v":37}]
["Chihuahua",{"$f":"VLOOKUP($A$3,Tabla32[],MATCH(TablaA52[[#This Row],[70-74 años]],Tabla32[#Headers],0),FALSE)","v":830},{"$f":"VLOOKUP($A$3,Tabla33[],MATCH(TablaA52[[#This Row],[70-74 años]],Tabla33[#Headers],0),FALSE)","v":492},{"$f":"VLOOKUP($A$3,Tabla34[],MATCH(TablaA52[[#This Row],[70-74 años]],Tabla34[#Headers],0),FALSE)","v":201}]
["Ciudad de México",{"$f":"VLOOKUP($A$3,Tabla32[],MATCH(TablaA52[[#This Row],[70-74 años]],Tabla32[#Headers],0),FALSE)","v":4622},{"$f":"VLOOKUP($A$3,Tabla33[],MATCH(TablaA52[[#This Row],[70-74 años]],Tabla33[#Headers],0),FALSE)","v":5080},{"$f":"VLOOKUP($A$3,Tabla34[],MATCH(TablaA52[[#This Row],[70-74 años]],Tabla34[#Headers],0),FALSE)","v":623}]
["Durango",{"$f":"VLOOKUP($A$3,Tabla32[],MATCH(TablaA52[[#This Row],[70-74 años]],Tabla32[#Headers],0),FALSE)","v":384},{"$f":"VLOOKUP($A$3,Tabla33[],MATCH(TablaA52[[#This Row],[70-74 años]],Tabla33[#Headers],0),FALSE)","v":243},{"$f":"VLOOKUP($A$3,Tabla34[],MATCH(TablaA52[[#This Row],[70-74 años]],Tabla34[#Headers],0),FALSE)","v":76}]
["Guanajuato",{"$f":"VLOOKUP($A$3,Tabla32[],MATCH(TablaA52[[#This Row],[70-74 años]],Tabla32[#Headers],0),FALSE)","v":1001},{"$f":"VLOOKUP($A$3,Tabla33[],MATCH(TablaA52[[#This Row],[70-74 años]],Tabla33[#Headers],0),FALSE)","v":1263},{"$f":"VLOOKUP($A$3,Tabla34[],MATCH(TablaA52[[#This Row],[70-74 años]],Tabla34[#Headers],0),FALSE)","v":198}]
["Guerrero",{"$f":"VLOOKUP($A$3,Tabla32[],MATCH(TablaA52[[#This Row],[70-74 años]],Tabla32[#Headers],0),FALSE)","v":586},{"$f":"VLOOKUP($A$3,Tabla33[],MATCH(TablaA52[[#This Row],[70-74 años]],Tabla33[#Headers],0),FALSE)","v":858},{"$f":"VLOOKUP($A$3,Tabla34[],MATCH(TablaA52[[#This Row],[70-74 años]],Tabla34[#Headers],0),FALSE)","v":99}]
["Hidalgo",{"$f":"VLOOKUP($A$3,Tabla32[],MATCH(TablaA52[[#This Row],[70-74 años]],Tabla32[#Headers],0),FALSE)","v":524},{"$f":"VLOOKUP($A$3,Tabla33[],MATCH(TablaA52[[#This Row],[70-74 años]],Tabla33[#Headers],0),FALSE)","v":632},{"$f":"VLOOKUP($A$3,Tabla34[],MATCH(TablaA52[[#This Row],[70-74 años]],Tabla34[#Headers],0),FALSE)","v":63}]
["Jalisco",{"$f":"VLOOKUP($A$3,Tabla32[],MATCH(TablaA52[[#This Row],[70-74 años]],Tabla32[#Headers],0),FALSE)","v":1250},{"$f":"VLOOKUP($A$3,Tabla33[],MATCH(TablaA52[[#This Row],[70-74 años]],Tabla33[#Headers],0),FALSE)","v":2222},{"$f":"VLOOKUP($A$3,Tabla34[],MATCH(TablaA52[[#This Row],[70-74 años]],Tabla34[#Headers],0),FALSE)","v":401}]
["México",{"$f":"VLOOKUP($A$3,Tabla32[],MATCH(TablaA52[[#This Row],[70-74 años]],Tabla32[#Headers],0),FALSE)","v":3112},{"$f":"VLOOKUP($A$3,Tabla33[],MATCH(TablaA52[[#This Row],[70-74 años]],Tabla33[#Headers],0),FALSE)","v":3226},{"$f":"VLOOKUP($A$3,Tabla34[],MATCH(TablaA52[[#This Row],[70-74 años]],Tabla34[#Headers],0),FALSE)","v":394}]
["Michoacán",{"$f":"VLOOKUP($A$3,Tabla32[],MATCH(TablaA52[[#This Row],[70-74 años]],Tabla32[#Headers],0),FALSE)","v":518},{"$f":"VLOOKUP($A$3,Tabla33[],MATCH(TablaA52[[#This Row],[70-74 años]],Tabla33[#Headers],0),FALSE)","v":1181},{"$f":"VLOOKUP($A$3,Tabla34[],MATCH(TablaA52[[#This Row],[70-74 años]],Tabla34[#Headers],0),FALSE)","v":118}]
["Morelos",{"$f":"VLOOKUP($A$3,Tabla32[],MATCH(TablaA52[[#This Row],[70-74 años]],Tabla32[#Headers],0),FALSE)","v":346},{"$f":"VLOOKUP($A$3,Tabla33[],MATCH(TablaA52[[#This Row],[70-74 años]],Tabla33[#Headers],0),FALSE)","v":770},{"$f":"VLOOKUP($A$3,Tabla34[],MATCH(TablaA52[[#This Row],[70-74 años]],Tabla34[#Headers],0),FALSE)","v":92}]
["Nayarit",{"$f":"VLOOKUP($A$3,Tabla32[],MATCH(TablaA52[[#This Row],[70-74 años]],Tabla32[#Headers],0),FALSE)","v":216},{"$f":"VLOOKUP($A$3,Tabla33[],MATCH(TablaA52[[#This Row],[70-74 años]],Tabla33[#Headers],0),FALSE)","v":331},{"$f":"VLOOKUP($A$3,Tabla34[],MATCH(TablaA52[[#This Row],[70-74 años]],Tabla34[#Headers],0),FALSE)","v":48}]
["Nuevo León",{"$f":"VLOOKUP($A$3,Tabla32[],MATCH(TablaA52[[#This Row],[70-74 años]],Tabla32[#Headers],0),FALSE)","v":1098},{"$f":"VLOOKUP($A$3,Tabla33[],MATCH(TablaA52[[#This Row],[70-74 años]],Tabla33[#Headers],0),FALSE)","v":1301},{"$f":"VLOOKUP($A$3,Tabla34[],MATCH(TablaA52[[#This Row],[70-74 años]],Tabla34[#Headers],0),FALSE)","v":234}]
["Oaxaca",{"$f":"VLOOKUP($A$3,Tabla32[],MATCH(TablaA52[[#This Row],[70-74 años]],Tabla32[#Headers],0),FALSE)","v":391},{"$f":"VLOOKUP($A$3,Tabla33[],MATCH(TablaA52[[#This Row],[70-74 años]],Tabla33[#Headers],0),FALSE)","v":798},{"$f":"VLOOKUP($A$3,Tabla34[],MATCH(TablaA52[[#This Row],[70-74 años]],Tabla34[#Headers],0),FALSE)","v":106}]
["Puebla",{"$f":"VLOOKUP($A$3,Tabla32[],MATCH(TablaA52[[#This Row],[70-74 años]],Tabla32[#Headers],0),FALSE)","v":933},{"$f":"VLOOKUP($A$3,Tabla33[],MATCH(TablaA52[[#This Row],[70-74 años]],Tabla33[#Headers],0),FALSE)","v":1379},{"$f":"VLOOKUP($A$3,Tabla34[],MATCH(TablaA52[[#This Row],[70-74 años]],Tabla34[#Headers],0),FALSE)","v":133}]
["Querétaro",{"$f":"VLOOKUP($A$3,Tabla32[],MATCH(TablaA52[[#This Row],[70-74 años]],Tabla32[#Headers],0),FALSE)","v":332},{"$f":"VLOOKUP($A$3,Tabla33[],MATCH(TablaA52[[#This Row],[70-74 años]],Tabla33[#Headers],0),FALSE)","v":515},{"$f":"VLOOKUP($A$3,Tabla34[],MATCH(TablaA52[[#This Row],[70-74 años]],Tabla34[#Headers],0),FALSE)","v":118}]
["Quintana Roo",{"$f":"VLOOKUP($A$3,Tabla32[],MATCH(TablaA52[[#This Row],[70-74 años]],Tabla32[#Headers],0),FALSE)","v":309},{"$f":"VLOOKUP($A$3,Tabla33[],MATCH(TablaA52[[#This Row],[70-74 años]],Tabla33[#Headers],0),FALSE)","v":291},{"$f":"VLOOKUP($A$3,Tabla34[],MATCH(TablaA52[[#This Row],[70-74 años]],Tabla34[#Headers],0),FALSE)","v":42}]
["San Luis Potosí",{"$f":"VLOOKUP($A$3,Tabla32[],MATCH(TablaA52[[#This Row],[70-74 años]],Tabla32[#Headers],0),FALSE)","v":529},{"$f":"VLOOKUP($A$3,Tabla33[],MATCH(TablaA52[[#This Row],[70-74 años]],Tabla33[#Headers],0),FALSE)","v":498},{"$f":"VLOOKUP($A$3,Tabla34[],MATCH(TablaA52[[#This Row],[70-74 años]],Tabla34[#Headers],0),FALSE)","v":90}]
["Sinaloa",{"$f":"VLOOKUP($A$3,Tabla32[],MATCH(TablaA52[[#This Row],[70-74 años]],Tabla32[#Headers],0),FALSE)","v":825},{"$f":"VLOOKUP($A$3,Tabla33[],MATCH(TablaA52[[#This Row],[70-74 años]],Tabla33[#Headers],0),FALSE)","v":646},{"$f":"VLOOKUP($A$3,Tabla34[],MATCH(TablaA52[[#This Row],[70-74 años]],Tabla34[#Headers],0),FALSE)","v":112}]
["Sonora",{"$f":"VLOOKUP($A$3,Tabla32[],MATCH(TablaA52[[#This Row],[70-74 años]],Tabla32[#Headers],0),FALSE)","v":819},{"$f":"VLOOKUP($A$3,Tabla33[],MATCH(TablaA52[[#This Row],[70-74 años]],Tabla33[#Headers],0),FALSE)","v":572},{"$f":"VLOOKUP($A$3,Tabla34[],MATCH(TablaA52[[#This Row],[70-74 años]],Tabla34[#Headers],0),FALSE)","v":166}]
["Tabasco",{"$f":"VLOOKUP($A$3,Tabla32[],MATCH(TablaA52[[#This Row],[70-74 años]],Tabla32[#Headers],0),FALSE)","v":443},{"$f":"VLOOKUP($A$3,Tabla33[],MATCH(TablaA52[[#This Row],[70-74 años]],Tabla33[#Headers],0),FALSE)","v":366},{"$f":"VLOOKUP($A$3,Tabla34[],MATCH(TablaA52[[#This Row],[70-74 años]],Tabla34[#Headers],0),FALSE)","v":37}]
["Tamaulipas",{"$f":"VLOOKUP($A$3,Tabla32[],MATCH(TablaA52[[#This Row],[70-74 años]],Tabla32[#Headers],0),FALSE)","v":554},{"$f":"VLOOKUP($A$3,Tabla33[],MATCH(TablaA52[[#This Row],[70-74 años]],Tabla33[#Headers],0),FALSE)","v":540},{"$f":"VLOOKUP($A$3,Tabla34[],MATCH(TablaA52[[#This Row],[70-74 años]],Tabla34[#Headers],0),FALSE)","v":141}]
["Tlaxcala",{"$f":"VLOOKUP($A$3,Tabla32[],MATCH(TablaA52[[#This Row],[70-74 años]],Tabla32[#Headers],0),FALSE)","v":174},{"$f":"VLOOKUP($A$3,Tabla33[],MATCH(TablaA52[[#This Row],[70-74 años]],Tabla33[#Headers],0),FALSE)","v":227},{"$f":"VLOOKUP($A$3,Tabla34[],MATCH(TablaA52[[#This Row],[70-74 años]],Tabla34[#Headers],0),FALSE)","v":19}]
["Veracruz",{"$f":"VLOOKUP($A$3,Tabla32[],MATCH(TablaA52[[#This Row],[70-74 años]],Tabla32[#Headers],0),FALSE)","v":1183},{"$f":"VLOOKUP($A$3,Tabla33[],MATCH(TablaA52[[#This Row],[70-74 años]],Tabla33[#Headers],0),FALSE)","v":1343},{"$f":"VLOOKUP($A$3,Tabla34[],MATCH(TablaA52[[#This Row],[70-74 años]],Tabla34[#Headers],0),FALSE)","v":202}]
["Yucatán",{"$f":"VLOOKUP($A$3,Tabla32[],MATCH(TablaA52[[#This Row],[70-74 años]],Tabla32[#Headers],0),FALSE)","v":488},{"$f":"VLOOKUP($A$3,Tabla33[],MATCH(TablaA52[[#This Row],[70-74 años]],Tabla33[#Headers],0),FALSE)","v":544},{"$f":"VLOOKUP($A$3,Tabla34[],MATCH(TablaA52[[#This Row],[70-74 años]],Tabla34[#Headers],0),FALSE)","v":103}]
["Zacatecas",{"$f":"VLOOKUP($A$3,Tabla32[],MATCH(TablaA52[[#This Row],[70-74 años]],Tabla32[#Headers],0),FALSE)","v":322},{"$f":"VLOOKUP($A$3,Tabla33[],MATCH(TablaA52[[#This Row],[70-74 años]],Tabla33[#Headers],0),FALSE)","v":247},{"$f":"VLOOKUP($A$3,Tabla34[],MATCH(TablaA52[[#This Row],[70-74 años]],Tabla34[#Headers],0),FALSE)","v":60}]
["Total",{"$f":"SUM(B4:B35)","v":24645},{"$f":"SUM(C4:C35)","v":28066},4447]

{"sheet":"3T-GCM-G_Edad_EntFed2020","index":144,"n_rows":22,"n_cols":33,"rows_kept":22,"cut":false,"hidden":true,"merged":[]}
[1,2,3,4,5,6,7,8,9,10,11,12,13,14,15,16,17,18,19,20,21,22,23,24,25,26,27,28,29,30,31,32,33]
["ESTADO","Aguascalientes","Baja California","Baja California Sur","Campeche","Coahuila","Colima","Chiapas","Chihuahua","Ciudad de México","Durango","Guanajuato","Guerrero","Hidalgo","Jalisco","México","Michoacán","Morelos","Nayarit","Nuevo León","Oaxaca","Puebla","Querétaro","Quintana Roo","San Luis Potosí","Sinaloa","Sonora","Tabasco","Tamaulipas","Tlaxcala","Veracruz","Yucatán","Zacatecas"]
["Menores de 1 año",2,7,1,2,6,2,22,11,31,6,13,3,1,9,38,13,5,10,7,7,18,4,2,3,5,4,10,7,1,20,6,7]
["1-4 años",2,0,0,1,1,1,25,10,6,1,5,4,3,6,9,1,0,9,3,11,7,1,1,5,5,2,4,2,2,14,4,3]
["5-9 años",0,1,0,1,2,0,5,6,7,0,1,2,3,4,8,4,2,0,1,5,4,3,2,1,1,0,1,1,0,7,0,3]
["10-14 años",0,3,0,1,0,1,6,4,4,2,3,4,1,5,11,9,4,2,3,4,13,1,1,1,2,0,3,5,0,13,0,2]
["15-19 años",0,6,2,0,8,0,20,7,16,3,8,8,4,10,27,11,6,1,8,5,21,3,1,2,3,6,14,6,6,25,2,2]
["20-24 años",5,9,2,4,17,2,36,17,33,1,19,19,12,20,53,14,11,6,16,20,30,8,3,12,2,6,17,16,6,40,3,6]
["25-29 años",6,29,2,7,20,2,54,26,98,8,42,17,10,44,147,22,19,6,15,27,46,17,9,16,10,8,25,33,12,51,6,6]
["30-34 años",5,49,3,11,40,7,72,30,154,10,72,29,23,71,225,56,24,7,27,51,84,16,16,34,13,23,40,38,12,109,16,16]
["35-39 años",13,58,12,11,68,10,147,72,246,18,102,63,42,102,385,65,35,5,62,88,144,45,23,46,32,48,79,74,33,180,20,14]
["40-44 años",27,108,14,26,113,28,229,103,465,41,203,117,88,170,742,123,72,20,120,170,327,68,56,98,45,67,151,134,69,363,42,34]
["45-49 años",53,244,32,52,197,28,357,206,919,63,345,195,151,311,1319,242,141,48,226,251,521,117,97,175,77,105,220,257,106,609,93,62]
["50-54 años",84,347,37,84,278,48,519,319,1272,87,519,339,221,480,2125,346,203,57,318,429,820,158,120,223,110,181,360,345,144,973,128,97]
["55-59 años",114,389,54,123,476,78,756,440,1808,137,723,441,317,661,2740,518,272,94,443,545,1141,253,160,378,162,244,550,483,220,1407,193,130]
["60-64 años",129,485,61,143,574,91,799,518,2328,211,935,490,422,880,3301,698,357,106,624,721,1400,249,193,409,267,311,638,567,287,1707,243,199]
["65-69 años",151,532,78,161,630,105,943,585,2401,229,1007,587,423,984,3461,790,353,143,619,738,1453,265,214,451,326,389,649,578,302,2017,274,204]
["70-74 años",135,485,68,152,579,110,803,602,2396,241,1018,601,425,1142,3263,805,404,155,640,729,1371,255,192,466,339,322,558,564,273,1849,306,244]
["75-79 años",109,454,69,153,530,109,803,558,2282,197,1033,596,382,1073,2860,782,385,162,593,707,1291,231,144,458,353,309,478,487,281,1680,273,252]
["80-84 años",119,374,57,104,434,104,653,497,1991,215,967,500,360,1086,2406,806,326,152,479,683,1117,222,111,382,312,311,410,404,265,1499,277,242]
["85 años y más",187,415,86,122,447,112,799,526,2625,177,1413,619,510,1411,2837,1128,427,211,567,957,1464,306,92,576,337,325,400,479,347,1769,267,407]
["No especificado",0,9,4,0,3,0,0,4,1,0,3,0,0,2,0,4,0,3,1,3,6,2,2,0,2,6,1,5,0,0,0,0]

{"sheet":"3T-GCM-G_Edad_EntFed2021","index":145,"n_rows":22,"n_cols":33,"rows_kept":22,"cut":false,"hidden":true,"merged":[]}
[1,2,3,4,5,6,7,8,9,10,11,12,13,14,15,16,17,18,19,20,21,22,23,24,25,26,27,28,29,30,31,32,33]
["ESTADO","Aguascalientes","Baja California","Baja California Sur","Campeche","Coahuila","Colima","Chiapas","Chihuahua","Ciudad de México","Durango","Guanajuato","Guerrero","Hidalgo","Jalisco","México","Michoacán","Morelos","Nayarit","Nuevo León","Oaxaca","Puebla","Querétaro","Quintana Roo","San Luis Potosí","Sinaloa","Sonora","Tabasco","Tamaulipas","Tlaxcala","Veracruz","Yucatán","Zacatecas"]
["Menores de 1 año",1,4,1,2,2,0,16,13,19,6,9,4,4,18,26,13,6,4,7,14,14,5,6,3,0,5,13,5,1,23,2,4]
["1-4 años",1,1,2,1,2,0,20,13,5,2,11,9,2,7,13,7,4,6,6,9,12,2,2,4,3,4,5,4,1,10,2,4]
["5-9 años",1,4,2,0,2,0,4,2,12,0,7,3,0,9,7,4,1,1,2,6,8,3,2,1,2,1,1,1,0,8,1,1]
["10-14 años",4,4,3,1,1,2,12,4,11,0,6,3,3,3,19,4,1,0,6,6,8,1,0,2,2,1,1,0,2,9,3,3]
["15-19 años",3,7,1,2,4,4,17,5,14,3,11,5,3,9,30,9,2,4,4,6,20,4,0,4,3,7,7,7,1,22,0,3]
["20-24 años",4,16,1,2,11,2,32,12,35,2,10,12,5,23,55,18,3,6,11,19,43,9,2,7,4,8,10,15,4,36,4,5]
["25-29 años",5,12,6,1,21,2,47,12,65,8,52,19,12,28,120,33,13,2,14,29,68,12,6,10,6,18,20,21,15,70,5,10]
["30-34 años",10,28,3,9,28,4,64,29,128,5,65,32,28,50,215,48,18,6,40,55,93,16,15,25,16,26,24,26,16,78,10,11]
["35-39 años",14,70,8,9,51,8,128,38,196,22,102,61,48,94,359,84,35,10,62,93,179,43,19,43,23,28,44,61,21,182,22,20]
["40-44 años",22,82,12,27,92,13,231,67,390,40,187,118,78,178,659,166,81,19,114,169,309,55,53,91,39,49,114,91,53,316,43,38]
["45-49 años",52,159,33,60,142,29,351,143,712,65,356,177,145,304,1265,249,130,30,242,330,562,104,86,176,61,108,181,167,96,638,77,71]
["50-54 años",57,266,25,62,234,53,494,226,944,114,486,309,226,463,1739,437,184,47,324,437,847,155,113,233,104,115,278,281,126,929,103,95]
["55-59 años",90,323,47,109,365,72,754,286,1400,145,740,378,301,600,2435,601,293,87,473,610,1167,223,163,318,132,191,406,418,168,1405,124,141]
["60-64 años",119,397,65,100,508,120,840,411,1717,172,936,528,437,871,3006,731,339,106,574,711,1445,265,159,398,226,261,470,500,257,1641,210,196]
["65-69 años",160,384,67,134,445,119,855,454,1893,210,1110,515,422,972,3126,901,386,136,588,803,1493,236,152,413,277,268,516,480,254,1868,221,202]
["70-74 años",153,377,56,145,506,132,748,450,1936,220,1090,545,407,1110,3015,918,399,175,615,837,1346,292,158,432,315,293,492,534,252,1920,254,217]
["75-79 años",149,344,41,112,446,108,764,458,1984,217,1096,542,395,1191,2750,951,375,182,591,787,1331,252,149,440,290,272,364,432,230,1761,218,252]
["80-84 años",135,300,52,103,360,110,602,384,1653,206,971,462,337,993,2459,854,334,203,516,756,1225,240,101,442,243,244,319,396,270,1523,224,217]
["85 años y más",195,326,67,110,400,138,685,406,2401,173,1498,674,535,1510,2991,1208,453,242,670,1152,1545,308,99,542,319,230,342,459,379,1824,217,415]
["No especificado",0,5,0,0,4,0,1,2,0,0,2,2,0,4,2,1,10,2,0,1,2,0,0,0,0,6,0,3,0,1,0,0]

{"sheet":"3T-GCM-G_Edad_EntFed2022","index":146,"n_rows":22,"n_cols":33,"rows_kept":22,"cut":false,"hidden":true,"merged":[]}
[1,2,3,4,5,6,7,8,9,10,11,12,13,14,15,16,17,18,19,20,21,22,23,24,25,26,27,28,29,30,31,32,33]
["ESTADO","Aguascalientes","Baja California","Baja California Sur","Campeche","Coahuila","Colima","Chiapas","Chihuahua","Ciudad de México","Durango","Guanajuato","Guerrero","Hidalgo","Jalisco","México","Michoacán","Morelos","Nayarit","Nuevo León","Oaxaca","Puebla","Querétaro","Quintana Roo","San Luis Potosí","Sinaloa","Sonora","Tabasco","Tamaulipas","Tlaxcala","Veracruz","Yucatán","Zacatecas"]
["Menores de 1 año",1,6,0,6,4,1,23,8,23,1,10,1,3,20,31,8,0,3,6,15,19,4,4,7,6,6,7,7,8,17,2,4]
["1-4 años",2,2,1,1,1,0,24,20,13,2,5,7,2,11,18,6,4,1,4,17,17,2,5,9,1,3,4,3,1,14,5,1]
["5-9 años",0,2,1,1,1,1,9,7,15,0,7,4,3,4,11,1,2,1,3,5,3,4,2,3,1,4,8,0,1,7,0,4]
["10-14 años",1,3,1,4,7,0,7,3,7,3,8,2,2,8,14,5,2,3,3,4,13,2,2,4,0,3,1,3,3,11,2,3]
["15-19 años",0,8,0,2,4,2,20,7,18,2,11,5,4,12,30,6,4,2,8,8,18,3,6,5,4,9,6,1,4,18,5,1]
["20-24 años",4,14,4,1,16,2,23,17,26,1,18,13,7,22,59,16,3,3,14,18,22,8,8,9,7,4,5,8,1,28,3,4]
["25-29 años",2,17,2,3,17,3,69,25,41,4,27,20,15,36,87,16,14,7,18,34,38,15,5,16,10,13,22,11,10,55,4,4]
["30-34 años",11,25,3,12,27,6,50,29,89,10,39,36,14,43,167,35,13,7,37,54,74,13,7,26,9,14,23,22,11,77,13,7]
["35-39 años",21,67,7,14,42,11,107,53,144,23,75,55,31,82,254,54,33,8,47,82,107,23,20,38,21,30,51,48,17,149,14,17]
["40-44 años",34,108,18,22,73,19,178,70,226,22,149,107,68,143,442,97,72,10,101,140,220,41,39,66,40,45,90,73,26,255,31,25]
["45-49 años",38,158,32,44,154,27,287,146,456,51,263,160,133,223,861,169,107,29,187,218,342,85,70,132,56,78,139,160,40,459,67,47]
["50-54 años",75,239,28,58,229,47,404,212,702,86,377,231,165,373,1239,265,146,47,305,317,555,112,112,187,99,140,223,208,86,726,77,69]
["55-59 años",96,313,45,69,306,53,563,315,937,112,564,365,261,548,1777,390,195,66,427,474,763,165,162,269,139,161,330,338,110,1120,143,117]
["60-64 años",117,349,63,105,431,72,619,434,1260,160,709,428,298,677,2175,553,288,88,554,547,900,168,173,313,199,225,409,442,176,1374,183,152]
["65-69 años",147,389,45,119,494,103,671,436,1366,188,831,446,347,853,2378,618,354,124,616,655,1079,236,146,360,278,279,468,460,175,1466,229,198]
["70-74 años",141,349,87,109,489,94,586,434,1500,202,933,487,340,893,2330,704,297,142,597,656,1050,201,150,391,277,274,424,485,168,1544,234,201]
["75-79 años",160,312,52,89,432,106,620,457,1401,188,957,483,357,991,2222,742,325,138,593,614,1020,205,121,406,289,254,342,432,218,1503,204,211]
["80-84 años",133,300,42,99,380,101,489,383,1404,160,866,434,339,913,2051,697,304,147,528,683,981,185,111,365,248,233,277,349,170,1304,194,218]
["85 años y más",236,352,48,89,440,105,499,451,2081,184,1425,566,512,1415,2844,993,468,218,625,1033,1429,288,121,565,320,240,295,478,278,1756,204,394]
["No especificado",0,10,0,0,2,1,1,0,2,0,1,2,0,6,2,1,1,0,2,3,7,0,0,0,0,7,0,8,0,6,0,3]

{"sheet":"3GCM-G-Edad_Ent.Fed","index":147,"n_rows":36,"n_cols":4,"rows_kept":36,"cut":false,"hidden":false,"merged":[[0,0,0,3]]}
["Enfermedades endocrinas, \nnutricionales y metabólicas"]
["SELECCIONE UN GRUPO DE EDAD"]
["20-24 años","2020","2021","2022"]
["Aguascalientes",{"$f":"VLOOKUP($A$3,Tabla35[],MATCH(TablaA53[[#This Row],[20-24 años]],Tabla35[#Headers],0),FALSE)","v":5},{"$f":"VLOOKUP($A$3,Tabla36[],MATCH(TablaA53[[#This Row],[20-24 años]],Tabla36[#Headers],0),FALSE)","v":4},{"$f":"VLOOKUP($A$3,Tabla37[],MATCH(TablaA53[[#This Row],[20-24 años]],Tabla37[#Headers],0),FALSE)","v":4}]
["Baja California",{"$f":"VLOOKUP($A$3,Tabla35[],MATCH(TablaA53[[#This Row],[20-24 años]],Tabla35[#Headers],0),FALSE)","v":9},{"$f":"VLOOKUP($A$3,Tabla36[],MATCH(TablaA53[[#This Row],[20-24 años]],Tabla36[#Headers],0),FALSE)","v":16},{"$f":"VLOOKUP($A$3,Tabla37[],MATCH(TablaA53[[#This Row],[20-24 años]],Tabla37[#Headers],0),FALSE)","v":14}]
["Baja California Sur",{"$f":"VLOOKUP($A$3,Tabla35[],MATCH(TablaA53[[#This Row],[20-24 años]],Tabla35[#Headers],0),FALSE)","v":2},{"$f":"VLOOKUP($A$3,Tabla36[],MATCH(TablaA53[[#This Row],[20-24 años]],Tabla36[#Headers],0),FALSE)","v":1},{"$f":"VLOOKUP($A$3,Tabla37[],MATCH(TablaA53[[#This Row],[20-24 años]],Tabla37[#Headers],0),FALSE)","v":4}]
["Campeche",{"$f":"VLOOKUP($A$3,Tabla35[],MATCH(TablaA53[[#This Row],[20-24 años]],Tabla35[#Headers],0),FALSE)","v":4},{"$f":"VLOOKUP($A$3,Tabla36[],MATCH(TablaA53[[#This Row],[20-24 años]],Tabla36[#Headers],0),FALSE)","v":2},{"$f":"VLOOKUP($A$3,Tabla37[],MATCH(TablaA53[[#This Row],[20-24 años]],Tabla37[#Headers],0),FALSE)","v":1}]
["Coahuila",{"$f":"VLOOKUP($A$3,Tabla35[],MATCH(TablaA53[[#This Row],[20-24 años]],Tabla35[#Headers],0),FALSE)","v":17},{"$f":"VLOOKUP($A$3,Tabla36[],MATCH(TablaA53[[#This Row],[20-24 años]],Tabla36[#Headers],0),FALSE)","v":11},{"$f":"VLOOKUP($A$3,Tabla37[],MATCH(TablaA53[[#This Row],[20-24 años]],Tabla37[#Headers],0),FALSE)","v":16}]
["Colima",{"$f":"VLOOKUP($A$3,Tabla35[],MATCH(TablaA53[[#This Row],[20-24 años]],Tabla35[#Headers],0),FALSE)","v":2},{"$f":"VLOOKUP($A$3,Tabla36[],MATCH(TablaA53[[#This Row],[20-24 años]],Tabla36[#Headers],0),FALSE)","v":2},{"$f":"VLOOKUP($A$3,Tabla37[],MATCH(TablaA53[[#This Row],[20-24 años]],Tabla37[#Headers],0),FALSE)","v":2}]
["Chiapas",{"$f":"VLOOKUP($A$3,Tabla35[],MATCH(TablaA53[[#This Row],[20-24 años]],Tabla35[#Headers],0),FALSE)","v":36},{"$f":"VLOOKUP($A$3,Tabla36[],MATCH(TablaA53[[#This Row],[20-24 años]],Tabla36[#Headers],0),FALSE)","v":32},{"$f":"VLOOKUP($A$3,Tabla37[],MATCH(TablaA53[[#This Row],[20-24 años]],Tabla37[#Headers],0),FALSE)","v":23}]
["Chihuahua",{"$f":"VLOOKUP($A$3,Tabla35[],MATCH(TablaA53[[#This Row],[20-24 años]],Tabla35[#Headers],0),FALSE)","v":17},{"$f":"VLOOKUP($A$3,Tabla36[],MATCH(TablaA53[[#This Row],[20-24 años]],Tabla36[#Headers],0),FALSE)","v":12},{"$f":"VLOOKUP($A$3,Tabla37[],MATCH(TablaA53[[#This Row],[20-24 años]],Tabla37[#Headers],0),FALSE)","v":17}]
["Ciudad de México",{"$f":"VLOOKUP($A$3,Tabla35[],MATCH(TablaA53[[#This Row],[20-24 años]],Tabla35[#Headers],0),FALSE)","v":33},{"$f":"VLOOKUP($A$3,Tabla36[],MATCH(TablaA53[[#This Row],[20-24 años]],Tabla36[#Headers],0),FALSE)","v":35},{"$f":"VLOOKUP($A$3,Tabla37[],MATCH(TablaA53[[#This Row],[20-24 años]],Tabla37[#Headers],0),FALSE)","v":26}]
["Durango",{"$f":"VLOOKUP($A$3,Tabla35[],MATCH(TablaA53[[#This Row],[20-24 años]],Tabla35[#Headers],0),FALSE)","v":1},{"$f":"VLOOKUP($A$3,Tabla36[],MATCH(TablaA53[[#This Row],[20-24 años]],Tabla36[#Headers],0),FALSE)","v":2},{"$f":"VLOOKUP($A$3,Tabla37[],MATCH(TablaA53[[#This Row],[20-24 años]],Tabla37[#Headers],0),FALSE)","v":1}]
["Guanajuato",{"$f":"VLOOKUP($A$3,Tabla35[],MATCH(TablaA53[[#This Row],[20-24 años]],Tabla35[#Headers],0),FALSE)","v":19},{"$f":"VLOOKUP($A$3,Tabla36[],MATCH(TablaA53[[#This Row],[20-24 años]],Tabla36[#Headers],0),FALSE)","v":10},{"$f":"VLOOKUP($A$3,Tabla37[],MATCH(TablaA53[[#This Row],[20-24 años]],Tabla37[#Headers],0),FALSE)","v":18}]
["Guerrero",{"$f":"VLOOKUP($A$3,Tabla35[],MATCH(TablaA53[[#This Row],[20-24 años]],Tabla35[#Headers],0),FALSE)","v":19},{"$f":"VLOOKUP($A$3,Tabla36[],MATCH(TablaA53[[#This Row],[20-24 años]],Tabla36[#Headers],0),FALSE)","v":12},{"$f":"VLOOKUP($A$3,Tabla37[],MATCH(TablaA53[[#This Row],[20-24 años]],Tabla37[#Headers],0),FALSE)","v":13}]
["Hidalgo",{"$f":"VLOOKUP($A$3,Tabla35[],MATCH(TablaA53[[#This Row],[20-24 años]],Tabla35[#Headers],0),FALSE)","v":12},{"$f":"VLOOKUP($A$3,Tabla36[],MATCH(TablaA53[[#This Row],[20-24 años]],Tabla36[#Headers],0),FALSE)","v":5},{"$f":"VLOOKUP($A$3,Tabla37[],MATCH(TablaA53[[#This Row],[20-24 años]],Tabla37[#Headers],0),FALSE)","v":7}]
["Jalisco",{"$f":"VLOOKUP($A$3,Tabla35[],MATCH(TablaA53[[#This Row],[20-24 años]],Tabla35[#Headers],0),FALSE)","v":20},{"$f":"VLOOKUP($A$3,Tabla36[],MATCH(TablaA53[[#This Row],[20-24 años]],Tabla36[#Headers],0),FALSE)","v":23},{"$f":"VLOOKUP($A$3,Tabla37[],MATCH(TablaA53[[#This Row],[20-24 años]],Tabla37[#Headers],0),FALSE)","v":22}]
["México",{"$f":"VLOOKUP($A$3,Tabla35[],MATCH(TablaA53[[#This Row],[20-24 años]],Tabla35[#Headers],0),FALSE)","v":53},{"$f":"VLOOKUP($A$3,Tabla36[],MATCH(TablaA53[[#This Row],[20-24 años]],Tabla36[#Headers],0),FALSE)","v":55},{"$f":"VLOOKUP($A$3,Tabla37[],MATCH(TablaA53[[#This Row],[20-24 años]],Tabla37[#Headers],0),FALSE)","v":59}]
["Michoacán",{"$f":"VLOOKUP($A$3,Tabla35[],MATCH(TablaA53[[#This Row],[20-24 años]],Tabla35[#Headers],0),FALSE)","v":14},{"$f":"VLOOKUP($A$3,Tabla36[],MATCH(TablaA53[[#This Row],[20-24 años]],Tabla36[#Headers],0),FALSE)","v":18},{"$f":"VLOOKUP($A$3,Tabla37[],MATCH(TablaA53[[#This Row],[20-24 años]],Tabla37[#Headers],0),FALSE)","v":16}]
["Morelos",{"$f":"VLOOKUP($A$3,Tabla35[],MATCH(TablaA53[[#This Row],[20-24 años]],Tabla35[#Headers],0),FALSE)","v":11},{"$f":"VLOOKUP($A$3,Tabla36[],MATCH(TablaA53[[#This Row],[20-24 años]],Tabla36[#Headers],0),FALSE)","v":3},{"$f":"VLOOKUP($A$3,Tabla37[],MATCH(TablaA53[[#This Row],[20-24 años]],Tabla37[#Headers],0),FALSE)","v":3}]
["Nayarit",{"$f":"VLOOKUP($A$3,Tabla35[],MATCH(TablaA53[[#This Row],[20-24 años]],Tabla35[#Headers],0),FALSE)","v":6},{"$f":"VLOOKUP($A$3,Tabla36[],MATCH(TablaA53[[#This Row],[20-24 años]],Tabla36[#Headers],0),FALSE)","v":6},{"$f":"VLOOKUP($A$3,Tabla37[],MATCH(TablaA53[[#This Row],[20-24 años]],Tabla37[#Headers],0),FALSE)","v":3}]
["Nuevo León",{"$f":"VLOOKUP($A$3,Tabla35[],MATCH(TablaA53[[#This Row],[20-24 años]],Tabla35[#Headers],0),FALSE)","v":16},{"$f":"VLOOKUP($A$3,Tabla36[],MATCH(TablaA53[[#This Row],[20-24 años]],Tabla36[#Headers],0),FALSE)","v":11},{"$f":"VLOOKUP($A$3,Tabla37[],MATCH(TablaA53[[#This Row],[20-24 años]],Tabla37[#Headers],0),FALSE)","v":14}]
["Oaxaca",{"$f":"VLOOKUP($A$3,Tabla35[],MATCH(TablaA53[[#This Row],[20-24 años]],Tabla35[#Headers],0),FALSE)","v":20},{"$f":"VLOOKUP($A$3,Tabla36[],MATCH(TablaA53[[#This Row],[20-24 años]],Tabla36[#Headers],0),FALSE)","v":19},{"$f":"VLOOKUP($A$3,Tabla37[],MATCH(TablaA53[[#This Row],[20-24 años]],Tabla37[#Headers],0),FALSE)","v":18}]
["Puebla",{"$f":"VLOOKUP($A$3,Tabla35[],MATCH(TablaA53[[#This Row],[20-24 años]],Tabla35[#Headers],0),FALSE)","v":30},{"$f":"VLOOKUP($A$3,Tabla36[],MATCH(TablaA53[[#This Row],[20-24 años]],Tabla36[#Headers],0),FALSE)","v":43},{"$f":"VLOOKUP($A$3,Tabla37[],MATCH(TablaA53[[#This Row],[20-24 años]],Tabla37[#Headers],0),FALSE)","v":22}]
["Querétaro",{"$f":"VLOOKUP($A$3,Tabla35[],MATCH(TablaA53[[#This Row],[20-24 años]],Tabla35[#Headers],0),FALSE)","v":8},{"$f":"VLOOKUP($A$3,Tabla36[],MATCH(TablaA53[[#This Row],[20-24 años]],Tabla36[#Headers],0),FALSE)","v":9},{"$f":"VLOOKUP($A$3,Tabla37[],MATCH(TablaA53[[#This Row],[20-24 años]],Tabla37[#Headers],0),FALSE)","v":8}]
["Quintana Roo",{"$f":"VLOOKUP($A$3,Tabla35[],MATCH(TablaA53[[#This Row],[20-24 años]],Tabla35[#Headers],0),FALSE)","v":3},{"$f":"VLOOKUP($A$3,Tabla36[],MATCH(TablaA53[[#This Row],[20-24 años]],Tabla36[#Headers],0),FALSE)","v":2},{"$f":"VLOOKUP($A$3,Tabla37[],MATCH(TablaA53[[#This Row],[20-24 años]],Tabla37[#Headers],0),FALSE)","v":8}]
["San Luis Potosí",{"$f":"VLOOKUP($A$3,Tabla35[],MATCH(TablaA53[[#This Row],[20-24 años]],Tabla35[#Headers],0),FALSE)","v":12},{"$f":"VLOOKUP($A$3,Tabla36[],MATCH(TablaA53[[#This Row],[20-24 años]],Tabla36[#Headers],0),FALSE)","v":7},{"$f":"VLOOKUP($A$3,Tabla37[],MATCH(TablaA53[[#This Row],[20-24 años]],Tabla37[#Headers],0),FALSE)","v":9}]
["Sinaloa",{"$f":"VLOOKUP($A$3,Tabla35[],MATCH(TablaA53[[#This Row],[20-24 años]],Tabla35[#Headers],0),FALSE)","v":2},{"$f":"VLOOKUP($A$3,Tabla36[],MATCH(TablaA53[[#This Row],[20-24 años]],Tabla36[#Headers],0),FALSE)","v":4},{"$f":"VLOOKUP($A$3,Tabla37[],MATCH(TablaA53[[#This Row],[20-24 años]],Tabla37[#Headers],0),FALSE)","v":7}]
["Sonora",{"$f":"VLOOKUP($A$3,Tabla35[],MATCH(TablaA53[[#This Row],[20-24 años]],Tabla35[#Headers],0),FALSE)","v":6},{"$f":"VLOOKUP($A$3,Tabla36[],MATCH(TablaA53[[#This Row],[20-24 años]],Tabla36[#Headers],0),FALSE)","v":8},{"$f":"VLOOKUP($A$3,Tabla37[],MATCH(TablaA53[[#This Row],[20-24 años]],Tabla37[#Headers],0),FALSE)","v":4}]
["Tabasco",{"$f":"VLOOKUP($A$3,Tabla35[],MATCH(TablaA53[[#This Row],[20-24 años]],Tabla35[#Headers],0),FALSE)","v":17},{"$f":"VLOOKUP($A$3,Tabla36[],MATCH(TablaA53[[#This Row],[20-24 años]],Tabla36[#Headers],0),FALSE)","v":10},{"$f":"VLOOKUP($A$3,Tabla37[],MATCH(TablaA53[[#This Row],[20-24 años]],Tabla37[#Headers],0),FALSE)","v":5}]
["Tamaulipas",{"$f":"VLOOKUP($A$3,Tabla35[],MATCH(TablaA53[[#This Row],[20-24 años]],Tabla35[#Headers],0),FALSE)","v":16},{"$f":"VLOOKUP($A$3,Tabla36[],MATCH(TablaA53[[#This Row],[20-24 años]],Tabla36[#Headers],0),FALSE)","v":15},{"$f":"VLOOKUP($A$3,Tabla37[],MATCH(TablaA53[[#This Row],[20-24 años]],Tabla37[#Headers],0),FALSE)","v":8}]
["Tlaxcala",{"$f":"VLOOKUP($A$3,Tabla35[],MATCH(TablaA53[[#This Row],[20-24 años]],Tabla35[#Headers],0),FALSE)","v":6},{"$f":"VLOOKUP($A$3,Tabla36[],MATCH(TablaA53[[#This Row],[20-24 años]],Tabla36[#Headers],0),FALSE)","v":4},{"$f":"VLOOKUP($A$3,Tabla37[],MATCH(TablaA53[[#This Row],[20-24 años]],Tabla37[#Headers],0),FALSE)","v":1}]
["Veracruz",{"$f":"VLOOKUP($A$3,Tabla35[],MATCH(TablaA53[[#This Row],[20-24 años]],Tabla35[#Headers],0),FALSE)","v":40},{"$f":"VLOOKUP($A$3,Tabla36[],MATCH(TablaA53[[#This Row],[20-24 años]],Tabla36[#Headers],0),FALSE)","v":36},{"$f":"VLOOKUP($A$3,Tabla37[],MATCH(TablaA53[[#This Row],[20-24 años]],Tabla37[#Headers],0),FALSE)","v":28}]
["Yucatán",{"$f":"VLOOKUP($A$3,Tabla35[],MATCH(TablaA53[[#This Row],[20-24 años]],Tabla35[#Headers],0),FALSE)","v":3},{"$f":"VLOOKUP($A$3,Tabla36[],MATCH(TablaA53[[#This Row],[20-24 años]],Tabla36[#Headers],0),FALSE)","v":4},{"$f":"VLOOKUP($A$3,Tabla37[],MATCH(TablaA53[[#This Row],[20-24 años]],Tabla37[#Headers],0),FALSE)","v":3}]
["Zacatecas",{"$f":"VLOOKUP($A$3,Tabla35[],MATCH(TablaA53[[#This Row],[20-24 años]],Tabla35[#Headers],0),FALSE)","v":6},{"$f":"VLOOKUP($A$3,Tabla36[],MATCH(TablaA53[[#This Row],[20-24 años]],Tabla36[#Headers],0),FALSE)","v":5},{"$f":"VLOOKUP($A$3,Tabla37[],MATCH(TablaA53[[#This Row],[20-24 años]],Tabla37[#Headers],0),FALSE)","v":4}]
["Total",{"$f":"SUM(B4:B35)","v":465},{"$f":"SUM(C4:C35)","v":426},388]

{"sheet":"4T-GCM-G_Edad_EntFed2020","index":148,"n_rows":22,"n_cols":33,"rows_kept":22,"cut":false,"hidden":true,"merged":[]}
[1,2,3,4,5,6,7,8,9,10,11,12,13,14,15,16,17,18,19,20,21,22,23,24,25,26,27,28,29,30,31,32,33]
["ESTADO","Aguascalientes","Baja California","Baja California Sur","Campeche","Coahuila","Colima","Chiapas","Chihuahua","Ciudad de México","Durango","Guanajuato","Guerrero","Hidalgo","Jalisco","México","Michoacán","Morelos","Nayarit","Nuevo León","Oaxaca","Puebla","Querétaro","Quintana Roo","San Luis Potosí","Sinaloa","Sonora","Tabasco","Tamaulipas","Tlaxcala","Veracruz","Yucatán","Zacatecas"]
["Menores de 1 año",0,3,2,1,5,1,9,1,12,3,6,3,1,5,10,1,2,1,5,3,7,3,1,3,2,1,1,3,3,8,2,2]
["1-4 años",2,17,3,1,10,3,34,10,64,7,24,7,11,17,23,10,7,2,30,11,34,11,4,7,6,14,7,9,5,18,9,5]
["5-9 años",4,18,0,3,6,0,36,16,82,4,16,2,10,30,31,17,12,2,34,18,31,5,7,17,5,11,9,7,2,28,16,2]
["10-14 años",6,18,1,5,13,1,47,15,96,3,35,9,13,36,35,13,12,2,27,20,39,11,6,12,4,8,15,8,6,27,6,2]
["15-19 años",13,24,7,5,18,4,60,29,140,5,50,12,22,55,73,24,12,6,35,32,70,16,7,19,13,21,27,17,4,74,21,9]
["20-24 años",10,28,8,1,19,9,66,31,151,4,56,22,25,67,77,36,13,6,38,41,56,18,10,19,20,15,29,21,14,64,18,10]
["25-29 años",14,42,10,8,22,5,94,49,157,22,50,26,28,73,134,33,21,10,47,33,94,27,21,19,24,33,43,29,10,80,26,19]
["30-34 años",11,49,6,18,41,7,96,53,222,18,53,34,33,115,144,59,22,10,65,47,58,26,20,32,35,47,38,36,10,105,22,15]
["35-39 años",22,75,10,19,57,17,118,78,278,32,109,59,58,144,214,99,27,17,102,80,141,42,31,48,50,62,67,74,19,160,48,26]
["40-44 años",33,137,23,27,95,24,161,122,440,51,120,67,74,221,370,110,52,28,180,92,196,51,47,62,65,101,78,102,36,234,63,40]
["45-49 años",57,190,30,40,147,30,218,179,697,84,225,105,111,347,560,167,98,43,249,140,275,87,39,96,121,153,98,156,52,361,91,53]
["50-54 años",68,213,51,35,185,52,221,239,920,80,316,114,129,486,704,210,120,59,355,156,317,121,71,139,156,186,111,186,63,461,104,80]
["55-59 años",85,292,60,58,255,48,299,326,1145,108,328,160,174,615,918,293,130,82,465,256,404,138,86,148,206,269,170,258,69,607,134,93]
["60-64 años",106,369,79,79,290,92,370,434,1390,121,430,206,225,788,1133,356,161,83,542,303,474,169,95,207,268,340,179,332,83,709,192,119]
["65-69 años",127,374,74,62,284,67,413,392,1585,151,502,232,246,853,1101,409,220,119,569,301,463,185,105,252,303,353,196,306,100,826,195,113]
["70-74 años",122,339,83,83,303,82,428,389,1548,139,491,208,286,890,1108,411,195,118,633,360,515,195,105,252,313,335,149,334,86,849,211,172]
["75-79 años",118,306,77,63,318,75,399,393,1378,133,449,248,259,875,1046,421,225,137,540,374,511,195,93,257,337,333,176,340,89,861,190,163]
["80-84 años",93,240,50,67,232,60,347,321,1070,106,394,219,229,652,818,382,172,117,431,327,433,144,68,239,258,262,151,276,74,705,150,164]
["85 años y más",127,236,44,70,220,65,330,272,1157,122,447,223,248,833,806,488,199,128,439,367,448,158,46,269,252,236,144,262,96,718,146,183]
["No especificado",0,2,1,1,0,0,0,1,0,1,0,0,0,6,0,0,0,0,1,0,0,0,0,1,1,2,0,1,0,2,0,0]

{"sheet":"4T-GCM-G_Edad_EntFed2021","index":149,"n_rows":22,"n_cols":33,"rows_kept":22,"cut":false,"hidden":true,"merged":[]}
[1,2,3,4,5,6,7,8,9,10,11,12,13,14,15,16,17,18,19,20,21,22,23,24,25,26,27,28,29,30,31,32,33]
["ESTADO","Aguascalientes","Baja California","Baja California Sur","Campeche","Coahuila","Colima","Chiapas","Chihuahua","Ciudad de México","Durango","Guanajuato","Guerrero","Hidalgo","Jalisco","México","Michoacán","Morelos","Nayarit","Nuevo León","Oaxaca","Puebla","Querétaro","Quintana Roo","San Luis Potosí","Sinaloa","Sonora","Tabasco","Tamaulipas","Tlaxcala","Veracruz","Yucatán","Zacatecas"]
["Menores de 1 año",0,3,0,1,4,1,7,1,10,3,7,1,1,9,1,4,0,0,3,2,7,4,1,1,0,2,3,2,1,7,0,0]
["1-4 años",4,10,2,3,17,1,36,8,52,6,16,4,8,21,25,10,4,6,28,14,28,10,3,11,7,9,11,8,2,18,9,5]
["5-9 años",6,15,2,3,15,5,26,22,82,6,21,7,6,28,22,13,8,2,35,18,31,5,1,8,6,11,15,5,1,22,8,5]
["10-14 años",7,21,3,4,11,2,42,24,80,8,30,5,11,30,40,14,9,1,29,20,56,14,8,9,5,15,15,11,6,44,12,9]
["15-19 años",11,19,1,5,11,10,75,20,131,8,33,14,9,64,70,32,9,5,35,18,51,11,8,19,10,17,27,12,4,55,20,14]
["20-24 años",16,24,7,5,31,6,80,29,146,8,34,34,14,68,97,37,17,6,55,20,54,13,9,18,17,30,13,24,10,72,17,7]
["25-29 años",7,48,7,7,26,11,78,31,162,16,69,27,24,53,124,42,11,16,59,43,78,19,12,20,24,31,30,32,16,78,33,13]
["30-34 años",16,55,3,16,45,9,86,43,198,19,92,25,31,109,146,47,22,9,64,58,72,22,21,30,34,36,43,45,14,136,32,18]
["35-39 años",25,88,13,20,64,14,135,59,284,26,118,44,57,151,227,68,31,22,102,96,126,38,22,46,55,57,51,66,17,181,36,17]
["40-44 años",43,122,25,26,82,22,178,113,428,42,151,72,78,227,335,117,52,23,188,127,151,67,37,70,68,90,75,117,34,242,55,43]
["45-49 años",53,197,36,32,149,41,237,175,679,82,225,100,111,348,541,165,76,38,286,150,271,83,53,117,116,138,79,159,32,352,111,58]
["50-54 años",75,259,31,53,196,43,268,255,845,87,285,119,133,513,737,234,103,47,384,217,304,125,64,156,156,204,124,212,52,451,115,83]
["55-59 años",90,288,70,57,253,71,297,345,1140,113,354,141,167,622,928,277,150,74,461,271,366,137,84,180,197,221,175,256,72,608,166,106]
["60-64 años",126,368,76,80,294,82,345,400,1370,114,424,187,207,715,1059,346,146,93,542,309,462,167,122,200,284,296,186,319,70,709,185,126]
["65-69 años",146,368,84,84,296,77,423,399,1517,155,497,255,233,885,1207,432,205,121,568,320,484,213,120,268,321,358,200,331,83,812,249,145]
["70-74 años",122,326,76,77,304,72,366,420,1484,168,491,226,299,894,1164,429,225,135,567,393,487,200,117,264,340,317,201,313,79,872,238,140]
["75-79 años",117,320,79,60,261,97,443,357,1389,144,442,207,277,845,997,450,215,158,508,406,477,180,82,270,344,305,179,329,64,827,235,159]
["80-84 años",82,249,49,50,216,51,362,338,1062,116,375,207,209,706,833,365,166,131,448,316,366,163,71,233,285,250,156,241,56,697,166,172]
["85 años y más",102,243,49,57,199,84,360,270,1133,106,466,224,235,797,819,468,196,144,429,393,421,164,58,298,261,241,147,249,85,761,152,191]
["No especificado",0,3,0,0,1,1,0,1,0,0,0,0,0,5,0,1,0,2,0,0,1,0,1,0,0,0,0,0,0,0,0,0]

{"sheet":"4T-GCM-G_Edad_EntFed2022","index":150,"n_rows":22,"n_cols":33,"rows_kept":22,"cut":false,"hidden":true,"merged":[]}
[1,2,3,4,5,6,7,8,9,10,11,12,13,14,15,16,17,18,19,20,21,22,23,24,25,26,27,28,29,30,31,32,33]
["ESTADO","Aguascalientes","Baja California","Baja California Sur","Campeche","Coahuila","Colima","Chiapas","Chihuahua","Ciudad de México","Durango","Guanajuato","Guerrero","Hidalgo","Jalisco","México","Michoacán","Morelos","Nayarit","Nuevo León","Oaxaca","Puebla","Querétaro","Quintana Roo","San Luis Potosí","Sinaloa","Sonora","Tabasco","Tamaulipas","Tlaxcala","Veracruz","Yucatán","Zacatecas"]
["Menores de 1 año",1,4,0,0,2,0,6,3,12,2,5,1,4,14,3,1,2,0,3,4,10,1,1,0,1,1,1,1,0,3,0,1]
["1-4 años",2,19,5,3,9,0,30,16,58,4,11,3,3,26,24,11,6,0,19,17,31,9,7,7,3,7,14,8,4,26,10,9]
["5-9 años",5,20,2,2,6,1,29,11,68,3,25,5,10,34,44,7,12,5,33,15,30,13,3,10,7,9,12,4,4,30,10,5]
["10-14 años",6,22,4,2,22,2,52,12,95,5,26,5,14,32,42,21,8,5,35,23,34,17,11,13,14,15,17,7,5,33,11,9]
["15-19 años",8,22,7,4,15,5,61,33,136,7,30,14,15,46,70,30,13,4,30,25,41,17,16,16,13,17,22,13,8,52,16,10]
["20-24 años",14,30,4,8,19,3,55,36,128,8,53,26,20,61,90,36,15,9,52,36,65,20,11,19,18,28,22,20,6,52,31,9]
["25-29 años",12,36,14,9,35,13,79,35,157,10,41,31,22,96,139,45,13,6,59,33,54,25,16,22,24,24,26,32,7,81,24,18]
["30-34 años",13,65,16,20,43,5,105,56,232,14,79,27,34,102,149,46,28,11,84,52,74,21,24,35,34,40,29,51,13,104,31,18]
["35-39 años",18,79,17,17,59,23,117,80,305,23,104,46,52,178,209,83,35,22,107,61,120,44,35,56,49,48,60,53,23,187,56,24]
["40-44 años",31,140,21,25,90,18,180,89,394,56,158,71,77,216,376,125,61,27,224,105,153,57,36,48,91,80,83,89,30,257,74,27]
["45-49 años",49,184,38,43,165,40,201,182,667,57,241,88,98,328,546,173,64,45,329,150,234,83,64,103,113,125,98,145,37,301,99,50]
["50-54 años",62,213,44,45,181,33,268,260,861,99,292,149,148,473,794,212,95,57,405,185,307,128,81,130,170,202,126,209,69,464,118,66]
["55-59 años",110,344,67,61,257,58,281,310,1160,119,377,174,186,573,1018,258,150,93,525,222,450,157,115,170,210,267,182,277,70,624,160,99]
["60-64 años",104,376,64,79,285,80,350,390,1376,152,430,231,236,758,1188,335,173,103,574,288,482,202,123,233,271,298,175,323,102,720,185,126]
["65-69 años",116,375,82,85,322,76,382,395,1553,161,460,243,284,836,1224,382,214,108,621,369,450,200,103,256,339,378,202,344,102,839,241,110]
["70-74 años",141,326,68,90,332,85,364,421,1521,155,466,220,267,895,1227,455,199,141,606,366,521,199,104,271,300,368,191,331,88,843,216,134]
["75-79 años",124,316,77,87,301,78,343,382,1409,181,498,233,234,854,1075,429,191,119,621,330,474,163,92,269,313,315,171,313,82,846,221,150]
["80-84 años",100,229,54,58,200,70,318,307,1078,111,366,211,209,663,877,345,169,91,490,346,374,171,70,231,275,283,137,266,62,675,172,149]
["85 años y más",96,222,44,56,196,65,285,287,1156,119,429,216,244,747,890,511,172,125,471,362,410,160,57,284,232,267,131,269,66,702,151,172]
["No especificado",0,5,2,1,0,0,0,0,1,1,1,0,0,1,3,0,0,4,3,1,1,0,2,0,1,0,0,1,0,1,0,0]

{"sheet":"4GCM-G-Edad_Ent.Fed","index":151,"n_rows":36,"n_cols":4,"rows_kept":36,"cut":false,"hidden":false,"merged":[[0,0,0,3]]}
["Tumores (neoplasias)"]
["SELECCIONE UN GRUPO DE EDAD"]
["75-79 años","2020","2021","2022"]
["Aguascalientes",{"$f":"VLOOKUP($A$3,Tabla38[],MATCH(TablaA54[[#This Row],[75-79 años]],Tabla38[#Headers],0),FALSE)","v":118},{"$f":"VLOOKUP($A$3,Tabla39[],MATCH(TablaA54[[#This Row],[75-79 años]],Tabla39[#Headers],0),FALSE)","v":117},{"$f":"VLOOKUP($A$3,Tabla40[],MATCH(TablaA54[[#This Row],[75-79 años]],Tabla40[#Headers],0),FALSE)","v":124}]
["Baja California",{"$f":"VLOOKUP($A$3,Tabla38[],MATCH(TablaA54[[#This Row],[75-79 años]],Tabla38[#Headers],0),FALSE)","v":306},{"$f":"VLOOKUP($A$3,Tabla39[],MATCH(TablaA54[[#This Row],[75-79 años]],Tabla39[#Headers],0),FALSE)","v":320},{"$f":"VLOOKUP($A$3,Tabla40[],MATCH(TablaA54[[#This Row],[75-79 años]],Tabla40[#Headers],0),FALSE)","v":316}]
["Baja California Sur",{"$f":"VLOOKUP($A$3,Tabla38[],MATCH(TablaA54[[#This Row],[75-79 años]],Tabla38[#Headers],0),FALSE)","v":77},{"$f":"VLOOKUP($A$3,Tabla39[],MATCH(TablaA54[[#This Row],[75-79 años]],Tabla39[#Headers],0),FALSE)","v":79},{"$f":"VLOOKUP($A$3,Tabla40[],MATCH(TablaA54[[#This Row],[75-79 años]],Tabla40[#Headers],0),FALSE)","v":77}]
["Campeche",{"$f":"VLOOKUP($A$3,Tabla38[],MATCH(TablaA54[[#This Row],[75-79 años]],Tabla38[#Headers],0),FALSE)","v":63},{"$f":"VLOOKUP($A$3,Tabla39[],MATCH(TablaA54[[#This Row],[75-79 años]],Tabla39[#Headers],0),FALSE)","v":60},{"$f":"VLOOKUP($A$3,Tabla40[],MATCH(TablaA54[[#This Row],[75-79 años]],Tabla40[#Headers],0),FALSE)","v":87}]
["Coahuila",{"$f":"VLOOKUP($A$3,Tabla38[],MATCH(TablaA54[[#This Row],[75-79 años]],Tabla38[#Headers],0),FALSE)","v":318},{"$f":"VLOOKUP($A$3,Tabla39[],MATCH(TablaA54[[#This Row],[75-79 años]],Tabla39[#Headers],0),FALSE)","v":261},{"$f":"VLOOKUP($A$3,Tabla40[],MATCH(TablaA54[[#This Row],[75-79 años]],Tabla40[#Headers],0),FALSE)","v":301}]
["Colima",{"$f":"VLOOKUP($A$3,Tabla38[],MATCH(TablaA54[[#This Row],[75-79 años]],Tabla38[#Headers],0),FALSE)","v":75},{"$f":"VLOOKUP($A$3,Tabla39[],MATCH(TablaA54[[#This Row],[75-79 años]],Tabla39[#Headers],0),FALSE)","v":97},{"$f":"VLOOKUP($A$3,Tabla40[],MATCH(TablaA54[[#This Row],[75-79 años]],Tabla40[#Headers],0),FALSE)","v":78}]
["Chiapas",{"$f":"VLOOKUP($A$3,Tabla38[],MATCH(TablaA54[[#This Row],[75-79 años]],Tabla38[#Headers],0),FALSE)","v":399},{"$f":"VLOOKUP($A$3,Tabla39[],MATCH(TablaA54[[#This Row],[75-79 años]],Tabla39[#Headers],0),FALSE)","v":443},{"$f":"VLOOKUP($A$3,Tabla40[],MATCH(TablaA54[[#This Row],[75-79 años]],Tabla40[#Headers],0),FALSE)","v":343}]
["Chihuahua",{"$f":"VLOOKUP($A$3,Tabla38[],MATCH(TablaA54[[#This Row],[75-79 años]],Tabla38[#Headers],0),FALSE)","v":393},{"$f":"VLOOKUP($A$3,Tabla39[],MATCH(TablaA54[[#This Row],[75-79 años]],Tabla39[#Headers],0),FALSE)","v":357},{"$f":"VLOOKUP($A$3,Tabla40[],MATCH(TablaA54[[#This Row],[75-79 años]],Tabla40[#Headers],0),FALSE)","v":382}]
["Ciudad de México",{"$f":"VLOOKUP($A$3,Tabla38[],MATCH(TablaA54[[#This Row],[75-79 años]],Tabla38[#Headers],0),FALSE)","v":1378},{"$f":"VLOOKUP($A$3,Tabla39[],MATCH(TablaA54[[#This Row],[75-79 años]],Tabla39[#Headers],0),FALSE)","v":1389},{"$f":"VLOOKUP($A$3,Tabla40[],MATCH(TablaA54[[#This Row],[75-79 años]],Tabla40[#Headers],0),FALSE)","v":1409}]
["Durango",{"$f":"VLOOKUP($A$3,Tabla38[],MATCH(TablaA54[[#This Row],[75-79 años]],Tabla38[#Headers],0),FALSE)","v":133},{"$f":"VLOOKUP($A$3,Tabla39[],MATCH(TablaA54[[#This Row],[75-79 años]],Tabla39[#Headers],0),FALSE)","v":144},{"$f":"VLOOKUP($A$3,Tabla40[],MATCH(TablaA54[[#This Row],[75-79 años]],Tabla40[#Headers],0),FALSE)","v":181}]
["Guanajuato",{"$f":"VLOOKUP($A$3,Tabla38[],MATCH(TablaA54[[#This Row],[75-79 años]],Tabla38[#Headers],0),FALSE)","v":449},{"$f":"VLOOKUP($A$3,Tabla39[],MATCH(TablaA54[[#This Row],[75-79 años]],Tabla39[#Headers],0),FALSE)","v":442},{"$f":"VLOOKUP($A$3,Tabla40[],MATCH(TablaA54[[#This Row],[75-79 años]],Tabla40[#Headers],0),FALSE)","v":498}]
["Guerrero",{"$f":"VLOOKUP($A$3,Tabla38[],MATCH(TablaA54[[#This Row],[75-79 años]],Tabla38[#Headers],0),FALSE)","v":248},{"$f":"VLOOKUP($A$3,Tabla39[],MATCH(TablaA54[[#This Row],[75-79 años]],Tabla39[#Headers],0),FALSE)","v":207},{"$f":"VLOOKUP($A$3,Tabla40[],MATCH(TablaA54[[#This Row],[75-79 años]],Tabla40[#Headers],0),FALSE)","v":233}]
["Hidalgo",{"$f":"VLOOKUP($A$3,Tabla38[],MATCH(TablaA54[[#This Row],[75-79 años]],Tabla38[#Headers],0),FALSE)","v":259},{"$f":"VLOOKUP($A$3,Tabla39[],MATCH(TablaA54[[#This Row],[75-79 años]],Tabla39[#Headers],0),FALSE)","v":277},{"$f":"VLOOKUP($A$3,Tabla40[],MATCH(TablaA54[[#This Row],[75-79 años]],Tabla40[#Headers],0),FALSE)","v":234}]
["Jalisco",{"$f":"VLOOKUP($A$3,Tabla38[],MATCH(TablaA54[[#This Row],[75-79 años]],Tabla38[#Headers],0),FALSE)","v":875},{"$f":"VLOOKUP($A$3,Tabla39[],MATCH(TablaA54[[#This Row],[75-79 años]],Tabla39[#Headers],0),FALSE)","v":845},{"$f":"VLOOKUP($A$3,Tabla40[],MATCH(TablaA54[[#This Row],[75-79 años]],Tabla40[#Headers],0),FALSE)","v":854}]
["México",{"$f":"VLOOKUP($A$3,Tabla38[],MATCH(TablaA54[[#This Row],[75-79 años]],Tabla38[#Headers],0),FALSE)","v":1046},{"$f":"VLOOKUP($A$3,Tabla39[],MATCH(TablaA54[[#This Row],[75-79 años]],Tabla39[#Headers],0),FALSE)","v":997},{"$f":"VLOOKUP($A$3,Tabla40[],MATCH(TablaA54[[#This Row],[75-79 años]],Tabla40[#Headers],0),FALSE)","v":1075}]
["Michoacán",{"$f":"VLOOKUP($A$3,Tabla38[],MATCH(TablaA54[[#This Row],[75-79 años]],Tabla38[#Headers],0),FALSE)","v":421},{"$f":"VLOOKUP($A$3,Tabla39[],MATCH(TablaA54[[#This Row],[75-79 años]],Tabla39[#Headers],0),FALSE)","v":450},{"$f":"VLOOKUP($A$3,Tabla40[],MATCH(TablaA54[[#This Row],[75-79 años]],Tabla40[#Headers],0),FALSE)","v":429}]
["Morelos",{"$f":"VLOOKUP($A$3,Tabla38[],MATCH(TablaA54[[#This Row],[75-79 años]],Tabla38[#Headers],0),FALSE)","v":225},{"$f":"VLOOKUP($A$3,Tabla39[],MATCH(TablaA54[[#This Row],[75-79 años]],Tabla39[#Headers],0),FALSE)","v":215},{"$f":"VLOOKUP($A$3,Tabla40[],MATCH(TablaA54[[#This Row],[75-79 años]],Tabla40[#Headers],0),FALSE)","v":191}]
["Nayarit",{"$f":"VLOOKUP($A$3,Tabla38[],MATCH(TablaA54[[#This Row],[75-79 años]],Tabla38[#Headers],0),FALSE)","v":137},{"$f":"VLOOKUP($A$3,Tabla39[],MATCH(TablaA54[[#This Row],[75-79 años]],Tabla39[#Headers],0),FALSE)","v":158},{"$f":"VLOOKUP($A$3,Tabla40[],MATCH(TablaA54[[#This Row],[75-79 años]],Tabla40[#Headers],0),FALSE)","v":119}]
["Nuevo León",{"$f":"VLOOKUP($A$3,Tabla38[],MATCH(TablaA54[[#This Row],[75-79 años]],Tabla38[#Headers],0),FALSE)","v":540},{"$f":"VLOOKUP($A$3,Tabla39[],MATCH(TablaA54[[#This Row],[75-79 años]],Tabla39[#Headers],0),FALSE)","v":508},{"$f":"VLOOKUP($A$3,Tabla40[],MATCH(TablaA54[[#This Row],[75-79 años]],Tabla40[#Headers],0),FALSE)","v":621}]
["Oaxaca",{"$f":"VLOOKUP($A$3,Tabla38[],MATCH(TablaA54[[#This Row],[75-79 años]],Tabla38[#Headers],0),FALSE)","v":374},{"$f":"VLOOKUP($A$3,Tabla39[],MATCH(TablaA54[[#This Row],[75-79 años]],Tabla39[#Headers],0),FALSE)","v":406},{"$f":"VLOOKUP($A$3,Tabla40[],MATCH(TablaA54[[#This Row],[75-79 años]],Tabla40[#Headers],0),FALSE)","v":330}]
["Puebla",{"$f":"VLOOKUP($A$3,Tabla38[],MATCH(TablaA54[[#This Row],[75-79 años]],Tabla38[#Headers],0),FALSE)","v":511},{"$f":"VLOOKUP($A$3,Tabla39[],MATCH(TablaA54[[#This Row],[75-79 años]],Tabla39[#Headers],0),FALSE)","v":477},{"$f":"VLOOKUP($A$3,Tabla40[],MATCH(TablaA54[[#This Row],[75-79 años]],Tabla40[#Headers],0),FALSE)","v":474}]
["Querétaro",{"$f":"VLOOKUP($A$3,Tabla38[],MATCH(TablaA54[[#This Row],[75-79 años]],Tabla38[#Headers],0),FALSE)","v":195},{"$f":"VLOOKUP($A$3,Tabla39[],MATCH(TablaA54[[#This Row],[75-79 años]],Tabla39[#Headers],0),FALSE)","v":180},{"$f":"VLOOKUP($A$3,Tabla40[],MATCH(TablaA54[[#This Row],[75-79 años]],Tabla40[#Headers],0),FALSE)","v":163}]
["Quintana Roo",{"$f":"VLOOKUP($A$3,Tabla38[],MATCH(TablaA54[[#This Row],[75-79 años]],Tabla38[#Headers],0),FALSE)","v":93},{"$f":"VLOOKUP($A$3,Tabla39[],MATCH(TablaA54[[#This Row],[75-79 años]],Tabla39[#Headers],0),FALSE)","v":82},{"$f":"VLOOKUP($A$3,Tabla40[],MATCH(TablaA54[[#This Row],[75-79 años]],Tabla40[#Headers],0),FALSE)","v":92}]
["San Luis Potosí",{"$f":"VLOOKUP($A$3,Tabla38[],MATCH(TablaA54[[#This Row],[75-79 años]],Tabla38[#Headers],0),FALSE)","v":257},{"$f":"VLOOKUP($A$3,Tabla39[],MATCH(TablaA54[[#This Row],[75-79 años]],Tabla39[#Headers],0),FALSE)","v":270},{"$f":"VLOOKUP($A$3,Tabla40[],MATCH(TablaA54[[#This Row],[75-79 años]],Tabla40[#Headers],0),FALSE)","v":269}]
["Sinaloa",{"$f":"VLOOKUP($A$3,Tabla38[],MATCH(TablaA54[[#This Row],[75-79 años]],Tabla38[#Headers],0),FALSE)","v":337},{"$f":"VLOOKUP($A$3,Tabla39[],MATCH(TablaA54[[#This Row],[75-79 años]],Tabla39[#Headers],0),FALSE)","v":344},{"$f":"VLOOKUP($A$3,Tabla40[],MATCH(TablaA54[[#This Row],[75-79 años]],Tabla40[#Headers],0),FALSE)","v":313}]
["Sonora",{"$f":"VLOOKUP($A$3,Tabla38[],MATCH(TablaA54[[#This Row],[75-79 años]],Tabla38[#Headers],0),FALSE)","v":333},{"$f":"VLOOKUP($A$3,Tabla39[],MATCH(TablaA54[[#This Row],[75-79 años]],Tabla39[#Headers],0),FALSE)","v":305},{"$f":"VLOOKUP($A$3,Tabla40[],MATCH(TablaA54[[#This Row],[75-79 años]],Tabla40[#Headers],0),FALSE)","v":315}]
["Tabasco",{"$f":"VLOOKUP($A$3,Tabla38[],MATCH(TablaA54[[#This Row],[75-79 años]],Tabla38[#Headers],0),FALSE)","v":176},{"$f":"VLOOKUP($A$3,Tabla39[],MATCH(TablaA54[[#This Row],[75-79 años]],Tabla39[#Headers],0),FALSE)","v":179},{"$f":"VLOOKUP($A$3,Tabla40[],MATCH(TablaA54[[#This Row],[75-79 años]],Tabla40[#Headers],0),FALSE)","v":171}]
["Tamaulipas",{"$f":"VLOOKUP($A$3,Tabla38[],MATCH(TablaA54[[#This Row],[75-79 años]],Tabla38[#Headers],0),FALSE)","v":340},{"$f":"VLOOKUP($A$3,Tabla39[],MATCH(TablaA54[[#This Row],[75-79 años]],Tabla39[#Headers],0),FALSE)","v":329},{"$f":"VLOOKUP($A$3,Tabla40[],MATCH(TablaA54[[#This Row],[75-79 años]],Tabla40[#Headers],0),FALSE)","v":313}]
["Tlaxcala",{"$f":"VLOOKUP($A$3,Tabla38[],MATCH(TablaA54[[#This Row],[75-79 años]],Tabla38[#Headers],0),FALSE)","v":89},{"$f":"VLOOKUP($A$3,Tabla39[],MATCH(TablaA54[[#This Row],[75-79 años]],Tabla39[#Headers],0),FALSE)","v":64},{"$f":"VLOOKUP($A$3,Tabla40[],MATCH(TablaA54[[#This Row],[75-79 años]],Tabla40[#Headers],0),FALSE)","v":82}]
["Veracruz",{"$f":"VLOOKUP($A$3,Tabla38[],MATCH(TablaA54[[#This Row],[75-79 años]],Tabla38[#Headers],0),FALSE)","v":861},{"$f":"VLOOKUP($A$3,Tabla39[],MATCH(TablaA54[[#This Row],[75-79 años]],Tabla39[#Headers],0),FALSE)","v":827},{"$f":"VLOOKUP($A$3,Tabla40[],MATCH(TablaA54[[#This Row],[75-79 años]],Tabla40[#Headers],0),FALSE)","v":846}]
["Yucatán",{"$f":"VLOOKUP($A$3,Tabla38[],MATCH(TablaA54[[#This Row],[75-79 años]],Tabla38[#Headers],0),FALSE)","v":190},{"$f":"VLOOKUP($A$3,Tabla39[],MATCH(TablaA54[[#This Row],[75-79 años]],Tabla39[#Headers],0),FALSE)","v":235},{"$f":"VLOOKUP($A$3,Tabla40[],MATCH(TablaA54[[#This Row],[75-79 años]],Tabla40[#Headers],0),FALSE)","v":221}]
["Zacatecas",{"$f":"VLOOKUP($A$3,Tabla38[],MATCH(TablaA54[[#This Row],[75-79 años]],Tabla38[#Headers],0),FALSE)","v":163},{"$f":"VLOOKUP($A$3,Tabla39[],MATCH(TablaA54[[#This Row],[75-79 años]],Tabla39[#Headers],0),FALSE)","v":159},{"$f":"VLOOKUP($A$3,Tabla40[],MATCH(TablaA54[[#This Row],[75-79 años]],Tabla40[#Headers],0),FALSE)","v":150}]
["Total",{"$f":"SUM(B4:B35)","v":11379},{"$f":"SUM(C4:C35)","v":11223},11291]

{"sheet":"5T-GCM-G_Edad_EntFed2020","index":152,"n_rows":22,"n_cols":33,"rows_kept":22,"cut":false,"hidden":true,"merged":[]}
[1,2,3,4,5,6,7,8,9,10,11,12,13,14,15,16,17,18,19,20,21,22,23,24,25,26,27,28,29,30,31,32,33]
["ESTADO","Aguascalientes","Baja California","Baja California Sur","Campeche","Coahuila","Colima","Chiapas","Chihuahua","Ciudad de México","Durango","Guanajuato","Guerrero","Hidalgo","Jalisco","México","Michoacán","Morelos","Nayarit","Nuevo León","Oaxaca","Puebla","Querétaro","Quintana Roo","San Luis Potosí","Sinaloa","Sonora","Tabasco","Tamaulipas","Tlaxcala","Veracruz","Yucatán","Zacatecas"]
["Menores de 1 año",15,50,6,3,20,7,108,55,53,30,65,21,10,71,80,42,9,7,66,49,68,10,9,16,17,21,29,20,12,60,20,15]
["1-4 años",6,14,1,3,6,1,86,25,25,4,24,25,8,44,21,24,10,3,12,29,35,7,8,12,11,9,12,5,6,27,11,3]
["5-9 años",3,10,3,0,3,2,13,6,13,3,9,2,1,13,5,3,3,1,11,4,21,3,1,3,2,2,2,4,2,11,5,1]
["10-14 años",1,11,0,1,5,1,16,5,12,2,13,3,4,13,13,2,2,1,7,3,12,0,0,3,4,3,3,9,1,18,8,0]
["15-19 años",4,14,1,3,4,1,17,13,25,4,19,4,4,17,39,9,8,1,12,10,15,4,0,10,8,11,9,6,5,24,5,7]
["20-24 años",8,51,1,5,10,3,27,23,62,9,32,15,6,53,57,14,11,0,18,9,24,9,10,8,21,15,15,17,8,30,7,4]
["25-29 años",9,80,3,8,17,3,36,23,116,5,38,20,15,76,118,27,21,4,39,24,59,17,18,21,22,35,36,24,18,52,15,5]
["30-34 años",15,95,5,12,34,16,41,53,129,12,43,45,20,77,181,18,21,8,52,15,65,22,14,34,21,40,35,34,39,65,20,15]
["35-39 años",18,142,5,16,44,13,56,66,219,13,68,28,28,110,252,41,20,8,86,27,114,29,19,33,33,48,36,82,52,72,23,12]
["40-44 años",28,145,19,9,68,11,69,110,327,25,100,41,36,126,420,54,35,12,122,35,188,21,34,46,45,87,61,108,84,133,59,20]
["45-49 años",48,232,13,33,118,19,115,148,547,33,148,47,59,211,612,74,47,16,203,64,244,45,50,92,99,115,91,160,116,187,78,28]
["50-54 años",52,213,22,42,149,26,167,207,726,57,215,75,57,273,787,108,76,22,247,60,306,52,72,101,116,151,118,231,167,246,66,40]
["55-59 años",56,291,36,57,205,46,227,274,969,72,261,145,107,367,974,160,95,34,354,115,382,94,79,162,195,183,154,278,194,351,140,73]
["60-64 años",80,272,51,71,259,44,274,320,1103,109,359,150,119,534,1192,185,114,40,421,150,476,102,102,185,224,240,230,332,215,459,154,82]
["65-69 años",114,300,61,79,271,47,351,372,1309,148,416,189,168,649,1184,265,166,63,451,200,515,109,107,214,273,269,187,374,215,532,207,117]
["70-74 años",118,282,50,71,307,68,372,401,1320,124,453,197,154,837,1205,331,199,80,521,240,542,107,104,249,310,296,199,314,187,655,258,139]
["75-79 años",121,276,47,82,312,66,428,455,1219,187,547,250,175,893,1111,361,194,105,570,269,550,145,98,281,359,324,195,341,203,665,264,167]
["80-84 años",141,266,62,89,267,72,356,482,1279,183,537,260,210,969,1149,414,205,112,491,299,509,156,83,318,340,366,183,304,199,733,261,200]
["85 años y más",200,401,84,114,325,110,494,547,2024,240,1041,392,365,1837,1734,918,357,199,810,526,811,311,103,591,437,455,250,478,273,1147,359,485]
["No especificado",0,53,1,0,1,1,4,7,6,0,2,0,0,50,30,3,1,2,6,4,15,0,0,3,1,9,1,1,0,0,2,1]

{"sheet":"5T-GCM-G_Edad_EntFed2021","index":153,"n_rows":22,"n_cols":33,"rows_kept":22,"cut":false,"hidden":true,"merged":[]}
[1,2,3,4,5,6,7,8,9,10,11,12,13,14,15,16,17,18,19,20,21,22,23,24,25,26,27,28,29,30,31,32,33]
["ESTADO","Aguascalientes","Baja California","Baja California Sur","Campeche","Coahuila","Colima","Chiapas","Chihuahua","Ciudad de México","Durango","Guanajuato","Guerrero","Hidalgo","Jalisco","México","Michoacán","Morelos","Nayarit","Nuevo León","Oaxaca","Puebla","Querétaro","Quintana Roo","San Luis Potosí","Sinaloa","Sonora","Tabasco","Tamaulipas","Tlaxcala","Veracruz","Yucatán","Zacatecas"]
["Menores de 1 año",14,36,5,4,11,3,112,28,46,10,30,26,7,52,64,37,12,6,55,29,58,8,11,24,21,14,30,20,10,45,16,16]
["1-4 años",2,11,3,4,4,1,77,15,33,2,23,10,11,29,15,25,5,3,16,16,33,5,11,12,9,6,18,10,6,31,21,1]
["5-9 años",0,3,0,1,3,0,13,1,9,1,8,1,4,8,9,4,1,3,5,7,2,3,3,2,3,4,2,1,0,9,2,0]
["10-14 años",0,9,0,0,1,1,11,7,11,1,8,2,3,13,11,5,3,0,11,2,9,3,1,2,3,2,3,2,2,9,3,0]
["15-19 años",4,15,0,2,4,0,23,14,20,4,11,3,1,21,29,12,2,3,22,11,16,1,0,6,5,7,3,6,3,21,5,4]
["20-24 años",1,46,3,1,12,0,30,12,35,3,18,12,6,47,83,15,6,3,26,12,28,9,3,7,17,17,17,18,8,21,8,1]
["25-29 años",9,56,3,8,11,7,42,32,79,11,38,17,27,68,131,27,14,5,50,22,84,11,12,31,27,31,25,20,16,64,7,6]
["30-34 años",12,82,5,5,22,19,50,36,118,9,61,20,28,92,191,40,12,11,59,26,102,18,17,22,45,43,43,45,29,70,17,8]
["35-39 años",19,98,10,11,26,10,71,40,186,23,66,28,36,101,318,70,24,18,93,37,139,21,25,50,50,42,31,53,51,110,34,8]
["40-44 años",24,92,9,16,52,14,79,67,252,23,108,41,35,141,422,109,31,23,126,55,223,31,24,53,60,62,51,66,72,145,51,14]
["45-49 años",42,155,13,20,87,22,126,104,387,39,166,61,73,202,615,136,59,26,211,80,305,59,51,81,101,86,60,86,92,210,70,33]
["50-54 años",38,148,26,27,85,28,155,132,502,48,218,64,86,312,682,175,63,33,269,94,378,55,53,96,105,124,67,140,125,232,66,39]
["55-59 años",44,180,30,34,114,39,197,162,611,75,302,101,99,426,912,207,100,44,302,125,483,90,51,141,166,153,84,163,179,408,101,54]
["60-64 años",87,228,28,41,159,45,272,204,824,100,381,142,137,539,1033,314,134,60,423,175,581,121,62,172,172,208,91,175,214,485,146,107]
["65-69 años",108,232,33,37,171,69,316,229,906,111,445,184,131,715,1132,372,142,78,440,224,614,108,94,178,211,233,152,237,188,607,160,94]
["70-74 años",112,215,28,52,228,79,361,294,962,146,517,182,185,937,1174,404,138,94,475,270,602,139,72,232,277,253,126,230,221,644,213,118]
["75-79 años",129,198,39,55,217,63,389,327,1010,163,544,214,177,1003,1107,449,182,102,513,324,659,141,73,305,278,305,115,226,181,692,195,161]
["80-84 años",117,200,44,75,178,90,369,300,940,141,527,209,182,913,1018,467,182,125,420,368,576,150,77,312,302,291,182,233,151,777,200,184]
["85 años y más",207,297,64,94,233,112,515,416,1611,244,900,405,315,1784,1561,879,295,222,694,625,898,312,91,488,398,428,242,378,242,1159,289,352]
["No especificado",0,44,4,1,0,2,0,3,1,0,5,0,0,42,32,4,14,3,1,0,11,0,0,1,1,4,2,4,0,0,0,0]

{"sheet":"5T-GCM-G_Edad_EntFed2022","index":154,"n_rows":22,"n_cols":33,"rows_kept":22,"cut":false,"hidden":true,"merged":[]}
[1,2,3,4,5,6,7,8,9,10,11,12,13,14,15,16,17,18,19,20,21,22,23,24,25,26,27,28,29,30,31,32,33]
["ESTADO","Aguascalientes","Baja California","Baja California Sur","Campeche","Coahuila","Colima","Chiapas","Chihuahua","Ciudad de México","Durango","Guanajuato","Guerrero","Hidalgo","Jalisco","México","Michoacán","Morelos","Nayarit","Nuevo León","Oaxaca","Puebla","Querétaro","Quintana Roo","San Luis Potosí","Sinaloa","Sonora","Tabasco","Tamaulipas","Tlaxcala","Veracruz","Yucatán","Zacatecas"]
["Menores de 1 año",4,42,3,4,19,5,71,40,50,8,31,7,9,56,106,27,5,11,69,33,67,10,10,19,11,23,22,17,8,50,15,15]
["1-4 años",3,9,2,2,7,3,72,17,26,1,16,6,5,32,30,18,2,5,11,19,30,9,3,13,1,6,12,6,4,21,7,8]
["5-9 años",0,3,0,0,5,0,15,1,12,0,8,3,6,8,6,3,0,0,9,7,3,2,1,6,4,4,5,4,0,10,2,2]
["10-14 años",1,8,1,0,1,0,22,3,11,1,6,1,4,10,9,2,0,3,12,3,6,2,2,4,1,5,4,5,0,10,3,3]
["15-19 años",1,8,1,0,9,0,21,10,21,2,12,6,6,17,28,10,7,3,12,11,13,5,2,6,7,3,4,6,4,15,5,1]
["20-24 años",4,35,3,4,11,0,27,16,27,6,13,5,3,30,39,7,7,2,24,12,22,5,8,8,11,21,8,11,3,16,4,4]
["25-29 años",4,59,2,4,13,0,27,12,41,5,21,5,6,54,77,18,7,7,35,14,26,12,6,7,7,25,9,13,1,39,9,5]
["30-34 años",7,75,8,2,21,5,42,24,57,16,29,3,10,55,79,17,11,7,40,20,25,17,11,10,11,31,17,12,7,35,21,5]
["35-39 años",10,75,6,2,23,2,37,30,81,11,36,8,21,75,99,27,11,12,46,14,30,14,13,16,14,36,14,16,11,34,18,11]
["40-44 años",16,90,7,6,21,5,51,35,127,21,43,18,10,68,133,30,14,7,58,14,38,22,16,21,17,44,24,28,7,56,20,8]
["45-49 años",17,112,10,13,50,12,49,53,159,15,58,20,27,133,186,28,31,8,111,25,48,25,28,30,28,53,18,40,9,85,30,21]
["50-54 años",19,143,14,11,59,9,68,74,211,32,85,31,43,174,256,46,24,15,153,46,88,49,28,42,43,64,26,51,15,117,50,25]
["55-59 años",31,125,20,15,65,24,89,103,358,51,130,38,53,260,342,78,38,24,182,49,130,55,18,56,60,93,34,94,26,162,61,33]
["60-64 años",48,147,29,17,105,28,129,142,469,71,184,65,70,370,440,113,46,41,273,98,175,60,38,83,77,128,61,126,30,246,88,50]
["65-69 años",62,180,23,31,143,35,160,206,611,69,200,81,88,515,607,155,97,52,304,130,246,91,43,118,123,182,71,140,32,332,108,64]
["70-74 años",93,193,42,29,152,54,193,253,751,113,294,93,109,666,675,198,110,80,357,192,316,116,61,151,154,203,79,168,39,456,141,97]
["75-79 años",112,190,51,39,199,63,269,311,847,142,367,129,170,829,801,295,153,103,408,237,353,152,56,177,200,248,90,201,51,530,167,117]
["80-84 años",97,194,49,44,255,51,304,351,964,150,409,183,179,885,967,361,156,115,471,287,372,159,59,238,233,279,117,208,69,624,181,161]
["85 años y más",215,310,85,87,305,116,410,490,1920,310,775,392,375,1853,1822,885,320,228,908,624,756,345,112,535,392,470,233,396,167,1162,349,388]
["No especificado",0,41,3,4,1,0,2,1,7,2,2,0,0,22,24,5,0,2,2,1,22,0,0,1,0,4,1,2,0,1,0,2]

{"sheet":"5GCM-G-Edad_Ent.Fed","index":155,"n_rows":36,"n_cols":4,"rows_kept":36,"cut":false,"hidden":false,"merged":[[0,0,0,3]]}
["Enfermedades del sistema\nrespiratorio"]
["SELECCIONE UN GRUPO DE EDAD"]
["30-34 años","2020","2021","2022"]
["Aguascalientes",{"$f":"VLOOKUP($A$3,Tabla41[],MATCH(TablaA55[[#This Row],[30-34 años]],Tabla41[#Headers],0),FALSE)","v":15},{"$f":"VLOOKUP($A$3,Tabla42[],MATCH(TablaA55[[#This Row],[30-34 años]],Tabla42[#Headers],0),FALSE)","v":12},{"$f":"VLOOKUP($A$3,Tabla43[],MATCH(TablaA55[[#This Row],[30-34 años]],Tabla43[#Headers],0),FALSE)","v":7}]
["Baja California",{"$f":"VLOOKUP($A$3,Tabla41[],MATCH(TablaA55[[#This Row],[30-34 años]],Tabla41[#Headers],0),FALSE)","v":95},{"$f":"VLOOKUP($A$3,Tabla42[],MATCH(TablaA55[[#This Row],[30-34 años]],Tabla42[#Headers],0),FALSE)","v":82},{"$f":"VLOOKUP($A$3,Tabla43[],MATCH(TablaA55[[#This Row],[30-34 años]],Tabla43[#Headers],0),FALSE)","v":75}]
["Baja California Sur",{"$f":"VLOOKUP($A$3,Tabla41[],MATCH(TablaA55[[#This Row],[30-34 años]],Tabla41[#Headers],0),FALSE)","v":5},{"$f":"VLOOKUP($A$3,Tabla42[],MATCH(TablaA55[[#This Row],[30-34 años]],Tabla42[#Headers],0),FALSE)","v":5},{"$f":"VLOOKUP($A$3,Tabla43[],MATCH(TablaA55[[#This Row],[30-34 años]],Tabla43[#Headers],0),FALSE)","v":8}]
["Campeche",{"$f":"VLOOKUP($A$3,Tabla41[],MATCH(TablaA55[[#This Row],[30-34 años]],Tabla41[#Headers],0),FALSE)","v":12},{"$f":"VLOOKUP($A$3,Tabla42[],MATCH(TablaA55[[#This Row],[30-34 años]],Tabla42[#Headers],0),FALSE)","v":5},{"$f":"VLOOKUP($A$3,Tabla43[],MATCH(TablaA55[[#This Row],[30-34 años]],Tabla43[#Headers],0),FALSE)","v":2}]
["Coahuila",{"$f":"VLOOKUP($A$3,Tabla41[],MATCH(TablaA55[[#This Row],[30-34 años]],Tabla41[#Headers],0),FALSE)","v":34},{"$f":"VLOOKUP($A$3,Tabla42[],MATCH(TablaA55[[#This Row],[30-34 años]],Tabla42[#Headers],0),FALSE)","v":22},{"$f":"VLOOKUP($A$3,Tabla43[],MATCH(TablaA55[[#This Row],[30-34 años]],Tabla43[#Headers],0),FALSE)","v":21}]
["Colima",{"$f":"VLOOKUP($A$3,Tabla41[],MATCH(TablaA55[[#This Row],[30-34 años]],Tabla41[#Headers],0),FALSE)","v":16},{"$f":"VLOOKUP($A$3,Tabla42[],MATCH(TablaA55[[#This Row],[30-34 años]],Tabla42[#Headers],0),FALSE)","v":19},{"$f":"VLOOKUP($A$3,Tabla43[],MATCH(TablaA55[[#This Row],[30-34 años]],Tabla43[#Headers],0),FALSE)","v":5}]
["Chiapas",{"$f":"VLOOKUP($A$3,Tabla41[],MATCH(TablaA55[[#This Row],[30-34 años]],Tabla41[#Headers],0),FALSE)","v":41},{"$f":"VLOOKUP($A$3,Tabla42[],MATCH(TablaA55[[#This Row],[30-34 años]],Tabla42[#Headers],0),FALSE)","v":50},{"$f":"VLOOKUP($A$3,Tabla43[],MATCH(TablaA55[[#This Row],[30-34 años]],Tabla43[#Headers],0),FALSE)","v":42}]
["Chihuahua",{"$f":"VLOOKUP($A$3,Tabla41[],MATCH(TablaA55[[#This Row],[30-34 años]],Tabla41[#Headers],0),FALSE)","v":53},{"$f":"VLOOKUP($A$3,Tabla42[],MATCH(TablaA55[[#This Row],[30-34 años]],Tabla42[#Headers],0),FALSE)","v":36},{"$f":"VLOOKUP($A$3,Tabla43[],MATCH(TablaA55[[#This Row],[30-34 años]],Tabla43[#Headers],0),FALSE)","v":24}]
["Ciudad de México",{"$f":"VLOOKUP($A$3,Tabla41[],MATCH(TablaA55[[#This Row],[30-34 años]],Tabla41[#Headers],0),FALSE)","v":129},{"$f":"VLOOKUP($A$3,Tabla42[],MATCH(TablaA55[[#This Row],[30-34 años]],Tabla42[#Headers],0),FALSE)","v":118},{"$f":"VLOOKUP($A$3,Tabla43[],MATCH(TablaA55[[#This Row],[30-34 años]],Tabla43[#Headers],0),FALSE)","v":57}]
["Durango",{"$f":"VLOOKUP($A$3,Tabla41[],MATCH(TablaA55[[#This Row],[30-34 años]],Tabla41[#Headers],0),FALSE)","v":12},{"$f":"VLOOKUP($A$3,Tabla42[],MATCH(TablaA55[[#This Row],[30-34 años]],Tabla42[#Headers],0),FALSE)","v":9},{"$f":"VLOOKUP($A$3,Tabla43[],MATCH(TablaA55[[#This Row],[30-34 años]],Tabla43[#Headers],0),FALSE)","v":16}]
["Guanajuato",{"$f":"VLOOKUP($A$3,Tabla41[],MATCH(TablaA55[[#This Row],[30-34 años]],Tabla41[#Headers],0),FALSE)","v":43},{"$f":"VLOOKUP($A$3,Tabla42[],MATCH(TablaA55[[#This Row],[30-34 años]],Tabla42[#Headers],0),FALSE)","v":61},{"$f":"VLOOKUP($A$3,Tabla43[],MATCH(TablaA55[[#This Row],[30-34 años]],Tabla43[#Headers],0),FALSE)","v":29}]
["Guerrero",{"$f":"VLOOKUP($A$3,Tabla41[],MATCH(TablaA55[[#This Row],[30-34 años]],Tabla41[#Headers],0),FALSE)","v":45},{"$f":"VLOOKUP($A$3,Tabla42[],MATCH(TablaA55[[#This Row],[30-34 años]],Tabla42[#Headers],0),FALSE)","v":20},{"$f":"VLOOKUP($A$3,Tabla43[],MATCH(TablaA55[[#This Row],[30-34 años]],Tabla43[#Headers],0),FALSE)","v":3}]
["Hidalgo",{"$f":"VLOOKUP($A$3,Tabla41[],MATCH(TablaA55[[#This Row],[30-34 años]],Tabla41[#Headers],0),FALSE)","v":20},{"$f":"VLOOKUP($A$3,Tabla42[],MATCH(TablaA55[[#This Row],[30-34 años]],Tabla42[#Headers],0),FALSE)","v":28},{"$f":"VLOOKUP($A$3,Tabla43[],MATCH(TablaA55[[#This Row],[30-34 años]],Tabla43[#Headers],0),FALSE)","v":10}]
["Jalisco",{"$f":"VLOOKUP($A$3,Tabla41[],MATCH(TablaA55[[#This Row],[30-34 años]],Tabla41[#Headers],0),FALSE)","v":77},{"$f":"VLOOKUP($A$3,Tabla42[],MATCH(TablaA55[[#This Row],[30-34 años]],Tabla42[#Headers],0),FALSE)","v":92},{"$f":"VLOOKUP($A$3,Tabla43[],MATCH(TablaA55[[#This Row],[30-34 años]],Tabla43[#Headers],0),FALSE)","v":55}]
["México",{"$f":"VLOOKUP($A$3,Tabla41[],MATCH(TablaA55[[#This Row],[30-34 años]],Tabla41[#Headers],0),FALSE)","v":181},{"$f":"VLOOKUP($A$3,Tabla42[],MATCH(TablaA55[[#This Row],[30-34 años]],Tabla42[#Headers],0),FALSE)","v":191},{"$f":"VLOOKUP($A$3,Tabla43[],MATCH(TablaA55[[#This Row],[30-34 años]],Tabla43[#Headers],0),FALSE)","v":79}]
["Michoacán",{"$f":"VLOOKUP($A$3,Tabla41[],MATCH(TablaA55[[#This Row],[30-34 años]],Tabla41[#Headers],0),FALSE)","v":18},{"$f":"VLOOKUP($A$3,Tabla42[],MATCH(TablaA55[[#This Row],[30-34 años]],Tabla42[#Headers],0),FALSE)","v":40},{"$f":"VLOOKUP($A$3,Tabla43[],MATCH(TablaA55[[#This Row],[30-34 años]],Tabla43[#Headers],0),FALSE)","v":17}]
["Morelos",{"$f":"VLOOKUP($A$3,Tabla41[],MATCH(TablaA55[[#This Row],[30-34 años]],Tabla41[#Headers],0),FALSE)","v":21},{"$f":"VLOOKUP($A$3,Tabla42[],MATCH(TablaA55[[#This Row],[30-34 años]],Tabla42[#Headers],0),FALSE)","v":12},{"$f":"VLOOKUP($A$3,Tabla43[],MATCH(TablaA55[[#This Row],[30-34 años]],Tabla43[#Headers],0),FALSE)","v":11}]
["Nayarit",{"$f":"VLOOKUP($A$3,Tabla41[],MATCH(TablaA55[[#This Row],[30-34 años]],Tabla41[#Headers],0),FALSE)","v":8},{"$f":"VLOOKUP($A$3,Tabla42[],MATCH(TablaA55[[#This Row],[30-34 años]],Tabla42[#Headers],0),FALSE)","v":11},{"$f":"VLOOKUP($A$3,Tabla43[],MATCH(TablaA55[[#This Row],[30-34 años]],Tabla43[#Headers],0),FALSE)","v":7}]
["Nuevo León",{"$f":"VLOOKUP($A$3,Tabla41[],MATCH(TablaA55[[#This Row],[30-34 años]],Tabla41[#Headers],0),FALSE)","v":52},{"$f":"VLOOKUP($A$3,Tabla42[],MATCH(TablaA55[[#This Row],[30-34 años]],Tabla42[#Headers],0),FALSE)","v":59},{"$f":"VLOOKUP($A$3,Tabla43[],MATCH(TablaA55[[#This Row],[30-34 años]],Tabla43[#Headers],0),FALSE)","v":40}]
["Oaxaca",{"$f":"VLOOKUP($A$3,Tabla41[],MATCH(TablaA55[[#This Row],[30-34 años]],Tabla41[#Headers],0),FALSE)","v":15},{"$f":"VLOOKUP($A$3,Tabla42[],MATCH(TablaA55[[#This Row],[30-34 años]],Tabla42[#Headers],0),FALSE)","v":26},{"$f":"VLOOKUP($A$3,Tabla43[],MATCH(TablaA55[[#This Row],[30-34 años]],Tabla43[#Headers],0),FALSE)","v":20}]
["Puebla",{"$f":"VLOOKUP($A$3,Tabla41[],MATCH(TablaA55[[#This Row],[30-34 años]],Tabla41[#Headers],0),FALSE)","v":65},{"$f":"VLOOKUP($A$3,Tabla42[],MATCH(TablaA55[[#This Row],[30-34 años]],Tabla42[#Headers],0),FALSE)","v":102},{"$f":"VLOOKUP($A$3,Tabla43[],MATCH(TablaA55[[#This Row],[30-34 años]],Tabla43[#Headers],0),FALSE)","v":25}]
["Querétaro",{"$f":"VLOOKUP($A$3,Tabla41[],MATCH(TablaA55[[#This Row],[30-34 años]],Tabla41[#Headers],0),FALSE)","v":22},{"$f":"VLOOKUP($A$3,Tabla42[],MATCH(TablaA55[[#This Row],[30-34 años]],Tabla42[#Headers],0),FALSE)","v":18},{"$f":"VLOOKUP($A$3,Tabla43[],MATCH(TablaA55[[#This Row],[30-34 años]],Tabla43[#Headers],0),FALSE)","v":17}]
["Quintana Roo",{"$f":"VLOOKUP($A$3,Tabla41[],MATCH(TablaA55[[#This Row],[30-34 años]],Tabla41[#Headers],0),FALSE)","v":14},{"$f":"VLOOKUP($A$3,Tabla42[],MATCH(TablaA55[[#This Row],[30-34 años]],Tabla42[#Headers],0),FALSE)","v":17},{"$f":"VLOOKUP($A$3,Tabla43[],MATCH(TablaA55[[#This Row],[30-34 años]],Tabla43[#Headers],0),FALSE)","v":11}]
["San Luis Potosí",{"$f":"VLOOKUP($A$3,Tabla41[],MATCH(TablaA55[[#This Row],[30-34 años]],Tabla41[#Headers],0),FALSE)","v":34},{"$f":"VLOOKUP($A$3,Tabla42[],MATCH(TablaA55[[#This Row],[30-34 años]],Tabla42[#Headers],0),FALSE)","v":22},{"$f":"VLOOKUP($A$3,Tabla43[],MATCH(TablaA55[[#This Row],[30-34 años]],Tabla43[#Headers],0),FALSE)","v":10}]
["Sinaloa",{"$f":"VLOOKUP($A$3,Tabla41[],MATCH(TablaA55[[#This Row],[30-34 años]],Tabla41[#Headers],0),FALSE)","v":21},{"$f":"VLOOKUP($A$3,Tabla42[],MATCH(TablaA55[[#This Row],[30-34 años]],Tabla42[#Headers],0),FALSE)","v":45},{"$f":"VLOOKUP($A$3,Tabla43[],MATCH(TablaA55[[#This Row],[30-34 años]],Tabla43[#Headers],0),FALSE)","v":11}]
["Sonora",{"$f":"VLOOKUP($A$3,Tabla41[],MATCH(TablaA55[[#This Row],[30-34 años]],Tabla41[#Headers],0),FALSE)","v":40},{"$f":"VLOOKUP($A$3,Tabla42[],MATCH(TablaA55[[#This Row],[30-34 años]],Tabla42[#Headers],0),FALSE)","v":43},{"$f":"VLOOKUP($A$3,Tabla43[],MATCH(TablaA55[[#This Row],[30-34 años]],Tabla43[#Headers],0),FALSE)","v":31}]
["Tabasco",{"$f":"VLOOKUP($A$3,Tabla41[],MATCH(TablaA55[[#This Row],[30-34 años]],Tabla41[#Headers],0),FALSE)","v":35},{"$f":"VLOOKUP($A$3,Tabla42[],MATCH(TablaA55[[#This Row],[30-34 años]],Tabla42[#Headers],0),FALSE)","v":43},{"$f":"VLOOKUP($A$3,Tabla43[],MATCH(TablaA55[[#This Row],[30-34 años]],Tabla43[#Headers],0),FALSE)","v":17}]
["Tamaulipas",{"$f":"VLOOKUP($A$3,Tabla41[],MATCH(TablaA55[[#This Row],[30-34 años]],Tabla41[#Headers],0),FALSE)","v":34},{"$f":"VLOOKUP($A$3,Tabla42[],MATCH(TablaA55[[#This Row],[30-34 años]],Tabla42[#Headers],0),FALSE)","v":45},{"$f":"VLOOKUP($A$3,Tabla43[],MATCH(TablaA55[[#This Row],[30-34 años]],Tabla43[#Headers],0),FALSE)","v":12}]
["Tlaxcala",{"$f":"VLOOKUP($A$3,Tabla41[],MATCH(TablaA55[[#This Row],[30-34 años]],Tabla41[#Headers],0),FALSE)","v":39},{"$f":"VLOOKUP($A$3,Tabla42[],MATCH(TablaA55[[#This Row],[30-34 años]],Tabla42[#Headers],0),FALSE)","v":29},{"$f":"VLOOKUP($A$3,Tabla43[],MATCH(TablaA55[[#This Row],[30-34 años]],Tabla43[#Headers],0),FALSE)","v":7}]
["Veracruz",{"$f":"VLOOKUP($A$3,Tabla41[],MATCH(TablaA55[[#This Row],[30-34 años]],Tabla41[#Headers],0),FALSE)","v":65},{"$f":"VLOOKUP($A$3,Tabla42[],MATCH(TablaA55[[#This Row],[30-34 años]],Tabla42[#Headers],0),FALSE)","v":70},{"$f":"VLOOKUP($A$3,Tabla43[],MATCH(TablaA55[[#This Row],[30-34 años]],Tabla43[#Headers],0),FALSE)","v":35}]
["Yucatán",{"$f":"VLOOKUP($A$3,Tabla41[],MATCH(TablaA55[[#This Row],[30-34 años]],Tabla41[#Headers],0),FALSE)","v":20},{"$f":"VLOOKUP($A$3,Tabla42[],MATCH(TablaA55[[#This Row],[30-34 años]],Tabla42[#Headers],0),FALSE)","v":17},{"$f":"VLOOKUP($A$3,Tabla43[],MATCH(TablaA55[[#This Row],[30-34 años]],Tabla43[#Headers],0),FALSE)","v":21}]
["Zacatecas",{"$f":"VLOOKUP($A$3,Tabla41[],MATCH(TablaA55[[#This Row],[30-34 años]],Tabla41[#Headers],0),FALSE)","v":15},{"$f":"VLOOKUP($A$3,Tabla42[],MATCH(TablaA55[[#This Row],[30-34 años]],Tabla42[#Headers],0),FALSE)","v":8},{"$f":"VLOOKUP($A$3,Tabla43[],MATCH(TablaA55[[#This Row],[30-34 años]],Tabla43[#Headers],0),FALSE)","v":5}]
["Total",{"$f":"SUM(B4:B35)","v":1296},{"$f":"SUM(C4:C35)","v":1357},730]

{"sheet":"6T-GCM-G_Edad_EntFed2020","index":156,"n_rows":22,"n_cols":33,"rows_kept":22,"cut":false,"hidden":true,"merged":[]}
[1,2,3,4,5,6,7,8,9,10,11,12,13,14,15,16,17,18,19,20,21,22,23,24,25,26,27,28,29,30,31,32,33]
["ESTADO","Aguascalientes","Baja California","Baja California Sur","Campeche","Coahuila","Colima","Chiapas","Chihuahua","Ciudad de México","Durango","Guanajuato","Guerrero","Hidalgo","Jalisco","México","Michoacán","Morelos","Nayarit","Nuevo León","Oaxaca","Puebla","Querétaro","Quintana Roo","San Luis Potosí","Sinaloa","Sonora","Tabasco","Tamaulipas","Tlaxcala","Veracruz","Yucatán","Zacatecas"]
["Menores de 1 año",8,20,9,2,19,4,11,52,30,11,26,4,6,51,159,14,6,2,13,2,20,17,13,23,8,9,2,17,7,10,7,10]
["1-4 años",13,35,7,7,21,7,28,63,45,17,69,20,21,78,140,59,17,24,25,28,38,13,12,21,21,13,9,9,9,41,7,20]
["5-9 años",9,20,2,8,16,3,25,31,25,12,37,9,8,43,57,33,5,10,10,20,31,5,5,17,9,12,8,17,6,22,0,10]
["10-14 años",13,19,3,10,26,1,48,63,50,13,91,24,34,73,140,62,12,11,13,29,64,33,7,36,28,24,19,28,9,60,8,35]
["15-19 años",51,193,17,27,92,59,133,372,224,80,696,130,117,431,605,344,128,56,142,155,244,80,84,174,184,163,90,125,33,205,41,206]
["20-24 años",81,441,28,53,137,111,207,696,424,106,1103,577,147,696,922,543,233,77,274,214,340,121,209,238,229,339,161,239,40,399,67,317]
["25-29 años",70,537,32,48,144,154,195,776,515,99,1150,273,169,790,993,565,231,63,339,253,405,115,201,269,257,400,195,200,71,465,88,269]
["30-34 años",63,562,41,30,123,112,159,598,542,85,978,244,131,641,864,532,225,74,272,240,329,113,160,224,248,392,177,169,71,363,73,182]
["35-39 años",61,537,29,34,127,116,140,503,423,82,830,232,109,580,728,511,179,53,247,224,276,93,123,178,241,321,134,158,45,334,70,169]
["40-44 años",58,491,27,42,120,110,141,464,370,67,642,195,145,463,677,414,153,58,211,175,220,87,130,149,216,298,118,152,59,279,59,146]
["45-49 años",46,376,27,23,96,78,106,348,293,70,493,170,106,428,500,316,110,47,207,184,189,81,94,167,177,219,106,127,48,291,58,132]
["50-54 años",39,298,24,26,83,46,90,253,269,47,325,149,87,315,399,196,87,56,138,130,169,52,76,87,124,165,77,104,31,219,56,75]
["55-59 años",34,179,23,17,63,28,86,212,225,36,242,78,58,240,337,151,64,26,107,116,162,42,66,83,96,120,61,78,19,184,36,53]
["60-64 años",26,123,23,18,57,36,65,142,222,30,154,92,54,174,281,147,54,24,88,68,136,44,32,57,85,151,62,338,27,149,38,72]
["65-69 años",26,101,16,19,43,22,47,109,167,39,106,55,58,154,219,99,46,21,66,82,94,22,34,65,73,60,34,52,14,134,46,39]
["70-74 años",20,47,12,11,50,15,38,97,126,24,113,53,46,156,164,80,26,29,71,77,70,32,22,42,52,48,23,46,19,119,34,28]
["75-79 años",23,48,13,12,46,14,43,65,115,27,86,38,52,129,158,61,30,23,51,63,65,22,20,45,43,46,11,38,13,79,27,31]
["80-84 años",25,35,8,10,28,13,45,48,98,32,68,63,35,107,96,63,37,124,55,62,58,24,20,49,30,42,19,44,15,67,26,45]
["85 años y más",59,47,9,13,38,23,49,72,110,30,117,111,61,160,147,136,60,32,87,112,87,21,30,89,48,51,24,65,42,104,44,83]
["No especificado",17,711,19,5,10,88,89,661,22,8,424,8,5,287,302,200,3,18,12,10,264,8,2,20,202,145,11,49,16,12,4,145]

{"sheet":"6T-GCM-G_Edad_EntFed2021","index":157,"n_rows":22,"n_cols":33,"rows_kept":22,"cut":false,"hidden":true,"merged":[]}
[1,2,3,4,5,6,7,8,9,10,11,12,13,14,15,16,17,18,19,20,21,22,23,24,25,26,27,28,29,30,31,32,33]
["ESTADO","Aguascalientes","Baja California","Baja California Sur","Campeche","Coahuila","Colima","Chiapas","Chihuahua","Ciudad de México","Durango","Guanajuato","Guerrero","Hidalgo","Jalisco","México","Michoacán","Morelos","Nayarit","Nuevo León","Oaxaca","Puebla","Querétaro","Quintana Roo","San Luis Potosí","Sinaloa","Sonora","Tabasco","Tamaulipas","Tlaxcala","Veracruz","Yucatán","Zacatecas"]
["Menores de 1 año",7,30,6,6,17,3,15,63,29,9,27,11,15,45,169,23,6,5,27,10,23,21,7,21,8,16,2,20,3,21,3,17]
["1-4 años",12,30,4,6,28,9,34,50,32,18,43,22,23,86,113,39,14,16,25,24,47,22,12,26,16,27,8,24,9,34,8,27]
["5-9 años",8,21,3,2,16,10,20,23,21,13,40,13,20,52,75,38,12,12,14,14,44,15,9,13,15,7,13,11,5,18,5,19]
["10-14 años",19,19,5,8,14,5,35,61,43,15,103,26,22,98,157,60,22,18,23,46,70,15,27,42,30,20,15,15,13,48,6,42]
["15-19 años",56,203,14,28,87,46,143,356,230,69,628,136,104,419,574,411,123,69,152,145,205,71,100,185,146,230,85,135,33,217,46,266]
["20-24 años",74,503,43,44,136,125,201,608,380,117,1089,297,162,724,974,617,269,99,282,210,345,146,205,250,257,407,164,248,65,346,104,362]
["25-29 años",91,555,40,56,162,140,235,664,474,119,986,282,177,802,1032,618,300,84,371,240,363,157,246,295,241,472,167,207,79,385,126,352]
["30-34 años",84,588,39,66,127,109,215,613,444,101,819,268,142,687,938,576,280,92,317,219,312,131,206,222,235,433,169,185,51,379,99,293]
["35-39 años",61,586,24,55,144,110,194,536,409,93,697,274,126,576,761,490,228,83,329,189,266,126,163,216,196,383,144,156,52,323,97,240]
["40-44 años",44,513,40,39,129,93,151,444,327,74,580,231,122,533,596,422,173,67,262,205,220,88,140,162,193,356,107,141,50,270,75,207]
["45-49 años",49,449,31,35,93,71,124,333,313,68,400,198,100,459,503,376,125,64,218,172,195,74,114,130,185,272,100,140,40,233,71,172]
["50-54 años",27,362,30,33,83,56,98,272,255,59,270,146,92,347,408,255,100,51,168,143,156,70,90,91,146,198,98,112,35,222,52,107]
["55-59 años",45,225,25,24,66,39,88,197,226,47,204,108,76,249,335,182,70,45,144,108,125,45,62,90,101,138,47,112,26,179,39,88]
["60-64 años",29,129,21,25,60,26,62,138,196,37,143,82,62,192,301,130,65,36,107,101,105,39,33,71,82,114,46,67,20,155,39,62]
["65-69 años",17,82,12,27,44,26,49,117,162,39,132,71,59,169,217,117,53,35,94,85,96,37,35,61,80,89,41,87,21,132,47,50]
["70-74 años",26,43,8,11,33,18,51,97,119,28,85,54,48,129,181,85,40,35,101,66,83,33,18,71,55,74,21,71,18,96,50,39]
["75-79 años",28,48,10,20,47,11,40,58,115,32,75,49,38,102,139,66,29,27,61,64,74,17,19,42,46,77,15,47,14,84,46,33]
["80-84 años",20,44,9,10,38,11,28,64,79,33,86,52,35,87,106,69,28,23,65,57,62,20,8,48,46,41,21,42,18,65,31,38]
["85 años y más",39,60,7,26,63,29,55,67,115,25,106,111,57,156,124,114,64,49,82,136,106,30,17,72,66,71,27,74,35,107,36,72]
["No especificado",10,950,10,4,16,49,58,205,10,3,285,96,0,280,267,252,237,39,34,24,89,13,2,26,149,200,20,155,7,3,2,141]

{"sheet":"6T-GCM-G_Edad_EntFed2022","index":158,"n_rows":22,"n_cols":33,"rows_kept":22,"cut":false,"hidden":true,"merged":[]}
[1,2,3,4,5,6,7,8,9,10,11,12,13,14,15,16,17,18,19,20,21,22,23,24,25,26,27,28,29,30,31,32,33]
["ESTADO","Aguascalientes","Baja California","Baja California Sur","Campeche","Coahuila","Colima","Chiapas","Chihuahua","Ciudad de México","Durango","Guanajuato","Guerrero","Hidalgo","Jalisco","México","Michoacán","Morelos","Nayarit","Nuevo León","Oaxaca","Puebla","Querétaro","Quintana Roo","San Luis Potosí","Sinaloa","Sonora","Tabasco","Tamaulipas","Tlaxcala","Veracruz","Yucatán","Zacatecas"]
["Menores de 1 año",5,19,5,2,15,1,7,50,39,9,61,9,14,39,164,18,9,7,27,9,26,26,6,9,4,20,7,26,4,17,8,14]
["1-4 años",9,25,4,8,22,6,18,45,30,15,56,20,17,57,107,51,13,13,32,25,60,23,12,24,13,24,8,23,11,24,10,28]
["5-9 años",6,14,3,5,13,3,18,34,23,13,37,21,15,33,65,34,6,15,18,23,26,6,9,16,8,21,10,19,7,22,4,11]
["10-14 años",9,25,8,4,26,9,44,79,42,21,111,33,19,64,139,86,21,16,27,44,69,23,15,36,23,25,22,14,10,52,12,47]
["15-19 años",60,191,18,25,77,92,147,276,253,84,669,178,116,406,643,384,165,66,197,138,270,85,106,160,140,189,120,118,54,206,59,283]
["20-24 años",75,429,35,43,150,153,217,514,376,97,942,258,161,714,1038,523,237,64,368,205,366,138,187,240,238,340,159,193,71,304,100,335]
["25-29 años",68,523,63,71,178,188,210,566,464,107,922,273,180,689,1037,621,309,102,410,237,394,136,258,268,208,431,159,212,61,313,118,282]
["30-34 años",81,516,42,62,140,151,222,485,451,74,850,276,171,597,959,523,268,98,400,226,326,129,214,246,225,425,161,161,56,338,119,229]
["35-39 años",64,535,37,60,137,133,181,460,386,84,683,265,137,539,822,469,233,72,338,225,324,103,159,214,140,353,135,148,56,308,84,193]
["40-44 años",47,504,32,52,112,126,178,367,314,71,533,214,118,485,689,402,158,60,305,217,230,90,141,154,177,311,129,168,50,243,97,156]
["45-49 años",41,422,34,39,108,104,119,350,292,77,421,201,98,408,595,330,126,71,263,188,220,88,102,135,153,262,112,153,43,231,91,132]
["50-54 años",41,305,27,28,89,81,118,240,272,66,340,133,88,313,468,198,95,70,204,129,201,59,74,104,135,209,80,127,37,178,60,118]
["55-59 años",39,235,15,28,90,53,75,192,223,47,226,91,74,297,380,174,81,46,162,110,132,57,50,101,104,128,65,106,31,168,63,86]
["60-64 años",38,140,21,18,67,32,76,174,205,48,172,86,61,216,283,125,69,37,93,90,130,63,36,74,95,107,68,65,24,162,46,57]
["65-69 años",26,82,12,23,65,28,57,117,171,52,130,66,71,182,254,111,46,38,93,71,121,38,33,60,60,77,48,71,29,116,47,46]
["70-74 años",28,67,12,14,56,23,46,95,166,44,103,63,73,137,168,78,37,19,75,69,75,42,24,55,66,61,30,59,13,92,38,50]
["75-79 años",37,59,14,13,51,14,44,75,130,16,80,56,54,111,157,86,46,31,80,60,79,15,17,60,54,58,20,51,19,106,34,38]
["80-84 años",20,46,10,3,41,16,33,67,97,18,84,41,33,89,99,62,31,21,77,44,48,26,8,44,62,47,25,46,29,101,31,46]
["85 años y más",39,83,11,17,85,34,53,85,152,30,116,92,47,137,170,103,76,43,108,73,110,33,21,78,100,73,21,80,37,118,53,74]
["No especificado",11,668,22,7,49,43,32,129,19,2,367,132,50,215,210,233,2,40,23,11,251,26,4,26,129,129,20,77,6,1,10,116]

{"sheet":"6GCM-G-Edad_Ent.Fed","index":159,"n_rows":36,"n_cols":4,"rows_kept":36,"cut":false,"hidden":false,"merged":[[0,0,0,3]]}
["Causas externas de mortalidad"]
["SELECCIONE UN GRUPO DE EDAD"]
["40-44 años","2020","2021","2022"]
["Aguascalientes",{"$f":"VLOOKUP($A$3,Tabla44[],MATCH(TablaA56[[#This Row],[40-44 años]],Tabla44[#Headers],0),FALSE)","v":58},{"$f":"VLOOKUP($A$3,Tabla45[],MATCH(TablaA56[[#This Row],[40-44 años]],Tabla45[#Headers],0),FALSE)","v":44},{"$f":"VLOOKUP($A$3,Tabla47[],MATCH(TablaA56[[#This Row],[40-44 años]],Tabla47[#Headers],0),FALSE)","v":47}]
["Baja California",{"$f":"VLOOKUP($A$3,Tabla44[],MATCH(TablaA56[[#This Row],[40-44 años]],Tabla44[#Headers],0),FALSE)","v":491},{"$f":"VLOOKUP($A$3,Tabla45[],MATCH(TablaA56[[#This Row],[40-44 años]],Tabla45[#Headers],0),FALSE)","v":513},{"$f":"VLOOKUP($A$3,Tabla47[],MATCH(TablaA56[[#This Row],[40-44 años]],Tabla47[#Headers],0),FALSE)","v":504}]
["Baja California Sur",{"$f":"VLOOKUP($A$3,Tabla44[],MATCH(TablaA56[[#This Row],[40-44 años]],Tabla44[#Headers],0),FALSE)","v":27},{"$f":"VLOOKUP($A$3,Tabla45[],MATCH(TablaA56[[#This Row],[40-44 años]],Tabla45[#Headers],0),FALSE)","v":40},{"$f":"VLOOKUP($A$3,Tabla47[],MATCH(TablaA56[[#This Row],[40-44 años]],Tabla47[#Headers],0),FALSE)","v":32}]
["Campeche",{"$f":"VLOOKUP($A$3,Tabla44[],MATCH(TablaA56[[#This Row],[40-44 años]],Tabla44[#Headers],0),FALSE)","v":42},{"$f":"VLOOKUP($A$3,Tabla45[],MATCH(TablaA56[[#This Row],[40-44 años]],Tabla45[#Headers],0),FALSE)","v":39},{"$f":"VLOOKUP($A$3,Tabla47[],MATCH(TablaA56[[#This Row],[40-44 años]],Tabla47[#Headers],0),FALSE)","v":52}]
["Coahuila",{"$f":"VLOOKUP($A$3,Tabla44[],MATCH(TablaA56[[#This Row],[40-44 años]],Tabla44[#Headers],0),FALSE)","v":120},{"$f":"VLOOKUP($A$3,Tabla45[],MATCH(TablaA56[[#This Row],[40-44 años]],Tabla45[#Headers],0),FALSE)","v":129},{"$f":"VLOOKUP($A$3,Tabla47[],MATCH(TablaA56[[#This Row],[40-44 años]],Tabla47[#Headers],0),FALSE)","v":112}]
["Colima",{"$f":"VLOOKUP($A$3,Tabla44[],MATCH(TablaA56[[#This Row],[40-44 años]],Tabla44[#Headers],0),FALSE)","v":110},{"$f":"VLOOKUP($A$3,Tabla45[],MATCH(TablaA56[[#This Row],[40-44 años]],Tabla45[#Headers],0),FALSE)","v":93},{"$f":"VLOOKUP($A$3,Tabla47[],MATCH(TablaA56[[#This Row],[40-44 años]],Tabla47[#Headers],0),FALSE)","v":126}]
["Chiapas",{"$f":"VLOOKUP($A$3,Tabla44[],MATCH(TablaA56[[#This Row],[40-44 años]],Tabla44[#Headers],0),FALSE)","v":141},{"$f":"VLOOKUP($A$3,Tabla45[],MATCH(TablaA56[[#This Row],[40-44 años]],Tabla45[#Headers],0),FALSE)","v":151},{"$f":"VLOOKUP($A$3,Tabla47[],MATCH(TablaA56[[#This Row],[40-44 años]],Tabla47[#Headers],0),FALSE)","v":178}]
["Chihuahua",{"$f":"VLOOKUP($A$3,Tabla44[],MATCH(TablaA56[[#This Row],[40-44 años]],Tabla44[#Headers],0),FALSE)","v":464},{"$f":"VLOOKUP($A$3,Tabla45[],MATCH(TablaA56[[#This Row],[40-44 años]],Tabla45[#Headers],0),FALSE)","v":444},{"$f":"VLOOKUP($A$3,Tabla47[],MATCH(TablaA56[[#This Row],[40-44 años]],Tabla47[#Headers],0),FALSE)","v":367}]
["Ciudad de México",{"$f":"VLOOKUP($A$3,Tabla44[],MATCH(TablaA56[[#This Row],[40-44 años]],Tabla44[#Headers],0),FALSE)","v":370},{"$f":"VLOOKUP($A$3,Tabla45[],MATCH(TablaA56[[#This Row],[40-44 años]],Tabla45[#Headers],0),FALSE)","v":327},{"$f":"VLOOKUP($A$3,Tabla47[],MATCH(TablaA56[[#This Row],[40-44 años]],Tabla47[#Headers],0),FALSE)","v":314}]
["Durango",{"$f":"VLOOKUP($A$3,Tabla44[],MATCH(TablaA56[[#This Row],[40-44 años]],Tabla44[#Headers],0),FALSE)","v":67},{"$f":"VLOOKUP($A$3,Tabla45[],MATCH(TablaA56[[#This Row],[40-44 años]],Tabla45[#Headers],0),FALSE)","v":74},{"$f":"VLOOKUP($A$3,Tabla47[],MATCH(TablaA56[[#This Row],[40-44 años]],Tabla47[#Headers],0),FALSE)","v":71}]
["Guanajuato",{"$f":"VLOOKUP($A$3,Tabla44[],MATCH(TablaA56[[#This Row],[40-44 años]],Tabla44[#Headers],0),FALSE)","v":642},{"$f":"VLOOKUP($A$3,Tabla45[],MATCH(TablaA56[[#This Row],[40-44 años]],Tabla45[#Headers],0),FALSE)","v":580},{"$f":"VLOOKUP($A$3,Tabla47[],MATCH(TablaA56[[#This Row],[40-44 años]],Tabla47[#Headers],0),FALSE)","v":533}]
["Guerrero",{"$f":"VLOOKUP($A$3,Tabla44[],MATCH(TablaA56[[#This Row],[40-44 años]],Tabla44[#Headers],0),FALSE)","v":195},{"$f":"VLOOKUP($A$3,Tabla45[],MATCH(TablaA56[[#This Row],[40-44 años]],Tabla45[#Headers],0),FALSE)","v":231},{"$f":"VLOOKUP($A$3,Tabla47[],MATCH(TablaA56[[#This Row],[40-44 años]],Tabla47[#Headers],0),FALSE)","v":214}]
["Hidalgo",{"$f":"VLOOKUP($A$3,Tabla44[],MATCH(TablaA56[[#This Row],[40-44 años]],Tabla44[#Headers],0),FALSE)","v":145},{"$f":"VLOOKUP($A$3,Tabla45[],MATCH(TablaA56[[#This Row],[40-44 años]],Tabla45[#Headers],0),FALSE)","v":122},{"$f":"VLOOKUP($A$3,Tabla47[],MATCH(TablaA56[[#This Row],[40-44 años]],Tabla47[#Headers],0),FALSE)","v":118}]
["Jalisco",{"$f":"VLOOKUP($A$3,Tabla44[],MATCH(TablaA56[[#This Row],[40-44 años]],Tabla44[#Headers],0),FALSE)","v":463},{"$f":"VLOOKUP($A$3,Tabla45[],MATCH(TablaA56[[#This Row],[40-44 años]],Tabla45[#Headers],0),FALSE)","v":533},{"$f":"VLOOKUP($A$3,Tabla47[],MATCH(TablaA56[[#This Row],[40-44 años]],Tabla47[#Headers],0),FALSE)","v":485}]
["México",{"$f":"VLOOKUP($A$3,Tabla44[],MATCH(TablaA56[[#This Row],[40-44 años]],Tabla44[#Headers],0),FALSE)","v":677},{"$f":"VLOOKUP($A$3,Tabla45[],MATCH(TablaA56[[#This Row],[40-44 años]],Tabla45[#Headers],0),FALSE)","v":596},{"$f":"VLOOKUP($A$3,Tabla47[],MATCH(TablaA56[[#This Row],[40-44 años]],Tabla47[#Headers],0),FALSE)","v":689}]
["Michoacán",{"$f":"VLOOKUP($A$3,Tabla44[],MATCH(TablaA56[[#This Row],[40-44 años]],Tabla44[#Headers],0),FALSE)","v":414},{"$f":"VLOOKUP($A$3,Tabla45[],MATCH(TablaA56[[#This Row],[40-44 años]],Tabla45[#Headers],0),FALSE)","v":422},{"$f":"VLOOKUP($A$3,Tabla47[],MATCH(TablaA56[[#This Row],[40-44 años]],Tabla47[#Headers],0),FALSE)","v":402}]
["Morelos",{"$f":"VLOOKUP($A$3,Tabla44[],MATCH(TablaA56[[#This Row],[40-44 años]],Tabla44[#Headers],0),FALSE)","v":153},{"$f":"VLOOKUP($A$3,Tabla45[],MATCH(TablaA56[[#This Row],[40-44 años]],Tabla45[#Headers],0),FALSE)","v":173},{"$f":"VLOOKUP($A$3,Tabla47[],MATCH(TablaA56[[#This Row],[40-44 años]],Tabla47[#Headers],0),FALSE)","v":158}]
["Nayarit",{"$f":"VLOOKUP($A$3,Tabla44[],MATCH(TablaA56[[#This Row],[40-44 años]],Tabla44[#Headers],0),FALSE)","v":58},{"$f":"VLOOKUP($A$3,Tabla45[],MATCH(TablaA56[[#This Row],[40-44 años]],Tabla45[#Headers],0),FALSE)","v":67},{"$f":"VLOOKUP($A$3,Tabla47[],MATCH(TablaA56[[#This Row],[40-44 años]],Tabla47[#Headers],0),FALSE)","v":60}]
["Nuevo León",{"$f":"VLOOKUP($A$3,Tabla44[],MATCH(TablaA56[[#This Row],[40-44 años]],Tabla44[#Headers],0),FALSE)","v":211},{"$f":"VLOOKUP($A$3,Tabla45[],MATCH(TablaA56[[#This Row],[40-44 años]],Tabla45[#Headers],0),FALSE)","v":262},{"$f":"VLOOKUP($A$3,Tabla47[],MATCH(TablaA56[[#This Row],[40-44 años]],Tabla47[#Headers],0),FALSE)","v":305}]
["Oaxaca",{"$f":"VLOOKUP($A$3,Tabla44[],MATCH(TablaA56[[#This Row],[40-44 años]],Tabla44[#Headers],0),FALSE)","v":175},{"$f":"VLOOKUP($A$3,Tabla45[],MATCH(TablaA56[[#This Row],[40-44 años]],Tabla45[#Headers],0),FALSE)","v":205},{"$f":"VLOOKUP($A$3,Tabla47[],MATCH(TablaA56[[#This Row],[40-44 años]],Tabla47[#Headers],0),FALSE)","v":217}]
["Puebla",{"$f":"VLOOKUP($A$3,Tabla44[],MATCH(TablaA56[[#This Row],[40-44 años]],Tabla44[#Headers],0),FALSE)","v":220},{"$f":"VLOOKUP($A$3,Tabla45[],MATCH(TablaA56[[#This Row],[40-44 años]],Tabla45[#Headers],0),FALSE)","v":220},{"$f":"VLOOKUP($A$3,Tabla47[],MATCH(TablaA56[[#This Row],[40-44 años]],Tabla47[#Headers],0),FALSE)","v":230}]
["Querétaro",{"$f":"VLOOKUP($A$3,Tabla44[],MATCH(TablaA56[[#This Row],[40-44 años]],Tabla44[#Headers],0),FALSE)","v":87},{"$f":"VLOOKUP($A$3,Tabla45[],MATCH(TablaA56[[#This Row],[40-44 años]],Tabla45[#Headers],0),FALSE)","v":88},{"$f":"VLOOKUP($A$3,Tabla47[],MATCH(TablaA56[[#This Row],[40-44 años]],Tabla47[#Headers],0),FALSE)","v":90}]
["Quintana Roo",{"$f":"VLOOKUP($A$3,Tabla44[],MATCH(TablaA56[[#This Row],[40-44 años]],Tabla44[#Headers],0),FALSE)","v":130},{"$f":"VLOOKUP($A$3,Tabla45[],MATCH(TablaA56[[#This Row],[40-44 años]],Tabla45[#Headers],0),FALSE)","v":140},{"$f":"VLOOKUP($A$3,Tabla47[],MATCH(TablaA56[[#This Row],[40-44 años]],Tabla47[#Headers],0),FALSE)","v":141}]
["San Luis Potosí",{"$f":"VLOOKUP($A$3,Tabla44[],MATCH(TablaA56[[#This Row],[40-44 años]],Tabla44[#Headers],0),FALSE)","v":149},{"$f":"VLOOKUP($A$3,Tabla45[],MATCH(TablaA56[[#This Row],[40-44 años]],Tabla45[#Headers],0),FALSE)","v":162},{"$f":"VLOOKUP($A$3,Tabla47[],MATCH(TablaA56[[#This Row],[40-44 años]],Tabla47[#Headers],0),FALSE)","v":154}]
["Sinaloa",{"$f":"VLOOKUP($A$3,Tabla44[],MATCH(TablaA56[[#This Row],[40-44 años]],Tabla44[#Headers],0),FALSE)","v":216},{"$f":"VLOOKUP($A$3,Tabla45[],MATCH(TablaA56[[#This Row],[40-44 años]],Tabla45[#Headers],0),FALSE)","v":193},{"$f":"VLOOKUP($A$3,Tabla47[],MATCH(TablaA56[[#This Row],[40-44 años]],Tabla47[#Headers],0),FALSE)","v":177}]
["Sonora",{"$f":"VLOOKUP($A$3,Tabla44[],MATCH(TablaA56[[#This Row],[40-44 años]],Tabla44[#Headers],0),FALSE)","v":298},{"$f":"VLOOKUP($A$3,Tabla45[],MATCH(TablaA56[[#This Row],[40-44 años]],Tabla45[#Headers],0),FALSE)","v":356},{"$f":"VLOOKUP($A$3,Tabla47[],MATCH(TablaA56[[#This Row],[40-44 años]],Tabla47[#Headers],0),FALSE)","v":311}]
["Tabasco",{"$f":"VLOOKUP($A$3,Tabla44[],MATCH(TablaA56[[#This Row],[40-44 años]],Tabla44[#Headers],0),FALSE)","v":118},{"$f":"VLOOKUP($A$3,Tabla45[],MATCH(TablaA56[[#This Row],[40-44 años]],Tabla45[#Headers],0),FALSE)","v":107},{"$f":"VLOOKUP($A$3,Tabla47[],MATCH(TablaA56[[#This Row],[40-44 años]],Tabla47[#Headers],0),FALSE)","v":129}]
["Tamaulipas",{"$f":"VLOOKUP($A$3,Tabla44[],MATCH(TablaA56[[#This Row],[40-44 años]],Tabla44[#Headers],0),FALSE)","v":152},{"$f":"VLOOKUP($A$3,Tabla45[],MATCH(TablaA56[[#This Row],[40-44 años]],Tabla45[#Headers],0),FALSE)","v":141},{"$f":"VLOOKUP($A$3,Tabla47[],MATCH(TablaA56[[#This Row],[40-44 años]],Tabla47[#Headers],0),FALSE)","v":168}]
["Tlaxcala",{"$f":"VLOOKUP($A$3,Tabla44[],MATCH(TablaA56[[#This Row],[40-44 años]],Tabla44[#Headers],0),FALSE)","v":59},{"$f":"VLOOKUP($A$3,Tabla45[],MATCH(TablaA56[[#This Row],[40-44 años]],Tabla45[#Headers],0),FALSE)","v":50},{"$f":"VLOOKUP($A$3,Tabla47[],MATCH(TablaA56[[#This Row],[40-44 años]],Tabla47[#Headers],0),FALSE)","v":50}]
["Veracruz",{"$f":"VLOOKUP($A$3,Tabla44[],MATCH(TablaA56[[#This Row],[40-44 años]],Tabla44[#Headers],0),FALSE)","v":279},{"$f":"VLOOKUP($A$3,Tabla45[],MATCH(TablaA56[[#This Row],[40-44 años]],Tabla45[#Headers],0),FALSE)","v":270},{"$f":"VLOOKUP($A$3,Tabla47[],MATCH(TablaA56[[#This Row],[40-44 años]],Tabla47[#Headers],0),FALSE)","v":243}]
["Yucatán",{"$f":"VLOOKUP($A$3,Tabla44[],MATCH(TablaA56[[#This Row],[40-44 años]],Tabla44[#Headers],0),FALSE)","v":59},{"$f":"VLOOKUP($A$3,Tabla45[],MATCH(TablaA56[[#This Row],[40-44 años]],Tabla45[#Headers],0),FALSE)","v":75},{"$f":"VLOOKUP($A$3,Tabla47[],MATCH(TablaA56[[#This Row],[40-44 años]],Tabla47[#Headers],0),FALSE)","v":97}]
["Zacatecas",{"$f":"VLOOKUP($A$3,Tabla44[],MATCH(TablaA56[[#This Row],[40-44 años]],Tabla44[#Headers],0),FALSE)","v":146},{"$f":"VLOOKUP($A$3,Tabla45[],MATCH(TablaA56[[#This Row],[40-44 años]],Tabla45[#Headers],0),FALSE)","v":207},{"$f":"VLOOKUP($A$3,Tabla47[],MATCH(TablaA56[[#This Row],[40-44 años]],Tabla47[#Headers],0),FALSE)","v":156}]
["Total",{"$f":"SUM(B4:B35)","v":6936},{"$f":"SUM(C4:C35)","v":7054},6930]

{"sheet":"7T-GCM-G_Edad_EntFed2020","index":160,"n_rows":22,"n_cols":33,"rows_kept":22,"cut":false,"hidden":true,"merged":[]}
[1,2,3,4,5,6,7,8,9,10,11,12,13,14,15,16,17,18,19,20,21,22,23,24,25,26,27,28,29,30,31,32,33]
["ESTADO","Aguascalientes","Baja California","Baja California Sur","Campeche","Coahuila","Colima","Chiapas","Chihuahua","Ciudad de México","Durango","Guanajuato","Guerrero","Hidalgo","Jalisco","México","Michoacán","Morelos","Nayarit","Nuevo León","Oaxaca","Puebla","Querétaro","Quintana Roo","San Luis Potosí","Sinaloa","Sonora","Tabasco","Tamaulipas","Tlaxcala","Veracruz","Yucatán","Zacatecas"]
["Menores de 1 año",4,16,2,8,11,2,103,32,71,6,28,21,7,44,72,29,3,6,14,19,48,11,11,9,9,17,27,14,3,41,32,10]
["1-4 años",2,8,0,2,4,2,70,21,18,0,6,11,5,10,12,14,7,5,3,19,25,4,7,4,4,12,9,3,2,21,6,1]
["5-9 años",1,9,1,2,5,4,18,14,10,1,3,5,4,12,3,6,0,0,5,15,12,2,1,1,3,6,3,2,0,12,2,1]
["10-14 años",0,10,0,0,5,1,7,13,9,0,3,4,2,7,9,7,2,5,3,7,10,3,1,3,3,7,2,0,0,11,4,1]
["15-19 años",1,15,1,1,4,3,12,16,9,1,5,4,4,6,6,3,4,5,9,4,5,5,1,1,4,15,3,5,0,12,0,2]
["20-24 años",3,43,3,6,6,2,47,22,38,2,8,9,8,26,37,7,13,7,26,15,18,8,13,9,3,16,8,15,2,55,10,0]
["25-29 años",6,73,5,15,20,6,82,21,68,7,26,17,11,79,73,16,17,13,59,24,40,14,34,7,16,37,30,33,0,116,18,6]
["30-34 años",5,61,9,19,22,18,85,28,94,8,14,23,12,75,75,27,16,7,36,27,32,18,36,19,19,52,40,37,2,136,29,5]
["35-39 años",4,86,17,10,24,16,72,43,109,3,24,23,25,88,65,17,17,9,67,33,32,16,46,25,21,38,26,45,4,111,27,6]
["40-44 años",5,112,11,12,22,12,61,37,111,4,30,20,15,70,75,27,14,16,62,23,34,20,25,16,35,36,17,36,4,98,31,4]
["45-49 años",10,106,22,7,25,11,54,51,112,6,24,22,12,93,102,27,6,9,66,29,36,23,47,29,37,48,23,31,2,109,19,9]
["50-54 años",9,116,11,8,31,16,68,60,167,20,26,24,23,80,85,18,18,15,73,20,50,21,36,22,35,55,18,38,3,108,20,9]
["55-59 años",8,90,21,7,31,10,64,66,179,8,42,23,14,92,113,35,19,13,53,26,38,16,21,30,34,52,26,44,8,112,33,11]
["60-64 años",18,93,10,5,32,6,60,53,176,17,55,26,20,103,91,36,21,9,50,38,44,23,26,29,28,43,21,30,7,102,29,11]
["65-69 años",15,60,8,1,26,10,75,56,167,21,41,20,25,83,96,35,13,18,39,42,36,25,18,41,35,44,19,30,7,97,33,10]
["70-74 años",21,62,6,5,24,8,69,43,186,18,40,28,21,96,83,40,21,14,49,41,39,24,16,25,22,46,16,33,11,93,45,24]
["75-79 años",17,38,7,8,31,9,73,45,161,18,49,33,21,86,97,42,20,16,42,54,42,15,8,29,38,34,10,34,7,80,35,19]
["80-84 años",17,38,3,5,23,6,66,35,127,8,31,29,16,75,82,40,16,13,34,52,46,17,7,37,29,31,11,26,12,80,31,14]
["85 años y más",16,55,13,12,31,7,85,60,206,14,68,52,34,129,123,88,28,16,41,90,64,24,11,54,31,29,11,37,17,91,51,33]
["No especificado",0,13,1,1,0,1,2,3,2,0,1,0,0,5,6,0,0,1,1,0,11,2,0,0,2,9,0,2,0,1,1,0]

{"sheet":"7T-GCM-G_Edad_EntFed2021","index":161,"n_rows":22,"n_cols":33,"rows_kept":22,"cut":false,"hidden":true,"merged":[]}
[1,2,3,4,5,6,7,8,9,10,11,12,13,14,15,16,17,18,19,20,21,22,23,24,25,26,27,28,29,30,31,32,33]
["ESTADO","Aguascalientes","Baja California","Baja California Sur","Campeche","Coahuila","Colima","Chiapas","Chihuahua","Ciudad de México","Durango","Guanajuato","Guerrero","Hidalgo","Jalisco","México","Michoacán","Morelos","Nayarit","Nuevo León","Oaxaca","Puebla","Querétaro","Quintana Roo","San Luis Potosí","Sinaloa","Sonora","Tabasco","Tamaulipas","Tlaxcala","Veracruz","Yucatán","Zacatecas"]
["Menores de 1 año",9,17,5,3,12,2,121,36,49,12,25,15,14,50,60,32,5,10,24,24,42,12,9,14,15,21,20,11,5,31,18,3]
["1-4 años",2,7,0,6,4,1,80,33,14,6,13,12,7,18,20,15,6,4,6,16,21,2,4,6,5,9,9,8,2,23,10,1]
["5-9 años",1,5,0,0,3,1,17,14,7,1,4,3,1,10,9,3,0,3,6,6,5,2,1,0,3,12,2,2,0,6,2,0]
["10-14 años",1,7,1,0,3,0,16,6,11,0,11,7,1,11,7,4,0,0,9,8,5,0,0,4,6,11,4,2,1,8,5,0]
["15-19 años",2,19,1,4,5,1,22,15,13,4,6,3,2,19,12,4,5,3,14,10,9,5,8,2,10,20,2,9,0,13,7,0]
["20-24 años",2,45,6,5,18,3,51,26,35,3,7,8,7,28,21,18,9,7,28,13,26,9,10,9,18,26,7,12,1,66,10,1]
["25-29 años",5,78,7,15,13,6,65,36,82,13,22,23,15,59,54,19,12,19,38,35,29,16,44,15,20,38,26,39,4,119,28,7]
["30-34 años",5,94,6,16,22,7,79,39,102,10,17,19,19,80,64,20,21,12,60,20,46,18,35,18,25,46,21,41,4,128,38,6]
["35-39 años",7,86,10,14,20,7,69,37,90,5,22,23,18,78,80,20,21,15,48,41,26,15,37,12,32,44,32,33,1,113,26,8]
["40-44 años",9,91,15,10,24,8,50,33,102,6,31,17,19,95,84,26,8,8,61,32,36,26,40,18,24,46,28,42,6,104,26,3]
["45-49 años",7,106,10,12,32,8,52,54,117,16,33,28,21,93,97,32,23,9,76,35,36,26,40,22,51,56,26,49,7,128,29,11]
["50-54 años",10,107,14,11,30,9,68,43,127,11,33,39,17,118,103,30,12,14,89,29,37,13,27,26,33,56,20,43,6,103,27,9]
["55-59 años",9,98,15,10,35,7,64,56,134,18,24,28,24,109,92,37,20,21,71,36,35,21,30,33,44,77,19,60,9,102,30,7]
["60-64 años",13,89,9,8,33,10,66,53,147,14,42,18,25,119,106,34,16,10,64,27,39,24,23,38,46,66,24,43,7,102,30,14]
["65-69 años",22,68,13,14,32,12,65,46,150,16,48,37,16,110,106,45,19,15,61,41,48,22,24,20,48,49,22,35,4,103,46,9]
["70-74 años",13,53,12,8,25,11,73,65,149,16,59,31,16,95,91,43,24,23,53,53,55,29,20,23,50,53,18,31,12,101,30,9]
["75-79 años",12,52,6,6,20,18,79,43,160,25,58,46,23,95,131,54,22,12,46,53,39,34,13,29,45,40,17,35,5,82,38,18]
["80-84 años",17,17,4,5,26,6,54,48,123,9,54,36,19,101,90,35,36,15,38,53,39,27,11,28,33,28,12,27,2,84,28,26]
["85 años y más",20,28,13,6,35,5,67,53,185,11,63,49,31,146,124,84,18,22,50,77,52,29,18,52,58,45,23,37,16,99,37,32]
["No especificado",0,24,5,1,0,1,1,1,1,0,1,0,0,7,5,5,7,0,2,1,1,0,1,0,0,5,4,1,0,0,2,0]

{"sheet":"7T-GCM-G_Edad_EntFed2022","index":162,"n_rows":22,"n_cols":33,"rows_kept":22,"cut":false,"hidden":true,"merged":[]}
[1,2,3,4,5,6,7,8,9,10,11,12,13,14,15,16,17,18,19,20,21,22,23,24,25,26,27,28,29,30,31,32,33]
["ESTADO","Aguascalientes","Baja California","Baja California Sur","Campeche","Coahuila","Colima","Chiapas","Chihuahua","Ciudad de México","Durango","Guanajuato","Guerrero","Hidalgo","Jalisco","México","Michoacán","Morelos","Nayarit","Nuevo León","Oaxaca","Puebla","Querétaro","Quintana Roo","San Luis Potosí","Sinaloa","Sonora","Tabasco","Tamaulipas","Tlaxcala","Veracruz","Yucatán","Zacatecas"]
["Menores de 1 año",4,12,2,3,3,2,60,31,46,2,26,14,8,40,66,10,5,11,14,13,33,10,6,17,3,14,14,8,4,30,16,7]
["1-4 años",1,9,0,2,5,0,70,30,30,3,6,4,4,17,32,6,3,7,19,24,9,6,6,6,2,4,7,2,0,18,3,5]
["5-9 años",0,7,1,2,7,0,19,17,13,3,3,3,3,11,11,1,3,1,16,5,5,2,1,0,3,8,3,1,0,6,4,1]
["10-14 años",0,14,0,0,1,1,14,18,8,0,5,4,1,10,5,3,2,2,12,6,5,5,1,2,5,7,3,0,0,7,0,1]
["15-19 años",0,14,2,0,5,3,21,13,22,4,8,2,3,10,11,9,2,4,9,5,12,5,5,5,5,23,8,5,0,9,4,2]
["20-24 años",2,48,5,5,13,6,47,27,30,2,18,11,6,37,30,5,10,2,29,14,15,4,17,5,14,40,14,12,3,50,9,4]
["25-29 años",5,64,7,15,17,6,66,39,80,5,15,13,13,67,48,12,19,12,61,25,32,15,22,16,13,50,35,26,5,86,16,7]
["30-34 años",6,77,13,25,21,14,69,33,109,4,27,20,13,86,78,26,19,17,66,21,35,18,40,19,22,57,42,39,5,131,25,2]
["35-39 años",9,100,7,14,21,12,65,46,118,6,19,26,16,109,92,22,18,13,54,36,27,12,31,15,13,62,31,29,7,108,20,5]
["40-44 años",6,104,16,14,30,11,53,44,123,13,30,25,19,84,71,22,17,22,73,20,47,17,36,25,19,59,34,33,7,101,32,4]
["45-49 años",8,110,7,13,32,9,48,63,115,12,30,28,16,83,92,35,14,11,65,33,41,20,25,28,29,70,29,39,5,98,28,7]
["50-54 años",9,103,13,12,32,14,44,61,152,17,40,26,21,97,95,32,17,15,67,27,40,21,28,28,32,74,23,43,7,100,35,7]
["55-59 años",10,92,13,11,39,10,50,47,148,18,41,25,23,108,107,29,29,17,76,27,41,27,22,34,35,60,29,38,8,126,29,8]
["60-64 años",18,84,13,5,40,16,38,77,182,15,54,42,16,117,149,30,29,20,78,40,41,32,22,31,40,78,28,42,9,108,36,11]
["65-69 años",11,58,3,14,34,11,60,60,191,18,41,22,25,125,139,28,27,19,64,35,56,29,23,32,45,69,29,35,14,105,39,10]
["70-74 años",11,45,9,12,32,13,55,55,164,19,43,27,27,102,135,41,23,36,73,49,44,29,20,34,50,60,25,39,8,84,47,19]
["75-79 años",16,54,9,9,26,8,42,45,170,17,59,19,22,122,118,39,25,19,65,49,59,21,13,38,36,54,16,38,8,102,43,11]
["80-84 años",18,47,6,3,24,5,48,45,152,24,53,37,28,107,104,42,24,11,58,42,49,21,10,32,44,66,13,37,9,79,32,26]
["85 años y más",25,49,8,10,27,12,41,52,200,16,68,59,37,129,141,64,27,17,65,66,68,23,17,57,48,56,11,48,9,110,35,31]
["No especificado",2,28,2,1,0,0,4,2,1,0,0,0,1,1,7,3,0,0,2,0,9,0,4,0,1,9,2,0,0,1,0,1]

{"sheet":"7GCM-G-Edad_Ent.Fed","index":163,"n_rows":36,"n_cols":4,"rows_kept":36,"cut":false,"hidden":false,"merged":[[0,0,0,3]]}
["Ciertas enfermedades \ninfecciosas y parasitarias"]
["SELECCIONE UN GRUPO DE EDAD"]
["35-39 años","2020","2021","2022"]
["Aguascalientes",{"$f":"VLOOKUP($A$3,Tabla48[],MATCH(TablaA57[[#This Row],[35-39 años]],Tabla48[#Headers],0),FALSE)","v":4},{"$f":"VLOOKUP($A$3,Tabla49[],MATCH(TablaA57[[#This Row],[35-39 años]],Tabla49[#Headers],0),FALSE)","v":7},{"$f":"VLOOKUP($A$3,Tabla50[],MATCH(TablaA57[[#This Row],[35-39 años]],Tabla50[#Headers],0),FALSE)","v":9}]
["Baja California",{"$f":"VLOOKUP($A$3,Tabla48[],MATCH(TablaA57[[#This Row],[35-39 años]],Tabla48[#Headers],0),FALSE)","v":86},{"$f":"VLOOKUP($A$3,Tabla49[],MATCH(TablaA57[[#This Row],[35-39 años]],Tabla49[#Headers],0),FALSE)","v":86},{"$f":"VLOOKUP($A$3,Tabla50[],MATCH(TablaA57[[#This Row],[35-39 años]],Tabla50[#Headers],0),FALSE)","v":100}]
["Baja California Sur",{"$f":"VLOOKUP($A$3,Tabla48[],MATCH(TablaA57[[#This Row],[35-39 años]],Tabla48[#Headers],0),FALSE)","v":17},{"$f":"VLOOKUP($A$3,Tabla49[],MATCH(TablaA57[[#This Row],[35-39 años]],Tabla49[#Headers],0),FALSE)","v":10},{"$f":"VLOOKUP($A$3,Tabla50[],MATCH(TablaA57[[#This Row],[35-39 años]],Tabla50[#Headers],0),FALSE)","v":7}]
["Campeche",{"$f":"VLOOKUP($A$3,Tabla48[],MATCH(TablaA57[[#This Row],[35-39 años]],Tabla48[#Headers],0),FALSE)","v":10},{"$f":"VLOOKUP($A$3,Tabla49[],MATCH(TablaA57[[#This Row],[35-39 años]],Tabla49[#Headers],0),FALSE)","v":14},{"$f":"VLOOKUP($A$3,Tabla50[],MATCH(TablaA57[[#This Row],[35-39 años]],Tabla50[#Headers],0),FALSE)","v":14}]
["Coahuila",{"$f":"VLOOKUP($A$3,Tabla48[],MATCH(TablaA57[[#This Row],[35-39 años]],Tabla48[#Headers],0),FALSE)","v":24},{"$f":"VLOOKUP($A$3,Tabla49[],MATCH(TablaA57[[#This Row],[35-39 años]],Tabla49[#Headers],0),FALSE)","v":20},{"$f":"VLOOKUP($A$3,Tabla50[],MATCH(TablaA57[[#This Row],[35-39 años]],Tabla50[#Headers],0),FALSE)","v":21}]
["Colima",{"$f":"VLOOKUP($A$3,Tabla48[],MATCH(TablaA57[[#This Row],[35-39 años]],Tabla48[#Headers],0),FALSE)","v":16},{"$f":"VLOOKUP($A$3,Tabla49[],MATCH(TablaA57[[#This Row],[35-39 años]],Tabla49[#Headers],0),FALSE)","v":7},{"$f":"VLOOKUP($A$3,Tabla50[],MATCH(TablaA57[[#This Row],[35-39 años]],Tabla50[#Headers],0),FALSE)","v":12}]
["Chiapas",{"$f":"VLOOKUP($A$3,Tabla48[],MATCH(TablaA57[[#This Row],[35-39 años]],Tabla48[#Headers],0),FALSE)","v":72},{"$f":"VLOOKUP($A$3,Tabla49[],MATCH(TablaA57[[#This Row],[35-39 años]],Tabla49[#Headers],0),FALSE)","v":69},{"$f":"VLOOKUP($A$3,Tabla50[],MATCH(TablaA57[[#This Row],[35-39 años]],Tabla50[#Headers],0),FALSE)","v":65}]
["Chihuahua",{"$f":"VLOOKUP($A$3,Tabla48[],MATCH(TablaA57[[#This Row],[35-39 años]],Tabla48[#Headers],0),FALSE)","v":43},{"$f":"VLOOKUP($A$3,Tabla49[],MATCH(TablaA57[[#This Row],[35-39 años]],Tabla49[#Headers],0),FALSE)","v":37},{"$f":"VLOOKUP($A$3,Tabla50[],MATCH(TablaA57[[#This Row],[35-39 años]],Tabla50[#Headers],0),FALSE)","v":46}]
["Ciudad de México",{"$f":"VLOOKUP($A$3,Tabla48[],MATCH(TablaA57[[#This Row],[35-39 años]],Tabla48[#Headers],0),FALSE)","v":109},{"$f":"VLOOKUP($A$3,Tabla49[],MATCH(TablaA57[[#This Row],[35-39 años]],Tabla49[#Headers],0),FALSE)","v":90},{"$f":"VLOOKUP($A$3,Tabla50[],MATCH(TablaA57[[#This Row],[35-39 años]],Tabla50[#Headers],0),FALSE)","v":118}]
["Durango",{"$f":"VLOOKUP($A$3,Tabla48[],MATCH(TablaA57[[#This Row],[35-39 años]],Tabla48[#Headers],0),FALSE)","v":3},{"$f":"VLOOKUP($A$3,Tabla49[],MATCH(TablaA57[[#This Row],[35-39 años]],Tabla49[#Headers],0),FALSE)","v":5},{"$f":"VLOOKUP($A$3,Tabla50[],MATCH(TablaA57[[#This Row],[35-39 años]],Tabla50[#Headers],0),FALSE)","v":6}]
["Guanajuato",{"$f":"VLOOKUP($A$3,Tabla48[],MATCH(TablaA57[[#This Row],[35-39 años]],Tabla48[#Headers],0),FALSE)","v":24},{"$f":"VLOOKUP($A$3,Tabla49[],MATCH(TablaA57[[#This Row],[35-39 años]],Tabla49[#Headers],0),FALSE)","v":22},{"$f":"VLOOKUP($A$3,Tabla50[],MATCH(TablaA57[[#This Row],[35-39 años]],Tabla50[#Headers],0),FALSE)","v":19}]
["Guerrero",{"$f":"VLOOKUP($A$3,Tabla48[],MATCH(TablaA57[[#This Row],[35-39 años]],Tabla48[#Headers],0),FALSE)","v":23},{"$f":"VLOOKUP($A$3,Tabla49[],MATCH(TablaA57[[#This Row],[35-39 años]],Tabla49[#Headers],0),FALSE)","v":23},{"$f":"VLOOKUP($A$3,Tabla50[],MATCH(TablaA57[[#This Row],[35-39 años]],Tabla50[#Headers],0),FALSE)","v":26}]
["Hidalgo",{"$f":"VLOOKUP($A$3,Tabla48[],MATCH(TablaA57[[#This Row],[35-39 años]],Tabla48[#Headers],0),FALSE)","v":25},{"$f":"VLOOKUP($A$3,Tabla49[],MATCH(TablaA57[[#This Row],[35-39 años]],Tabla49[#Headers],0),FALSE)","v":18},{"$f":"VLOOKUP($A$3,Tabla50[],MATCH(TablaA57[[#This Row],[35-39 años]],Tabla50[#Headers],0),FALSE)","v":16}]
["Jalisco",{"$f":"VLOOKUP($A$3,Tabla48[],MATCH(TablaA57[[#This Row],[35-39 años]],Tabla48[#Headers],0),FALSE)","v":88},{"$f":"VLOOKUP($A$3,Tabla49[],MATCH(TablaA57[[#This Row],[35-39 años]],Tabla49[#Headers],0),FALSE)","v":78},{"$f":"VLOOKUP($A$3,Tabla50[],MATCH(TablaA57[[#This Row],[35-39 años]],Tabla50[#Headers],0),FALSE)","v":109}]
["México",{"$f":"VLOOKUP($A$3,Tabla48[],MATCH(TablaA57[[#This Row],[35-39 años]],Tabla48[#Headers],0),FALSE)","v":65},{"$f":"VLOOKUP($A$3,Tabla49[],MATCH(TablaA57[[#This Row],[35-39 años]],Tabla49[#Headers],0),FALSE)","v":80},{"$f":"VLOOKUP($A$3,Tabla50[],MATCH(TablaA57[[#This Row],[35-39 años]],Tabla50[#Headers],0),FALSE)","v":92}]
["Michoacán",{"$f":"VLOOKUP($A$3,Tabla48[],MATCH(TablaA57[[#This Row],[35-39 años]],Tabla48[#Headers],0),FALSE)","v":17},{"$f":"VLOOKUP($A$3,Tabla49[],MATCH(TablaA57[[#This Row],[35-39 años]],Tabla49[#Headers],0),FALSE)","v":20},{"$f":"VLOOKUP($A$3,Tabla50[],MATCH(TablaA57[[#This Row],[35-39 años]],Tabla50[#Headers],0),FALSE)","v":22}]
["Morelos",{"$f":"VLOOKUP($A$3,Tabla48[],MATCH(TablaA57[[#This Row],[35-39 años]],Tabla48[#Headers],0),FALSE)","v":17},{"$f":"VLOOKUP($A$3,Tabla49[],MATCH(TablaA57[[#This Row],[35-39 años]],Tabla49[#Headers],0),FALSE)","v":21},{"$f":"VLOOKUP($A$3,Tabla50[],MATCH(TablaA57[[#This Row],[35-39 años]],Tabla50[#Headers],0),FALSE)","v":18}]
["Nayarit",{"$f":"VLOOKUP($A$3,Tabla48[],MATCH(TablaA57[[#This Row],[35-39 años]],Tabla48[#Headers],0),FALSE)","v":9},{"$f":"VLOOKUP($A$3,Tabla49[],MATCH(TablaA57[[#This Row],[35-39 años]],Tabla49[#Headers],0),FALSE)","v":15},{"$f":"VLOOKUP($A$3,Tabla50[],MATCH(TablaA57[[#This Row],[35-39 años]],Tabla50[#Headers],0),FALSE)","v":13}]
["Nuevo León",{"$f":"VLOOKUP($A$3,Tabla48[],MATCH(TablaA57[[#This Row],[35-39 años]],Tabla48[#Headers],0),FALSE)","v":67},{"$f":"VLOOKUP($A$3,Tabla49[],MATCH(TablaA57[[#This Row],[35-39 años]],Tabla49[#Headers],0),FALSE)","v":48},{"$f":"VLOOKUP($A$3,Tabla50[],MATCH(TablaA57[[#This Row],[35-39 años]],Tabla50[#Headers],0),FALSE)","v":54}]
["Oaxaca",{"$f":"VLOOKUP($A$3,Tabla48[],MATCH(TablaA57[[#This Row],[35-39 años]],Tabla48[#Headers],0),FALSE)","v":33},{"$f":"VLOOKUP($A$3,Tabla49[],MATCH(TablaA57[[#This Row],[35-39 años]],Tabla49[#Headers],0),FALSE)","v":41},{"$f":"VLOOKUP($A$3,Tabla50[],MATCH(TablaA57[[#This Row],[35-39 años]],Tabla50[#Headers],0),FALSE)","v":36}]
["Puebla",{"$f":"VLOOKUP($A$3,Tabla48[],MATCH(TablaA57[[#This Row],[35-39 años]],Tabla48[#Headers],0),FALSE)","v":32},{"$f":"VLOOKUP($A$3,Tabla49[],MATCH(TablaA57[[#This Row],[35-39 años]],Tabla49[#Headers],0),FALSE)","v":26},{"$f":"VLOOKUP($A$3,Tabla50[],MATCH(TablaA57[[#This Row],[35-39 años]],Tabla50[#Headers],0),FALSE)","v":27}]
["Querétaro",{"$f":"VLOOKUP($A$3,Tabla48[],MATCH(TablaA57[[#This Row],[35-39 años]],Tabla48[#Headers],0),FALSE)","v":16},{"$f":"VLOOKUP($A$3,Tabla49[],MATCH(TablaA57[[#This Row],[35-39 años]],Tabla49[#Headers],0),FALSE)","v":15},{"$f":"VLOOKUP($A$3,Tabla50[],MATCH(TablaA57[[#This Row],[35-39 años]],Tabla50[#Headers],0),FALSE)","v":12}]
["Quintana Roo",{"$f":"VLOOKUP($A$3,Tabla48[],MATCH(TablaA57[[#This Row],[35-39 años]],Tabla48[#Headers],0),FALSE)","v":46},{"$f":"VLOOKUP($A$3,Tabla49[],MATCH(TablaA57[[#This Row],[35-39 años]],Tabla49[#Headers],0),FALSE)","v":37},{"$f":"VLOOKUP($A$3,Tabla50[],MATCH(TablaA57[[#This Row],[35-39 años]],Tabla50[#Headers],0),FALSE)","v":31}]
["San Luis Potosí",{"$f":"VLOOKUP($A$3,Tabla48[],MATCH(TablaA57[[#This Row],[35-39 años]],Tabla48[#Headers],0),FALSE)","v":25},{"$f":"VLOOKUP($A$3,Tabla49[],MATCH(TablaA57[[#This Row],[35-39 años]],Tabla49[#Headers],0),FALSE)","v":12},{"$f":"VLOOKUP($A$3,Tabla50[],MATCH(TablaA57[[#This Row],[35-39 años]],Tabla50[#Headers],0),FALSE)","v":15}]
["Sinaloa",{"$f":"VLOOKUP($A$3,Tabla48[],MATCH(TablaA57[[#This Row],[35-39 años]],Tabla48[#Headers],0),FALSE)","v":21},{"$f":"VLOOKUP($A$3,Tabla49[],MATCH(TablaA57[[#This Row],[35-39 años]],Tabla49[#Headers],0),FALSE)","v":32},{"$f":"VLOOKUP($A$3,Tabla50[],MATCH(TablaA57[[#This Row],[35-39 años]],Tabla50[#Headers],0),FALSE)","v":13}]
["Sonora",{"$f":"VLOOKUP($A$3,Tabla48[],MATCH(TablaA57[[#This Row],[35-39 años]],Tabla48[#Headers],0),FALSE)","v":38},{"$f":"VLOOKUP($A$3,Tabla49[],MATCH(TablaA57[[#This Row],[35-39 años]],Tabla49[#Headers],0),FALSE)","v":44},{"$f":"VLOOKUP($A$3,Tabla50[],MATCH(TablaA57[[#This Row],[35-39 años]],Tabla50[#Headers],0),FALSE)","v":62}]
["Tabasco",{"$f":"VLOOKUP($A$3,Tabla48[],MATCH(TablaA57[[#This Row],[35-39 años]],Tabla48[#Headers],0),FALSE)","v":26},{"$f":"VLOOKUP($A$3,Tabla49[],MATCH(TablaA57[[#This Row],[35-39 años]],Tabla49[#Headers],0),FALSE)","v":32},{"$f":"VLOOKUP($A$3,Tabla50[],MATCH(TablaA57[[#This Row],[35-39 años]],Tabla50[#Headers],0),FALSE)","v":31}]
["Tamaulipas",{"$f":"VLOOKUP($A$3,Tabla48[],MATCH(TablaA57[[#This Row],[35-39 años]],Tabla48[#Headers],0),FALSE)","v":45},{"$f":"VLOOKUP($A$3,Tabla49[],MATCH(TablaA57[[#This Row],[35-39 años]],Tabla49[#Headers],0),FALSE)","v":33},{"$f":"VLOOKUP($A$3,Tabla50[],MATCH(TablaA57[[#This Row],[35-39 años]],Tabla50[#Headers],0),FALSE)","v":29}]
["Tlaxcala",{"$f":"VLOOKUP($A$3,Tabla48[],MATCH(TablaA57[[#This Row],[35-39 años]],Tabla48[#Headers],0),FALSE)","v":4},{"$f":"VLOOKUP($A$3,Tabla49[],MATCH(TablaA57[[#This Row],[35-39 años]],Tabla49[#Headers],0),FALSE)","v":1},{"$f":"VLOOKUP($A$3,Tabla50[],MATCH(TablaA57[[#This Row],[35-39 años]],Tabla50[#Headers],0),FALSE)","v":7}]
["Veracruz",{"$f":"VLOOKUP($A$3,Tabla48[],MATCH(TablaA57[[#This Row],[35-39 años]],Tabla48[#Headers],0),FALSE)","v":111},{"$f":"VLOOKUP($A$3,Tabla49[],MATCH(TablaA57[[#This Row],[35-39 años]],Tabla49[#Headers],0),FALSE)","v":113},{"$f":"VLOOKUP($A$3,Tabla50[],MATCH(TablaA57[[#This Row],[35-39 años]],Tabla50[#Headers],0),FALSE)","v":108}]
["Yucatán",{"$f":"VLOOKUP($A$3,Tabla48[],MATCH(TablaA57[[#This Row],[35-39 años]],Tabla48[#Headers],0),FALSE)","v":27},{"$f":"VLOOKUP($A$3,Tabla49[],MATCH(TablaA57[[#This Row],[35-39 años]],Tabla49[#Headers],0),FALSE)","v":26},{"$f":"VLOOKUP($A$3,Tabla50[],MATCH(TablaA57[[#This Row],[35-39 años]],Tabla50[#Headers],0),FALSE)","v":20}]
["Zacatecas",{"$f":"VLOOKUP($A$3,Tabla48[],MATCH(TablaA57[[#This Row],[35-39 años]],Tabla48[#Headers],0),FALSE)","v":6},{"$f":"VLOOKUP($A$3,Tabla49[],MATCH(TablaA57[[#This Row],[35-39 años]],Tabla49[#Headers],0),FALSE)","v":8},{"$f":"VLOOKUP($A$3,Tabla50[],MATCH(TablaA57[[#This Row],[35-39 años]],Tabla50[#Headers],0),FALSE)","v":5}]
["Total",{"$f":"SUM(B4:B35)","v":1149},{"$f":"SUM(C4:C35)","v":1090},1163]

{"sheet":"8T-GCM-G_Edad_EntFed2020 ","index":164,"n_rows":22,"n_cols":33,"rows_kept":22,"cut":false,"hidden":true,"merged":[]}
[1,2,3,4,5,6,7,8,9,10,11,12,13,14,15,16,17,18,19,20,21,22,23,24,25,26,27,28,29,30,31,32,33]
["ESTADO","Aguascalientes","Baja California","Baja California Sur","Campeche","Coahuila","Colima","Chiapas","Chihuahua","Ciudad de México","Durango","Guanajuato","Guerrero","Hidalgo","Jalisco","México","Michoacán","Morelos","Nayarit","Nuevo León","Oaxaca","Puebla","Querétaro","Quintana Roo","San Luis Potosí","Sinaloa","Sonora","Tabasco","Tamaulipas","Tlaxcala","Veracruz","Yucatán","Zacatecas"]
["Menores de 1 año",0,4,2,0,2,0,4,0,20,2,0,0,0,4,6,2,4,2,6,6,14,2,6,4,0,6,4,0,2,10,4,0]
["1-4 años",2,4,0,0,6,0,14,4,16,0,4,2,2,2,10,4,0,0,0,2,4,0,2,0,2,0,4,2,0,6,0,0]
["5-9 años",0,2,0,2,2,0,6,2,14,0,0,0,0,0,8,4,0,0,2,4,2,0,0,0,0,0,0,2,0,4,0,2]
["10-14 años",2,2,0,0,2,0,4,2,8,0,0,4,2,0,6,2,0,0,2,0,8,2,0,0,2,0,0,2,0,6,2,0]
["15-19 años",0,0,0,0,0,0,10,0,16,0,6,10,0,4,4,0,2,0,6,8,6,2,2,6,2,6,4,0,0,4,0,0]
["20-24 años",0,6,0,0,6,2,2,2,8,4,0,2,4,6,8,2,0,0,2,12,8,2,0,2,0,0,6,2,0,8,0,0]
["25-29 años",2,4,2,0,2,0,4,2,16,2,6,0,6,8,16,4,6,0,8,2,12,0,4,4,2,2,6,0,2,12,4,2]
["30-34 años",0,8,2,0,6,0,6,4,8,2,6,2,6,6,12,6,6,0,2,8,8,0,0,6,2,2,4,2,0,14,2,0]
["35-39 años",0,18,0,0,2,0,10,6,12,6,6,0,2,6,4,2,2,0,12,12,8,0,8,0,0,2,6,4,2,18,2,2]
["40-44 años",0,16,0,0,6,0,10,2,18,0,4,10,4,10,26,8,0,0,12,6,10,2,0,4,0,8,8,0,0,14,0,4]
["45-49 años",2,10,0,0,10,0,10,10,18,2,6,4,0,14,8,10,6,4,4,14,10,2,4,0,4,6,8,2,0,26,6,0]
["50-54 años",0,22,4,0,2,2,12,4,24,4,4,6,6,8,10,2,6,0,4,14,8,0,2,2,4,6,6,10,6,16,8,2]
["55-59 años",0,6,0,0,8,0,26,2,22,2,12,10,4,6,10,8,8,2,2,4,14,2,0,2,4,8,8,4,4,22,10,2]
["60-64 años",2,10,0,4,4,2,18,8,28,4,6,18,8,22,10,6,4,0,6,14,20,6,4,6,6,8,6,14,2,30,6,2]
["65-69 años",6,18,0,4,8,4,30,16,18,2,10,14,12,22,30,10,4,2,8,16,20,6,6,8,8,8,10,4,0,30,4,2]
["70-74 años",6,10,2,4,6,4,30,14,46,2,24,34,10,26,16,18,8,6,10,28,18,4,2,14,10,18,8,12,0,52,4,6]
["75-79 años",4,6,0,0,14,0,38,12,46,2,12,28,12,28,16,12,18,8,12,26,26,0,0,10,6,12,4,14,6,52,12,14]
["80-84 años",6,0,0,0,6,0,58,24,48,12,24,42,20,36,36,26,16,10,6,60,42,6,10,6,18,10,8,10,10,52,4,12]
["85 años y más",4,8,0,8,12,2,108,6,114,16,40,90,26,64,50,52,28,0,12,126,110,18,10,28,12,14,16,16,20,176,24,40]
["No especificado",0,0,0,0,0,0,2,0,0,0,0,0,0,0,0,0,0,0,0,0,0,0,0,0,0,0,0,0,0,2,0,0]

{"sheet":"8T-GCM-G_Edad_EntFed2021","index":165,"n_rows":22,"n_cols":33,"rows_kept":22,"cut":false,"hidden":true,"merged":[]}
[1,2,3,4,5,6,7,8,9,10,11,12,13,14,15,16,17,18,19,20,21,22,23,24,25,26,27,28,29,30,31,32,33]
["ESTADO","Aguascalientes","Baja California","Baja California Sur","Campeche","Coahuila","Colima","Chiapas","Chihuahua","Ciudad de México","Durango","Guanajuato","Guerrero","Hidalgo","Jalisco","México","Michoacán","Morelos","Nayarit","Nuevo León","Oaxaca","Puebla","Querétaro","Quintana Roo","San Luis Potosí","Sinaloa","Sonora","Tabasco","Tamaulipas","Tlaxcala","Veracruz","Yucatán","Zacatecas"]
["Menores de 1 año",1,1,2,0,2,0,10,1,15,3,2,0,1,14,11,2,3,0,0,1,4,1,1,3,3,2,3,4,2,9,1,0]
["1-4 años",1,2,0,1,0,0,8,3,14,2,5,3,1,2,2,0,2,0,2,3,7,1,0,2,6,1,2,1,1,5,1,0]
["5-9 años",0,0,0,2,2,0,3,1,7,0,5,0,2,5,3,0,0,0,0,3,4,0,0,1,0,0,1,0,0,4,1,0]
["10-14 años",0,2,0,0,0,0,6,4,14,0,4,2,3,6,5,1,3,0,1,3,4,4,2,1,1,1,2,0,2,9,1,1]
["15-19 años",1,1,2,0,0,0,6,2,20,2,4,2,3,8,5,2,0,0,4,5,4,2,3,4,1,1,2,1,1,4,0,1]
["20-24 años",1,4,2,0,0,0,11,1,6,2,4,8,4,8,8,2,1,1,3,5,7,2,1,1,2,3,3,3,1,4,4,2]
["25-29 años",2,1,0,1,3,2,11,2,16,1,6,4,5,6,13,2,4,3,3,11,8,4,1,3,6,0,4,2,2,12,0,0]
["30-34 años",1,3,0,2,4,1,12,7,11,1,7,2,6,9,16,4,4,2,4,13,8,1,3,5,1,6,4,2,4,15,3,0]
["35-39 años",1,2,0,2,1,0,11,2,13,1,2,4,2,10,12,1,2,1,4,4,8,0,5,2,3,3,1,4,2,12,4,2]
["40-44 años",3,2,1,3,4,1,16,7,19,1,4,2,6,9,6,5,3,2,5,12,8,4,2,4,3,5,1,4,4,13,1,1]
["45-49 años",2,12,1,2,3,2,14,9,23,1,8,2,7,14,22,9,5,0,6,10,7,3,3,5,6,7,6,4,1,19,5,1]
["50-54 años",3,6,0,3,2,3,13,9,32,3,7,8,4,16,20,4,5,3,9,12,14,2,1,2,3,7,4,9,1,22,2,2]
["55-59 años",2,9,1,2,5,1,16,11,35,1,4,13,7,12,40,13,9,4,11,13,11,8,6,6,3,5,9,5,4,24,5,2]
["60-64 años",3,4,2,2,10,3,18,9,37,3,10,12,8,25,29,22,4,1,6,18,17,3,6,2,8,8,7,9,1,40,10,2]
["65-69 años",4,9,1,2,11,2,25,12,45,3,11,14,10,15,26,18,12,3,2,19,24,5,6,10,10,16,7,11,1,39,10,9]
["70-74 años",6,10,0,6,8,4,26,16,37,4,14,21,14,22,24,17,9,4,7,30,25,4,3,6,8,13,4,12,4,41,5,7]
["75-79 años",2,8,0,2,9,5,34,24,39,7,22,26,10,26,24,14,15,2,11,28,28,5,4,13,9,16,8,9,3,53,8,13]
["80-84 años",7,6,2,2,10,2,52,15,43,6,27,32,14,25,44,32,19,5,6,56,58,1,4,13,15,18,8,9,5,80,7,13]
["85 años y más",17,13,4,1,9,4,131,24,152,9,49,89,20,44,91,102,51,8,19,161,136,10,4,34,16,10,21,19,8,249,11,33]
["No especificado",0,1,0,0,0,0,0,0,0,0,0,0,0,0,0,0,0,0,0,0,1,0,0,0,0,0,0,2,0,0,0,0]

{"sheet":"8T-GCM-G_Edad_EntFed2022","index":166,"n_rows":22,"n_cols":33,"rows_kept":22,"cut":false,"hidden":true,"merged":[]}
[1,2,3,4,5,6,7,8,9,10,11,12,13,14,15,16,17,18,19,20,21,22,23,24,25,26,27,28,29,30,31,32,33]
["ESTADO","Aguascalientes","Baja California","Baja California Sur","Campeche","Coahuila","Colima","Chiapas","Chihuahua","Ciudad de México","Durango","Guanajuato","Guerrero","Hidalgo","Jalisco","México","Michoacán","Morelos","Nayarit","Nuevo León","Oaxaca","Puebla","Querétaro","Quintana Roo","San Luis Potosí","Sinaloa","Sonora","Tabasco","Tamaulipas","Tlaxcala","Veracruz","Yucatán","Zacatecas"]
["Menores de 1 año",0,0,1,0,1,1,8,3,18,1,2,3,2,4,10,1,2,1,5,5,5,2,3,4,0,2,0,0,3,10,1,0]
["1-4 años",0,3,0,2,1,0,13,8,18,0,5,0,1,3,3,1,0,1,2,5,6,1,1,3,0,1,0,2,1,2,2,0]
["5-9 años",2,4,1,1,0,0,2,0,8,0,2,1,0,4,1,3,0,0,2,5,3,1,0,3,0,2,1,1,0,2,0,1]
["10-14 años",1,1,0,3,1,0,7,1,10,0,4,5,1,5,2,0,1,1,9,4,2,3,1,1,0,1,2,0,0,3,0,0]
["15-19 años",1,2,0,0,1,1,8,5,13,0,2,2,2,1,9,4,0,0,1,5,6,1,2,2,2,3,3,4,0,6,1,2]
["20-24 años",2,1,0,0,3,1,6,4,8,3,2,1,4,3,4,3,0,0,3,4,7,0,2,2,4,2,4,2,0,13,1,0]
["25-29 años",1,1,0,0,3,0,9,4,12,1,5,3,1,9,8,7,1,2,5,5,7,2,3,3,0,2,6,3,2,9,3,1]
["30-34 años",1,4,1,2,0,0,5,2,12,3,5,2,6,5,8,6,4,0,3,6,7,4,0,4,1,1,4,4,4,11,1,1]
["35-39 años",3,9,0,2,3,0,11,3,17,0,8,3,2,10,8,3,5,0,3,5,4,2,3,4,2,3,3,4,3,12,0,1]
["40-44 años",2,7,2,1,1,1,7,3,17,0,10,3,6,10,16,2,1,1,5,10,7,2,2,3,7,2,3,5,4,12,4,1]
["45-49 años",2,15,2,0,2,0,8,6,19,3,11,6,2,9,19,8,4,1,6,12,10,5,1,5,3,7,4,8,2,14,2,1]
["50-54 años",4,12,1,2,3,1,12,13,24,2,6,11,6,7,21,6,10,4,4,12,8,2,2,4,3,4,2,14,0,16,6,2]
["55-59 años",3,11,2,1,4,1,13,13,29,3,10,11,5,10,23,10,6,2,12,12,17,6,3,5,8,10,8,10,3,30,3,2]
["60-64 años",2,14,2,1,10,2,13,15,37,2,14,9,8,15,36,12,10,1,11,16,12,3,2,7,7,9,4,9,4,28,9,4]
["65-69 años",5,13,3,5,11,1,13,10,34,7,11,14,6,16,24,10,13,3,9,20,20,1,9,7,8,15,7,11,3,42,10,6]
["70-74 años",3,14,0,3,6,3,27,15,47,3,19,16,8,24,42,18,11,2,7,28,18,3,6,6,8,14,5,9,2,47,12,4]
["75-79 años",8,17,0,5,8,5,28,13,44,2,20,22,16,26,32,14,18,3,11,36,30,1,3,9,6,7,8,13,2,55,4,6]
["80-84 años",8,7,2,2,4,2,58,10,50,6,25,34,12,35,38,24,11,4,11,50,37,6,5,15,11,14,6,12,6,88,10,13]
["85 años y más",24,10,2,2,8,2,192,20,118,7,51,74,31,56,100,69,40,7,19,134,86,10,17,34,12,19,14,19,7,225,11,28]
["No especificado",0,1,0,0,0,0,0,0,0,1,0,0,0,0,1,0,0,0,0,0,1,0,1,0,0,0,0,0,0,0,0,0]

{"sheet":"8GCM-G-Edad_Ent.Fed","index":167,"n_rows":36,"n_cols":4,"rows_kept":36,"cut":false,"hidden":false,"merged":[[0,0,0,3]]}
["Enfermedades de la sangre y de los órganos\n hematopoyéticos, y ciertos trastornos que afectan\n el mecanismo de la inmunidad"]
["SELECCIONE UN GRUPO DE EDAD"]
["20-24 años","2020","2021","2022"]
["Aguascalientes",{"$f":"VLOOKUP($A$3,Tabla51[],MATCH(TablaA58[[#This Row],[20-24 años]],Tabla51[#Headers],0),FALSE)","v":0},{"$f":"VLOOKUP($A$3,Tabla52[],MATCH(TablaA58[[#This Row],[20-24 años]],Tabla52[#Headers],0),FALSE)","v":1},{"$f":"VLOOKUP($A$3,Tabla53[],MATCH(TablaA58[[#This Row],[20-24 años]],Tabla53[#Headers],0),FALSE)","v":2}]
["Baja California",{"$f":"VLOOKUP($A$3,Tabla51[],MATCH(TablaA58[[#This Row],[20-24 años]],Tabla51[#Headers],0),FALSE)","v":6},{"$f":"VLOOKUP($A$3,Tabla52[],MATCH(TablaA58[[#This Row],[20-24 años]],Tabla52[#Headers],0),FALSE)","v":4},{"$f":"VLOOKUP($A$3,Tabla53[],MATCH(TablaA58[[#This Row],[20-24 años]],Tabla53[#Headers],0),FALSE)","v":1}]
["Baja California Sur",{"$f":"VLOOKUP($A$3,Tabla51[],MATCH(TablaA58[[#This Row],[20-24 años]],Tabla51[#Headers],0),FALSE)","v":0},{"$f":"VLOOKUP($A$3,Tabla52[],MATCH(TablaA58[[#This Row],[20-24 años]],Tabla52[#Headers],0),FALSE)","v":2},{"$f":"VLOOKUP($A$3,Tabla53[],MATCH(TablaA58[[#This Row],[20-24 años]],Tabla53[#Headers],0),FALSE)","v":0}]
["Campeche",{"$f":"VLOOKUP($A$3,Tabla51[],MATCH(TablaA58[[#This Row],[20-24 años]],Tabla51[#Headers],0),FALSE)","v":0},{"$f":"VLOOKUP($A$3,Tabla52[],MATCH(TablaA58[[#This Row],[20-24 años]],Tabla52[#Headers],0),FALSE)","v":0},{"$f":"VLOOKUP($A$3,Tabla53[],MATCH(TablaA58[[#This Row],[20-24 años]],Tabla53[#Headers],0),FALSE)","v":0}]
["Coahuila",{"$f":"VLOOKUP($A$3,Tabla51[],MATCH(TablaA58[[#This Row],[20-24 años]],Tabla51[#Headers],0),FALSE)","v":6},{"$f":"VLOOKUP($A$3,Tabla52[],MATCH(TablaA58[[#This Row],[20-24 años]],Tabla52[#Headers],0),FALSE)","v":0},{"$f":"VLOOKUP($A$3,Tabla53[],MATCH(TablaA58[[#This Row],[20-24 años]],Tabla53[#Headers],0),FALSE)","v":3}]
["Colima",{"$f":"VLOOKUP($A$3,Tabla51[],MATCH(TablaA58[[#This Row],[20-24 años]],Tabla51[#Headers],0),FALSE)","v":2},{"$f":"VLOOKUP($A$3,Tabla52[],MATCH(TablaA58[[#This Row],[20-24 años]],Tabla52[#Headers],0),FALSE)","v":0},{"$f":"VLOOKUP($A$3,Tabla53[],MATCH(TablaA58[[#This Row],[20-24 años]],Tabla53[#Headers],0),FALSE)","v":1}]
["Chiapas",{"$f":"VLOOKUP($A$3,Tabla51[],MATCH(TablaA58[[#This Row],[20-24 años]],Tabla51[#Headers],0),FALSE)","v":2},{"$f":"VLOOKUP($A$3,Tabla52[],MATCH(TablaA58[[#This Row],[20-24 años]],Tabla52[#Headers],0),FALSE)","v":11},{"$f":"VLOOKUP($A$3,Tabla53[],MATCH(TablaA58[[#This Row],[20-24 años]],Tabla53[#Headers],0),FALSE)","v":6}]
["Chihuahua",{"$f":"VLOOKUP($A$3,Tabla51[],MATCH(TablaA58[[#This Row],[20-24 años]],Tabla51[#Headers],0),FALSE)","v":2},{"$f":"VLOOKUP($A$3,Tabla52[],MATCH(TablaA58[[#This Row],[20-24 años]],Tabla52[#Headers],0),FALSE)","v":1},{"$f":"VLOOKUP($A$3,Tabla53[],MATCH(TablaA58[[#This Row],[20-24 años]],Tabla53[#Headers],0),FALSE)","v":4}]
["Ciudad de México",{"$f":"VLOOKUP($A$3,Tabla51[],MATCH(TablaA58[[#This Row],[20-24 años]],Tabla51[#Headers],0),FALSE)","v":8},{"$f":"VLOOKUP($A$3,Tabla52[],MATCH(TablaA58[[#This Row],[20-24 años]],Tabla52[#Headers],0),FALSE)","v":6},{"$f":"VLOOKUP($A$3,Tabla53[],MATCH(TablaA58[[#This Row],[20-24 años]],Tabla53[#Headers],0),FALSE)","v":8}]
["Durango",{"$f":"VLOOKUP($A$3,Tabla51[],MATCH(TablaA58[[#This Row],[20-24 años]],Tabla51[#Headers],0),FALSE)","v":4},{"$f":"VLOOKUP($A$3,Tabla52[],MATCH(TablaA58[[#This Row],[20-24 años]],Tabla52[#Headers],0),FALSE)","v":2},{"$f":"VLOOKUP($A$3,Tabla53[],MATCH(TablaA58[[#This Row],[20-24 años]],Tabla53[#Headers],0),FALSE)","v":3}]
["Guanajuato",{"$f":"VLOOKUP($A$3,Tabla51[],MATCH(TablaA58[[#This Row],[20-24 años]],Tabla51[#Headers],0),FALSE)","v":0},{"$f":"VLOOKUP($A$3,Tabla52[],MATCH(TablaA58[[#This Row],[20-24 años]],Tabla52[#Headers],0),FALSE)","v":4},{"$f":"VLOOKUP($A$3,Tabla53[],MATCH(TablaA58[[#This Row],[20-24 años]],Tabla53[#Headers],0),FALSE)","v":2}]
["Guerrero",{"$f":"VLOOKUP($A$3,Tabla51[],MATCH(TablaA58[[#This Row],[20-24 años]],Tabla51[#Headers],0),FALSE)","v":2},{"$f":"VLOOKUP($A$3,Tabla52[],MATCH(TablaA58[[#This Row],[20-24 años]],Tabla52[#Headers],0),FALSE)","v":8},{"$f":"VLOOKUP($A$3,Tabla53[],MATCH(TablaA58[[#This Row],[20-24 años]],Tabla53[#Headers],0),FALSE)","v":1}]
["Hidalgo",{"$f":"VLOOKUP($A$3,Tabla51[],MATCH(TablaA58[[#This Row],[20-24 años]],Tabla51[#Headers],0),FALSE)","v":4},{"$f":"VLOOKUP($A$3,Tabla52[],MATCH(TablaA58[[#This Row],[20-24 años]],Tabla52[#Headers],0),FALSE)","v":4},{"$f":"VLOOKUP($A$3,Tabla53[],MATCH(TablaA58[[#This Row],[20-24 años]],Tabla53[#Headers],0),FALSE)","v":4}]
["Jalisco",{"$f":"VLOOKUP($A$3,Tabla51[],MATCH(TablaA58[[#This Row],[20-24 años]],Tabla51[#Headers],0),FALSE)","v":6},{"$f":"VLOOKUP($A$3,Tabla52[],MATCH(TablaA58[[#This Row],[20-24 años]],Tabla52[#Headers],0),FALSE)","v":8},{"$f":"VLOOKUP($A$3,Tabla53[],MATCH(TablaA58[[#This Row],[20-24 años]],Tabla53[#Headers],0),FALSE)","v":3}]
["México",{"$f":"VLOOKUP($A$3,Tabla51[],MATCH(TablaA58[[#This Row],[20-24 años]],Tabla51[#Headers],0),FALSE)","v":8},{"$f":"VLOOKUP($A$3,Tabla52[],MATCH(TablaA58[[#This Row],[20-24 años]],Tabla52[#Headers],0),FALSE)","v":8},{"$f":"VLOOKUP($A$3,Tabla53[],MATCH(TablaA58[[#This Row],[20-24 años]],Tabla53[#Headers],0),FALSE)","v":4}]
["Michoacán",{"$f":"VLOOKUP($A$3,Tabla51[],MATCH(TablaA58[[#This Row],[20-24 años]],Tabla51[#Headers],0),FALSE)","v":2},{"$f":"VLOOKUP($A$3,Tabla52[],MATCH(TablaA58[[#This Row],[20-24 años]],Tabla52[#Headers],0),FALSE)","v":2},{"$f":"VLOOKUP($A$3,Tabla53[],MATCH(TablaA58[[#This Row],[20-24 años]],Tabla53[#Headers],0),FALSE)","v":3}]
["Morelos",{"$f":"VLOOKUP($A$3,Tabla51[],MATCH(TablaA58[[#This Row],[20-24 años]],Tabla51[#Headers],0),FALSE)","v":0},{"$f":"VLOOKUP($A$3,Tabla52[],MATCH(TablaA58[[#This Row],[20-24 años]],Tabla52[#Headers],0),FALSE)","v":1},{"$f":"VLOOKUP($A$3,Tabla53[],MATCH(TablaA58[[#This Row],[20-24 años]],Tabla53[#Headers],0),FALSE)","v":0}]
["Nayarit",{"$f":"VLOOKUP($A$3,Tabla51[],MATCH(TablaA58[[#This Row],[20-24 años]],Tabla51[#Headers],0),FALSE)","v":0},{"$f":"VLOOKUP($A$3,Tabla52[],MATCH(TablaA58[[#This Row],[20-24 años]],Tabla52[#Headers],0),FALSE)","v":1},{"$f":"VLOOKUP($A$3,Tabla53[],MATCH(TablaA58[[#This Row],[20-24 años]],Tabla53[#Headers],0),FALSE)","v":0}]
["Nuevo León",{"$f":"VLOOKUP($A$3,Tabla51[],MATCH(TablaA58[[#This Row],[20-24 años]],Tabla51[#Headers],0),FALSE)","v":2},{"$f":"VLOOKUP($A$3,Tabla52[],MATCH(TablaA58[[#This Row],[20-24 años]],Tabla52[#Headers],0),FALSE)","v":3},{"$f":"VLOOKUP($A$3,Tabla53[],MATCH(TablaA58[[#This Row],[20-24 años]],Tabla53[#Headers],0),FALSE)","v":3}]
["Oaxaca",{"$f":"VLOOKUP($A$3,Tabla51[],MATCH(TablaA58[[#This Row],[20-24 años]],Tabla51[#Headers],0),FALSE)","v":12},{"$f":"VLOOKUP($A$3,Tabla52[],MATCH(TablaA58[[#This Row],[20-24 años]],Tabla52[#Headers],0),FALSE)","v":5},{"$f":"VLOOKUP($A$3,Tabla53[],MATCH(TablaA58[[#This Row],[20-24 años]],Tabla53[#Headers],0),FALSE)","v":4}]
["Puebla",{"$f":"VLOOKUP($A$3,Tabla51[],MATCH(TablaA58[[#This Row],[20-24 años]],Tabla51[#Headers],0),FALSE)","v":8},{"$f":"VLOOKUP($A$3,Tabla52[],MATCH(TablaA58[[#This Row],[20-24 años]],Tabla52[#Headers],0),FALSE)","v":7},{"$f":"VLOOKUP($A$3,Tabla53[],MATCH(TablaA58[[#This Row],[20-24 años]],Tabla53[#Headers],0),FALSE)","v":7}]
["Querétaro",{"$f":"VLOOKUP($A$3,Tabla51[],MATCH(TablaA58[[#This Row],[20-24 años]],Tabla51[#Headers],0),FALSE)","v":2},{"$f":"VLOOKUP($A$3,Tabla52[],MATCH(TablaA58[[#This Row],[20-24 años]],Tabla52[#Headers],0),FALSE)","v":2},{"$f":"VLOOKUP($A$3,Tabla53[],MATCH(TablaA58[[#This Row],[20-24 años]],Tabla53[#Headers],0),FALSE)","v":0}]
["Quintana Roo",{"$f":"VLOOKUP($A$3,Tabla51[],MATCH(TablaA58[[#This Row],[20-24 años]],Tabla51[#Headers],0),FALSE)","v":0},{"$f":"VLOOKUP($A$3,Tabla52[],MATCH(TablaA58[[#This Row],[20-24 años]],Tabla52[#Headers],0),FALSE)","v":1},{"$f":"VLOOKUP($A$3,Tabla53[],MATCH(TablaA58[[#This Row],[20-24 años]],Tabla53[#Headers],0),FALSE)","v":2}]
["San Luis Potosí",{"$f":"VLOOKUP($A$3,Tabla51[],MATCH(TablaA58[[#This Row],[20-24 años]],Tabla51[#Headers],0),FALSE)","v":2},{"$f":"VLOOKUP($A$3,Tabla52[],MATCH(TablaA58[[#This Row],[20-24 años]],Tabla52[#Headers],0),FALSE)","v":1},{"$f":"VLOOKUP($A$3,Tabla53[],MATCH(TablaA58[[#This Row],[20-24 años]],Tabla53[#Headers],0),FALSE)","v":2}]
["Sinaloa",{"$f":"VLOOKUP($A$3,Tabla51[],MATCH(TablaA58[[#This Row],[20-24 años]],Tabla51[#Headers],0),FALSE)","v":0},{"$f":"VLOOKUP($A$3,Tabla52[],MATCH(TablaA58[[#This Row],[20-24 años]],Tabla52[#Headers],0),FALSE)","v":2},{"$f":"VLOOKUP($A$3,Tabla53[],MATCH(TablaA58[[#This Row],[20-24 años]],Tabla53[#Headers],0),FALSE)","v":4}]
["Sonora",{"$f":"VLOOKUP($A$3,Tabla51[],MATCH(TablaA58[[#This Row],[20-24 años]],Tabla51[#Headers],0),FALSE)","v":0},{"$f":"VLOOKUP($A$3,Tabla52[],MATCH(TablaA58[[#This Row],[20-24 años]],Tabla52[#Headers],0),FALSE)","v":3},{"$f":"VLOOKUP($A$3,Tabla53[],MATCH(TablaA58[[#This Row],[20-24 años]],Tabla53[#Headers],0),FALSE)","v":2}]
["Tabasco",{"$f":"VLOOKUP($A$3,Tabla51[],MATCH(TablaA58[[#This Row],[20-24 años]],Tabla51[#Headers],0),FALSE)","v":6},{"$f":"VLOOKUP($A$3,Tabla52[],MATCH(TablaA58[[#This Row],[20-24 años]],Tabla52[#Headers],0),FALSE)","v":3},{"$f":"VLOOKUP($A$3,Tabla53[],MATCH(TablaA58[[#This Row],[20-24 años]],Tabla53[#Headers],0),FALSE)","v":4}]
["Tamaulipas",{"$f":"VLOOKUP($A$3,Tabla51[],MATCH(TablaA58[[#This Row],[20-24 años]],Tabla51[#Headers],0),FALSE)","v":2},{"$f":"VLOOKUP($A$3,Tabla52[],MATCH(TablaA58[[#This Row],[20-24 años]],Tabla52[#Headers],0),FALSE)","v":3},{"$f":"VLOOKUP($A$3,Tabla53[],MATCH(TablaA58[[#This Row],[20-24 años]],Tabla53[#Headers],0),FALSE)","v":2}]
["Tlaxcala",{"$f":"VLOOKUP($A$3,Tabla51[],MATCH(TablaA58[[#This Row],[20-24 años]],Tabla51[#Headers],0),FALSE)","v":0},{"$f":"VLOOKUP($A$3,Tabla52[],MATCH(TablaA58[[#This Row],[20-24 años]],Tabla52[#Headers],0),FALSE)","v":1},{"$f":"VLOOKUP($A$3,Tabla53[],MATCH(TablaA58[[#This Row],[20-24 años]],Tabla53[#Headers],0),FALSE)","v":0}]
["Veracruz",{"$f":"VLOOKUP($A$3,Tabla51[],MATCH(TablaA58[[#This Row],[20-24 años]],Tabla51[#Headers],0),FALSE)","v":8},{"$f":"VLOOKUP($A$3,Tabla52[],MATCH(TablaA58[[#This Row],[20-24 años]],Tabla52[#Headers],0),FALSE)","v":4},{"$f":"VLOOKUP($A$3,Tabla53[],MATCH(TablaA58[[#This Row],[20-24 años]],Tabla53[#Headers],0),FALSE)","v":13}]
["Yucatán",{"$f":"VLOOKUP($A$3,Tabla51[],MATCH(TablaA58[[#This Row],[20-24 años]],Tabla51[#Headers],0),FALSE)","v":0},{"$f":"VLOOKUP($A$3,Tabla52[],MATCH(TablaA58[[#This Row],[20-24 años]],Tabla52[#Headers],0),FALSE)","v":4},{"$f":"VLOOKUP($A$3,Tabla53[],MATCH(TablaA58[[#This Row],[20-24 años]],Tabla53[#Headers],0),FALSE)","v":1}]
["Zacatecas",{"$f":"VLOOKUP($A$3,Tabla51[],MATCH(TablaA58[[#This Row],[20-24 años]],Tabla51[#Headers],0),FALSE)","v":0},{"$f":"VLOOKUP($A$3,Tabla52[],MATCH(TablaA58[[#This Row],[20-24 años]],Tabla52[#Headers],0),FALSE)","v":2},{"$f":"VLOOKUP($A$3,Tabla53[],MATCH(TablaA58[[#This Row],[20-24 años]],Tabla53[#Headers],0),FALSE)","v":0}]
["Total",{"$f":"SUM(B4:B35)","v":94},{"$f":"SUM(C4:C35)","v":104},89]

{"sheet":"9T-GCM-G_Edad_EntFed2020","index":168,"n_rows":22,"n_cols":33,"rows_kept":22,"cut":false,"hidden":true,"merged":[]}
[1,2,3,4,5,6,7,8,9,10,11,12,13,14,15,16,17,18,19,20,21,22,23,24,25,26,27,28,29,30,31,32,33]
["ESTADO","Aguascalientes","Baja California","Baja California Sur","Campeche","Coahuila","Colima","Chiapas","Chihuahua","Ciudad de México","Durango","Guanajuato","Guerrero","Hidalgo","Jalisco","México","Michoacán","Morelos","Nayarit","Nuevo León","Oaxaca","Puebla","Querétaro","Quintana Roo","San Luis Potosí","Sinaloa","Sonora","Tabasco","Tamaulipas","Tlaxcala","Veracruz","Yucatán","Zacatecas"]
["Menores de 1 año",0,0,0,0,0,0,0,0,1,0,0,1,0,2,0,0,0,0,0,0,0,0,0,0,0,0,0,0,0,0,0,0]
["1-4 años",0,1,0,0,1,0,0,1,1,0,0,2,0,1,0,1,0,0,1,1,1,1,0,1,0,0,1,0,0,0,1,0]
["5-9 años",0,1,0,0,0,0,0,0,1,0,0,3,0,1,2,0,0,0,0,0,1,0,0,1,0,0,0,0,0,0,0,0]
["10-14 años",0,1,0,1,0,0,0,1,4,0,1,1,0,0,6,1,0,0,1,1,2,1,0,0,0,0,0,0,0,0,0,1]
["15-19 años",2,4,0,0,1,0,1,4,3,0,3,0,0,1,2,0,0,0,1,3,2,1,1,0,1,0,0,0,1,0,0,1]
["20-24 años",5,12,0,0,0,0,7,5,9,1,3,4,1,7,10,3,2,0,1,5,3,0,0,2,0,4,1,0,2,4,0,1]
["25-29 años",2,15,1,0,0,0,10,3,19,2,6,2,2,11,17,7,2,1,1,9,4,0,0,0,0,5,0,1,1,8,0,3]
["30-34 años",2,10,1,0,5,0,8,7,26,0,9,3,1,8,17,6,3,0,2,19,18,2,0,4,1,2,3,0,2,20,2,7]
["35-39 años",5,8,0,1,5,0,7,18,26,3,12,8,4,17,31,9,3,1,3,30,14,4,3,5,0,7,0,1,3,23,4,6]
["40-44 años",10,27,0,2,2,0,9,23,29,0,14,7,4,23,32,8,4,1,2,28,14,4,4,13,1,5,2,2,5,30,5,8]
["45-49 años",7,21,1,1,2,3,14,31,26,2,16,11,5,35,46,16,5,1,6,20,21,5,7,10,3,12,3,2,3,21,0,7]
["50-54 años",15,21,2,1,12,3,10,31,49,4,8,14,4,37,30,12,6,3,4,30,26,8,7,10,4,11,2,0,6,30,2,9]
["55-59 años",2,23,3,0,11,4,13,30,33,3,12,8,9,35,45,16,5,3,5,29,18,6,3,13,2,19,1,5,3,33,4,8]
["60-64 años",11,20,3,0,9,4,12,20,30,1,12,7,4,36,40,14,11,4,5,28,25,3,2,10,5,14,4,5,3,28,9,7]
["65-69 años",3,20,2,3,3,5,16,31,32,4,22,3,5,36,36,14,9,4,17,33,26,2,7,11,4,14,4,6,4,27,5,6]
["70-74 años",8,19,3,5,10,6,15,27,24,3,15,10,9,40,37,16,11,7,22,34,21,6,6,14,15,7,7,12,6,36,4,7]
["75-79 años",20,29,10,5,16,4,26,30,67,5,34,15,22,117,75,28,23,15,74,44,29,16,24,26,19,28,2,22,9,82,11,27]
["80-84 años",6,2,2,2,3,0,12,8,10,1,12,12,1,21,22,13,14,2,14,21,10,4,3,14,14,7,5,8,0,29,9,4]
["85 años y más",6,11,1,4,1,4,18,14,17,1,21,10,4,42,40,17,19,7,33,24,18,6,5,17,7,7,5,16,4,29,5,12]
["No especificado",0,1,1,0,0,0,4,3,0,0,0,0,0,1,1,1,0,0,1,1,0,0,0,0,0,2,0,0,0,1,0,0]

{"sheet":"9T-GCM-G_Edad_EntFed2021","index":169,"n_rows":22,"n_cols":33,"rows_kept":22,"cut":false,"hidden":true,"merged":[]}
[1,2,3,4,5,6,7,8,9,10,11,12,13,14,15,16,17,18,19,20,21,22,23,24,25,26,27,28,29,30,31,32,33]
["ESTADO","Aguascalientes","Baja California","Baja California Sur","Campeche","Coahuila","Colima","Chiapas","Chihuahua","Ciudad de México","Durango","Guanajuato","Guerrero","Hidalgo","Jalisco","México","Michoacán","Morelos","Nayarit","Nuevo León","Oaxaca","Puebla","Querétaro","Quintana Roo","San Luis Potosí","Sinaloa","Sonora","Tabasco","Tamaulipas","Tlaxcala","Veracruz","Yucatán","Zacatecas"]
["Menores de 1 año",0,0,0,0,0,0,0,0,2,0,0,0,0,2,0,0,2,0,0,0,2,0,0,0,0,0,0,0,0,0,2,0]
["1-4 años",0,0,0,0,0,0,0,0,0,0,0,0,0,0,0,2,0,0,0,0,0,0,0,0,0,0,0,0,0,4,0,0]
["5-9 años",0,0,0,0,0,0,0,0,0,0,0,4,0,0,0,0,4,0,2,0,0,0,0,2,0,0,0,0,0,0,0,0]
["10-14 años",0,2,0,4,0,0,0,0,2,0,2,4,2,2,2,4,0,0,0,4,0,0,0,2,2,0,2,4,2,2,0,0]
["15-19 años",2,8,2,0,2,2,12,4,8,0,4,6,0,8,8,8,2,0,0,4,2,4,2,0,0,0,0,0,2,6,0,0]
["20-24 años",0,8,0,0,6,0,20,18,28,0,4,8,4,12,36,10,2,2,0,16,8,10,2,4,0,8,0,0,4,22,0,2]
["25-29 años",8,28,2,0,0,2,10,18,48,2,10,4,6,18,46,4,4,8,6,30,16,2,0,2,6,6,0,0,2,20,4,12]
["30-34 años",10,20,0,2,4,2,18,40,42,0,32,12,6,46,52,10,6,2,4,40,22,2,2,8,6,6,2,2,2,32,4,10]
["35-39 años",18,44,0,0,2,4,22,22,58,2,24,8,2,80,80,32,8,6,4,46,26,12,10,4,6,30,2,2,2,50,2,14]
["40-44 años",24,44,0,2,10,8,26,50,68,8,40,16,6,64,54,26,8,12,8,52,32,14,0,24,8,16,0,10,2,56,10,16]
["45-49 años",26,26,0,4,12,6,22,70,52,2,18,6,18,80,94,30,6,4,10,54,30,2,8,8,2,26,6,6,6,52,2,8]
["50-54 años",18,44,2,2,4,2,24,48,64,8,16,10,8,70,62,24,18,4,6,62,32,12,0,20,4,20,10,2,6,46,4,18]
["55-59 años",18,10,2,0,16,0,14,48,56,8,24,16,16,44,68,22,6,4,4,48,52,12,10,8,4,28,2,4,2,54,6,14]
["60-64 años",12,18,6,2,4,10,8,22,32,6,8,12,6,70,42,16,8,8,14,46,48,4,0,30,10,6,6,8,14,26,4,16]
["65-69 años",8,12,2,0,4,4,18,26,28,2,22,6,6,40,54,24,4,4,8,50,24,8,6,14,6,12,4,10,0,32,8,2]
["70-74 años",20,6,6,4,12,2,10,34,28,6,16,14,16,50,42,16,8,8,12,40,24,4,4,20,14,20,6,14,6,68,4,10]
["75-79 años",12,12,6,4,12,6,24,22,20,0,20,18,10,32,32,46,18,8,18,32,26,2,10,22,8,14,10,14,2,54,6,12]
["80-84 años",18,26,10,4,16,6,36,22,50,2,38,26,20,96,68,40,20,16,76,68,42,18,24,38,24,18,8,24,10,130,16,24]
["85 años y más",0,0,0,0,0,0,0,0,0,0,0,0,0,0,0,0,2,0,0,4,2,0,0,0,0,0,0,0,0,2,0,0]
["No especificado",0,0,0,0,0,0,0,0,0,0,0,0,0,0,0,0,0,0,0,0,0,0,0,0,0,0,0,0,0,0,0,0]

{"sheet":"9T-GCM-G_Edad_EntFed2022","index":170,"n_rows":22,"n_cols":33,"rows_kept":22,"cut":false,"hidden":true,"merged":[]}
[1,2,3,4,5,6,7,8,9,10,11,12,13,14,15,16,17,18,19,20,21,22,23,24,25,26,27,28,29,30,31,32,33]
["ESTADO","Aguascalientes","Baja California","Baja California Sur","Campeche","Coahuila","Colima","Chiapas","Chihuahua","Ciudad de México","Durango","Guanajuato","Guerrero","Hidalgo","Jalisco","México","Michoacán","Morelos","Nayarit","Nuevo León","Oaxaca","Puebla","Querétaro","Quintana Roo","San Luis Potosí","Sinaloa","Sonora","Tabasco","Tamaulipas","Tlaxcala","Veracruz","Yucatán","Zacatecas"]
["Menores de 1 año",0,0,0,0,0,0,1,0,0,0,0,0,0,0,1,0,0,0,0,1,1,0,0,0,0,1,0,0,0,0,0,0]
["1-4 años",1,0,0,0,0,0,0,0,1,0,0,0,0,0,0,0,0,0,0,1,0,0,0,0,0,0,0,0,0,1,0,0]
["5-9 años",0,0,0,1,1,0,1,0,0,0,0,0,0,0,1,1,0,0,0,0,0,0,0,0,0,0,0,0,0,1,0,1]
["10-14 años",0,1,0,0,1,0,0,0,2,0,0,0,0,0,1,0,1,0,0,0,0,0,0,2,0,0,0,0,0,0,0,0]
["15-19 años",0,6,0,0,0,0,3,6,2,0,1,1,1,3,1,2,1,0,0,3,1,1,0,1,1,4,2,0,0,3,0,0]
["20-24 años",2,16,0,0,0,0,3,2,6,0,3,1,0,8,10,2,2,0,0,3,2,2,1,3,0,4,0,0,0,5,1,0]
["25-29 años",2,29,0,1,1,0,11,6,9,1,8,7,3,17,14,3,0,1,2,11,10,3,2,1,1,5,1,1,1,17,1,1]
["30-34 años",3,25,0,0,1,0,6,13,10,2,9,3,1,15,25,6,4,0,1,15,8,0,1,6,1,8,3,1,1,10,0,5]
["35-39 años",4,25,0,3,5,1,8,17,22,2,9,5,2,17,29,11,5,1,4,19,12,2,1,5,1,5,0,1,1,16,1,8]
["40-44 años",4,30,0,2,4,4,11,13,30,3,9,5,4,22,34,6,5,0,4,23,12,3,2,9,1,7,4,2,5,15,4,8]
["45-49 años",10,31,1,3,5,2,14,30,32,3,23,4,3,31,44,12,5,4,9,37,15,5,4,6,0,7,3,0,4,24,1,3]
["50-54 años",9,25,0,1,9,1,15,28,26,5,11,13,5,39,49,14,2,4,4,28,7,7,4,11,4,11,1,2,3,29,5,10]
["55-59 años",8,21,1,1,5,4,8,30,28,3,17,7,6,45,41,10,4,1,8,29,23,1,4,8,4,8,7,5,3,21,3,10]
["60-64 años",12,14,2,3,9,0,10,20,29,2,11,9,5,35,30,13,7,1,4,22,12,3,1,9,6,13,1,4,2,38,3,7]
["65-69 años",5,9,2,0,7,1,6,20,19,9,10,3,3,37,28,10,2,2,15,21,15,4,3,8,9,10,2,3,3,20,2,9]
["70-74 años",7,12,1,2,4,2,10,17,35,1,1,8,6,32,34,13,9,3,25,24,12,4,10,13,4,14,2,5,2,30,9,7]
["75-79 años",14,11,4,1,12,1,10,21,34,5,9,7,6,46,45,14,10,5,31,30,18,7,13,7,14,13,3,8,4,44,14,9]
["80-84 años",30,34,6,6,22,11,21,37,80,5,23,17,9,99,78,21,25,11,89,39,31,11,31,21,18,43,9,25,3,146,13,20]
["85 años y más",9,16,4,1,9,3,10,12,35,4,11,12,3,57,35,12,8,5,35,30,12,9,7,13,6,13,5,9,3,68,8,19]
["No especificado",0,5,0,0,0,0,0,0,0,0,0,0,0,1,0,0,0,1,0,0,0,0,0,1,0,1,0,0,0,1,0,0]

{"sheet":"9GCM-G-Edad_Ent.Fed","index":171,"n_rows":36,"n_cols":4,"rows_kept":36,"cut":false,"hidden":false,"merged":[[0,0,0,3]]}
["Trastornos mentales y \ndel comportamiento"]
["SELECCIONE UN GRUPO DE EDAD"]
["65-69 años","2020","2021","2022"]
["Aguascalientes",{"$f":"VLOOKUP($A$3,Tabla54[],MATCH(TablaA59[[#This Row],[65-69 años]],Tabla54[#Headers],0),FALSE)","v":3},{"$f":"VLOOKUP($A$3,Tabla55[],MATCH(TablaA59[[#This Row],[65-69 años]],Tabla55[#Headers],0),FALSE)","v":8},{"$f":"VLOOKUP($A$3,Tabla56[],MATCH(TablaA59[[#This Row],[65-69 años]],Tabla56[#Headers],0),FALSE)","v":5}]
["Baja California",{"$f":"VLOOKUP($A$3,Tabla54[],MATCH(TablaA59[[#This Row],[65-69 años]],Tabla54[#Headers],0),FALSE)","v":20},{"$f":"VLOOKUP($A$3,Tabla55[],MATCH(TablaA59[[#This Row],[65-69 años]],Tabla55[#Headers],0),FALSE)","v":12},{"$f":"VLOOKUP($A$3,Tabla56[],MATCH(TablaA59[[#This Row],[65-69 años]],Tabla56[#Headers],0),FALSE)","v":9}]
["Baja California Sur",{"$f":"VLOOKUP($A$3,Tabla54[],MATCH(TablaA59[[#This Row],[65-69 años]],Tabla54[#Headers],0),FALSE)","v":2},{"$f":"VLOOKUP($A$3,Tabla55[],MATCH(TablaA59[[#This Row],[65-69 años]],Tabla55[#Headers],0),FALSE)","v":2},{"$f":"VLOOKUP($A$3,Tabla56[],MATCH(TablaA59[[#This Row],[65-69 años]],Tabla56[#Headers],0),FALSE)","v":2}]
["Campeche",{"$f":"VLOOKUP($A$3,Tabla54[],MATCH(TablaA59[[#This Row],[65-69 años]],Tabla54[#Headers],0),FALSE)","v":3},{"$f":"VLOOKUP($A$3,Tabla55[],MATCH(TablaA59[[#This Row],[65-69 años]],Tabla55[#Headers],0),FALSE)","v":0},{"$f":"VLOOKUP($A$3,Tabla56[],MATCH(TablaA59[[#This Row],[65-69 años]],Tabla56[#Headers],0),FALSE)","v":0}]
["Coahuila",{"$f":"VLOOKUP($A$3,Tabla54[],MATCH(TablaA59[[#This Row],[65-69 años]],Tabla54[#Headers],0),FALSE)","v":3},{"$f":"VLOOKUP($A$3,Tabla55[],MATCH(TablaA59[[#This Row],[65-69 años]],Tabla55[#Headers],0),FALSE)","v":4},{"$f":"VLOOKUP($A$3,Tabla56[],MATCH(TablaA59[[#This Row],[65-69 años]],Tabla56[#Headers],0),FALSE)","v":7}]
["Colima",{"$f":"VLOOKUP($A$3,Tabla54[],MATCH(TablaA59[[#This Row],[65-69 años]],Tabla54[#Headers],0),FALSE)","v":5},{"$f":"VLOOKUP($A$3,Tabla55[],MATCH(TablaA59[[#This Row],[65-69 años]],Tabla55[#Headers],0),FALSE)","v":4},{"$f":"VLOOKUP($A$3,Tabla56[],MATCH(TablaA59[[#This Row],[65-69 años]],Tabla56[#Headers],0),FALSE)","v":1}]
["Chiapas",{"$f":"VLOOKUP($A$3,Tabla54[],MATCH(TablaA59[[#This Row],[65-69 años]],Tabla54[#Headers],0),FALSE)","v":16},{"$f":"VLOOKUP($A$3,Tabla55[],MATCH(TablaA59[[#This Row],[65-69 años]],Tabla55[#Headers],0),FALSE)","v":18},{"$f":"VLOOKUP($A$3,Tabla56[],MATCH(TablaA59[[#This Row],[65-69 años]],Tabla56[#Headers],0),FALSE)","v":6}]
["Chihuahua",{"$f":"VLOOKUP($A$3,Tabla54[],MATCH(TablaA59[[#This Row],[65-69 años]],Tabla54[#Headers],0),FALSE)","v":31},{"$f":"VLOOKUP($A$3,Tabla55[],MATCH(TablaA59[[#This Row],[65-69 años]],Tabla55[#Headers],0),FALSE)","v":26},{"$f":"VLOOKUP($A$3,Tabla56[],MATCH(TablaA59[[#This Row],[65-69 años]],Tabla56[#Headers],0),FALSE)","v":20}]
["Ciudad de México",{"$f":"VLOOKUP($A$3,Tabla54[],MATCH(TablaA59[[#This Row],[65-69 años]],Tabla54[#Headers],0),FALSE)","v":32},{"$f":"VLOOKUP($A$3,Tabla55[],MATCH(TablaA59[[#This Row],[65-69 años]],Tabla55[#Headers],0),FALSE)","v":28},{"$f":"VLOOKUP($A$3,Tabla56[],MATCH(TablaA59[[#This Row],[65-69 años]],Tabla56[#Headers],0),FALSE)","v":19}]
["Durango",{"$f":"VLOOKUP($A$3,Tabla54[],MATCH(TablaA59[[#This Row],[65-69 años]],Tabla54[#Headers],0),FALSE)","v":4},{"$f":"VLOOKUP($A$3,Tabla55[],MATCH(TablaA59[[#This Row],[65-69 años]],Tabla55[#Headers],0),FALSE)","v":2},{"$f":"VLOOKUP($A$3,Tabla56[],MATCH(TablaA59[[#This Row],[65-69 años]],Tabla56[#Headers],0),FALSE)","v":9}]
["Guanajuato",{"$f":"VLOOKUP($A$3,Tabla54[],MATCH(TablaA59[[#This Row],[65-69 años]],Tabla54[#Headers],0),FALSE)","v":22},{"$f":"VLOOKUP($A$3,Tabla55[],MATCH(TablaA59[[#This Row],[65-69 años]],Tabla55[#Headers],0),FALSE)","v":22},{"$f":"VLOOKUP($A$3,Tabla56[],MATCH(TablaA59[[#This Row],[65-69 años]],Tabla56[#Headers],0),FALSE)","v":10}]
["Guerrero",{"$f":"VLOOKUP($A$3,Tabla54[],MATCH(TablaA59[[#This Row],[65-69 años]],Tabla54[#Headers],0),FALSE)","v":3},{"$f":"VLOOKUP($A$3,Tabla55[],MATCH(TablaA59[[#This Row],[65-69 años]],Tabla55[#Headers],0),FALSE)","v":6},{"$f":"VLOOKUP($A$3,Tabla56[],MATCH(TablaA59[[#This Row],[65-69 años]],Tabla56[#Headers],0),FALSE)","v":3}]
["Hidalgo",{"$f":"VLOOKUP($A$3,Tabla54[],MATCH(TablaA59[[#This Row],[65-69 años]],Tabla54[#Headers],0),FALSE)","v":5},{"$f":"VLOOKUP($A$3,Tabla55[],MATCH(TablaA59[[#This Row],[65-69 años]],Tabla55[#Headers],0),FALSE)","v":6},{"$f":"VLOOKUP($A$3,Tabla56[],MATCH(TablaA59[[#This Row],[65-69 años]],Tabla56[#Headers],0),FALSE)","v":3}]
["Jalisco",{"$f":"VLOOKUP($A$3,Tabla54[],MATCH(TablaA59[[#This Row],[65-69 años]],Tabla54[#Headers],0),FALSE)","v":36},{"$f":"VLOOKUP($A$3,Tabla55[],MATCH(TablaA59[[#This Row],[65-69 años]],Tabla55[#Headers],0),FALSE)","v":40},{"$f":"VLOOKUP($A$3,Tabla56[],MATCH(TablaA59[[#This Row],[65-69 años]],Tabla56[#Headers],0),FALSE)","v":37}]
["México",{"$f":"VLOOKUP($A$3,Tabla54[],MATCH(TablaA59[[#This Row],[65-69 años]],Tabla54[#Headers],0),FALSE)","v":36},{"$f":"VLOOKUP($A$3,Tabla55[],MATCH(TablaA59[[#This Row],[65-69 años]],Tabla55[#Headers],0),FALSE)","v":54},{"$f":"VLOOKUP($A$3,Tabla56[],MATCH(TablaA59[[#This Row],[65-69 años]],Tabla56[#Headers],0),FALSE)","v":28}]
["Michoacán",{"$f":"VLOOKUP($A$3,Tabla54[],MATCH(TablaA59[[#This Row],[65-69 años]],Tabla54[#Headers],0),FALSE)","v":14},{"$f":"VLOOKUP($A$3,Tabla55[],MATCH(TablaA59[[#This Row],[65-69 años]],Tabla55[#Headers],0),FALSE)","v":24},{"$f":"VLOOKUP($A$3,Tabla56[],MATCH(TablaA59[[#This Row],[65-69 años]],Tabla56[#Headers],0),FALSE)","v":10}]
["Morelos",{"$f":"VLOOKUP($A$3,Tabla54[],MATCH(TablaA59[[#This Row],[65-69 años]],Tabla54[#Headers],0),FALSE)","v":9},{"$f":"VLOOKUP($A$3,Tabla55[],MATCH(TablaA59[[#This Row],[65-69 años]],Tabla55[#Headers],0),FALSE)","v":4},{"$f":"VLOOKUP($A$3,Tabla56[],MATCH(TablaA59[[#This Row],[65-69 años]],Tabla56[#Headers],0),FALSE)","v":2}]
["Nayarit",{"$f":"VLOOKUP($A$3,Tabla54[],MATCH(TablaA59[[#This Row],[65-69 años]],Tabla54[#Headers],0),FALSE)","v":4},{"$f":"VLOOKUP($A$3,Tabla55[],MATCH(TablaA59[[#This Row],[65-69 años]],Tabla55[#Headers],0),FALSE)","v":4},{"$f":"VLOOKUP($A$3,Tabla56[],MATCH(TablaA59[[#This Row],[65-69 años]],Tabla56[#Headers],0),FALSE)","v":2}]
["Nuevo León",{"$f":"VLOOKUP($A$3,Tabla54[],MATCH(TablaA59[[#This Row],[65-69 años]],Tabla54[#Headers],0),FALSE)","v":17},{"$f":"VLOOKUP($A$3,Tabla55[],MATCH(TablaA59[[#This Row],[65-69 años]],Tabla55[#Headers],0),FALSE)","v":8},{"$f":"VLOOKUP($A$3,Tabla56[],MATCH(TablaA59[[#This Row],[65-69 años]],Tabla56[#Headers],0),FALSE)","v":15}]
["Oaxaca",{"$f":"VLOOKUP($A$3,Tabla54[],MATCH(TablaA59[[#This Row],[65-69 años]],Tabla54[#Headers],0),FALSE)","v":33},{"$f":"VLOOKUP($A$3,Tabla55[],MATCH(TablaA59[[#This Row],[65-69 años]],Tabla55[#Headers],0),FALSE)","v":50},{"$f":"VLOOKUP($A$3,Tabla56[],MATCH(TablaA59[[#This Row],[65-69 años]],Tabla56[#Headers],0),FALSE)","v":21}]
["Puebla",{"$f":"VLOOKUP($A$3,Tabla54[],MATCH(TablaA59[[#This Row],[65-69 años]],Tabla54[#Headers],0),FALSE)","v":26},{"$f":"VLOOKUP($A$3,Tabla55[],MATCH(TablaA59[[#This Row],[65-69 años]],Tabla55[#Headers],0),FALSE)","v":24},{"$f":"VLOOKUP($A$3,Tabla56[],MATCH(TablaA59[[#This Row],[65-69 años]],Tabla56[#Headers],0),FALSE)","v":15}]
["Querétaro",{"$f":"VLOOKUP($A$3,Tabla54[],MATCH(TablaA59[[#This Row],[65-69 años]],Tabla54[#Headers],0),FALSE)","v":2},{"$f":"VLOOKUP($A$3,Tabla55[],MATCH(TablaA59[[#This Row],[65-69 años]],Tabla55[#Headers],0),FALSE)","v":8},{"$f":"VLOOKUP($A$3,Tabla56[],MATCH(TablaA59[[#This Row],[65-69 años]],Tabla56[#Headers],0),FALSE)","v":4}]
["Quintana Roo",{"$f":"VLOOKUP($A$3,Tabla54[],MATCH(TablaA59[[#This Row],[65-69 años]],Tabla54[#Headers],0),FALSE)","v":7},{"$f":"VLOOKUP($A$3,Tabla55[],MATCH(TablaA59[[#This Row],[65-69 años]],Tabla55[#Headers],0),FALSE)","v":6},{"$f":"VLOOKUP($A$3,Tabla56[],MATCH(TablaA59[[#This Row],[65-69 años]],Tabla56[#Headers],0),FALSE)","v":3}]
["San Luis Potosí",{"$f":"VLOOKUP($A$3,Tabla54[],MATCH(TablaA59[[#This Row],[65-69 años]],Tabla54[#Headers],0),FALSE)","v":11},{"$f":"VLOOKUP($A$3,Tabla55[],MATCH(TablaA59[[#This Row],[65-69 años]],Tabla55[#Headers],0),FALSE)","v":14},{"$f":"VLOOKUP($A$3,Tabla56[],MATCH(TablaA59[[#This Row],[65-69 años]],Tabla56[#Headers],0),FALSE)","v":8}]
["Sinaloa",{"$f":"VLOOKUP($A$3,Tabla54[],MATCH(TablaA59[[#This Row],[65-69 años]],Tabla54[#Headers],0),FALSE)","v":4},{"$f":"VLOOKUP($A$3,Tabla55[],MATCH(TablaA59[[#This Row],[65-69 años]],Tabla55[#Headers],0),FALSE)","v":6},{"$f":"VLOOKUP($A$3,Tabla56[],MATCH(TablaA59[[#This Row],[65-69 años]],Tabla56[#Headers],0),FALSE)","v":9}]
["Sonora",{"$f":"VLOOKUP($A$3,Tabla54[],MATCH(TablaA59[[#This Row],[65-69 años]],Tabla54[#Headers],0),FALSE)","v":14},{"$f":"VLOOKUP($A$3,Tabla55[],MATCH(TablaA59[[#This Row],[65-69 años]],Tabla55[#Headers],0),FALSE)","v":12},{"$f":"VLOOKUP($A$3,Tabla56[],MATCH(TablaA59[[#This Row],[65-69 años]],Tabla56[#Headers],0),FALSE)","v":10}]
["Tabasco",{"$f":"VLOOKUP($A$3,Tabla54[],MATCH(TablaA59[[#This Row],[65-69 años]],Tabla54[#Headers],0),FALSE)","v":4},{"$f":"VLOOKUP($A$3,Tabla55[],MATCH(TablaA59[[#This Row],[65-69 años]],Tabla55[#Headers],0),FALSE)","v":4},{"$f":"VLOOKUP($A$3,Tabla56[],MATCH(TablaA59[[#This Row],[65-69 años]],Tabla56[#Headers],0),FALSE)","v":2}]
["Tamaulipas",{"$f":"VLOOKUP($A$3,Tabla54[],MATCH(TablaA59[[#This Row],[65-69 años]],Tabla54[#Headers],0),FALSE)","v":6},{"$f":"VLOOKUP($A$3,Tabla55[],MATCH(TablaA59[[#This Row],[65-69 años]],Tabla55[#Headers],0),FALSE)","v":10},{"$f":"VLOOKUP($A$3,Tabla56[],MATCH(TablaA59[[#This Row],[65-69 años]],Tabla56[#Headers],0),FALSE)","v":3}]
["Tlaxcala",{"$f":"VLOOKUP($A$3,Tabla54[],MATCH(TablaA59[[#This Row],[65-69 años]],Tabla54[#Headers],0),FALSE)","v":4},{"$f":"VLOOKUP($A$3,Tabla55[],MATCH(TablaA59[[#This Row],[65-69 años]],Tabla55[#Headers],0),FALSE)","v":0},{"$f":"VLOOKUP($A$3,Tabla56[],MATCH(TablaA59[[#This Row],[65-69 años]],Tabla56[#Headers],0),FALSE)","v":3}]
["Veracruz",{"$f":"VLOOKUP($A$3,Tabla54[],MATCH(TablaA59[[#This Row],[65-69 años]],Tabla54[#Headers],0),FALSE)","v":27},{"$f":"VLOOKUP($A$3,Tabla55[],MATCH(TablaA59[[#This Row],[65-69 años]],Tabla55[#Headers],0),FALSE)","v":32},{"$f":"VLOOKUP($A$3,Tabla56[],MATCH(TablaA59[[#This Row],[65-69 años]],Tabla56[#Headers],0),FALSE)","v":20}]
["Yucatán",{"$f":"VLOOKUP($A$3,Tabla54[],MATCH(TablaA59[[#This Row],[65-69 años]],Tabla54[#Headers],0),FALSE)","v":5},{"$f":"VLOOKUP($A$3,Tabla55[],MATCH(TablaA59[[#This Row],[65-69 años]],Tabla55[#Headers],0),FALSE)","v":8},{"$f":"VLOOKUP($A$3,Tabla56[],MATCH(TablaA59[[#This Row],[65-69 años]],Tabla56[#Headers],0),FALSE)","v":2}]
["Zacatecas",{"$f":"VLOOKUP($A$3,Tabla54[],MATCH(TablaA59[[#This Row],[65-69 años]],Tabla54[#Headers],0),FALSE)","v":6},{"$f":"VLOOKUP($A$3,Tabla55[],MATCH(TablaA59[[#This Row],[65-69 años]],Tabla55[#Headers],0),FALSE)","v":2},{"$f":"VLOOKUP($A$3,Tabla56[],MATCH(TablaA59[[#This Row],[65-69 años]],Tabla56[#Headers],0),FALSE)","v":9}]
["Total",{"$f":"SUM(B4:B35)","v":414},{"$f":"SUM(C4:C35)","v":448},297]

{"sheet":"10T-GCM-G_Edad_EntFed2020","index":172,"n_rows":22,"n_cols":33,"rows_kept":22,"cut":false,"hidden":true,"merged":[]}
[1,2,3,4,5,6,7,8,9,10,11,12,13,14,15,16,17,18,19,20,21,22,23,24,25,26,27,28,29,30,31,32,33]
["ESTADO","Aguascalientes","Baja California","Baja California Sur","Campeche","Coahuila","Colima","Chiapas","Chihuahua","Ciudad de México","Durango","Guanajuato","Guerrero","Hidalgo","Jalisco","México","Michoacán","Morelos","Nayarit","Nuevo León","Oaxaca","Puebla","Querétaro","Quintana Roo","San Luis Potosí","Sinaloa","Sonora","Tabasco","Tamaulipas","Tlaxcala","Veracruz","Yucatán","Zacatecas"]
["Menores de 1 año",2,7,1,0,10,1,12,7,23,3,9,6,2,11,31,5,2,1,6,9,19,7,2,4,5,3,6,11,3,6,2,1]
["1-4 años",2,13,0,1,7,0,30,9,19,2,13,8,8,22,26,9,2,4,5,15,27,6,5,4,8,8,11,4,2,18,6,7]
["5-9 años",5,6,5,2,8,0,27,10,15,1,14,8,7,12,16,7,6,3,16,11,16,3,1,6,6,5,2,5,2,12,5,5]
["10-14 años",6,14,0,3,9,0,17,12,22,3,10,11,6,17,31,13,3,4,7,10,12,4,4,6,6,5,6,6,1,17,7,3]
["15-19 años",8,10,3,4,9,7,31,26,37,5,24,3,9,36,41,9,12,1,13,15,31,8,2,14,10,15,9,14,7,25,7,12]
["20-24 años",11,21,1,5,7,0,32,20,50,3,20,6,11,35,50,15,8,6,23,25,24,5,10,14,12,19,18,8,8,29,11,5]
["25-29 años",5,16,2,3,12,1,28,17,39,4,23,11,9,23,45,7,5,2,19,17,26,4,9,15,8,14,13,8,7,26,10,2]
["30-34 años",2,23,4,4,7,3,24,20,45,7,13,4,12,26,64,15,6,7,21,17,23,10,3,15,9,19,8,8,3,26,5,7]
["35-39 años",9,10,2,1,7,0,25,19,59,4,23,11,10,39,51,15,9,5,20,13,36,10,6,11,8,10,10,7,3,21,4,3]
["40-44 años",14,12,7,2,15,3,23,22,53,12,28,5,14,29,53,24,9,3,21,17,25,4,5,19,12,14,8,10,6,39,6,7]
["45-49 años",8,13,3,2,16,4,18,28,79,13,26,10,7,48,74,16,16,4,19,22,35,16,6,15,20,23,8,15,9,46,14,10]
["50-54 años",10,23,1,4,15,6,31,35,89,5,22,9,12,57,61,18,9,8,26,19,25,18,9,21,21,20,11,16,6,43,7,5]
["55-59 años",12,36,6,2,17,5,16,32,102,11,34,8,15,45,61,28,13,7,32,19,34,12,4,15,19,20,11,20,5,48,11,5]
["60-64 años",8,24,6,5,28,9,31,39,97,9,41,14,15,52,65,33,12,8,45,18,37,15,7,12,22,25,17,13,8,65,11,16]
["65-69 años",15,27,4,6,32,8,34,47,93,7,38,17,17,77,71,34,12,9,39,25,34,18,8,26,19,33,11,24,10,45,12,6]
["70-74 años",8,21,7,12,26,10,42,58,104,9,41,27,18,76,53,34,23,21,57,32,37,15,12,25,29,46,21,26,7,82,14,12]
["75-79 años",16,29,13,6,43,14,34,51,117,12,53,28,20,105,72,43,23,17,66,38,45,14,7,29,50,48,17,37,13,85,26,22]
["80-84 años",25,30,5,12,38,22,49,54,122,19,50,31,30,117,79,58,20,32,88,51,42,19,11,37,47,52,12,40,11,101,32,35]
["85 años y más",22,52,11,7,55,7,50,63,184,21,76,40,36,157,105,87,50,29,145,73,49,34,10,60,64,66,22,59,27,144,26,48]
["No especificado",0,1,1,0,0,1,0,1,0,0,0,0,0,4,2,1,0,0,0,0,1,0,0,0,0,1,0,0,0,1,1,0]

{"sheet":"10T-GCM-G_Edad_EntFed2021","index":173,"n_rows":22,"n_cols":33,"rows_kept":22,"cut":false,"hidden":true,"merged":[]}
[1,2,3,4,5,6,7,8,9,10,11,12,13,14,15,16,17,18,19,20,21,22,23,24,25,26,27,28,29,30,31,32,33]
["ESTADO","Aguascalientes","Baja California","Baja California Sur","Campeche","Coahuila","Colima","Chiapas","Chihuahua","Ciudad de México","Durango","Guanajuato","Guerrero","Hidalgo","Jalisco","México","Michoacán","Morelos","Nayarit","Nuevo León","Oaxaca","Puebla","Querétaro","Quintana Roo","San Luis Potosí","Sinaloa","Sonora","Tabasco","Tamaulipas","Tlaxcala","Veracruz","Yucatán","Zacatecas"]
["Menores de 1 año",1,1,1,3,7,0,22,6,14,3,5,5,2,11,30,7,1,1,8,5,7,6,2,0,9,2,7,5,2,11,2,4]
["1-4 años",1,5,2,2,10,0,33,15,23,10,14,5,5,21,30,10,5,2,6,11,23,2,5,9,8,2,14,1,0,15,4,3]
["5-9 años",4,4,2,3,6,1,15,5,19,3,16,7,5,17,16,12,3,1,7,8,18,6,5,9,4,9,7,5,2,16,1,6]
["10-14 años",4,11,2,1,4,1,20,12,33,3,13,8,9,21,29,9,2,8,13,14,18,3,5,9,2,5,14,2,5,20,5,6]
["15-19 años",6,11,0,6,8,4,24,26,40,3,27,7,12,40,63,12,11,6,21,19,44,11,3,9,11,5,7,8,10,23,12,7]
["20-24 años",6,19,3,3,10,2,23,22,35,4,25,9,15,40,50,12,5,4,11,12,16,12,5,10,6,22,8,9,11,24,8,6]
["25-29 años",2,15,0,1,17,2,20,16,36,4,27,7,10,31,54,11,9,3,20,18,32,8,6,11,9,19,13,10,6,24,8,3]
["30-34 años",5,23,2,4,11,5,23,13,57,8,16,10,10,38,44,14,6,4,15,14,25,4,6,18,7,12,10,6,3,35,10,7]
["35-39 años",2,15,5,3,12,2,24,18,72,4,30,12,9,40,48,14,6,1,19,21,20,9,4,21,13,16,8,12,2,31,4,7]
["40-44 años",3,23,8,1,11,3,19,16,51,5,33,14,7,47,61,20,10,9,24,21,27,9,5,15,11,23,8,11,6,34,5,8]
["45-49 años",7,21,4,7,12,5,27,27,73,8,30,6,13,57,47,12,8,10,29,18,30,14,12,15,13,30,13,11,7,37,13,5]
["50-54 años",8,32,2,3,26,9,13,26,74,6,21,15,12,60,57,26,7,12,32,15,31,8,11,20,13,24,3,20,6,52,10,14]
["55-59 años",8,24,5,4,20,6,30,26,84,15,32,14,21,64,72,34,16,15,43,23,31,12,10,15,16,22,17,13,5,42,2,9]
["60-64 años",16,21,7,4,8,5,19,32,97,5,35,16,19,62,78,38,15,8,41,25,33,15,8,18,17,31,12,19,5,39,16,8]
["65-69 años",13,19,3,5,19,8,35,23,108,11,41,21,14,82,72,31,16,12,46,28,37,6,7,16,28,29,11,19,8,75,11,11]
["70-74 años",18,29,8,6,31,10,28,43,106,12,34,18,12,86,84,41,18,12,58,50,31,15,15,19,25,37,23,31,6,63,18,13]
["75-79 años",17,39,7,4,29,9,46,36,109,12,52,18,17,116,79,32,16,20,84,43,44,20,9,25,45,35,15,28,5,99,19,24]
["80-84 años",14,43,14,10,30,15,47,43,107,17,40,34,17,116,100,59,29,23,81,51,60,15,11,28,50,54,19,43,11,115,33,29]
["85 años y más",33,54,5,12,38,11,41,51,175,11,92,35,28,163,99,81,36,33,117,82,60,20,11,43,57,60,31,66,7,159,37,34]
["No especificado",0,0,0,0,0,0,0,1,0,0,0,1,0,0,3,0,0,1,1,0,0,0,0,0,0,0,0,0,0,0,0,0]

{"sheet":"10T-GCM-G_Edad_EntFed2022","index":174,"n_rows":22,"n_cols":33,"rows_kept":22,"cut":false,"hidden":true,"merged":[]}
[1,2,3,4,5,6,7,8,9,10,11,12,13,14,15,16,17,18,19,20,21,22,23,24,25,26,27,28,29,30,31,32,33]
["ESTADO","Aguascalientes","Baja California","Baja California Sur","Campeche","Coahuila","Colima","Chiapas","Chihuahua","Ciudad de México","Durango","Guanajuato","Guerrero","Hidalgo","Jalisco","México","Michoacán","Morelos","Nayarit","Nuevo León","Oaxaca","Puebla","Querétaro","Quintana Roo","San Luis Potosí","Sinaloa","Sonora","Tabasco","Tamaulipas","Tlaxcala","Veracruz","Yucatán","Zacatecas"]
["Menores de 1 año",1,4,1,2,2,3,21,8,19,3,19,2,2,9,29,8,2,3,11,9,12,2,1,5,4,2,5,5,1,21,7,2]
["1-4 años",2,6,1,5,11,0,26,9,31,4,20,14,4,22,42,13,5,5,9,12,17,14,5,10,4,4,9,7,6,16,1,7]
["5-9 años",1,5,0,4,6,2,20,9,21,2,15,6,8,20,45,15,3,0,13,15,24,4,5,10,6,3,8,3,5,7,4,6]
["10-14 años",2,9,2,3,3,3,18,7,24,3,17,9,12,27,53,15,8,1,18,16,34,6,5,5,3,10,7,10,6,15,4,3]
["15-19 años",4,20,2,1,11,2,34,28,48,4,33,7,11,46,68,17,4,1,17,16,34,13,2,21,6,14,17,11,11,22,8,13]
["20-24 años",16,16,3,2,10,2,20,19,49,4,27,7,9,30,65,16,9,9,27,15,42,12,6,16,9,10,10,9,3,31,9,6]
["25-29 años",8,20,3,1,10,2,27,12,46,5,27,9,8,31,57,12,7,6,20,22,29,11,4,10,8,12,5,7,10,20,8,7]
["30-34 años",6,14,4,4,11,5,14,15,41,6,17,5,13,30,41,17,9,6,15,20,29,11,4,6,7,14,11,12,5,27,11,9]
["35-39 años",6,14,2,4,13,6,20,15,46,6,22,7,11,36,61,16,6,4,26,11,24,13,9,14,9,13,6,10,6,29,7,5]
["40-44 años",9,20,3,1,16,0,17,28,50,9,21,12,9,52,52,11,12,5,29,19,25,13,8,14,9,14,9,9,5,42,8,6]
["45-49 años",6,21,4,4,21,8,26,32,78,9,32,10,15,58,66,23,13,6,28,18,28,14,2,22,14,19,14,16,6,25,7,9]
["50-54 años",8,17,7,4,26,5,28,28,67,5,35,6,15,72,80,22,13,7,36,16,22,15,8,24,12,22,14,16,4,46,14,14]
["55-59 años",10,21,3,8,21,8,15,31,81,8,20,16,21,61,80,26,13,8,56,24,43,14,13,28,10,21,14,16,5,60,17,8]
["60-64 años",8,32,3,4,24,12,24,40,96,15,26,10,21,63,91,21,10,14,53,19,31,10,7,19,10,29,14,26,6,63,15,9]
["65-69 años",13,27,5,5,32,4,32,33,116,7,37,18,13,79,92,39,10,9,50,20,42,21,10,30,22,36,12,17,10,67,15,16]
["70-74 años",20,34,10,12,35,8,26,39,109,16,33,22,22,80,70,29,15,12,56,31,39,16,15,25,40,43,17,31,6,84,11,13]
["75-79 años",23,31,13,5,37,12,45,52,130,13,49,23,25,115,101,40,22,15,83,40,50,20,19,30,38,62,20,40,8,100,21,21]
["80-84 años",21,43,8,11,41,8,47,58,126,14,46,40,32,90,94,39,24,25,97,47,45,26,11,35,59,58,17,56,12,98,27,12]
["85 años y más",32,54,6,8,63,18,58,58,199,10,67,44,27,175,152,91,37,34,168,74,57,31,14,49,65,65,20,65,10,147,17,33]
["No especificado",0,3,0,1,1,1,0,1,0,0,0,0,0,2,0,1,0,1,2,0,5,0,0,0,0,0,0,0,0,0,0,0]

{"sheet":"10GCM-G-Edad_Ent.Fed","index":175,"n_rows":36,"n_cols":4,"rows_kept":36,"cut":false,"hidden":false,"merged":[[0,0,0,3]]}
["Enfermedades del sistema nervioso"]
["SELECCIONE UN GRUPO DE EDAD"]
["75-79 años","2020","2021","2022"]
["Aguascalientes",{"$f":"VLOOKUP($A$3,Tabla57[],MATCH(TablaA60[[#This Row],[75-79 años]],Tabla57[#Headers],0),FALSE)","v":16},{"$f":"VLOOKUP($A$3,Tabla58[],MATCH(TablaA60[[#This Row],[75-79 años]],Tabla58[#Headers],0),FALSE)","v":17},{"$f":"VLOOKUP($A$3,Tabla59[],MATCH(TablaA60[[#This Row],[75-79 años]],Tabla59[#Headers],0),FALSE)","v":23}]
["Baja California",{"$f":"VLOOKUP($A$3,Tabla57[],MATCH(TablaA60[[#This Row],[75-79 años]],Tabla57[#Headers],0),FALSE)","v":29},{"$f":"VLOOKUP($A$3,Tabla58[],MATCH(TablaA60[[#This Row],[75-79 años]],Tabla58[#Headers],0),FALSE)","v":39},{"$f":"VLOOKUP($A$3,Tabla59[],MATCH(TablaA60[[#This Row],[75-79 años]],Tabla59[#Headers],0),FALSE)","v":31}]
["Baja California Sur",{"$f":"VLOOKUP($A$3,Tabla57[],MATCH(TablaA60[[#This Row],[75-79 años]],Tabla57[#Headers],0),FALSE)","v":13},{"$f":"VLOOKUP($A$3,Tabla58[],MATCH(TablaA60[[#This Row],[75-79 años]],Tabla58[#Headers],0),FALSE)","v":7},{"$f":"VLOOKUP($A$3,Tabla59[],MATCH(TablaA60[[#This Row],[75-79 años]],Tabla59[#Headers],0),FALSE)","v":13}]
["Campeche",{"$f":"VLOOKUP($A$3,Tabla57[],MATCH(TablaA60[[#This Row],[75-79 años]],Tabla57[#Headers],0),FALSE)","v":6},{"$f":"VLOOKUP($A$3,Tabla58[],MATCH(TablaA60[[#This Row],[75-79 años]],Tabla58[#Headers],0),FALSE)","v":4},{"$f":"VLOOKUP($A$3,Tabla59[],MATCH(TablaA60[[#This Row],[75-79 años]],Tabla59[#Headers],0),FALSE)","v":5}]
["Coahuila",{"$f":"VLOOKUP($A$3,Tabla57[],MATCH(TablaA60[[#This Row],[75-79 años]],Tabla57[#Headers],0),FALSE)","v":43},{"$f":"VLOOKUP($A$3,Tabla58[],MATCH(TablaA60[[#This Row],[75-79 años]],Tabla58[#Headers],0),FALSE)","v":29},{"$f":"VLOOKUP($A$3,Tabla59[],MATCH(TablaA60[[#This Row],[75-79 años]],Tabla59[#Headers],0),FALSE)","v":37}]
["Colima",{"$f":"VLOOKUP($A$3,Tabla57[],MATCH(TablaA60[[#This Row],[75-79 años]],Tabla57[#Headers],0),FALSE)","v":14},{"$f":"VLOOKUP($A$3,Tabla58[],MATCH(TablaA60[[#This Row],[75-79 años]],Tabla58[#Headers],0),FALSE)","v":9},{"$f":"VLOOKUP($A$3,Tabla59[],MATCH(TablaA60[[#This Row],[75-79 años]],Tabla59[#Headers],0),FALSE)","v":12}]
["Chiapas",{"$f":"VLOOKUP($A$3,Tabla57[],MATCH(TablaA60[[#This Row],[75-79 años]],Tabla57[#Headers],0),FALSE)","v":34},{"$f":"VLOOKUP($A$3,Tabla58[],MATCH(TablaA60[[#This Row],[75-79 años]],Tabla58[#Headers],0),FALSE)","v":46},{"$f":"VLOOKUP($A$3,Tabla59[],MATCH(TablaA60[[#This Row],[75-79 años]],Tabla59[#Headers],0),FALSE)","v":45}]
["Chihuahua",{"$f":"VLOOKUP($A$3,Tabla57[],MATCH(TablaA60[[#This Row],[75-79 años]],Tabla57[#Headers],0),FALSE)","v":51},{"$f":"VLOOKUP($A$3,Tabla58[],MATCH(TablaA60[[#This Row],[75-79 años]],Tabla58[#Headers],0),FALSE)","v":36},{"$f":"VLOOKUP($A$3,Tabla59[],MATCH(TablaA60[[#This Row],[75-79 años]],Tabla59[#Headers],0),FALSE)","v":52}]
["Ciudad de México",{"$f":"VLOOKUP($A$3,Tabla57[],MATCH(TablaA60[[#This Row],[75-79 años]],Tabla57[#Headers],0),FALSE)","v":117},{"$f":"VLOOKUP($A$3,Tabla58[],MATCH(TablaA60[[#This Row],[75-79 años]],Tabla58[#Headers],0),FALSE)","v":109},{"$f":"VLOOKUP($A$3,Tabla59[],MATCH(TablaA60[[#This Row],[75-79 años]],Tabla59[#Headers],0),FALSE)","v":130}]
["Durango",{"$f":"VLOOKUP($A$3,Tabla57[],MATCH(TablaA60[[#This Row],[75-79 años]],Tabla57[#Headers],0),FALSE)","v":12},{"$f":"VLOOKUP($A$3,Tabla58[],MATCH(TablaA60[[#This Row],[75-79 años]],Tabla58[#Headers],0),FALSE)","v":12},{"$f":"VLOOKUP($A$3,Tabla59[],MATCH(TablaA60[[#This Row],[75-79 años]],Tabla59[#Headers],0),FALSE)","v":13}]
["Guanajuato",{"$f":"VLOOKUP($A$3,Tabla57[],MATCH(TablaA60[[#This Row],[75-79 años]],Tabla57[#Headers],0),FALSE)","v":53},{"$f":"VLOOKUP($A$3,Tabla58[],MATCH(TablaA60[[#This Row],[75-79 años]],Tabla58[#Headers],0),FALSE)","v":52},{"$f":"VLOOKUP($A$3,Tabla59[],MATCH(TablaA60[[#This Row],[75-79 años]],Tabla59[#Headers],0),FALSE)","v":49}]
["Guerrero",{"$f":"VLOOKUP($A$3,Tabla57[],MATCH(TablaA60[[#This Row],[75-79 años]],Tabla57[#Headers],0),FALSE)","v":28},{"$f":"VLOOKUP($A$3,Tabla58[],MATCH(TablaA60[[#This Row],[75-79 años]],Tabla58[#Headers],0),FALSE)","v":18},{"$f":"VLOOKUP($A$3,Tabla59[],MATCH(TablaA60[[#This Row],[75-79 años]],Tabla59[#Headers],0),FALSE)","v":23}]
["Hidalgo",{"$f":"VLOOKUP($A$3,Tabla57[],MATCH(TablaA60[[#This Row],[75-79 años]],Tabla57[#Headers],0),FALSE)","v":20},{"$f":"VLOOKUP($A$3,Tabla58[],MATCH(TablaA60[[#This Row],[75-79 años]],Tabla58[#Headers],0),FALSE)","v":17},{"$f":"VLOOKUP($A$3,Tabla59[],MATCH(TablaA60[[#This Row],[75-79 años]],Tabla59[#Headers],0),FALSE)","v":25}]
["Jalisco",{"$f":"VLOOKUP($A$3,Tabla57[],MATCH(TablaA60[[#This Row],[75-79 años]],Tabla57[#Headers],0),FALSE)","v":105},{"$f":"VLOOKUP($A$3,Tabla58[],MATCH(TablaA60[[#This Row],[75-79 años]],Tabla58[#Headers],0),FALSE)","v":116},{"$f":"VLOOKUP($A$3,Tabla59[],MATCH(TablaA60[[#This Row],[75-79 años]],Tabla59[#Headers],0),FALSE)","v":115}]
["México",{"$f":"VLOOKUP($A$3,Tabla57[],MATCH(TablaA60[[#This Row],[75-79 años]],Tabla57[#Headers],0),FALSE)","v":72},{"$f":"VLOOKUP($A$3,Tabla58[],MATCH(TablaA60[[#This Row],[75-79 años]],Tabla58[#Headers],0),FALSE)","v":79},{"$f":"VLOOKUP($A$3,Tabla59[],MATCH(TablaA60[[#This Row],[75-79 años]],Tabla59[#Headers],0),FALSE)","v":101}]
["Michoacán",{"$f":"VLOOKUP($A$3,Tabla57[],MATCH(TablaA60[[#This Row],[75-79 años]],Tabla57[#Headers],0),FALSE)","v":43},{"$f":"VLOOKUP($A$3,Tabla58[],MATCH(TablaA60[[#This Row],[75-79 años]],Tabla58[#Headers],0),FALSE)","v":32},{"$f":"VLOOKUP($A$3,Tabla59[],MATCH(TablaA60[[#This Row],[75-79 años]],Tabla59[#Headers],0),FALSE)","v":40}]
["Morelos",{"$f":"VLOOKUP($A$3,Tabla57[],MATCH(TablaA60[[#This Row],[75-79 años]],Tabla57[#Headers],0),FALSE)","v":23},{"$f":"VLOOKUP($A$3,Tabla58[],MATCH(TablaA60[[#This Row],[75-79 años]],Tabla58[#Headers],0),FALSE)","v":16},{"$f":"VLOOKUP($A$3,Tabla59[],MATCH(TablaA60[[#This Row],[75-79 años]],Tabla59[#Headers],0),FALSE)","v":22}]
["Nayarit",{"$f":"VLOOKUP($A$3,Tabla57[],MATCH(TablaA60[[#This Row],[75-79 años]],Tabla57[#Headers],0),FALSE)","v":17},{"$f":"VLOOKUP($A$3,Tabla58[],MATCH(TablaA60[[#This Row],[75-79 años]],Tabla58[#Headers],0),FALSE)","v":20},{"$f":"VLOOKUP($A$3,Tabla59[],MATCH(TablaA60[[#This Row],[75-79 años]],Tabla59[#Headers],0),FALSE)","v":15}]
["Nuevo León",{"$f":"VLOOKUP($A$3,Tabla57[],MATCH(TablaA60[[#This Row],[75-79 años]],Tabla57[#Headers],0),FALSE)","v":66},{"$f":"VLOOKUP($A$3,Tabla58[],MATCH(TablaA60[[#This Row],[75-79 años]],Tabla58[#Headers],0),FALSE)","v":84},{"$f":"VLOOKUP($A$3,Tabla59[],MATCH(TablaA60[[#This Row],[75-79 años]],Tabla59[#Headers],0),FALSE)","v":83}]
["Oaxaca",{"$f":"VLOOKUP($A$3,Tabla57[],MATCH(TablaA60[[#This Row],[75-79 años]],Tabla57[#Headers],0),FALSE)","v":38},{"$f":"VLOOKUP($A$3,Tabla58[],MATCH(TablaA60[[#This Row],[75-79 años]],Tabla58[#Headers],0),FALSE)","v":43},{"$f":"VLOOKUP($A$3,Tabla59[],MATCH(TablaA60[[#This Row],[75-79 años]],Tabla59[#Headers],0),FALSE)","v":40}]
["Puebla",{"$f":"VLOOKUP($A$3,Tabla57[],MATCH(TablaA60[[#This Row],[75-79 años]],Tabla57[#Headers],0),FALSE)","v":45},{"$f":"VLOOKUP($A$3,Tabla58[],MATCH(TablaA60[[#This Row],[75-79 años]],Tabla58[#Headers],0),FALSE)","v":44},{"$f":"VLOOKUP($A$3,Tabla59[],MATCH(TablaA60[[#This Row],[75-79 años]],Tabla59[#Headers],0),FALSE)","v":50}]
["Querétaro",{"$f":"VLOOKUP($A$3,Tabla57[],MATCH(TablaA60[[#This Row],[75-79 años]],Tabla57[#Headers],0),FALSE)","v":14},{"$f":"VLOOKUP($A$3,Tabla58[],MATCH(TablaA60[[#This Row],[75-79 años]],Tabla58[#Headers],0),FALSE)","v":20},{"$f":"VLOOKUP($A$3,Tabla59[],MATCH(TablaA60[[#This Row],[75-79 años]],Tabla59[#Headers],0),FALSE)","v":20}]
["Quintana Roo",{"$f":"VLOOKUP($A$3,Tabla57[],MATCH(TablaA60[[#This Row],[75-79 años]],Tabla57[#Headers],0),FALSE)","v":7},{"$f":"VLOOKUP($A$3,Tabla58[],MATCH(TablaA60[[#This Row],[75-79 años]],Tabla58[#Headers],0),FALSE)","v":9},{"$f":"VLOOKUP($A$3,Tabla59[],MATCH(TablaA60[[#This Row],[75-79 años]],Tabla59[#Headers],0),FALSE)","v":19}]
["San Luis Potosí",{"$f":"VLOOKUP($A$3,Tabla57[],MATCH(TablaA60[[#This Row],[75-79 años]],Tabla57[#Headers],0),FALSE)","v":29},{"$f":"VLOOKUP($A$3,Tabla58[],MATCH(TablaA60[[#This Row],[75-79 años]],Tabla58[#Headers],0),FALSE)","v":25},{"$f":"VLOOKUP($A$3,Tabla59[],MATCH(TablaA60[[#This Row],[75-79 años]],Tabla59[#Headers],0),FALSE)","v":30}]
["Sinaloa",{"$f":"VLOOKUP($A$3,Tabla57[],MATCH(TablaA60[[#This Row],[75-79 años]],Tabla57[#Headers],0),FALSE)","v":50},{"$f":"VLOOKUP($A$3,Tabla58[],MATCH(TablaA60[[#This Row],[75-79 años]],Tabla58[#Headers],0),FALSE)","v":45},{"$f":"VLOOKUP($A$3,Tabla59[],MATCH(TablaA60[[#This Row],[75-79 años]],Tabla59[#Headers],0),FALSE)","v":38}]
["Sonora",{"$f":"VLOOKUP($A$3,Tabla57[],MATCH(TablaA60[[#This Row],[75-79 años]],Tabla57[#Headers],0),FALSE)","v":48},{"$f":"VLOOKUP($A$3,Tabla58[],MATCH(TablaA60[[#This Row],[75-79 años]],Tabla58[#Headers],0),FALSE)","v":35},{"$f":"VLOOKUP($A$3,Tabla59[],MATCH(TablaA60[[#This Row],[75-79 años]],Tabla59[#Headers],0),FALSE)","v":62}]
["Tabasco",{"$f":"VLOOKUP($A$3,Tabla57[],MATCH(TablaA60[[#This Row],[75-79 años]],Tabla57[#Headers],0),FALSE)","v":17},{"$f":"VLOOKUP($A$3,Tabla58[],MATCH(TablaA60[[#This Row],[75-79 años]],Tabla58[#Headers],0),FALSE)","v":15},{"$f":"VLOOKUP($A$3,Tabla59[],MATCH(TablaA60[[#This Row],[75-79 años]],Tabla59[#Headers],0),FALSE)","v":20}]
["Tamaulipas",{"$f":"VLOOKUP($A$3,Tabla57[],MATCH(TablaA60[[#This Row],[75-79 años]],Tabla57[#Headers],0),FALSE)","v":37},{"$f":"VLOOKUP($A$3,Tabla58[],MATCH(TablaA60[[#This Row],[75-79 años]],Tabla58[#Headers],0),FALSE)","v":28},{"$f":"VLOOKUP($A$3,Tabla59[],MATCH(TablaA60[[#This Row],[75-79 años]],Tabla59[#Headers],0),FALSE)","v":40}]
["Tlaxcala",{"$f":"VLOOKUP($A$3,Tabla57[],MATCH(TablaA60[[#This Row],[75-79 años]],Tabla57[#Headers],0),FALSE)","v":13},{"$f":"VLOOKUP($A$3,Tabla58[],MATCH(TablaA60[[#This Row],[75-79 años]],Tabla58[#Headers],0),FALSE)","v":5},{"$f":"VLOOKUP($A$3,Tabla59[],MATCH(TablaA60[[#This Row],[75-79 años]],Tabla59[#Headers],0),FALSE)","v":8}]
["Veracruz",{"$f":"VLOOKUP($A$3,Tabla57[],MATCH(TablaA60[[#This Row],[75-79 años]],Tabla57[#Headers],0),FALSE)","v":85},{"$f":"VLOOKUP($A$3,Tabla58[],MATCH(TablaA60[[#This Row],[75-79 años]],Tabla58[#Headers],0),FALSE)","v":99},{"$f":"VLOOKUP($A$3,Tabla59[],MATCH(TablaA60[[#This Row],[75-79 años]],Tabla59[#Headers],0),FALSE)","v":100}]
["Yucatán",{"$f":"VLOOKUP($A$3,Tabla57[],MATCH(TablaA60[[#This Row],[75-79 años]],Tabla57[#Headers],0),FALSE)","v":26},{"$f":"VLOOKUP($A$3,Tabla58[],MATCH(TablaA60[[#This Row],[75-79 años]],Tabla58[#Headers],0),FALSE)","v":19},{"$f":"VLOOKUP($A$3,Tabla59[],MATCH(TablaA60[[#This Row],[75-79 años]],Tabla59[#Headers],0),FALSE)","v":21}]
["Zacatecas",{"$f":"VLOOKUP($A$3,Tabla57[],MATCH(TablaA60[[#This Row],[75-79 años]],Tabla57[#Headers],0),FALSE)","v":22},{"$f":"VLOOKUP($A$3,Tabla58[],MATCH(TablaA60[[#This Row],[75-79 años]],Tabla58[#Headers],0),FALSE)","v":24},{"$f":"VLOOKUP($A$3,Tabla59[],MATCH(TablaA60[[#This Row],[75-79 años]],Tabla59[#Headers],0),FALSE)","v":21}]
["Total",{"$f":"SUM(B4:B35)","v":1193},{"$f":"SUM(C4:C35)","v":1153},1303]

{"sheet":"11T-GCM-G_Edad_EntFed2020","index":176,"n_rows":22,"n_cols":33,"rows_kept":22,"cut":false,"hidden":true,"merged":[]}
[1,2,3,4,5,6,7,8,9,10,11,12,13,14,15,16,17,18,19,20,21,22,23,24,25,26,27,28,29,30,31,32,33]
["ESTADO","Aguascalientes","Baja California","Baja California Sur","Campeche","Coahuila","Colima","Chiapas","Chihuahua","Ciudad de México","Durango","Guanajuato","Guerrero","Hidalgo","Jalisco","México","Michoacán","Morelos","Nayarit","Nuevo León","Oaxaca","Puebla","Querétaro","Quintana Roo","San Luis Potosí","Sinaloa","Sonora","Tabasco","Tamaulipas","Tlaxcala","Veracruz","Yucatán","Zacatecas"]
["Menores de 1 año",0,0,0,0,0,0,0,0,0,0,0,0,0,0,0,0,0,0,0,0,0,0,0,0,0,0,0,0,0,0,0,0]
["1-4 años",0,0,0,0,0,0,0,0,0,0,0,0,0,0,0,0,0,0,0,0,0,0,0,0,0,0,0,0,0,0,0,0]
["5-9 años",0,0,0,0,0,0,0,0,0,0,0,0,0,0,0,0,0,0,0,0,0,0,0,0,0,0,0,0,0,0,0,0]
["10-14 años",0,0,0,0,0,0,0,0,0,0,0,0,0,0,0,0,0,0,0,0,0,0,0,0,0,0,0,0,0,0,0,0]
["15-19 años",0,0,0,0,0,0,0,0,0,0,0,0,0,0,0,0,0,0,0,0,0,0,0,0,0,0,0,0,0,0,0,0]
["20-24 años",0,0,0,0,0,0,0,0,0,0,0,0,0,0,0,0,0,0,0,0,0,0,0,0,0,0,0,0,0,0,0,0]
["25-29 años",0,0,0,0,0,0,0,0,0,0,0,0,0,0,0,0,0,0,0,0,0,0,0,0,0,0,0,0,0,0,0,0]
["30-34 años",0,0,0,0,0,0,0,0,0,0,0,0,0,0,0,0,0,0,0,0,0,0,0,0,0,0,0,0,0,0,0,0]
["35-39 años",0,0,0,0,0,0,0,0,0,0,0,0,0,0,0,0,0,0,0,0,0,0,0,0,0,0,0,0,0,0,0,0]
["40-44 años",0,0,0,0,0,0,0,0,0,0,0,0,0,0,0,0,0,0,0,0,0,0,0,0,0,0,0,0,0,0,0,0]
["45-49 años",0,0,0,0,0,0,0,0,0,0,0,0,0,0,0,0,0,0,0,0,0,0,0,0,0,0,0,0,0,0,0,0]
["50-54 años",0,0,0,0,0,0,0,0,0,0,0,0,0,0,0,0,0,0,1,0,0,0,0,0,0,0,1,0,0,0,0,0]
["55-59 años",0,0,0,0,0,0,0,0,0,0,1,0,0,0,0,0,0,0,0,0,0,0,0,0,0,0,0,0,0,0,0,0]
["60-64 años",0,0,0,0,0,0,0,0,1,0,0,0,0,0,0,0,0,0,0,0,0,0,0,0,0,0,0,0,0,0,0,0]
["65-69 años",0,0,0,0,0,0,0,0,0,0,0,0,0,0,0,0,0,0,0,0,0,0,0,0,0,0,0,0,0,0,0,0]
["70-74 años",0,0,0,0,0,0,0,0,1,0,0,0,0,0,0,0,0,0,0,0,0,0,0,0,0,0,0,0,0,0,0,0]
["75-79 años",0,0,0,0,0,0,0,0,0,0,0,0,0,0,0,0,0,0,0,1,0,0,0,0,0,0,0,0,0,0,0,0]
["80-84 años",0,0,0,0,0,0,0,0,0,0,0,0,0,0,0,0,0,0,0,0,0,0,0,0,0,0,0,0,0,1,0,0]
["85 años y más",0,0,0,0,0,0,0,0,0,1,0,0,1,0,0,0,0,0,0,0,0,0,0,0,1,0,0,0,0,0,0,0]
["No especificado",0,0,0,0,0,0,0,0,0,0,0,0,0,0,0,0,0,0,0,0,0,0,0,0,0,0,0,0,0,0,0,0]

{"sheet":"11T-GCM-G_Edad_EntFed2021","index":177,"n_rows":22,"n_cols":33,"rows_kept":22,"cut":false,"hidden":true,"merged":[]}
[1,2,3,4,5,6,7,8,9,10,11,12,13,14,15,16,17,18,19,20,21,22,23,24,25,26,27,28,29,30,31,32,33]
["ESTADO","Aguascalientes","Baja California","Baja California Sur","Campeche","Coahuila","Colima","Chiapas","Chihuahua","Ciudad de México","Durango","Guanajuato","Guerrero","Hidalgo","Jalisco","México","Michoacán","Morelos","Nayarit","Nuevo León","Oaxaca","Puebla","Querétaro","Quintana Roo","San Luis Potosí","Sinaloa","Sonora","Tabasco","Tamaulipas","Tlaxcala","Veracruz","Yucatán","Zacatecas"]
["Menores de 1 año",0,0,0,0,0,0,0,0,0,0,0,0,0,0,0,0,0,0,0,0,0,0,0,0,0,0,0,0,0,0,0,0]
["1-4 años",0,0,0,0,0,0,0,0,0,0,0,0,0,0,0,0,0,0,0,0,0,0,0,0,0,0,0,0,0,0,0,0]
["5-9 años",0,0,0,0,0,0,0,0,0,0,0,0,0,0,0,0,0,0,0,0,0,0,0,0,0,0,0,0,0,0,0,0]
["10-14 años",0,0,0,0,0,0,0,0,0,0,0,0,0,0,0,0,0,0,0,0,0,0,0,0,0,0,0,0,0,0,0,0]
["15-19 años",0,0,0,0,0,0,0,0,0,0,0,0,0,0,0,0,0,0,0,0,0,0,0,0,0,0,0,0,0,0,0,0]
["20-24 años",0,0,0,0,0,0,0,0,0,0,0,0,0,0,0,0,0,0,0,0,0,0,0,0,0,0,0,0,0,0,0,0]
["25-29 años",0,0,0,0,0,0,0,0,0,0,0,0,0,0,0,0,0,0,0,0,0,0,0,0,0,0,0,0,0,0,0,0]
["30-34 años",0,0,0,0,0,0,0,0,0,0,0,0,0,0,0,0,0,0,0,0,0,0,0,0,0,0,0,0,0,1,0,0]
["35-39 años",0,0,0,0,1,0,0,0,0,0,0,0,0,0,0,0,0,0,0,0,0,0,0,0,0,0,0,0,0,0,0,1]
["40-44 años",0,0,0,0,0,0,0,0,0,0,0,0,0,0,0,0,0,0,0,0,0,0,0,0,0,0,0,0,0,0,0,0]
["45-49 años",0,0,0,0,0,0,0,0,0,0,0,0,0,0,1,0,0,0,0,0,0,0,0,0,0,0,0,1,0,0,0,0]
["50-54 años",0,0,0,0,0,0,0,0,0,0,0,0,0,0,0,0,0,0,0,0,0,0,0,0,0,0,0,0,0,0,0,0]
["55-59 años",0,0,0,0,1,0,0,0,0,0,0,0,0,0,0,0,0,0,1,0,0,0,0,0,0,0,0,0,0,0,0,0]
["60-64 años",0,0,0,0,0,0,0,0,0,0,0,1,0,0,0,0,0,0,0,0,0,0,0,0,0,0,0,0,0,1,0,0]
["65-69 años",0,0,0,0,1,0,0,0,0,0,0,0,0,0,0,0,0,0,0,0,1,0,0,0,0,0,0,1,0,0,0,0]
["70-74 años",0,0,0,0,0,0,0,0,0,0,0,0,0,0,0,0,0,0,0,0,0,0,0,0,0,0,0,0,1,0,0,0]
["75-79 años",0,0,0,0,0,0,0,0,0,0,0,1,0,0,0,0,0,0,0,1,0,0,0,0,0,0,0,0,0,0,0,0]
["80-84 años",0,0,0,0,0,0,0,0,0,0,0,0,0,0,0,0,0,0,0,0,0,0,0,0,0,0,0,0,0,0,0,0]
["85 años y más",0,0,0,0,0,0,1,0,0,0,0,0,0,0,0,0,0,0,0,1,0,0,0,0,0,0,1,2,0,0,0,0]
["No especificado",0,0,0,0,0,0,0,0,0,0,0,0,0,0,0,0,0,0,0,0,0,0,0,0,0,0,0,0,0,0,0,0]

{"sheet":"11T-GCM-G_Edad_EntFed2022","index":178,"n_rows":22,"n_cols":33,"rows_kept":22,"cut":false,"hidden":true,"merged":[]}
[1,2,3,4,5,6,7,8,9,10,11,12,13,14,15,16,17,18,19,20,21,22,23,24,25,26,27,28,29,30,31,32,33]
["ESTADO","Aguascalientes","Baja California","Baja California Sur","Campeche","Coahuila","Colima","Chiapas","Chihuahua","Ciudad de México","Durango","Guanajuato","Guerrero","Hidalgo","Jalisco","México","Michoacán","Morelos","Nayarit","Nuevo León","Oaxaca","Puebla","Querétaro","Quintana Roo","San Luis Potosí","Sinaloa","Sonora","Tabasco","Tamaulipas","Tlaxcala","Veracruz","Yucatán","Zacatecas"]
["Menores de 1 año",0,0,0,0,0,0,0,0,0,0,0,0,0,0,0,0,0,0,0,0,0,0,0,0,0,0,0,0,0,0,0,0]
["1-4 años",0,0,0,0,0,0,0,0,0,0,0,0,0,0,1,0,0,0,0,0,0,0,0,0,0,0,0,0,0,0,0,0]
["5-9 años",0,0,0,0,0,0,0,0,0,0,0,0,0,0,0,0,0,0,0,0,0,0,0,0,0,0,0,0,0,0,0,0]
["10-14 años",0,0,0,0,0,0,0,0,0,0,0,0,0,0,0,0,0,0,0,0,0,0,0,0,0,0,0,0,0,0,0,0]
["15-19 años",0,0,0,0,0,0,0,0,0,0,0,0,0,0,0,0,0,0,0,0,0,0,0,0,0,0,1,0,0,0,0,0]
["20-24 años",0,0,0,0,0,0,0,0,0,0,0,0,0,0,0,0,0,0,0,0,0,0,0,0,0,0,0,0,0,0,0,0]
["25-29 años",0,0,0,0,0,0,0,0,1,0,0,0,0,0,0,0,0,0,0,0,0,0,0,0,0,0,0,0,0,0,0,0]
["30-34 años",0,0,0,0,0,0,0,0,0,0,0,0,0,0,1,0,0,0,0,0,0,0,0,0,0,0,0,0,0,0,0,0]
["35-39 años",0,0,0,0,0,0,0,0,0,0,0,0,0,0,1,0,0,0,0,0,0,0,0,0,0,0,0,0,0,0,0,0]
["40-44 años",0,0,0,0,0,0,0,0,0,0,0,0,0,1,0,0,0,0,0,0,1,0,0,0,0,0,0,0,0,0,0,0]
["45-49 años",0,0,0,0,0,0,0,0,0,0,0,0,0,0,1,0,0,0,0,0,0,0,0,0,0,0,0,0,0,0,0,0]
["50-54 años",0,0,0,0,0,0,0,0,0,0,0,0,0,0,0,0,0,0,0,0,0,0,0,0,0,0,0,0,0,0,0,0]
["55-59 años",0,1,0,0,0,0,0,0,0,0,0,0,0,0,0,0,0,0,0,0,0,0,0,0,0,0,0,0,0,0,0,0]
["60-64 años",0,0,0,0,0,0,0,0,1,0,0,0,0,0,0,0,0,0,0,0,0,0,1,0,0,0,0,0,0,0,0,0]
["65-69 años",0,0,0,0,0,0,0,0,0,0,0,0,0,0,0,0,0,0,0,0,0,0,0,0,0,0,0,0,0,0,0,0]
["70-74 años",0,0,0,0,0,0,0,0,1,0,1,0,0,0,0,0,0,0,0,0,0,0,0,0,0,0,0,0,0,0,0,0]
["75-79 años",0,0,0,0,0,0,0,0,1,0,0,0,0,0,0,1,0,0,0,0,0,0,0,0,0,0,0,0,0,0,0,0]
["80-84 años",1,0,0,0,0,0,0,0,0,0,0,0,0,0,0,0,0,0,0,0,0,0,0,0,0,0,0,0,0,0,0,0]
["85 años y más",0,0,0,0,0,0,0,0,0,0,0,0,2,0,0,0,0,0,0,1,0,0,0,0,0,1,0,1,0,2,0,0]
["No especificado",0,0,0,0,0,0,0,0,0,0,0,0,0,0,0,0,0,0,0,0,0,0,0,0,0,0,0,0,0,0,0,0]

{"sheet":"11GCM-G-Edad_Ent.Fed","index":179,"n_rows":36,"n_cols":4,"rows_kept":36,"cut":false,"hidden":false,"merged":[[0,0,0,3]]}
["Enfermedades del ojo y sus anexos"]
["SELECCIONE UN GRUPO DE EDAD"]
["85 años y más","2020","2021","2022"]
["Aguascalientes",{"$f":"VLOOKUP($A$3,Tabla60[],MATCH(TablaA61[[#This Row],[85 años y más]],Tabla60[#Headers],0),FALSE)","v":0},{"$f":"VLOOKUP($A$3,Tabla61[],MATCH(TablaA61[[#This Row],[85 años y más]],Tabla61[#Headers],0),FALSE)","v":0},{"$f":"VLOOKUP($A$3,Tabla62[],MATCH(TablaA61[[#This Row],[85 años y más]],Tabla62[#Headers],0),FALSE)","v":0}]
["Baja California",{"$f":"VLOOKUP($A$3,Tabla60[],MATCH(TablaA61[[#This Row],[85 años y más]],Tabla60[#Headers],0),FALSE)","v":0},{"$f":"VLOOKUP($A$3,Tabla61[],MATCH(TablaA61[[#This Row],[85 años y más]],Tabla61[#Headers],0),FALSE)","v":0},{"$f":"VLOOKUP($A$3,Tabla62[],MATCH(TablaA61[[#This Row],[85 años y más]],Tabla62[#Headers],0),FALSE)","v":0}]
["Baja California Sur",{"$f":"VLOOKUP($A$3,Tabla60[],MATCH(TablaA61[[#This Row],[85 años y más]],Tabla60[#Headers],0),FALSE)","v":0},{"$f":"VLOOKUP($A$3,Tabla61[],MATCH(TablaA61[[#This Row],[85 años y más]],Tabla61[#Headers],0),FALSE)","v":0},{"$f":"VLOOKUP($A$3,Tabla62[],MATCH(TablaA61[[#This Row],[85 años y más]],Tabla62[#Headers],0),FALSE)","v":0}]
["Campeche",{"$f":"VLOOKUP($A$3,Tabla60[],MATCH(TablaA61[[#This Row],[85 años y más]],Tabla60[#Headers],0),FALSE)","v":0},{"$f":"VLOOKUP($A$3,Tabla61[],MATCH(TablaA61[[#This Row],[85 años y más]],Tabla61[#Headers],0),FALSE)","v":0},{"$f":"VLOOKUP($A$3,Tabla62[],MATCH(TablaA61[[#This Row],[85 años y más]],Tabla62[#Headers],0),FALSE)","v":0}]
["Coahuila",{"$f":"VLOOKUP($A$3,Tabla60[],MATCH(TablaA61[[#This Row],[85 años y más]],Tabla60[#Headers],0),FALSE)","v":0},{"$f":"VLOOKUP($A$3,Tabla61[],MATCH(TablaA61[[#This Row],[85 años y más]],Tabla61[#Headers],0),FALSE)","v":0},{"$f":"VLOOKUP($A$3,Tabla62[],MATCH(TablaA61[[#This Row],[85 años y más]],Tabla62[#Headers],0),FALSE)","v":0}]
["Colima",{"$f":"VLOOKUP($A$3,Tabla60[],MATCH(TablaA61[[#This Row],[85 años y más]],Tabla60[#Headers],0),FALSE)","v":0},{"$f":"VLOOKUP($A$3,Tabla61[],MATCH(TablaA61[[#This Row],[85 años y más]],Tabla61[#Headers],0),FALSE)","v":0},{"$f":"VLOOKUP($A$3,Tabla62[],MATCH(TablaA61[[#This Row],[85 años y más]],Tabla62[#Headers],0),FALSE)","v":0}]
["Chiapas",{"$f":"VLOOKUP($A$3,Tabla60[],MATCH(TablaA61[[#This Row],[85 años y más]],Tabla60[#Headers],0),FALSE)","v":0},{"$f":"VLOOKUP($A$3,Tabla61[],MATCH(TablaA61[[#This Row],[85 años y más]],Tabla61[#Headers],0),FALSE)","v":1},{"$f":"VLOOKUP($A$3,Tabla62[],MATCH(TablaA61[[#This Row],[85 años y más]],Tabla62[#Headers],0),FALSE)","v":0}]
["Chihuahua",{"$f":"VLOOKUP($A$3,Tabla60[],MATCH(TablaA61[[#This Row],[85 años y más]],Tabla60[#Headers],0),FALSE)","v":0},{"$f":"VLOOKUP($A$3,Tabla61[],MATCH(TablaA61[[#This Row],[85 años y más]],Tabla61[#Headers],0),FALSE)","v":0},{"$f":"VLOOKUP($A$3,Tabla62[],MATCH(TablaA61[[#This Row],[85 años y más]],Tabla62[#Headers],0),FALSE)","v":0}]
["Ciudad de México",{"$f":"VLOOKUP($A$3,Tabla60[],MATCH(TablaA61[[#This Row],[85 años y más]],Tabla60[#Headers],0),FALSE)","v":0},{"$f":"VLOOKUP($A$3,Tabla61[],MATCH(TablaA61[[#This Row],[85 años y más]],Tabla61[#Headers],0),FALSE)","v":0},{"$f":"VLOOKUP($A$3,Tabla62[],MATCH(TablaA61[[#This Row],[85 años y más]],Tabla62[#Headers],0),FALSE)","v":0}]
["Durango",{"$f":"VLOOKUP($A$3,Tabla60[],MATCH(TablaA61[[#This Row],[85 años y más]],Tabla60[#Headers],0),FALSE)","v":1},{"$f":"VLOOKUP($A$3,Tabla61[],MATCH(TablaA61[[#This Row],[85 años y más]],Tabla61[#Headers],0),FALSE)","v":0},{"$f":"VLOOKUP($A$3,Tabla62[],MATCH(TablaA61[[#This Row],[85 años y más]],Tabla62[#Headers],0),FALSE)","v":0}]
["Guanajuato",{"$f":"VLOOKUP($A$3,Tabla60[],MATCH(TablaA61[[#This Row],[85 años y más]],Tabla60[#Headers],0),FALSE)","v":0},{"$f":"VLOOKUP($A$3,Tabla61[],MATCH(TablaA61[[#This Row],[85 años y más]],Tabla61[#Headers],0),FALSE)","v":0},{"$f":"VLOOKUP($A$3,Tabla62[],MATCH(TablaA61[[#This Row],[85 años y más]],Tabla62[#Headers],0),FALSE)","v":0}]
["Guerrero",{"$f":"VLOOKUP($A$3,Tabla60[],MATCH(TablaA61[[#This Row],[85 años y más]],Tabla60[#Headers],0),FALSE)","v":0},{"$f":"VLOOKUP($A$3,Tabla61[],MATCH(TablaA61[[#This Row],[85 años y más]],Tabla61[#Headers],0),FALSE)","v":0},{"$f":"VLOOKUP($A$3,Tabla62[],MATCH(TablaA61[[#This Row],[85 años y más]],Tabla62[#Headers],0),FALSE)","v":0}]
["Hidalgo",{"$f":"VLOOKUP($A$3,Tabla60[],MATCH(TablaA61[[#This Row],[85 años y más]],Tabla60[#Headers],0),FALSE)","v":1},{"$f":"VLOOKUP($A$3,Tabla61[],MATCH(TablaA61[[#This Row],[85 años y más]],Tabla61[#Headers],0),FALSE)","v":0},{"$f":"VLOOKUP($A$3,Tabla62[],MATCH(TablaA61[[#This Row],[85 años y más]],Tabla62[#Headers],0),FALSE)","v":2}]
["Jalisco",{"$f":"VLOOKUP($A$3,Tabla60[],MATCH(TablaA61[[#This Row],[85 años y más]],Tabla60[#Headers],0),FALSE)","v":0},{"$f":"VLOOKUP($A$3,Tabla61[],MATCH(TablaA61[[#This Row],[85 años y más]],Tabla61[#Headers],0),FALSE)","v":0},{"$f":"VLOOKUP($A$3,Tabla62[],MATCH(TablaA61[[#This Row],[85 años y más]],Tabla62[#Headers],0),FALSE)","v":0}]
["México",{"$f":"VLOOKUP($A$3,Tabla60[],MATCH(TablaA61[[#This Row],[85 años y más]],Tabla60[#Headers],0),FALSE)","v":0},{"$f":"VLOOKUP($A$3,Tabla61[],MATCH(TablaA61[[#This Row],[85 años y más]],Tabla61[#Headers],0),FALSE)","v":0},{"$f":"VLOOKUP($A$3,Tabla62[],MATCH(TablaA61[[#This Row],[85 años y más]],Tabla62[#Headers],0),FALSE)","v":0}]
["Michoacán",{"$f":"VLOOKUP($A$3,Tabla60[],MATCH(TablaA61[[#This Row],[85 años y más]],Tabla60[#Headers],0),FALSE)","v":0},{"$f":"VLOOKUP($A$3,Tabla61[],MATCH(TablaA61[[#This Row],[85 años y más]],Tabla61[#Headers],0),FALSE)","v":0},{"$f":"VLOOKUP($A$3,Tabla62[],MATCH(TablaA61[[#This Row],[85 años y más]],Tabla62[#Headers],0),FALSE)","v":0}]
["Morelos",{"$f":"VLOOKUP($A$3,Tabla60[],MATCH(TablaA61[[#This Row],[85 años y más]],Tabla60[#Headers],0),FALSE)","v":0},{"$f":"VLOOKUP($A$3,Tabla61[],MATCH(TablaA61[[#This Row],[85 años y más]],Tabla61[#Headers],0),FALSE)","v":0},{"$f":"VLOOKUP($A$3,Tabla62[],MATCH(TablaA61[[#This Row],[85 años y más]],Tabla62[#Headers],0),FALSE)","v":0}]
["Nayarit",{"$f":"VLOOKUP($A$3,Tabla60[],MATCH(TablaA61[[#This Row],[85 años y más]],Tabla60[#Headers],0),FALSE)","v":0},{"$f":"VLOOKUP($A$3,Tabla61[],MATCH(TablaA61[[#This Row],[85 años y más]],Tabla61[#Headers],0),FALSE)","v":0},{"$f":"VLOOKUP($A$3,Tabla62[],MATCH(TablaA61[[#This Row],[85 años y más]],Tabla62[#Headers],0),FALSE)","v":0}]
["Nuevo León",{"$f":"VLOOKUP($A$3,Tabla60[],MATCH(TablaA61[[#This Row],[85 años y más]],Tabla60[#Headers],0),FALSE)","v":0},{"$f":"VLOOKUP($A$3,Tabla61[],MATCH(TablaA61[[#This Row],[85 años y más]],Tabla61[#Headers],0),FALSE)","v":0},{"$f":"VLOOKUP($A$3,Tabla62[],MATCH(TablaA61[[#This Row],[85 años y más]],Tabla62[#Headers],0),FALSE)","v":0}]
["Oaxaca",{"$f":"VLOOKUP($A$3,Tabla60[],MATCH(TablaA61[[#This Row],[85 años y más]],Tabla60[#Headers],0),FALSE)","v":0},{"$f":"VLOOKUP($A$3,Tabla61[],MATCH(TablaA61[[#This Row],[85 años y más]],Tabla61[#Headers],0),FALSE)","v":1},{"$f":"VLOOKUP($A$3,Tabla62[],MATCH(TablaA61[[#This Row],[85 años y más]],Tabla62[#Headers],0),FALSE)","v":1}]
["Puebla",{"$f":"VLOOKUP($A$3,Tabla60[],MATCH(TablaA61[[#This Row],[85 años y más]],Tabla60[#Headers],0),FALSE)","v":0},{"$f":"VLOOKUP($A$3,Tabla61[],MATCH(TablaA61[[#This Row],[85 años y más]],Tabla61[#Headers],0),FALSE)","v":0},{"$f":"VLOOKUP($A$3,Tabla62[],MATCH(TablaA61[[#This Row],[85 años y más]],Tabla62[#Headers],0),FALSE)","v":0}]
["Querétaro",{"$f":"VLOOKUP($A$3,Tabla60[],MATCH(TablaA61[[#This Row],[85 años y más]],Tabla60[#Headers],0),FALSE)","v":0},{"$f":"VLOOKUP($A$3,Tabla61[],MATCH(TablaA61[[#This Row],[85 años y más]],Tabla61[#Headers],0),FALSE)","v":0},{"$f":"VLOOKUP($A$3,Tabla62[],MATCH(TablaA61[[#This Row],[85 años y más]],Tabla62[#Headers],0),FALSE)","v":0}]
["Quintana Roo",{"$f":"VLOOKUP($A$3,Tabla60[],MATCH(TablaA61[[#This Row],[85 años y más]],Tabla60[#Headers],0),FALSE)","v":0},{"$f":"VLOOKUP($A$3,Tabla61[],MATCH(TablaA61[[#This Row],[85 años y más]],Tabla61[#Headers],0),FALSE)","v":0},{"$f":"VLOOKUP($A$3,Tabla62[],MATCH(TablaA61[[#This Row],[85 años y más]],Tabla62[#Headers],0),FALSE)","v":0}]
["San Luis Potosí",{"$f":"VLOOKUP($A$3,Tabla60[],MATCH(TablaA61[[#This Row],[85 años y más]],Tabla60[#Headers],0),FALSE)","v":0},{"$f":"VLOOKUP($A$3,Tabla61[],MATCH(TablaA61[[#This Row],[85 años y más]],Tabla61[#Headers],0),FALSE)","v":0},{"$f":"VLOOKUP($A$3,Tabla62[],MATCH(TablaA61[[#This Row],[85 años y más]],Tabla62[#Headers],0),FALSE)","v":0}]
["Sinaloa",{"$f":"VLOOKUP($A$3,Tabla60[],MATCH(TablaA61[[#This Row],[85 años y más]],Tabla60[#Headers],0),FALSE)","v":1},{"$f":"VLOOKUP($A$3,Tabla61[],MATCH(TablaA61[[#This Row],[85 años y más]],Tabla61[#Headers],0),FALSE)","v":0},{"$f":"VLOOKUP($A$3,Tabla62[],MATCH(TablaA61[[#This Row],[85 años y más]],Tabla62[#Headers],0),FALSE)","v":0}]
["Sonora",{"$f":"VLOOKUP($A$3,Tabla60[],MATCH(TablaA61[[#This Row],[85 años y más]],Tabla60[#Headers],0),FALSE)","v":0},{"$f":"VLOOKUP($A$3,Tabla61[],MATCH(TablaA61[[#This Row],[85 años y más]],Tabla61[#Headers],0),FALSE)","v":0},{"$f":"VLOOKUP($A$3,Tabla62[],MATCH(TablaA61[[#This Row],[85 años y más]],Tabla62[#Headers],0),FALSE)","v":1}]
["Tabasco",{"$f":"VLOOKUP($A$3,Tabla60[],MATCH(TablaA61[[#This Row],[85 años y más]],Tabla60[#Headers],0),FALSE)","v":0},{"$f":"VLOOKUP($A$3,Tabla61[],MATCH(TablaA61[[#This Row],[85 años y más]],Tabla61[#Headers],0),FALSE)","v":1},{"$f":"VLOOKUP($A$3,Tabla62[],MATCH(TablaA61[[#This Row],[85 años y más]],Tabla62[#Headers],0),FALSE)","v":0}]
["Tamaulipas",{"$f":"VLOOKUP($A$3,Tabla60[],MATCH(TablaA61[[#This Row],[85 años y más]],Tabla60[#Headers],0),FALSE)","v":0},{"$f":"VLOOKUP($A$3,Tabla61[],MATCH(TablaA61[[#This Row],[85 años y más]],Tabla61[#Headers],0),FALSE)","v":2},{"$f":"VLOOKUP($A$3,Tabla62[],MATCH(TablaA61[[#This Row],[85 años y más]],Tabla62[#Headers],0),FALSE)","v":1}]
["Tlaxcala",{"$f":"VLOOKUP($A$3,Tabla60[],MATCH(TablaA61[[#This Row],[85 años y más]],Tabla60[#Headers],0),FALSE)","v":0},{"$f":"VLOOKUP($A$3,Tabla61[],MATCH(TablaA61[[#This Row],[85 años y más]],Tabla61[#Headers],0),FALSE)","v":0},{"$f":"VLOOKUP($A$3,Tabla62[],MATCH(TablaA61[[#This Row],[85 años y más]],Tabla62[#Headers],0),FALSE)","v":0}]
["Veracruz",{"$f":"VLOOKUP($A$3,Tabla60[],MATCH(TablaA61[[#This Row],[85 años y más]],Tabla60[#Headers],0),FALSE)","v":0},{"$f":"VLOOKUP($A$3,Tabla61[],MATCH(TablaA61[[#This Row],[85 años y más]],Tabla61[#Headers],0),FALSE)","v":0},{"$f":"VLOOKUP($A$3,Tabla62[],MATCH(TablaA61[[#This Row],[85 años y más]],Tabla62[#Headers],0),FALSE)","v":2}]
["Yucatán",{"$f":"VLOOKUP($A$3,Tabla60[],MATCH(TablaA61[[#This Row],[85 años y más]],Tabla60[#Headers],0),FALSE)","v":0},{"$f":"VLOOKUP($A$3,Tabla61[],MATCH(TablaA61[[#This Row],[85 años y más]],Tabla61[#Headers],0),FALSE)","v":0},{"$f":"VLOOKUP($A$3,Tabla62[],MATCH(TablaA61[[#This Row],[85 años y más]],Tabla62[#Headers],0),FALSE)","v":0}]
["Zacatecas",{"$f":"VLOOKUP($A$3,Tabla60[],MATCH(TablaA61[[#This Row],[85 años y más]],Tabla60[#Headers],0),FALSE)","v":0},{"$f":"VLOOKUP($A$3,Tabla61[],MATCH(TablaA61[[#This Row],[85 años y más]],Tabla61[#Headers],0),FALSE)","v":0},{"$f":"VLOOKUP($A$3,Tabla62[],MATCH(TablaA61[[#This Row],[85 años y más]],Tabla62[#Headers],0),FALSE)","v":0}]
["Total",{"$f":"SUM(B4:B35)","v":3},{"$f":"SUM(C4:C35)","v":5},7]

{"sheet":"12T-GCM-G_Edad_EntFed2020","index":180,"n_rows":22,"n_cols":33,"rows_kept":22,"cut":false,"hidden":true,"merged":[]}
[1,2,3,4,5,6,7,8,9,10,11,12,13,14,15,16,17,18,19,20,21,22,23,24,25,26,27,28,29,30,31,32,33]
["ESTADO","Aguascalientes","Baja California","Baja California Sur","Campeche","Coahuila","Colima","Chiapas","Chihuahua","Ciudad de México","Durango","Guanajuato","Guerrero","Hidalgo","Jalisco","México","Michoacán","Morelos","Nayarit","Nuevo León","Oaxaca","Puebla","Querétaro","Quintana Roo","San Luis Potosí","Sinaloa","Sonora","Tabasco","Tamaulipas","Tlaxcala","Veracruz","Yucatán","Zacatecas"]
["Menores de 1 año",0,0,0,0,0,0,1,0,0,0,0,0,0,0,0,0,0,0,0,0,1,0,0,0,0,0,0,0,0,0,0,0]
["1-4 años",0,0,0,0,0,0,1,0,0,0,0,0,0,0,0,0,0,0,0,0,0,0,0,0,0,0,0,0,0,0,0,0]
["5-9 años",0,0,0,0,0,0,1,0,0,0,0,0,0,0,0,0,0,0,0,0,0,0,0,0,1,0,0,0,0,0,0,0]
["10-14 años",0,0,0,0,0,0,0,1,1,0,0,0,0,0,0,0,0,0,0,0,0,0,0,0,0,0,0,0,0,0,0,0]
["15-19 años",0,0,0,0,0,0,0,0,0,0,0,0,0,0,0,0,0,0,0,0,0,0,0,0,0,0,0,0,0,0,0,0]
["20-24 años",0,0,0,0,0,0,0,0,0,0,0,0,0,0,1,0,0,0,0,0,0,0,0,1,0,0,0,0,0,0,0,0]
["25-29 años",0,0,0,0,0,0,0,1,0,0,0,0,0,0,0,0,0,0,0,0,0,0,0,0,0,0,1,0,0,0,0,0]
["30-34 años",0,0,0,0,0,0,0,0,0,0,0,0,1,0,0,0,0,0,0,0,1,0,0,0,1,0,0,0,0,0,0,0]
["35-39 años",0,0,0,0,0,0,0,0,1,0,0,0,0,0,0,0,0,0,1,0,0,0,0,0,0,0,0,0,0,0,1,0]
["40-44 años",0,0,0,0,0,0,0,0,1,0,0,0,0,0,0,0,0,0,0,0,0,0,0,0,0,0,0,1,0,0,0,0]
["45-49 años",0,0,0,0,0,0,0,0,1,0,0,0,0,0,0,0,0,0,0,0,0,0,0,0,0,0,0,0,0,0,0,0]
["50-54 años",0,0,1,0,1,0,0,0,0,2,0,0,0,0,0,0,1,0,0,0,1,0,0,0,0,0,0,0,0,0,0,0]
["55-59 años",1,0,0,0,0,0,0,1,0,1,0,1,0,0,0,0,0,0,0,0,0,0,1,0,0,0,0,0,0,0,0,0]
["60-64 años",0,0,0,0,0,0,0,0,1,0,0,0,0,0,0,0,0,0,0,0,0,0,0,0,0,0,1,1,0,0,0,0]
["65-69 años",0,1,0,0,0,0,0,0,0,0,0,0,0,0,0,0,0,0,2,0,0,0,0,0,0,1,0,0,0,0,0,0]
["70-74 años",0,0,0,0,0,1,0,0,0,0,0,0,0,0,0,0,0,0,0,0,0,0,0,0,0,0,0,1,0,0,0,1]
["75-79 años",0,0,0,0,0,0,1,0,0,0,0,0,0,0,0,0,0,0,0,0,0,0,0,0,0,0,1,0,0,0,0,0]
["80-84 años",0,0,0,0,0,0,0,0,0,0,0,0,0,0,0,0,0,0,0,0,0,0,0,0,0,0,0,0,0,0,0,0]
["85 años y más",0,0,0,0,0,0,0,0,2,0,0,1,0,0,0,0,1,0,0,0,0,0,0,0,0,0,0,0,0,0,0,0]
["No especificado",0,0,0,0,0,0,0,0,0,0,0,0,0,0,0,0,0,0,0,0,0,0,0,0,0,0,0,0,0,0,0,0]

{"sheet":"12T-GCM-G_Edad_EntFed2021","index":181,"n_rows":22,"n_cols":33,"rows_kept":22,"cut":false,"hidden":true,"merged":[]}
[1,2,3,4,5,6,7,8,9,10,11,12,13,14,15,16,17,18,19,20,21,22,23,24,25,26,27,28,29,30,31,32,33]
["ESTADO","Aguascalientes","Baja California","Baja California Sur","Campeche","Coahuila","Colima","Chiapas","Chihuahua","Ciudad de México","Durango","Guanajuato","Guerrero","Hidalgo","Jalisco","México","Michoacán","Morelos","Nayarit","Nuevo León","Oaxaca","Puebla","Querétaro","Quintana Roo","San Luis Potosí","Sinaloa","Sonora","Tabasco","Tamaulipas","Tlaxcala","Veracruz","Yucatán","Zacatecas"]
["Menores de 1 año",0,0,0,0,0,0,0,0,0,0,0,0,0,0,0,0,0,0,0,0,0,0,0,0,0,0,0,0,0,0,0,0]
["1-4 años",0,0,0,0,0,0,1,0,0,0,0,0,0,0,0,0,0,0,0,0,0,0,0,0,0,0,0,0,0,0,0,0]
["5-9 años",0,0,0,0,0,0,0,0,0,0,0,0,0,0,0,0,0,0,0,0,0,0,0,0,0,1,0,0,0,0,0,0]
["10-14 años",0,0,0,0,0,0,0,0,0,0,0,0,0,0,0,0,0,0,0,0,0,0,0,0,0,0,0,0,0,1,0,0]
["15-19 años",0,0,0,0,0,1,0,0,0,0,0,0,0,0,0,0,0,0,0,0,0,0,0,0,0,0,0,0,0,0,0,0]
["20-24 años",0,0,0,0,0,0,0,0,0,0,0,0,0,0,0,0,0,0,0,0,0,0,0,0,0,0,0,1,0,0,0,0]
["25-29 años",0,0,0,0,0,0,0,0,0,0,0,0,0,1,1,0,0,0,0,0,0,0,0,0,0,0,0,0,0,0,0,0]
["30-34 años",0,0,0,0,0,0,0,0,0,0,1,0,0,0,0,0,0,0,0,0,1,0,0,0,0,0,0,0,0,1,0,0]
["35-39 años",0,0,0,0,0,0,0,0,0,0,0,1,0,0,0,0,0,0,0,0,0,0,0,0,0,0,0,0,0,0,0,0]
["40-44 años",0,0,0,0,0,0,0,0,0,0,0,0,0,0,0,0,0,0,0,0,0,0,0,0,0,0,0,0,0,1,0,0]
["45-49 años",0,0,0,0,0,0,0,0,0,0,0,0,0,1,0,0,0,0,0,0,0,0,0,0,0,0,0,1,0,0,0,0]
["50-54 años",0,0,0,0,0,0,0,0,0,0,0,0,0,0,2,0,0,0,0,1,0,0,0,0,1,0,0,1,0,0,0,0]
["55-59 años",0,0,0,0,0,0,0,0,0,0,0,0,0,0,0,0,0,0,0,0,0,0,0,1,0,0,0,0,0,0,0,0]
["60-64 años",0,0,0,0,0,0,0,0,0,0,1,0,0,0,0,0,0,0,0,0,0,0,0,1,0,0,0,0,0,0,0,0]
["65-69 años",0,0,0,0,0,0,0,0,0,0,0,0,0,0,0,0,0,0,0,0,0,0,0,1,0,0,0,0,0,0,0,0]
["70-74 años",0,0,0,0,0,0,0,0,0,0,0,1,0,0,0,0,1,0,0,0,0,0,0,1,0,0,0,1,0,0,0,0]
["75-79 años",0,0,0,0,0,0,1,0,0,0,0,0,0,0,0,0,0,0,0,0,0,0,0,0,0,0,0,0,0,0,0,0]
["80-84 años",0,0,0,0,0,0,0,0,0,0,0,0,0,0,0,1,0,1,0,0,0,0,0,0,0,0,0,0,0,0,0,0]
["85 años y más",0,0,1,0,0,0,0,0,0,0,0,0,1,0,0,1,0,0,1,0,0,0,0,0,0,0,0,0,0,0,0,0]
["No especificado",0,0,0,0,0,0,0,0,0,0,0,0,0,0,0,0,0,0,0,0,0,0,0,0,0,0,0,0,0,0,0,0]

{"sheet":"12T-GCM-G_Edad_EntFed2022","index":182,"n_rows":22,"n_cols":33,"rows_kept":22,"cut":false,"hidden":true,"merged":[]}
[1,2,3,4,5,6,7,8,9,10,11,12,13,14,15,16,17,18,19,20,21,22,23,24,25,26,27,28,29,30,31,32,33]
["ESTADO","Aguascalientes","Baja California","Baja California Sur","Campeche","Coahuila","Colima","Chiapas","Chihuahua","Ciudad de México","Durango","Guanajuato","Guerrero","Hidalgo","Jalisco","México","Michoacán","Morelos","Nayarit","Nuevo León","Oaxaca","Puebla","Querétaro","Quintana Roo","San Luis Potosí","Sinaloa","Sonora","Tabasco","Tamaulipas","Tlaxcala","Veracruz","Yucatán","Zacatecas"]
["Menores de 1 año",0,0,0,0,0,0,1,0,0,0,0,0,0,0,0,0,0,0,0,0,0,0,0,0,0,0,0,0,0,0,0,0]
["1-4 años",0,0,0,0,0,0,0,0,1,0,0,0,0,0,0,0,0,0,0,0,0,0,0,0,0,0,0,0,0,0,0,0]
["5-9 años",0,0,0,0,0,0,0,0,0,0,0,0,0,0,0,1,0,0,0,0,0,0,0,0,0,0,0,0,0,1,0,0]
["10-14 años",0,0,0,0,0,0,0,0,0,0,0,1,0,0,0,0,0,0,0,0,0,0,0,0,0,0,0,0,0,0,0,0]
["15-19 años",0,0,0,0,0,0,0,0,0,0,0,0,0,0,0,0,0,0,0,0,0,0,0,1,0,0,0,1,0,0,0,0]
["20-24 años",0,0,0,0,0,0,0,0,0,0,0,1,0,0,0,0,0,0,0,0,0,0,0,0,0,0,0,0,0,0,0,0]
["25-29 años",0,0,0,0,0,0,0,0,1,0,0,0,0,0,1,0,0,1,0,0,0,0,0,0,0,0,0,0,0,0,0,0]
["30-34 años",0,0,0,0,0,0,0,0,1,0,0,0,0,0,0,0,0,0,1,0,0,0,0,0,0,0,0,0,0,0,0,0]
["35-39 años",0,0,0,0,0,0,0,0,1,0,0,0,0,0,0,0,0,0,1,0,0,0,0,0,0,0,0,0,0,0,0,0]
["40-44 años",0,0,0,0,0,0,0,1,0,0,0,0,0,0,0,0,0,0,1,0,0,0,1,0,0,0,0,0,0,1,0,0]
["45-49 años",0,1,0,0,0,0,0,0,1,0,1,0,0,0,0,0,0,0,0,0,0,1,0,1,0,0,0,0,0,0,0,0]
["50-54 años",0,1,0,0,0,0,0,0,0,1,0,0,0,1,1,0,0,0,1,0,0,0,0,0,0,0,0,0,0,0,0,0]
["55-59 años",0,0,0,0,1,0,0,0,0,0,0,0,0,0,0,0,0,0,0,0,0,0,0,0,0,0,0,0,0,0,0,0]
["60-64 años",0,0,0,0,0,0,0,0,0,2,0,0,0,1,1,0,0,0,0,0,0,0,0,0,0,0,0,0,0,0,0,0]
["65-69 años",0,0,0,0,0,0,0,0,1,0,0,0,0,0,1,0,0,1,1,0,0,0,0,0,0,0,0,0,0,0,0,0]
["70-74 años",0,0,0,0,0,0,0,0,0,0,0,0,0,1,0,0,0,0,0,0,0,0,0,0,0,0,0,0,0,0,0,0]
["75-79 años",0,0,0,1,0,0,0,0,0,0,1,0,0,0,1,0,0,0,0,0,0,0,0,0,0,0,0,0,0,0,0,0]
["80-84 años",0,0,0,0,0,0,0,0,0,0,0,0,0,0,0,0,0,0,0,0,0,0,0,0,0,0,0,1,0,2,0,0]
["85 años y más",0,0,0,0,0,0,0,0,0,0,0,0,0,0,0,0,0,0,0,1,0,0,0,0,0,0,0,0,0,1,0,0]
["No especificado",0,0,0,0,0,0,0,0,0,0,0,0,0,0,0,0,0,0,0,0,0,0,0,0,0,0,0,0,0,0,0,0]

{"sheet":"12GCM-G-Edad_Ent.Fed","index":183,"n_rows":36,"n_cols":4,"rows_kept":36,"cut":false,"hidden":false,"merged":[[0,0,0,3]]}
["Enfermedades del oído y de la \napófisis mastoides"]
["SELECCIONE UN GRUPO DE EDAD"]
["80-84 años","2020","2021","2022"]
["Aguascalientes",{"$f":"VLOOKUP($A$3,Tabla63[],MATCH(TablaA62[[#This Row],[80-84 años]],Tabla63[#Headers],0),FALSE)","v":0},{"$f":"VLOOKUP($A$3,Tabla64[],MATCH(TablaA62[[#This Row],[80-84 años]],Tabla64[#Headers],0),FALSE)","v":0},{"$f":"VLOOKUP($A$3,Tabla65[],MATCH(TablaA62[[#This Row],[80-84 años]],Tabla65[#Headers],0),FALSE)","v":0}]
["Baja California",{"$f":"VLOOKUP($A$3,Tabla63[],MATCH(TablaA62[[#This Row],[80-84 años]],Tabla63[#Headers],0),FALSE)","v":0},{"$f":"VLOOKUP($A$3,Tabla64[],MATCH(TablaA62[[#This Row],[80-84 años]],Tabla64[#Headers],0),FALSE)","v":0},{"$f":"VLOOKUP($A$3,Tabla65[],MATCH(TablaA62[[#This Row],[80-84 años]],Tabla65[#Headers],0),FALSE)","v":0}]
["Baja California Sur",{"$f":"VLOOKUP($A$3,Tabla63[],MATCH(TablaA62[[#This Row],[80-84 años]],Tabla63[#Headers],0),FALSE)","v":0},{"$f":"VLOOKUP($A$3,Tabla64[],MATCH(TablaA62[[#This Row],[80-84 años]],Tabla64[#Headers],0),FALSE)","v":0},{"$f":"VLOOKUP($A$3,Tabla65[],MATCH(TablaA62[[#This Row],[80-84 años]],Tabla65[#Headers],0),FALSE)","v":0}]
["Campeche",{"$f":"VLOOKUP($A$3,Tabla63[],MATCH(TablaA62[[#This Row],[80-84 años]],Tabla63[#Headers],0),FALSE)","v":0},{"$f":"VLOOKUP($A$3,Tabla64[],MATCH(TablaA62[[#This Row],[80-84 años]],Tabla64[#Headers],0),FALSE)","v":0},{"$f":"VLOOKUP($A$3,Tabla65[],MATCH(TablaA62[[#This Row],[80-84 años]],Tabla65[#Headers],0),FALSE)","v":0}]
["Coahuila",{"$f":"VLOOKUP($A$3,Tabla63[],MATCH(TablaA62[[#This Row],[80-84 años]],Tabla63[#Headers],0),FALSE)","v":0},{"$f":"VLOOKUP($A$3,Tabla64[],MATCH(TablaA62[[#This Row],[80-84 años]],Tabla64[#Headers],0),FALSE)","v":0},{"$f":"VLOOKUP($A$3,Tabla65[],MATCH(TablaA62[[#This Row],[80-84 años]],Tabla65[#Headers],0),FALSE)","v":0}]
["Colima",{"$f":"VLOOKUP($A$3,Tabla63[],MATCH(TablaA62[[#This Row],[80-84 años]],Tabla63[#Headers],0),FALSE)","v":0},{"$f":"VLOOKUP($A$3,Tabla64[],MATCH(TablaA62[[#This Row],[80-84 años]],Tabla64[#Headers],0),FALSE)","v":0},{"$f":"VLOOKUP($A$3,Tabla65[],MATCH(TablaA62[[#This Row],[80-84 años]],Tabla65[#Headers],0),FALSE)","v":0}]
["Chiapas",{"$f":"VLOOKUP($A$3,Tabla63[],MATCH(TablaA62[[#This Row],[80-84 años]],Tabla63[#Headers],0),FALSE)","v":0},{"$f":"VLOOKUP($A$3,Tabla64[],MATCH(TablaA62[[#This Row],[80-84 años]],Tabla64[#Headers],0),FALSE)","v":0},{"$f":"VLOOKUP($A$3,Tabla65[],MATCH(TablaA62[[#This Row],[80-84 años]],Tabla65[#Headers],0),FALSE)","v":0}]
["Chihuahua",{"$f":"VLOOKUP($A$3,Tabla63[],MATCH(TablaA62[[#This Row],[80-84 años]],Tabla63[#Headers],0),FALSE)","v":0},{"$f":"VLOOKUP($A$3,Tabla64[],MATCH(TablaA62[[#This Row],[80-84 años]],Tabla64[#Headers],0),FALSE)","v":0},{"$f":"VLOOKUP($A$3,Tabla65[],MATCH(TablaA62[[#This Row],[80-84 años]],Tabla65[#Headers],0),FALSE)","v":0}]
["Ciudad de México",{"$f":"VLOOKUP($A$3,Tabla63[],MATCH(TablaA62[[#This Row],[80-84 años]],Tabla63[#Headers],0),FALSE)","v":0},{"$f":"VLOOKUP($A$3,Tabla64[],MATCH(TablaA62[[#This Row],[80-84 años]],Tabla64[#Headers],0),FALSE)","v":0},{"$f":"VLOOKUP($A$3,Tabla65[],MATCH(TablaA62[[#This Row],[80-84 años]],Tabla65[#Headers],0),FALSE)","v":0}]
["Durango",{"$f":"VLOOKUP($A$3,Tabla63[],MATCH(TablaA62[[#This Row],[80-84 años]],Tabla63[#Headers],0),FALSE)","v":0},{"$f":"VLOOKUP($A$3,Tabla64[],MATCH(TablaA62[[#This Row],[80-84 años]],Tabla64[#Headers],0),FALSE)","v":0},{"$f":"VLOOKUP($A$3,Tabla65[],MATCH(TablaA62[[#This Row],[80-84 años]],Tabla65[#Headers],0),FALSE)","v":0}]
["Guanajuato",{"$f":"VLOOKUP($A$3,Tabla63[],MATCH(TablaA62[[#This Row],[80-84 años]],Tabla63[#Headers],0),FALSE)","v":0},{"$f":"VLOOKUP($A$3,Tabla64[],MATCH(TablaA62[[#This Row],[80-84 años]],Tabla64[#Headers],0),FALSE)","v":0},{"$f":"VLOOKUP($A$3,Tabla65[],MATCH(TablaA62[[#This Row],[80-84 años]],Tabla65[#Headers],0),FALSE)","v":0}]
["Guerrero",{"$f":"VLOOKUP($A$3,Tabla63[],MATCH(TablaA62[[#This Row],[80-84 años]],Tabla63[#Headers],0),FALSE)","v":0},{"$f":"VLOOKUP($A$3,Tabla64[],MATCH(TablaA62[[#This Row],[80-84 años]],Tabla64[#Headers],0),FALSE)","v":0},{"$f":"VLOOKUP($A$3,Tabla65[],MATCH(TablaA62[[#This Row],[80-84 años]],Tabla65[#Headers],0),FALSE)","v":0}]
["Hidalgo",{"$f":"VLOOKUP($A$3,Tabla63[],MATCH(TablaA62[[#This Row],[80-84 años]],Tabla63[#Headers],0),FALSE)","v":0},{"$f":"VLOOKUP($A$3,Tabla64[],MATCH(TablaA62[[#This Row],[80-84 años]],Tabla64[#Headers],0),FALSE)","v":0},{"$f":"VLOOKUP($A$3,Tabla65[],MATCH(TablaA62[[#This Row],[80-84 años]],Tabla65[#Headers],0),FALSE)","v":0}]
["Jalisco",{"$f":"VLOOKUP($A$3,Tabla63[],MATCH(TablaA62[[#This Row],[80-84 años]],Tabla63[#Headers],0),FALSE)","v":0},{"$f":"VLOOKUP($A$3,Tabla64[],MATCH(TablaA62[[#This Row],[80-84 años]],Tabla64[#Headers],0),FALSE)","v":0},{"$f":"VLOOKUP($A$3,Tabla65[],MATCH(TablaA62[[#This Row],[80-84 años]],Tabla65[#Headers],0),FALSE)","v":0}]
["México",{"$f":"VLOOKUP($A$3,Tabla63[],MATCH(TablaA62[[#This Row],[80-84 años]],Tabla63[#Headers],0),FALSE)","v":0},{"$f":"VLOOKUP($A$3,Tabla64[],MATCH(TablaA62[[#This Row],[80-84 años]],Tabla64[#Headers],0),FALSE)","v":0},{"$f":"VLOOKUP($A$3,Tabla65[],MATCH(TablaA62[[#This Row],[80-84 años]],Tabla65[#Headers],0),FALSE)","v":0}]
["Michoacán",{"$f":"VLOOKUP($A$3,Tabla63[],MATCH(TablaA62[[#This Row],[80-84 años]],Tabla63[#Headers],0),FALSE)","v":0},{"$f":"VLOOKUP($A$3,Tabla64[],MATCH(TablaA62[[#This Row],[80-84 años]],Tabla64[#Headers],0),FALSE)","v":1},{"$f":"VLOOKUP($A$3,Tabla65[],MATCH(TablaA62[[#This Row],[80-84 años]],Tabla65[#Headers],0),FALSE)","v":0}]
["Morelos",{"$f":"VLOOKUP($A$3,Tabla63[],MATCH(TablaA62[[#This Row],[80-84 años]],Tabla63[#Headers],0),FALSE)","v":0},{"$f":"VLOOKUP($A$3,Tabla64[],MATCH(TablaA62[[#This Row],[80-84 años]],Tabla64[#Headers],0),FALSE)","v":0},{"$f":"VLOOKUP($A$3,Tabla65[],MATCH(TablaA62[[#This Row],[80-84 años]],Tabla65[#Headers],0),FALSE)","v":0}]
["Nayarit",{"$f":"VLOOKUP($A$3,Tabla63[],MATCH(TablaA62[[#This Row],[80-84 años]],Tabla63[#Headers],0),FALSE)","v":0},{"$f":"VLOOKUP($A$3,Tabla64[],MATCH(TablaA62[[#This Row],[80-84 años]],Tabla64[#Headers],0),FALSE)","v":1},{"$f":"VLOOKUP($A$3,Tabla65[],MATCH(TablaA62[[#This Row],[80-84 años]],Tabla65[#Headers],0),FALSE)","v":0}]
["Nuevo León",{"$f":"VLOOKUP($A$3,Tabla63[],MATCH(TablaA62[[#This Row],[80-84 años]],Tabla63[#Headers],0),FALSE)","v":0},{"$f":"VLOOKUP($A$3,Tabla64[],MATCH(TablaA62[[#This Row],[80-84 años]],Tabla64[#Headers],0),FALSE)","v":0},{"$f":"VLOOKUP($A$3,Tabla65[],MATCH(TablaA62[[#This Row],[80-84 años]],Tabla65[#Headers],0),FALSE)","v":0}]
["Oaxaca",{"$f":"VLOOKUP($A$3,Tabla63[],MATCH(TablaA62[[#This Row],[80-84 años]],Tabla63[#Headers],0),FALSE)","v":0},{"$f":"VLOOKUP($A$3,Tabla64[],MATCH(TablaA62[[#This Row],[80-84 años]],Tabla64[#Headers],0),FALSE)","v":0},{"$f":"VLOOKUP($A$3,Tabla65[],MATCH(TablaA62[[#This Row],[80-84 años]],Tabla65[#Headers],0),FALSE)","v":0}]
["Puebla",{"$f":"VLOOKUP($A$3,Tabla63[],MATCH(TablaA62[[#This Row],[80-84 años]],Tabla63[#Headers],0),FALSE)","v":0},{"$f":"VLOOKUP($A$3,Tabla64[],MATCH(TablaA62[[#This Row],[80-84 años]],Tabla64[#Headers],0),FALSE)","v":0},{"$f":"VLOOKUP($A$3,Tabla65[],MATCH(TablaA62[[#This Row],[80-84 años]],Tabla65[#Headers],0),FALSE)","v":0}]
["Querétaro",{"$f":"VLOOKUP($A$3,Tabla63[],MATCH(TablaA62[[#This Row],[80-84 años]],Tabla63[#Headers],0),FALSE)","v":0},{"$f":"VLOOKUP($A$3,Tabla64[],MATCH(TablaA62[[#This Row],[80-84 años]],Tabla64[#Headers],0),FALSE)","v":0},{"$f":"VLOOKUP($A$3,Tabla65[],MATCH(TablaA62[[#This Row],[80-84 años]],Tabla65[#Headers],0),FALSE)","v":0}]
["Quintana Roo",{"$f":"VLOOKUP($A$3,Tabla63[],MATCH(TablaA62[[#This Row],[80-84 años]],Tabla63[#Headers],0),FALSE)","v":0},{"$f":"VLOOKUP($A$3,Tabla64[],MATCH(TablaA62[[#This Row],[80-84 años]],Tabla64[#Headers],0),FALSE)","v":0},{"$f":"VLOOKUP($A$3,Tabla65[],MATCH(TablaA62[[#This Row],[80-84 años]],Tabla65[#Headers],0),FALSE)","v":0}]
["San Luis Potosí",{"$f":"VLOOKUP($A$3,Tabla63[],MATCH(TablaA62[[#This Row],[80-84 años]],Tabla63[#Headers],0),FALSE)","v":0},{"$f":"VLOOKUP($A$3,Tabla64[],MATCH(TablaA62[[#This Row],[80-84 años]],Tabla64[#Headers],0),FALSE)","v":0},{"$f":"VLOOKUP($A$3,Tabla65[],MATCH(TablaA62[[#This Row],[80-84 años]],Tabla65[#Headers],0),FALSE)","v":0}]
["Sinaloa",{"$f":"VLOOKUP($A$3,Tabla63[],MATCH(TablaA62[[#This Row],[80-84 años]],Tabla63[#Headers],0),FALSE)","v":0},{"$f":"VLOOKUP($A$3,Tabla64[],MATCH(TablaA62[[#This Row],[80-84 años]],Tabla64[#Headers],0),FALSE)","v":0},{"$f":"VLOOKUP($A$3,Tabla65[],MATCH(TablaA62[[#This Row],[80-84 años]],Tabla65[#Headers],0),FALSE)","v":0}]
["Sonora",{"$f":"VLOOKUP($A$3,Tabla63[],MATCH(TablaA62[[#This Row],[80-84 años]],Tabla63[#Headers],0),FALSE)","v":0},{"$f":"VLOOKUP($A$3,Tabla64[],MATCH(TablaA62[[#This Row],[80-84 años]],Tabla64[#Headers],0),FALSE)","v":0},{"$f":"VLOOKUP($A$3,Tabla65[],MATCH(TablaA62[[#This Row],[80-84 años]],Tabla65[#Headers],0),FALSE)","v":0}]
["Tabasco",{"$f":"VLOOKUP($A$3,Tabla63[],MATCH(TablaA62[[#This Row],[80-84 años]],Tabla63[#Headers],0),FALSE)","v":0},{"$f":"VLOOKUP($A$3,Tabla64[],MATCH(TablaA62[[#This Row],[80-84 años]],Tabla64[#Headers],0),FALSE)","v":0},{"$f":"VLOOKUP($A$3,Tabla65[],MATCH(TablaA62[[#This Row],[80-84 años]],Tabla65[#Headers],0),FALSE)","v":0}]
["Tamaulipas",{"$f":"VLOOKUP($A$3,Tabla63[],MATCH(TablaA62[[#This Row],[80-84 años]],Tabla63[#Headers],0),FALSE)","v":0},{"$f":"VLOOKUP($A$3,Tabla64[],MATCH(TablaA62[[#This Row],[80-84 años]],Tabla64[#Headers],0),FALSE)","v":0},{"$f":"VLOOKUP($A$3,Tabla65[],MATCH(TablaA62[[#This Row],[80-84 años]],Tabla65[#Headers],0),FALSE)","v":1}]
["Tlaxcala",{"$f":"VLOOKUP($A$3,Tabla63[],MATCH(TablaA62[[#This Row],[80-84 años]],Tabla63[#Headers],0),FALSE)","v":0},{"$f":"VLOOKUP($A$3,Tabla64[],MATCH(TablaA62[[#This Row],[80-84 años]],Tabla64[#Headers],0),FALSE)","v":0},{"$f":"VLOOKUP($A$3,Tabla65[],MATCH(TablaA62[[#This Row],[80-84 años]],Tabla65[#Headers],0),FALSE)","v":0}]
["Veracruz",{"$f":"VLOOKUP($A$3,Tabla63[],MATCH(TablaA62[[#This Row],[80-84 años]],Tabla63[#Headers],0),FALSE)","v":0},{"$f":"VLOOKUP($A$3,Tabla64[],MATCH(TablaA62[[#This Row],[80-84 años]],Tabla64[#Headers],0),FALSE)","v":0},{"$f":"VLOOKUP($A$3,Tabla65[],MATCH(TablaA62[[#This Row],[80-84 años]],Tabla65[#Headers],0),FALSE)","v":2}]
["Yucatán",{"$f":"VLOOKUP($A$3,Tabla63[],MATCH(TablaA62[[#This Row],[80-84 años]],Tabla63[#Headers],0),FALSE)","v":0},{"$f":"VLOOKUP($A$3,Tabla64[],MATCH(TablaA62[[#This Row],[80-84 años]],Tabla64[#Headers],0),FALSE)","v":0},{"$f":"VLOOKUP($A$3,Tabla65[],MATCH(TablaA62[[#This Row],[80-84 años]],Tabla65[#Headers],0),FALSE)","v":0}]
["Zacatecas",{"$f":"VLOOKUP($A$3,Tabla63[],MATCH(TablaA62[[#This Row],[80-84 años]],Tabla63[#Headers],0),FALSE)","v":0},{"$f":"VLOOKUP($A$3,Tabla64[],MATCH(TablaA62[[#This Row],[80-84 años]],Tabla64[#Headers],0),FALSE)","v":0},{"$f":"VLOOKUP($A$3,Tabla65[],MATCH(TablaA62[[#This Row],[80-84 años]],Tabla65[#Headers],0),FALSE)","v":0}]
["Total",{"$f":"SUM(B4:B35)","v":0},{"$f":"SUM(C4:C35)","v":2},3]

{"sheet":"13T-GCM-G_Edad_EntFed2020","index":184,"n_rows":22,"n_cols":33,"rows_kept":22,"cut":false,"hidden":true,"merged":[]}
[1,2,3,4,5,6,7,8,9,10,11,12,13,14,15,16,17,18,19,20,21,22,23,24,25,26,27,28,29,30,31,32,33]
["ESTADO","Aguascalientes","Baja California","Baja California Sur","Campeche","Coahuila","Colima","Chiapas","Chihuahua","Ciudad de México","Durango","Guanajuato","Guerrero","Hidalgo","Jalisco","México","Michoacán","Morelos","Nayarit","Nuevo León","Oaxaca","Puebla","Querétaro","Quintana Roo","San Luis Potosí","Sinaloa","Sonora","Tabasco","Tamaulipas","Tlaxcala","Veracruz","Yucatán","Zacatecas"]
["Menores de 1 año",4,8,1,1,8,2,15,10,27,8,14,2,2,9,22,5,4,2,10,12,22,7,2,5,3,6,19,6,3,17,2,1]
["1-4 años",2,8,1,1,1,0,17,6,20,2,13,5,1,9,10,7,0,0,8,11,10,3,2,3,3,2,2,1,0,12,3,1]
["5-9 años",0,6,1,1,2,1,9,5,16,0,3,8,4,3,10,4,2,1,6,3,8,3,0,1,0,0,1,3,1,10,3,2]
["10-14 años",0,6,0,0,2,0,14,2,18,0,4,3,2,7,14,1,1,2,6,4,18,4,2,5,1,4,2,0,0,10,0,3]
["15-19 años",1,3,1,1,3,1,20,5,32,4,10,3,7,17,28,5,4,4,8,4,13,3,1,6,2,6,5,1,3,13,4,1]
["20-24 años",1,17,0,1,4,2,48,11,62,4,19,17,11,21,42,13,12,4,13,12,19,5,2,6,3,7,8,11,4,29,3,2]
["25-29 años",10,26,2,5,8,4,84,22,114,7,33,12,14,58,152,33,20,3,18,25,57,29,8,16,13,11,12,16,15,50,10,7]
["30-34 años",12,49,8,9,21,9,99,40,205,6,85,26,26,86,216,56,37,7,30,61,104,32,20,24,9,17,24,27,16,108,30,12]
["35-39 años",23,49,12,12,36,17,166,55,280,16,108,75,39,168,376,111,63,11,48,93,183,49,41,39,12,30,35,32,21,163,43,27]
["40-44 años",27,103,16,11,56,22,205,109,427,20,202,71,72,219,539,137,84,19,91,130,287,92,48,70,37,46,47,77,34,254,61,44]
["45-49 años",38,153,30,24,111,26,240,202,595,39,239,107,95,267,775,193,113,25,178,191,397,122,77,109,37,71,69,108,48,376,95,49]
["50-54 años",42,198,27,39,148,31,294,220,672,74,284,107,128,357,802,188,122,41,233,225,412,124,83,102,45,120,95,146,58,484,103,60]
["55-59 años",57,214,36,41,190,39,320,242,792,68,299,127,165,400,924,224,158,48,236,258,497,129,79,130,69,139,102,188,67,564,157,56]
["60-64 años",53,220,26,55,212,44,341,263,854,88,359,159,180,466,959,233,183,61,295,262,497,178,85,158,91,162,132,220,78,635,167,78]
["65-69 años",62,185,29,49,208,48,367,241,890,102,298,156,170,490,962,244,167,63,281,255,468,153,78,169,107,152,113,172,65,661,175,67]
["70-74 años",78,166,23,55,182,60,349,209,819,99,328,149,184,497,837,260,161,82,255,239,507,115,77,156,119,147,98,187,58,661,209,84]
["75-79 años",74,123,24,41,151,28,317,195,707,98,338,153,167,454,773,245,157,51,252,270,434,139,55,145,116,128,116,142,69,621,135,99]
["80-84 años",62,105,21,37,123,37,257,188,669,82,284,147,166,383,616,247,130,71,233,245,367,122,47,148,99,124,79,143,65,503,119,98]
["85 años y más",89,128,20,42,124,45,275,171,884,80,378,178,223,536,741,425,168,68,278,330,476,164,27,230,87,126,93,147,78,546,122,166]
["No especificado",1,49,8,0,1,5,14,12,2,0,7,0,0,28,16,5,0,4,2,4,23,2,1,0,0,22,5,12,1,4,1,1]

{"sheet":"13T-GCM-G_Edad_EntFed2021","index":185,"n_rows":22,"n_cols":33,"rows_kept":22,"cut":false,"hidden":true,"merged":[]}
[1,2,3,4,5,6,7,8,9,10,11,12,13,14,15,16,17,18,19,20,21,22,23,24,25,26,27,28,29,30,31,32,33]
["ESTADO","Aguascalientes","Baja California","Baja California Sur","Campeche","Coahuila","Colima","Chiapas","Chihuahua","Ciudad de México","Durango","Guanajuato","Guerrero","Hidalgo","Jalisco","México","Michoacán","Morelos","Nayarit","Nuevo León","Oaxaca","Puebla","Querétaro","Quintana Roo","San Luis Potosí","Sinaloa","Sonora","Tabasco","Tamaulipas","Tlaxcala","Veracruz","Yucatán","Zacatecas"]
["Menores de 1 año",5,1,2,1,7,3,22,7,28,4,7,8,3,19,17,7,3,1,8,7,14,5,0,2,3,5,9,7,5,7,7,3]
["1-4 años",3,5,0,0,4,1,30,8,27,3,8,9,6,8,18,9,0,2,4,11,18,3,3,6,1,1,5,5,0,12,5,0]
["5-9 años",2,0,0,0,1,0,9,2,2,1,3,2,3,4,7,1,2,0,4,6,13,3,0,0,1,5,0,2,1,5,2,1]
["10-14 años",0,4,2,0,2,1,7,4,8,1,9,4,7,12,13,3,0,2,6,6,6,2,0,4,3,2,4,2,1,10,2,2]
["15-19 años",2,9,1,1,5,0,23,10,26,4,17,7,3,8,21,8,6,2,11,8,12,6,0,4,2,4,5,4,1,14,2,1]
["20-24 años",3,17,1,3,12,1,48,21,51,1,21,13,11,31,51,12,15,1,12,10,18,16,3,8,3,3,10,7,10,30,7,2]
["25-29 años",8,25,3,5,12,5,81,18,108,2,35,18,18,67,148,26,18,4,16,30,55,24,6,10,7,12,8,13,8,62,19,11]
["30-34 años",11,49,6,11,17,5,105,29,189,10,75,34,24,84,243,50,27,8,29,59,111,31,23,15,15,15,18,18,18,112,30,11]
["35-39 años",16,59,9,19,40,15,168,61,266,16,150,61,43,151,396,105,56,12,64,102,192,51,41,39,20,31,36,44,31,147,40,18]
["40-44 años",29,83,29,21,79,16,211,114,391,18,202,80,60,201,556,153,78,23,102,157,293,75,44,69,29,55,45,85,49,259,80,50]
["45-49 años",56,163,26,20,106,22,266,179,652,48,299,110,112,299,686,219,111,31,175,199,360,120,65,100,51,77,68,121,53,372,108,45]
["50-54 años",59,230,37,33,165,36,292,239,717,70,267,108,147,406,770,223,115,39,247,218,418,133,104,142,71,82,88,161,59,486,140,68]
["55-59 años",72,242,47,53,155,33,368,266,801,82,316,136,160,484,890,235,144,49,275,280,480,151,98,125,79,129,112,204,71,632,166,76]
["60-64 años",73,264,42,70,176,55,373,314,808,99,361,177,193,485,989,272,196,75,323,250,520,167,95,184,112,171,115,199,72,674,190,77]
["65-69 años",90,194,40,62,168,55,352,267,848,91,373,162,180,516,923,296,185,66,326,286,492,177,93,175,115,167,125,197,67,719,206,98]
["70-74 años",74,163,26,49,159,65,336,226,895,101,374,137,209,516,864,277,142,68,281,260,451,140,64,184,130,153,125,179,73,638,185,108]
["75-79 años",90,133,30,52,146,52,327,200,814,89,378,173,202,477,814,294,136,77,269,288,435,149,56,174,109,115,87,163,72,664,143,121]
["80-84 años",82,110,25,42,117,33,283,172,689,80,311,158,170,422,616,284,134,65,259,271,423,123,54,145,114,127,89,125,59,485,119,98]
["85 años y más",128,125,39,42,118,55,273,173,934,108,397,203,234,564,762,423,194,69,287,361,480,149,35,226,124,127,88,189,94,627,117,184]
["No especificado",4,28,6,0,1,1,8,8,1,1,6,3,0,27,21,2,16,8,1,6,12,1,1,1,0,13,5,10,0,3,0,1]

{"sheet":"13T-GCM-G_Edad_EntFed2022","index":186,"n_rows":22,"n_cols":33,"rows_kept":22,"cut":false,"hidden":true,"merged":[]}
[1,2,3,4,5,6,7,8,9,10,11,12,13,14,15,16,17,18,19,20,21,22,23,24,25,26,27,28,29,30,31,32,33]
["ESTADO","Aguascalientes","Baja California","Baja California Sur","Campeche","Coahuila","Colima","Chiapas","Chihuahua","Ciudad de México","Durango","Guanajuato","Guerrero","Hidalgo","Jalisco","México","Michoacán","Morelos","Nayarit","Nuevo León","Oaxaca","Puebla","Querétaro","Quintana Roo","San Luis Potosí","Sinaloa","Sonora","Tabasco","Tamaulipas","Tlaxcala","Veracruz","Yucatán","Zacatecas"]
["Menores de 1 año",2,6,2,1,4,1,31,9,30,6,14,6,5,21,17,13,4,2,9,11,21,7,5,4,5,5,11,7,4,18,7,2]
["1-4 años",4,0,3,1,4,1,17,6,13,1,6,7,3,15,17,5,0,1,6,7,10,5,2,4,1,4,6,6,4,6,3,3]
["5-9 años",1,1,0,0,1,0,9,5,16,2,7,1,3,6,10,5,0,0,3,6,3,3,1,2,2,1,2,2,1,1,1,1]
["10-14 años",1,5,0,0,1,0,9,5,15,4,2,3,2,7,10,3,3,0,7,3,10,3,1,3,1,1,3,0,1,10,3,0]
["15-19 años",1,5,0,0,3,0,14,11,29,2,11,1,4,12,30,3,4,1,8,12,20,6,1,6,3,0,4,5,0,10,5,4]
["20-24 años",4,19,3,2,6,1,40,11,48,6,14,10,9,33,62,20,9,2,21,10,21,5,5,5,6,9,10,8,4,19,10,3]
["25-29 años",7,24,5,5,8,7,66,27,106,5,62,17,13,57,158,33,20,1,23,38,70,20,7,11,13,8,12,8,16,60,20,13]
["30-34 años",13,34,6,11,16,11,88,41,202,6,65,38,23,101,244,58,43,8,33,59,110,31,19,24,12,24,22,25,14,115,39,8]
["35-39 años",31,57,7,13,33,24,159,69,253,19,115,50,30,159,371,98,45,17,65,108,171,55,41,40,14,27,30,43,30,192,45,18]
["40-44 años",37,101,15,32,76,27,200,105,377,25,193,72,63,230,530,155,80,27,129,135,261,86,52,88,26,53,52,68,38,273,117,32]
["45-49 años",52,175,25,24,117,37,247,182,582,50,275,137,96,303,762,171,99,26,204,211,365,88,86,109,53,83,60,105,58,398,131,50]
["50-54 años",45,200,30,52,155,37,279,235,669,56,320,133,122,365,816,206,121,55,292,225,413,147,118,144,51,137,84,177,64,502,135,63]
["55-59 años",69,252,45,55,190,63,313,253,778,76,325,133,159,449,883,219,138,51,326,267,456,149,126,173,85,138,109,189,72,592,141,80]
["60-64 años",82,241,54,56,223,49,356,277,872,97,344,151,180,503,955,283,163,55,406,256,496,157,118,173,109,156,135,212,81,641,176,73]
["65-69 años",76,190,40,51,214,51,307,250,906,101,350,167,208,547,996,274,169,71,373,274,505,162,97,175,128,178,121,196,76,644,195,91]
["70-74 años",94,171,34,47,177,62,302,233,895,92,328,163,207,530,940,278,161,68,365,240,463,165,74,192,128,145,86,194,72,585,184,86]
["75-79 años",76,142,23,41,159,59,271,204,853,109,323,147,184,500,845,271,156,63,339,260,440,132,68,162,113,145,97,180,92,552,152,101]
["80-84 años",62,91,20,38,132,39,250,196,700,91,304,137,177,432,684,235,141,63,273,231,392,111,47,149,96,109,88,122,68,449,134,97]
["85 años y más",81,131,21,45,148,38,248,192,1009,99,382,225,236,570,835,375,150,71,341,349,474,177,44,238,139,144,77,150,79,604,135,189]
["No especificado",2,46,4,0,1,3,6,4,3,1,9,4,0,14,15,8,1,12,1,1,15,0,6,1,0,9,4,3,0,4,1,2]

{"sheet":"13GCM-G-Edad_Ent.Fed","index":187,"n_rows":36,"n_cols":4,"rows_kept":36,"cut":false,"hidden":false,"merged":[[0,0,0,3]]}
["Enfermedades del sistema digestivo"]
["SELECCIONE UN GRUPO DE EDAD"]
["60-64 años","2020","2021","2022"]
["Aguascalientes",{"$f":"VLOOKUP($A$3,Tabla66[],MATCH(TablaA63[[#This Row],[60-64 años]],Tabla66[#Headers],0),FALSE)","v":53},{"$f":"VLOOKUP($A$3,Tabla67[],MATCH(TablaA63[[#This Row],[60-64 años]],Tabla67[#Headers],0),FALSE)","v":73},{"$f":"VLOOKUP($A$3,Tabla68[],MATCH(TablaA63[[#This Row],[60-64 años]],Tabla68[#Headers],0),FALSE)","v":82}]
["Baja California",{"$f":"VLOOKUP($A$3,Tabla66[],MATCH(TablaA63[[#This Row],[60-64 años]],Tabla66[#Headers],0),FALSE)","v":220},{"$f":"VLOOKUP($A$3,Tabla67[],MATCH(TablaA63[[#This Row],[60-64 años]],Tabla67[#Headers],0),FALSE)","v":264},{"$f":"VLOOKUP($A$3,Tabla68[],MATCH(TablaA63[[#This Row],[60-64 años]],Tabla68[#Headers],0),FALSE)","v":241}]
["Baja California Sur",{"$f":"VLOOKUP($A$3,Tabla66[],MATCH(TablaA63[[#This Row],[60-64 años]],Tabla66[#Headers],0),FALSE)","v":26},{"$f":"VLOOKUP($A$3,Tabla67[],MATCH(TablaA63[[#This Row],[60-64 años]],Tabla67[#Headers],0),FALSE)","v":42},{"$f":"VLOOKUP($A$3,Tabla68[],MATCH(TablaA63[[#This Row],[60-64 años]],Tabla68[#Headers],0),FALSE)","v":54}]
["Campeche",{"$f":"VLOOKUP($A$3,Tabla66[],MATCH(TablaA63[[#This Row],[60-64 años]],Tabla66[#Headers],0),FALSE)","v":55},{"$f":"VLOOKUP($A$3,Tabla67[],MATCH(TablaA63[[#This Row],[60-64 años]],Tabla67[#Headers],0),FALSE)","v":70},{"$f":"VLOOKUP($A$3,Tabla68[],MATCH(TablaA63[[#This Row],[60-64 años]],Tabla68[#Headers],0),FALSE)","v":56}]
["Coahuila",{"$f":"VLOOKUP($A$3,Tabla66[],MATCH(TablaA63[[#This Row],[60-64 años]],Tabla66[#Headers],0),FALSE)","v":212},{"$f":"VLOOKUP($A$3,Tabla67[],MATCH(TablaA63[[#This Row],[60-64 años]],Tabla67[#Headers],0),FALSE)","v":176},{"$f":"VLOOKUP($A$3,Tabla68[],MATCH(TablaA63[[#This Row],[60-64 años]],Tabla68[#Headers],0),FALSE)","v":223}]
["Colima",{"$f":"VLOOKUP($A$3,Tabla66[],MATCH(TablaA63[[#This Row],[60-64 años]],Tabla66[#Headers],0),FALSE)","v":44},{"$f":"VLOOKUP($A$3,Tabla67[],MATCH(TablaA63[[#This Row],[60-64 años]],Tabla67[#Headers],0),FALSE)","v":55},{"$f":"VLOOKUP($A$3,Tabla68[],MATCH(TablaA63[[#This Row],[60-64 años]],Tabla68[#Headers],0),FALSE)","v":49}]
["Chiapas",{"$f":"VLOOKUP($A$3,Tabla66[],MATCH(TablaA63[[#This Row],[60-64 años]],Tabla66[#Headers],0),FALSE)","v":341},{"$f":"VLOOKUP($A$3,Tabla67[],MATCH(TablaA63[[#This Row],[60-64 años]],Tabla67[#Headers],0),FALSE)","v":373},{"$f":"VLOOKUP($A$3,Tabla68[],MATCH(TablaA63[[#This Row],[60-64 años]],Tabla68[#Headers],0),FALSE)","v":356}]
["Chihuahua",{"$f":"VLOOKUP($A$3,Tabla66[],MATCH(TablaA63[[#This Row],[60-64 años]],Tabla66[#Headers],0),FALSE)","v":263},{"$f":"VLOOKUP($A$3,Tabla67[],MATCH(TablaA63[[#This Row],[60-64 años]],Tabla67[#Headers],0),FALSE)","v":314},{"$f":"VLOOKUP($A$3,Tabla68[],MATCH(TablaA63[[#This Row],[60-64 años]],Tabla68[#Headers],0),FALSE)","v":277}]
["Ciudad de México",{"$f":"VLOOKUP($A$3,Tabla66[],MATCH(TablaA63[[#This Row],[60-64 años]],Tabla66[#Headers],0),FALSE)","v":854},{"$f":"VLOOKUP($A$3,Tabla67[],MATCH(TablaA63[[#This Row],[60-64 años]],Tabla67[#Headers],0),FALSE)","v":808},{"$f":"VLOOKUP($A$3,Tabla68[],MATCH(TablaA63[[#This Row],[60-64 años]],Tabla68[#Headers],0),FALSE)","v":872}]
["Durango",{"$f":"VLOOKUP($A$3,Tabla66[],MATCH(TablaA63[[#This Row],[60-64 años]],Tabla66[#Headers],0),FALSE)","v":88},{"$f":"VLOOKUP($A$3,Tabla67[],MATCH(TablaA63[[#This Row],[60-64 años]],Tabla67[#Headers],0),FALSE)","v":99},{"$f":"VLOOKUP($A$3,Tabla68[],MATCH(TablaA63[[#This Row],[60-64 años]],Tabla68[#Headers],0),FALSE)","v":97}]
["Guanajuato",{"$f":"VLOOKUP($A$3,Tabla66[],MATCH(TablaA63[[#This Row],[60-64 años]],Tabla66[#Headers],0),FALSE)","v":359},{"$f":"VLOOKUP($A$3,Tabla67[],MATCH(TablaA63[[#This Row],[60-64 años]],Tabla67[#Headers],0),FALSE)","v":361},{"$f":"VLOOKUP($A$3,Tabla68[],MATCH(TablaA63[[#This Row],[60-64 años]],Tabla68[#Headers],0),FALSE)","v":344}]
["Guerrero",{"$f":"VLOOKUP($A$3,Tabla66[],MATCH(TablaA63[[#This Row],[60-64 años]],Tabla66[#Headers],0),FALSE)","v":159},{"$f":"VLOOKUP($A$3,Tabla67[],MATCH(TablaA63[[#This Row],[60-64 años]],Tabla67[#Headers],0),FALSE)","v":177},{"$f":"VLOOKUP($A$3,Tabla68[],MATCH(TablaA63[[#This Row],[60-64 años]],Tabla68[#Headers],0),FALSE)","v":151}]
["Hidalgo",{"$f":"VLOOKUP($A$3,Tabla66[],MATCH(TablaA63[[#This Row],[60-64 años]],Tabla66[#Headers],0),FALSE)","v":180},{"$f":"VLOOKUP($A$3,Tabla67[],MATCH(TablaA63[[#This Row],[60-64 años]],Tabla67[#Headers],0),FALSE)","v":193},{"$f":"VLOOKUP($A$3,Tabla68[],MATCH(TablaA63[[#This Row],[60-64 años]],Tabla68[#Headers],0),FALSE)","v":180}]
["Jalisco",{"$f":"VLOOKUP($A$3,Tabla66[],MATCH(TablaA63[[#This Row],[60-64 años]],Tabla66[#Headers],0),FALSE)","v":466},{"$f":"VLOOKUP($A$3,Tabla67[],MATCH(TablaA63[[#This Row],[60-64 años]],Tabla67[#Headers],0),FALSE)","v":485},{"$f":"VLOOKUP($A$3,Tabla68[],MATCH(TablaA63[[#This Row],[60-64 años]],Tabla68[#Headers],0),FALSE)","v":503}]
["México",{"$f":"VLOOKUP($A$3,Tabla66[],MATCH(TablaA63[[#This Row],[60-64 años]],Tabla66[#Headers],0),FALSE)","v":959},{"$f":"VLOOKUP($A$3,Tabla67[],MATCH(TablaA63[[#This Row],[60-64 años]],Tabla67[#Headers],0),FALSE)","v":989},{"$f":"VLOOKUP($A$3,Tabla68[],MATCH(TablaA63[[#This Row],[60-64 años]],Tabla68[#Headers],0),FALSE)","v":955}]
["Michoacán",{"$f":"VLOOKUP($A$3,Tabla66[],MATCH(TablaA63[[#This Row],[60-64 años]],Tabla66[#Headers],0),FALSE)","v":233},{"$f":"VLOOKUP($A$3,Tabla67[],MATCH(TablaA63[[#This Row],[60-64 años]],Tabla67[#Headers],0),FALSE)","v":272},{"$f":"VLOOKUP($A$3,Tabla68[],MATCH(TablaA63[[#This Row],[60-64 años]],Tabla68[#Headers],0),FALSE)","v":283}]
["Morelos",{"$f":"VLOOKUP($A$3,Tabla66[],MATCH(TablaA63[[#This Row],[60-64 años]],Tabla66[#Headers],0),FALSE)","v":183},{"$f":"VLOOKUP($A$3,Tabla67[],MATCH(TablaA63[[#This Row],[60-64 años]],Tabla67[#Headers],0),FALSE)","v":196},{"$f":"VLOOKUP($A$3,Tabla68[],MATCH(TablaA63[[#This Row],[60-64 años]],Tabla68[#Headers],0),FALSE)","v":163}]
["Nayarit",{"$f":"VLOOKUP($A$3,Tabla66[],MATCH(TablaA63[[#This Row],[60-64 años]],Tabla66[#Headers],0),FALSE)","v":61},{"$f":"VLOOKUP($A$3,Tabla67[],MATCH(TablaA63[[#This Row],[60-64 años]],Tabla67[#Headers],0),FALSE)","v":75},{"$f":"VLOOKUP($A$3,Tabla68[],MATCH(TablaA63[[#This Row],[60-64 años]],Tabla68[#Headers],0),FALSE)","v":55}]
["Nuevo León",{"$f":"VLOOKUP($A$3,Tabla66[],MATCH(TablaA63[[#This Row],[60-64 años]],Tabla66[#Headers],0),FALSE)","v":295},{"$f":"VLOOKUP($A$3,Tabla67[],MATCH(TablaA63[[#This Row],[60-64 años]],Tabla67[#Headers],0),FALSE)","v":323},{"$f":"VLOOKUP($A$3,Tabla68[],MATCH(TablaA63[[#This Row],[60-64 años]],Tabla68[#Headers],0),FALSE)","v":406}]
["Oaxaca",{"$f":"VLOOKUP($A$3,Tabla66[],MATCH(TablaA63[[#This Row],[60-64 años]],Tabla66[#Headers],0),FALSE)","v":262},{"$f":"VLOOKUP($A$3,Tabla67[],MATCH(TablaA63[[#This Row],[60-64 años]],Tabla67[#Headers],0),FALSE)","v":250},{"$f":"VLOOKUP($A$3,Tabla68[],MATCH(TablaA63[[#This Row],[60-64 años]],Tabla68[#Headers],0),FALSE)","v":256}]
["Puebla",{"$f":"VLOOKUP($A$3,Tabla66[],MATCH(TablaA63[[#This Row],[60-64 años]],Tabla66[#Headers],0),FALSE)","v":497},{"$f":"VLOOKUP($A$3,Tabla67[],MATCH(TablaA63[[#This Row],[60-64 años]],Tabla67[#Headers],0),FALSE)","v":520},{"$f":"VLOOKUP($A$3,Tabla68[],MATCH(TablaA63[[#This Row],[60-64 años]],Tabla68[#Headers],0),FALSE)","v":496}]
["Querétaro",{"$f":"VLOOKUP($A$3,Tabla66[],MATCH(TablaA63[[#This Row],[60-64 años]],Tabla66[#Headers],0),FALSE)","v":178},{"$f":"VLOOKUP($A$3,Tabla67[],MATCH(TablaA63[[#This Row],[60-64 años]],Tabla67[#Headers],0),FALSE)","v":167},{"$f":"VLOOKUP($A$3,Tabla68[],MATCH(TablaA63[[#This Row],[60-64 años]],Tabla68[#Headers],0),FALSE)","v":157}]
["Quintana Roo",{"$f":"VLOOKUP($A$3,Tabla66[],MATCH(TablaA63[[#This Row],[60-64 años]],Tabla66[#Headers],0),FALSE)","v":85},{"$f":"VLOOKUP($A$3,Tabla67[],MATCH(TablaA63[[#This Row],[60-64 años]],Tabla67[#Headers],0),FALSE)","v":95},{"$f":"VLOOKUP($A$3,Tabla68[],MATCH(TablaA63[[#This Row],[60-64 años]],Tabla68[#Headers],0),FALSE)","v":118}]
["San Luis Potosí",{"$f":"VLOOKUP($A$3,Tabla66[],MATCH(TablaA63[[#This Row],[60-64 años]],Tabla66[#Headers],0),FALSE)","v":158},{"$f":"VLOOKUP($A$3,Tabla67[],MATCH(TablaA63[[#This Row],[60-64 años]],Tabla67[#Headers],0),FALSE)","v":184},{"$f":"VLOOKUP($A$3,Tabla68[],MATCH(TablaA63[[#This Row],[60-64 años]],Tabla68[#Headers],0),FALSE)","v":173}]
["Sinaloa",{"$f":"VLOOKUP($A$3,Tabla66[],MATCH(TablaA63[[#This Row],[60-64 años]],Tabla66[#Headers],0),FALSE)","v":91},{"$f":"VLOOKUP($A$3,Tabla67[],MATCH(TablaA63[[#This Row],[60-64 años]],Tabla67[#Headers],0),FALSE)","v":112},{"$f":"VLOOKUP($A$3,Tabla68[],MATCH(TablaA63[[#This Row],[60-64 años]],Tabla68[#Headers],0),FALSE)","v":109}]
["Sonora",{"$f":"VLOOKUP($A$3,Tabla66[],MATCH(TablaA63[[#This Row],[60-64 años]],Tabla66[#Headers],0),FALSE)","v":162},{"$f":"VLOOKUP($A$3,Tabla67[],MATCH(TablaA63[[#This Row],[60-64 años]],Tabla67[#Headers],0),FALSE)","v":171},{"$f":"VLOOKUP($A$3,Tabla68[],MATCH(TablaA63[[#This Row],[60-64 años]],Tabla68[#Headers],0),FALSE)","v":156}]
["Tabasco",{"$f":"VLOOKUP($A$3,Tabla66[],MATCH(TablaA63[[#This Row],[60-64 años]],Tabla66[#Headers],0),FALSE)","v":132},{"$f":"VLOOKUP($A$3,Tabla67[],MATCH(TablaA63[[#This Row],[60-64 años]],Tabla67[#Headers],0),FALSE)","v":115},{"$f":"VLOOKUP($A$3,Tabla68[],MATCH(TablaA63[[#This Row],[60-64 años]],Tabla68[#Headers],0),FALSE)","v":135}]
["Tamaulipas",{"$f":"VLOOKUP($A$3,Tabla66[],MATCH(TablaA63[[#This Row],[60-64 años]],Tabla66[#Headers],0),FALSE)","v":220},{"$f":"VLOOKUP($A$3,Tabla67[],MATCH(TablaA63[[#This Row],[60-64 años]],Tabla67[#Headers],0),FALSE)","v":199},{"$f":"VLOOKUP($A$3,Tabla68[],MATCH(TablaA63[[#This Row],[60-64 años]],Tabla68[#Headers],0),FALSE)","v":212}]
["Tlaxcala",{"$f":"VLOOKUP($A$3,Tabla66[],MATCH(TablaA63[[#This Row],[60-64 años]],Tabla66[#Headers],0),FALSE)","v":78},{"$f":"VLOOKUP($A$3,Tabla67[],MATCH(TablaA63[[#This Row],[60-64 años]],Tabla67[#Headers],0),FALSE)","v":72},{"$f":"VLOOKUP($A$3,Tabla68[],MATCH(TablaA63[[#This Row],[60-64 años]],Tabla68[#Headers],0),FALSE)","v":81}]
["Veracruz",{"$f":"VLOOKUP($A$3,Tabla66[],MATCH(TablaA63[[#This Row],[60-64 años]],Tabla66[#Headers],0),FALSE)","v":635},{"$f":"VLOOKUP($A$3,Tabla67[],MATCH(TablaA63[[#This Row],[60-64 años]],Tabla67[#Headers],0),FALSE)","v":674},{"$f":"VLOOKUP($A$3,Tabla68[],MATCH(TablaA63[[#This Row],[60-64 años]],Tabla68[#Headers],0),FALSE)","v":641}]
["Yucatán",{"$f":"VLOOKUP($A$3,Tabla66[],MATCH(TablaA63[[#This Row],[60-64 años]],Tabla66[#Headers],0),FALSE)","v":167},{"$f":"VLOOKUP($A$3,Tabla67[],MATCH(TablaA63[[#This Row],[60-64 años]],Tabla67[#Headers],0),FALSE)","v":190},{"$f":"VLOOKUP($A$3,Tabla68[],MATCH(TablaA63[[#This Row],[60-64 años]],Tabla68[#Headers],0),FALSE)","v":176}]
["Zacatecas",{"$f":"VLOOKUP($A$3,Tabla66[],MATCH(TablaA63[[#This Row],[60-64 años]],Tabla66[#Headers],0),FALSE)","v":78},{"$f":"VLOOKUP($A$3,Tabla67[],MATCH(TablaA63[[#This Row],[60-64 años]],Tabla67[#Headers],0),FALSE)","v":77},{"$f":"VLOOKUP($A$3,Tabla68[],MATCH(TablaA63[[#This Row],[60-64 años]],Tabla68[#Headers],0),FALSE)","v":73}]
["Total",{"$f":"SUM(B4:B35)","v":7794},{"$f":"SUM(C4:C35)","v":8171},8130]

{"sheet":"14T-GCM-G_Edad_EntFed2020","index":188,"n_rows":22,"n_cols":33,"rows_kept":22,"cut":false,"hidden":true,"merged":[]}
[1,2,3,4,5,6,7,8,9,10,11,12,13,14,15,16,17,18,19,20,21,22,23,24,25,26,27,28,29,30,31,32,33]
["ESTADO","Aguascalientes","Baja California","Baja California Sur","Campeche","Coahuila","Colima","Chiapas","Chihuahua","Ciudad de México","Durango","Guanajuato","Guerrero","Hidalgo","Jalisco","México","Michoacán","Morelos","Nayarit","Nuevo León","Oaxaca","Puebla","Querétaro","Quintana Roo","San Luis Potosí","Sinaloa","Sonora","Tabasco","Tamaulipas","Tlaxcala","Veracruz","Yucatán","Zacatecas"]
["Menores de 1 año",0,0,0,0,0,0,0,0,1,0,0,0,0,1,0,0,0,0,0,0,0,0,0,0,0,0,0,0,0,2,1,0]
["1-4 años",0,0,0,0,0,0,1,0,0,0,0,0,0,1,0,0,0,0,0,1,0,0,0,0,0,0,0,0,0,0,0,0]
["5-9 años",0,0,0,0,0,0,1,1,1,0,0,1,0,0,0,0,0,0,0,0,1,0,0,0,0,0,0,0,0,0,0,0]
["10-14 años",1,0,0,0,0,0,0,0,2,0,0,0,0,0,0,0,1,0,0,0,0,1,1,0,0,0,1,0,0,0,0,0]
["15-19 años",0,1,0,0,0,0,0,0,0,0,0,1,0,0,1,0,0,0,2,0,0,1,0,1,1,0,1,0,0,1,0,0]
["20-24 años",0,0,1,0,0,0,0,4,2,0,2,0,0,1,3,0,2,1,1,0,0,2,1,1,0,0,0,0,0,3,1,0]
["25-29 años",0,1,0,1,2,0,1,6,6,0,7,0,0,2,5,0,0,0,1,0,1,0,0,1,0,1,0,2,0,1,0,0]
["30-34 años",0,3,0,0,1,0,0,2,7,0,4,0,0,6,12,2,1,0,0,2,0,2,0,0,2,3,1,0,0,1,1,0]
["35-39 años",1,2,0,0,1,2,0,4,15,1,5,1,0,10,14,1,1,0,5,2,0,3,4,2,1,5,3,1,0,1,3,0]
["40-44 años",1,6,0,3,1,0,2,7,29,1,2,0,0,21,20,5,3,2,12,1,2,1,4,1,1,8,0,4,0,5,3,0]
["45-49 años",0,3,0,3,3,1,3,0,38,3,2,1,1,18,18,4,2,0,13,2,1,4,4,0,1,6,0,3,1,4,2,1]
["50-54 años",1,4,1,3,4,2,1,3,43,1,8,1,2,25,34,2,4,0,23,5,3,1,5,4,1,10,2,8,0,4,3,1]
["55-59 años",0,6,0,3,7,5,5,6,64,5,9,3,2,35,41,2,7,1,20,7,0,3,2,1,3,6,4,14,0,3,12,2]
["60-64 años",3,6,0,2,6,2,3,7,65,5,13,5,2,40,40,4,5,4,34,4,4,5,5,5,1,8,2,14,0,9,9,2]
["65-69 años",3,7,3,4,9,5,2,3,53,3,15,4,6,28,45,8,5,5,29,3,3,2,3,4,2,7,4,14,2,8,12,3]
["70-74 años",1,4,0,2,3,1,3,9,67,1,13,2,7,47,34,7,12,5,23,7,6,5,4,10,5,20,1,8,0,13,14,4]
["75-79 años",0,6,3,2,8,2,1,7,68,10,15,3,3,37,37,10,11,3,34,6,8,10,2,4,3,9,2,9,2,6,8,3]
["80-84 años",6,5,1,7,6,5,11,16,75,5,28,6,7,49,49,13,8,3,28,15,26,9,9,16,4,17,3,15,2,12,5,6]
["85 años y más",7,9,1,1,3,1,6,12,103,3,30,5,8,58,55,11,7,4,21,5,13,18,1,17,8,7,1,7,2,22,9,13]
["No especificado",0,0,0,0,0,0,0,0,0,0,0,0,0,0,0,0,0,0,0,0,0,0,0,0,0,0,0,0,0,0,0,0]

{"sheet":"14T-GCM-G_Edad_EntFed2021","index":189,"n_rows":22,"n_cols":33,"rows_kept":22,"cut":false,"hidden":true,"merged":[]}
[1,2,3,4,5,6,7,8,9,10,11,12,13,14,15,16,17,18,19,20,21,22,23,24,25,26,27,28,29,30,31,32,33]
["ESTADO","Aguascalientes","Baja California","Baja California Sur","Campeche","Coahuila","Colima","Chiapas","Chihuahua","Ciudad de México","Durango","Guanajuato","Guerrero","Hidalgo","Jalisco","México","Michoacán","Morelos","Nayarit","Nuevo León","Oaxaca","Puebla","Querétaro","Quintana Roo","San Luis Potosí","Sinaloa","Sonora","Tabasco","Tamaulipas","Tlaxcala","Veracruz","Yucatán","Zacatecas"]
["Menores de 1 año",0,0,0,0,0,0,0,0,0,0,0,1,0,0,0,0,0,0,0,1,0,0,0,0,0,0,0,0,0,0,0,0]
["1-4 años",0,0,0,0,0,0,2,0,1,0,1,0,0,0,0,0,0,0,1,1,0,0,0,0,0,0,0,0,0,0,0,0]
["5-9 años",0,1,0,0,0,0,1,0,0,0,0,0,0,1,0,1,0,0,0,0,0,0,0,0,0,0,0,0,0,0,0,0]
["10-14 años",0,0,0,0,0,0,0,0,3,0,0,0,0,1,0,0,1,0,0,0,0,1,0,0,1,0,0,0,0,0,0,0]
["15-19 años",0,1,0,0,1,0,0,0,1,0,1,1,1,5,3,1,0,0,0,0,0,1,0,0,0,1,0,1,0,0,3,0]
["20-24 años",0,2,0,0,0,0,1,1,5,1,2,0,1,3,2,1,0,0,2,0,0,0,1,0,0,0,0,0,0,3,1,0]
["25-29 años",1,4,0,1,0,1,2,4,5,0,3,0,0,9,5,2,2,0,3,0,3,0,1,2,2,0,0,2,0,2,1,1]
["30-34 años",0,1,0,0,1,0,2,3,9,4,2,2,0,6,6,2,0,1,5,2,0,1,1,1,0,4,1,1,0,5,2,0]
["35-39 años",0,3,2,2,2,1,3,2,14,3,1,0,2,8,6,1,3,1,9,1,3,1,3,3,0,0,2,1,0,6,2,1]
["40-44 años",2,4,0,0,1,0,3,2,16,2,2,0,0,9,24,1,5,2,14,3,1,7,1,0,0,1,0,2,0,8,4,0]
["45-49 años",1,6,1,2,6,3,2,3,32,1,7,1,0,20,18,6,5,2,20,0,4,8,5,2,3,8,2,7,0,9,6,2]
["50-54 años",3,7,5,3,7,1,5,10,53,5,11,1,4,22,40,5,9,1,22,3,3,6,3,4,4,4,4,12,0,13,13,1]
["55-59 años",1,7,1,2,8,1,2,7,65,2,11,3,3,30,53,8,7,2,27,3,5,9,3,6,2,10,4,16,0,16,9,3]
["60-64 años",3,8,0,0,11,2,7,10,74,5,7,5,1,36,44,10,7,2,21,8,4,6,8,3,3,6,3,10,0,19,8,4]
["65-69 años",1,6,0,3,9,5,5,11,73,4,13,4,1,35,46,10,9,7,21,2,9,6,6,4,2,6,2,17,1,22,14,2]
["70-74 años",5,11,3,3,8,5,8,12,76,3,23,3,4,33,48,11,5,9,30,5,10,7,6,5,6,6,8,10,2,17,5,2]
["75-79 años",5,7,3,1,8,3,6,15,74,3,19,0,3,43,42,14,10,3,28,6,5,9,8,7,5,16,2,10,2,29,17,4]
["80-84 años",5,13,2,5,10,4,4,11,100,8,27,10,11,47,48,16,10,6,26,19,16,16,3,17,7,11,2,24,5,23,19,11]
["85 años y más",3,20,3,2,12,5,9,18,123,5,32,6,11,51,57,13,12,9,34,16,24,23,5,9,3,11,2,21,5,15,8,15]
["No especificado",0,0,0,0,0,0,0,0,0,0,0,0,0,0,0,0,0,0,0,0,0,0,0,0,0,0,0,0,0,0,0,0]

{"sheet":"14T-GCM-G_Edad_EntFed2022","index":190,"n_rows":22,"n_cols":33,"rows_kept":22,"cut":false,"hidden":true,"merged":[]}
[1,2,3,4,5,6,7,8,9,10,11,12,13,14,15,16,17,18,19,20,21,22,23,24,25,26,27,28,29,30,31,32,33]
["ESTADO","Aguascalientes","Baja California","Baja California Sur","Campeche","Coahuila","Colima","Chiapas","Chihuahua","Ciudad de México","Durango","Guanajuato","Guerrero","Hidalgo","Jalisco","México","Michoacán","Morelos","Nayarit","Nuevo León","Oaxaca","Puebla","Querétaro","Quintana Roo","San Luis Potosí","Sinaloa","Sonora","Tabasco","Tamaulipas","Tlaxcala","Veracruz","Yucatán","Zacatecas"]
["Menores de 1 año",0,0,0,0,1,0,1,0,0,0,0,1,0,0,0,0,0,0,1,1,0,0,0,0,0,0,1,0,0,1,0,0]
["1-4 años",0,0,0,0,0,0,3,0,0,1,1,0,0,0,1,0,0,1,0,0,0,0,0,0,0,0,1,0,0,2,0,0]
["5-9 años",0,0,0,0,0,0,0,0,3,0,0,0,0,0,0,0,0,0,1,1,0,0,0,1,0,0,0,0,0,0,0,0]
["10-14 años",0,0,0,0,0,0,0,0,1,0,0,0,0,0,0,0,1,0,0,0,0,0,0,0,0,0,0,0,1,0,0,1]
["15-19 años",0,0,0,0,1,0,0,1,3,0,0,0,0,1,3,1,0,0,0,0,1,0,2,1,0,0,0,0,0,1,0,0]
["20-24 años",0,0,0,0,1,0,0,0,5,0,1,0,0,2,2,0,0,0,1,0,1,0,0,1,0,2,1,1,1,1,0,1]
["25-29 años",0,2,0,0,0,0,1,3,8,0,1,0,0,6,5,3,2,0,0,0,0,0,1,1,0,0,1,0,0,1,1,0]
["30-34 años",0,0,0,0,1,0,2,2,13,2,3,0,1,5,11,2,2,0,4,0,0,3,0,1,0,2,0,5,1,6,1,1]
["35-39 años",0,4,0,0,2,1,0,7,10,1,3,0,0,8,17,5,2,0,10,2,0,3,1,2,2,3,1,3,0,9,1,2]
["40-44 años",0,6,0,0,5,5,4,2,28,3,2,4,0,10,21,7,7,0,11,3,1,2,3,2,1,2,1,7,1,7,2,2]
["45-49 años",4,11,4,5,7,4,1,4,41,2,4,5,0,16,37,4,4,1,20,2,0,8,6,5,4,3,6,8,0,8,4,0]
["50-54 años",4,12,3,2,9,1,3,6,56,1,7,6,1,32,37,6,4,3,18,3,3,6,7,4,4,4,1,8,0,22,12,4]
["55-59 años",2,12,2,2,20,4,5,7,85,0,12,5,0,36,53,7,13,6,39,5,2,3,6,3,3,10,3,7,1,39,8,1]
["60-64 años",5,15,2,3,14,8,10,13,88,6,14,3,1,41,60,12,9,6,30,3,3,8,3,5,8,16,4,12,1,28,8,2]
["65-69 años",6,14,1,4,14,3,6,17,90,8,21,4,6,43,77,9,11,8,58,6,5,12,5,5,10,20,6,16,0,35,15,2]
["70-74 años",3,22,4,3,10,3,10,10,107,2,15,6,3,51,67,16,11,9,54,6,5,5,5,10,12,17,1,16,0,37,13,4]
["75-79 años",5,13,4,3,12,8,9,16,105,7,26,2,4,49,85,13,6,6,51,11,15,13,2,8,14,26,2,18,3,35,25,9]
["80-84 años",13,22,4,3,21,8,14,24,195,8,35,9,16,97,88,23,14,9,54,20,19,22,8,14,17,19,4,22,4,43,17,26]
["85 años y más",4,6,1,5,9,2,7,6,52,3,10,6,3,27,27,10,7,4,13,6,10,3,3,9,5,8,6,5,1,12,6,7]
["No especificado",0,0,0,0,0,0,0,0,0,0,0,0,0,0,0,0,0,0,0,0,0,0,0,0,0,0,0,0,0,0,0,0]

{"sheet":"14GCM-G-Edad_Ent.Fed","index":191,"n_rows":36,"n_cols":4,"rows_kept":36,"cut":false,"hidden":false,"merged":[[0,0,0,3]]}
["Enfermedades de la piel y\ndel tejido subcutáneo"]
["SELECCIONE UN GRUPO DE EDAD"]
["65-69 años","2020","2021","2022"]
["Aguascalientes",{"$f":"VLOOKUP($A$3,Tabla69[],MATCH(TablaA64[[#This Row],[65-69 años]],Tabla69[#Headers],0),FALSE)","v":3},{"$f":"VLOOKUP($A$3,Tabla70[],MATCH(TablaA64[[#This Row],[65-69 años]],Tabla70[#Headers],0),FALSE)","v":1},{"$f":"VLOOKUP($A$3,Tabla71[],MATCH(TablaA64[[#This Row],[65-69 años]],Tabla71[#Headers],0),FALSE)","v":6}]
["Baja California",{"$f":"VLOOKUP($A$3,Tabla69[],MATCH(TablaA64[[#This Row],[65-69 años]],Tabla69[#Headers],0),FALSE)","v":7},{"$f":"VLOOKUP($A$3,Tabla70[],MATCH(TablaA64[[#This Row],[65-69 años]],Tabla70[#Headers],0),FALSE)","v":6},{"$f":"VLOOKUP($A$3,Tabla71[],MATCH(TablaA64[[#This Row],[65-69 años]],Tabla71[#Headers],0),FALSE)","v":14}]
["Baja California Sur",{"$f":"VLOOKUP($A$3,Tabla69[],MATCH(TablaA64[[#This Row],[65-69 años]],Tabla69[#Headers],0),FALSE)","v":3},{"$f":"VLOOKUP($A$3,Tabla70[],MATCH(TablaA64[[#This Row],[65-69 años]],Tabla70[#Headers],0),FALSE)","v":0},{"$f":"VLOOKUP($A$3,Tabla71[],MATCH(TablaA64[[#This Row],[65-69 años]],Tabla71[#Headers],0),FALSE)","v":1}]
["Campeche",{"$f":"VLOOKUP($A$3,Tabla69[],MATCH(TablaA64[[#This Row],[65-69 años]],Tabla69[#Headers],0),FALSE)","v":4},{"$f":"VLOOKUP($A$3,Tabla70[],MATCH(TablaA64[[#This Row],[65-69 años]],Tabla70[#Headers],0),FALSE)","v":3},{"$f":"VLOOKUP($A$3,Tabla71[],MATCH(TablaA64[[#This Row],[65-69 años]],Tabla71[#Headers],0),FALSE)","v":4}]
["Coahuila",{"$f":"VLOOKUP($A$3,Tabla69[],MATCH(TablaA64[[#This Row],[65-69 años]],Tabla69[#Headers],0),FALSE)","v":9},{"$f":"VLOOKUP($A$3,Tabla70[],MATCH(TablaA64[[#This Row],[65-69 años]],Tabla70[#Headers],0),FALSE)","v":9},{"$f":"VLOOKUP($A$3,Tabla71[],MATCH(TablaA64[[#This Row],[65-69 años]],Tabla71[#Headers],0),FALSE)","v":14}]
["Colima",{"$f":"VLOOKUP($A$3,Tabla69[],MATCH(TablaA64[[#This Row],[65-69 años]],Tabla69[#Headers],0),FALSE)","v":5},{"$f":"VLOOKUP($A$3,Tabla70[],MATCH(TablaA64[[#This Row],[65-69 años]],Tabla70[#Headers],0),FALSE)","v":5},{"$f":"VLOOKUP($A$3,Tabla71[],MATCH(TablaA64[[#This Row],[65-69 años]],Tabla71[#Headers],0),FALSE)","v":3}]
["Chiapas",{"$f":"VLOOKUP($A$3,Tabla69[],MATCH(TablaA64[[#This Row],[65-69 años]],Tabla69[#Headers],0),FALSE)","v":2},{"$f":"VLOOKUP($A$3,Tabla70[],MATCH(TablaA64[[#This Row],[65-69 años]],Tabla70[#Headers],0),FALSE)","v":5},{"$f":"VLOOKUP($A$3,Tabla71[],MATCH(TablaA64[[#This Row],[65-69 años]],Tabla71[#Headers],0),FALSE)","v":6}]
["Chihuahua",{"$f":"VLOOKUP($A$3,Tabla69[],MATCH(TablaA64[[#This Row],[65-69 años]],Tabla69[#Headers],0),FALSE)","v":3},{"$f":"VLOOKUP($A$3,Tabla70[],MATCH(TablaA64[[#This Row],[65-69 años]],Tabla70[#Headers],0),FALSE)","v":11},{"$f":"VLOOKUP($A$3,Tabla71[],MATCH(TablaA64[[#This Row],[65-69 años]],Tabla71[#Headers],0),FALSE)","v":17}]
["Ciudad de México",{"$f":"VLOOKUP($A$3,Tabla69[],MATCH(TablaA64[[#This Row],[65-69 años]],Tabla69[#Headers],0),FALSE)","v":53},{"$f":"VLOOKUP($A$3,Tabla70[],MATCH(TablaA64[[#This Row],[65-69 años]],Tabla70[#Headers],0),FALSE)","v":73},{"$f":"VLOOKUP($A$3,Tabla71[],MATCH(TablaA64[[#This Row],[65-69 años]],Tabla71[#Headers],0),FALSE)","v":90}]
["Durango",{"$f":"VLOOKUP($A$3,Tabla69[],MATCH(TablaA64[[#This Row],[65-69 años]],Tabla69[#Headers],0),FALSE)","v":3},{"$f":"VLOOKUP($A$3,Tabla70[],MATCH(TablaA64[[#This Row],[65-69 años]],Tabla70[#Headers],0),FALSE)","v":4},{"$f":"VLOOKUP($A$3,Tabla71[],MATCH(TablaA64[[#This Row],[65-69 años]],Tabla71[#Headers],0),FALSE)","v":8}]
["Guanajuato",{"$f":"VLOOKUP($A$3,Tabla69[],MATCH(TablaA64[[#This Row],[65-69 años]],Tabla69[#Headers],0),FALSE)","v":15},{"$f":"VLOOKUP($A$3,Tabla70[],MATCH(TablaA64[[#This Row],[65-69 años]],Tabla70[#Headers],0),FALSE)","v":13},{"$f":"VLOOKUP($A$3,Tabla71[],MATCH(TablaA64[[#This Row],[65-69 años]],Tabla71[#Headers],0),FALSE)","v":21}]
["Guerrero",{"$f":"VLOOKUP($A$3,Tabla69[],MATCH(TablaA64[[#This Row],[65-69 años]],Tabla69[#Headers],0),FALSE)","v":4},{"$f":"VLOOKUP($A$3,Tabla70[],MATCH(TablaA64[[#This Row],[65-69 años]],Tabla70[#Headers],0),FALSE)","v":4},{"$f":"VLOOKUP($A$3,Tabla71[],MATCH(TablaA64[[#This Row],[65-69 años]],Tabla71[#Headers],0),FALSE)","v":4}]
["Hidalgo",{"$f":"VLOOKUP($A$3,Tabla69[],MATCH(TablaA64[[#This Row],[65-69 años]],Tabla69[#Headers],0),FALSE)","v":6},{"$f":"VLOOKUP($A$3,Tabla70[],MATCH(TablaA64[[#This Row],[65-69 años]],Tabla70[#Headers],0),FALSE)","v":1},{"$f":"VLOOKUP($A$3,Tabla71[],MATCH(TablaA64[[#This Row],[65-69 años]],Tabla71[#Headers],0),FALSE)","v":6}]
["Jalisco",{"$f":"VLOOKUP($A$3,Tabla69[],MATCH(TablaA64[[#This Row],[65-69 años]],Tabla69[#Headers],0),FALSE)","v":28},{"$f":"VLOOKUP($A$3,Tabla70[],MATCH(TablaA64[[#This Row],[65-69 años]],Tabla70[#Headers],0),FALSE)","v":35},{"$f":"VLOOKUP($A$3,Tabla71[],MATCH(TablaA64[[#This Row],[65-69 años]],Tabla71[#Headers],0),FALSE)","v":43}]
["México",{"$f":"VLOOKUP($A$3,Tabla69[],MATCH(TablaA64[[#This Row],[65-69 años]],Tabla69[#Headers],0),FALSE)","v":45},{"$f":"VLOOKUP($A$3,Tabla70[],MATCH(TablaA64[[#This Row],[65-69 años]],Tabla70[#Headers],0),FALSE)","v":46},{"$f":"VLOOKUP($A$3,Tabla71[],MATCH(TablaA64[[#This Row],[65-69 años]],Tabla71[#Headers],0),FALSE)","v":77}]
["Michoacán",{"$f":"VLOOKUP($A$3,Tabla69[],MATCH(TablaA64[[#This Row],[65-69 años]],Tabla69[#Headers],0),FALSE)","v":8},{"$f":"VLOOKUP($A$3,Tabla70[],MATCH(TablaA64[[#This Row],[65-69 años]],Tabla70[#Headers],0),FALSE)","v":10},{"$f":"VLOOKUP($A$3,Tabla71[],MATCH(TablaA64[[#This Row],[65-69 años]],Tabla71[#Headers],0),FALSE)","v":9}]
["Morelos",{"$f":"VLOOKUP($A$3,Tabla69[],MATCH(TablaA64[[#This Row],[65-69 años]],Tabla69[#Headers],0),FALSE)","v":5},{"$f":"VLOOKUP($A$3,Tabla70[],MATCH(TablaA64[[#This Row],[65-69 años]],Tabla70[#Headers],0),FALSE)","v":9},{"$f":"VLOOKUP($A$3,Tabla71[],MATCH(TablaA64[[#This Row],[65-69 años]],Tabla71[#Headers],0),FALSE)","v":11}]
["Nayarit",{"$f":"VLOOKUP($A$3,Tabla69[],MATCH(TablaA64[[#This Row],[65-69 años]],Tabla69[#Headers],0),FALSE)","v":5},{"$f":"VLOOKUP($A$3,Tabla70[],MATCH(TablaA64[[#This Row],[65-69 años]],Tabla70[#Headers],0),FALSE)","v":7},{"$f":"VLOOKUP($A$3,Tabla71[],MATCH(TablaA64[[#This Row],[65-69 años]],Tabla71[#Headers],0),FALSE)","v":8}]
["Nuevo León",{"$f":"VLOOKUP($A$3,Tabla69[],MATCH(TablaA64[[#This Row],[65-69 años]],Tabla69[#Headers],0),FALSE)","v":29},{"$f":"VLOOKUP($A$3,Tabla70[],MATCH(TablaA64[[#This Row],[65-69 años]],Tabla70[#Headers],0),FALSE)","v":21},{"$f":"VLOOKUP($A$3,Tabla71[],MATCH(TablaA64[[#This Row],[65-69 años]],Tabla71[#Headers],0),FALSE)","v":58}]
["Oaxaca",{"$f":"VLOOKUP($A$3,Tabla69[],MATCH(TablaA64[[#This Row],[65-69 años]],Tabla69[#Headers],0),FALSE)","v":3},{"$f":"VLOOKUP($A$3,Tabla70[],MATCH(TablaA64[[#This Row],[65-69 años]],Tabla70[#Headers],0),FALSE)","v":2},{"$f":"VLOOKUP($A$3,Tabla71[],MATCH(TablaA64[[#This Row],[65-69 años]],Tabla71[#Headers],0),FALSE)","v":6}]
["Puebla",{"$f":"VLOOKUP($A$3,Tabla69[],MATCH(TablaA64[[#This Row],[65-69 años]],Tabla69[#Headers],0),FALSE)","v":3},{"$f":"VLOOKUP($A$3,Tabla70[],MATCH(TablaA64[[#This Row],[65-69 años]],Tabla70[#Headers],0),FALSE)","v":9},{"$f":"VLOOKUP($A$3,Tabla71[],MATCH(TablaA64[[#This Row],[65-69 años]],Tabla71[#Headers],0),FALSE)","v":5}]
["Querétaro",{"$f":"VLOOKUP($A$3,Tabla69[],MATCH(TablaA64[[#This Row],[65-69 años]],Tabla69[#Headers],0),FALSE)","v":2},{"$f":"VLOOKUP($A$3,Tabla70[],MATCH(TablaA64[[#This Row],[65-69 años]],Tabla70[#Headers],0),FALSE)","v":6},{"$f":"VLOOKUP($A$3,Tabla71[],MATCH(TablaA64[[#This Row],[65-69 años]],Tabla71[#Headers],0),FALSE)","v":12}]
["Quintana Roo",{"$f":"VLOOKUP($A$3,Tabla69[],MATCH(TablaA64[[#This Row],[65-69 años]],Tabla69[#Headers],0),FALSE)","v":3},{"$f":"VLOOKUP($A$3,Tabla70[],MATCH(TablaA64[[#This Row],[65-69 años]],Tabla70[#Headers],0),FALSE)","v":6},{"$f":"VLOOKUP($A$3,Tabla71[],MATCH(TablaA64[[#This Row],[65-69 años]],Tabla71[#Headers],0),FALSE)","v":5}]
["San Luis Potosí",{"$f":"VLOOKUP($A$3,Tabla69[],MATCH(TablaA64[[#This Row],[65-69 años]],Tabla69[#Headers],0),FALSE)","v":4},{"$f":"VLOOKUP($A$3,Tabla70[],MATCH(TablaA64[[#This Row],[65-69 años]],Tabla70[#Headers],0),FALSE)","v":4},{"$f":"VLOOKUP($A$3,Tabla71[],MATCH(TablaA64[[#This Row],[65-69 años]],Tabla71[#Headers],0),FALSE)","v":5}]
["Sinaloa",{"$f":"VLOOKUP($A$3,Tabla69[],MATCH(TablaA64[[#This Row],[65-69 años]],Tabla69[#Headers],0),FALSE)","v":2},{"$f":"VLOOKUP($A$3,Tabla70[],MATCH(TablaA64[[#This Row],[65-69 años]],Tabla70[#Headers],0),FALSE)","v":2},{"$f":"VLOOKUP($A$3,Tabla71[],MATCH(TablaA64[[#This Row],[65-69 años]],Tabla71[#Headers],0),FALSE)","v":10}]
["Sonora",{"$f":"VLOOKUP($A$3,Tabla69[],MATCH(TablaA64[[#This Row],[65-69 años]],Tabla69[#Headers],0),FALSE)","v":7},{"$f":"VLOOKUP($A$3,Tabla70[],MATCH(TablaA64[[#This Row],[65-69 años]],Tabla70[#Headers],0),FALSE)","v":6},{"$f":"VLOOKUP($A$3,Tabla71[],MATCH(TablaA64[[#This Row],[65-69 años]],Tabla71[#Headers],0),FALSE)","v":20}]
["Tabasco",{"$f":"VLOOKUP($A$3,Tabla69[],MATCH(TablaA64[[#This Row],[65-69 años]],Tabla69[#Headers],0),FALSE)","v":4},{"$f":"VLOOKUP($A$3,Tabla70[],MATCH(TablaA64[[#This Row],[65-69 años]],Tabla70[#Headers],0),FALSE)","v":2},{"$f":"VLOOKUP($A$3,Tabla71[],MATCH(TablaA64[[#This Row],[65-69 años]],Tabla71[#Headers],0),FALSE)","v":6}]
["Tamaulipas",{"$f":"VLOOKUP($A$3,Tabla69[],MATCH(TablaA64[[#This Row],[65-69 años]],Tabla69[#Headers],0),FALSE)","v":14},{"$f":"VLOOKUP($A$3,Tabla70[],MATCH(TablaA64[[#This Row],[65-69 años]],Tabla70[#Headers],0),FALSE)","v":17},{"$f":"VLOOKUP($A$3,Tabla71[],MATCH(TablaA64[[#This Row],[65-69 años]],Tabla71[#Headers],0),FALSE)","v":16}]
["Tlaxcala",{"$f":"VLOOKUP($A$3,Tabla69[],MATCH(TablaA64[[#This Row],[65-69 años]],Tabla69[#Headers],0),FALSE)","v":2},{"$f":"VLOOKUP($A$3,Tabla70[],MATCH(TablaA64[[#This Row],[65-69 años]],Tabla70[#Headers],0),FALSE)","v":1},{"$f":"VLOOKUP($A$3,Tabla71[],MATCH(TablaA64[[#This Row],[65-69 años]],Tabla71[#Headers],0),FALSE)","v":0}]
["Veracruz",{"$f":"VLOOKUP($A$3,Tabla69[],MATCH(TablaA64[[#This Row],[65-69 años]],Tabla69[#Headers],0),FALSE)","v":8},{"$f":"VLOOKUP($A$3,Tabla70[],MATCH(TablaA64[[#This Row],[65-69 años]],Tabla70[#Headers],0),FALSE)","v":22},{"$f":"VLOOKUP($A$3,Tabla71[],MATCH(TablaA64[[#This Row],[65-69 años]],Tabla71[#Headers],0),FALSE)","v":35}]
["Yucatán",{"$f":"VLOOKUP($A$3,Tabla69[],MATCH(TablaA64[[#This Row],[65-69 años]],Tabla69[#Headers],0),FALSE)","v":12},{"$f":"VLOOKUP($A$3,Tabla70[],MATCH(TablaA64[[#This Row],[65-69 años]],Tabla70[#Headers],0),FALSE)","v":14},{"$f":"VLOOKUP($A$3,Tabla71[],MATCH(TablaA64[[#This Row],[65-69 años]],Tabla71[#Headers],0),FALSE)","v":15}]
["Zacatecas",{"$f":"VLOOKUP($A$3,Tabla69[],MATCH(TablaA64[[#This Row],[65-69 años]],Tabla69[#Headers],0),FALSE)","v":3},{"$f":"VLOOKUP($A$3,Tabla70[],MATCH(TablaA64[[#This Row],[65-69 años]],Tabla70[#Headers],0),FALSE)","v":2},{"$f":"VLOOKUP($A$3,Tabla71[],MATCH(TablaA64[[#This Row],[65-69 años]],Tabla71[#Headers],0),FALSE)","v":2}]
["Total",{"$f":"SUM(B4:B35)","v":304},{"$f":"SUM(C4:C35)","v":356},537]

{"sheet":"15T-GCM-G_Edad_EntFed2020","index":192,"n_rows":22,"n_cols":33,"rows_kept":22,"cut":false,"hidden":true,"merged":[]}
[1,2,3,4,5,6,7,8,9,10,11,12,13,14,15,16,17,18,19,20,21,22,23,24,25,26,27,28,29,30,31,32,33]
["ESTADO","Aguascalientes","Baja California","Baja California Sur","Campeche","Coahuila","Colima","Chiapas","Chihuahua","Ciudad de México","Durango","Guanajuato","Guerrero","Hidalgo","Jalisco","México","Michoacán","Morelos","Nayarit","Nuevo León","Oaxaca","Puebla","Querétaro","Quintana Roo","San Luis Potosí","Sinaloa","Sonora","Tabasco","Tamaulipas","Tlaxcala","Veracruz","Yucatán","Zacatecas"]
["Menores de 1 año",0,1,0,0,0,0,0,0,1,0,0,0,0,0,0,0,0,0,0,0,0,0,0,0,0,0,0,0,0,3,0,0]
["1-4 años",0,1,0,0,0,0,0,0,2,0,0,0,0,3,1,0,0,0,1,1,1,0,0,0,1,0,0,1,0,1,0,0]
["5-9 años",0,1,0,0,0,0,1,0,1,1,0,0,0,2,1,0,0,0,2,0,1,2,0,0,0,0,0,0,0,0,0,0]
["10-14 años",0,3,1,0,1,0,0,1,4,0,0,1,0,4,1,0,0,0,1,1,3,1,0,0,0,0,0,0,0,2,2,2]
["15-19 años",1,5,0,0,1,1,5,1,14,0,8,2,1,8,5,1,0,1,5,3,9,1,0,3,0,2,2,2,1,4,0,1]
["20-24 años",4,6,0,0,1,0,7,1,12,2,7,3,3,5,14,3,1,1,1,5,6,6,1,0,3,4,4,3,2,6,3,2]
["25-29 años",0,3,0,2,3,0,2,6,14,1,5,2,4,13,14,3,1,1,12,5,3,0,1,2,0,2,2,4,2,5,1,1]
["30-34 años",0,5,0,0,2,1,5,3,11,1,11,2,2,11,12,4,1,0,10,4,5,5,1,0,1,4,4,1,3,8,2,0]
["35-39 años",0,6,1,0,1,0,6,7,33,2,7,4,4,13,21,5,2,2,7,2,8,0,1,3,3,2,4,8,3,7,7,2]
["40-44 años",2,9,0,1,6,0,7,3,25,4,12,2,4,21,33,7,3,0,12,6,4,4,0,6,5,8,4,6,3,7,10,6]
["45-49 años",3,12,0,2,6,4,10,7,33,5,8,7,9,23,32,11,3,1,11,9,14,5,3,5,6,6,4,7,4,11,3,8]
["50-54 años",2,5,3,4,9,1,8,14,49,3,20,4,4,22,39,11,9,1,13,10,10,5,3,7,10,9,6,7,2,23,5,2]
["55-59 años",2,13,1,1,10,3,12,15,28,4,13,13,6,22,46,8,5,1,20,8,14,3,6,5,8,9,6,10,6,19,1,10]
["60-64 años",2,13,2,0,9,1,13,14,64,5,13,5,5,27,47,8,5,3,21,8,28,6,5,11,10,12,6,7,2,30,8,5]
["65-69 años",8,16,6,4,13,4,5,18,70,8,15,8,8,32,48,16,10,8,18,12,27,8,6,11,16,13,7,15,1,31,5,6]
["70-74 años",6,11,1,1,15,3,19,20,63,6,15,10,10,33,62,15,5,6,29,21,29,8,3,15,14,7,7,9,2,39,6,12]
["75-79 años",7,10,2,1,11,1,15,12,73,7,19,15,13,47,64,23,8,3,23,25,35,7,1,14,13,14,11,8,9,18,8,10]
["80-84 años",4,12,2,0,9,4,23,18,56,8,30,15,15,37,74,16,7,4,39,28,55,5,2,12,23,14,3,10,4,41,7,14]
["85 años y más",16,26,3,3,14,2,37,13,140,7,36,33,35,82,171,54,25,13,68,57,134,22,2,22,39,16,9,15,10,56,18,23]
["No especificado",0,0,0,0,0,0,0,0,0,0,1,0,0,0,0,0,0,0,0,0,0,0,0,0,0,1,0,1,0,0,0,0]

{"sheet":"15T-GCM-G_Edad_EntFed2021","index":193,"n_rows":22,"n_cols":33,"rows_kept":22,"cut":false,"hidden":true,"merged":[]}
[1,2,3,4,5,6,7,8,9,10,11,12,13,14,15,16,17,18,19,20,21,22,23,24,25,26,27,28,29,30,31,32,33]
["ESTADO","Aguascalientes","Baja California","Baja California Sur","Campeche","Coahuila","Colima","Chiapas","Chihuahua","Ciudad de México","Durango","Guanajuato","Guerrero","Hidalgo","Jalisco","México","Michoacán","Morelos","Nayarit","Nuevo León","Oaxaca","Puebla","Querétaro","Quintana Roo","San Luis Potosí","Sinaloa","Sonora","Tabasco","Tamaulipas","Tlaxcala","Veracruz","Yucatán","Zacatecas"]
["Menores de 1 año",0,1,0,0,0,0,0,0,1,0,1,0,0,0,0,2,0,0,1,1,1,0,0,0,1,0,0,0,0,0,0,0]
["1-4 años",0,1,0,0,0,0,0,0,1,0,0,1,0,0,1,0,0,0,0,0,1,0,0,0,0,0,0,0,0,0,0,0]
["5-9 años",0,0,0,0,0,0,1,0,2,1,2,0,0,1,2,0,0,0,2,0,0,1,0,0,0,0,0,0,0,2,0,0]
["10-14 años",0,2,1,0,0,0,2,1,11,0,2,1,0,5,7,2,1,1,0,0,3,0,1,1,0,0,1,2,1,1,2,0]
["15-19 años",2,3,1,1,0,0,6,4,7,2,1,0,0,6,5,2,1,0,4,0,2,1,2,1,0,0,1,0,0,3,3,0]
["20-24 años",1,5,0,0,3,1,6,1,15,1,5,0,1,2,12,4,3,0,4,1,6,3,2,4,1,2,1,2,3,5,2,1]
["25-29 años",1,1,1,2,3,0,5,2,22,2,8,1,2,6,14,3,3,0,7,3,4,1,2,4,0,2,3,3,1,5,2,2]
["30-34 años",1,6,0,2,3,1,3,1,26,1,4,4,3,8,22,6,2,1,4,1,8,3,2,3,2,6,4,3,3,10,5,1]
["35-39 años",2,5,2,4,6,0,7,3,26,3,5,3,5,6,26,8,3,1,12,9,4,6,3,7,7,4,5,4,1,16,5,5]
["40-44 años",3,13,1,2,6,0,8,5,33,3,12,2,5,21,28,16,7,3,8,5,9,4,2,4,3,9,4,5,1,16,3,2]
["45-49 años",5,8,1,3,4,0,12,7,40,5,10,7,7,24,45,9,3,4,10,11,18,8,4,8,5,3,3,2,0,15,2,5]
["50-54 años",2,13,2,4,6,0,8,9,46,1,13,3,6,28,45,21,6,6,15,11,16,7,5,7,9,5,9,9,4,21,6,3]
["55-59 años",9,10,2,1,15,2,13,11,64,8,12,10,12,36,46,11,6,2,18,11,17,8,6,14,10,11,6,14,6,26,14,13]
["60-64 años",3,8,3,3,14,2,7,12,87,3,26,13,9,26,55,15,7,6,23,10,28,11,5,12,11,10,5,10,5,24,11,3]
["65-69 años",7,13,4,2,13,3,15,16,78,7,24,9,11,48,44,18,13,5,20,21,37,9,3,14,16,7,5,9,4,31,8,8]
["70-74 años",0,8,3,3,15,3,15,9,72,6,11,10,11,42,63,25,5,5,25,32,36,14,2,12,9,10,7,9,5,33,9,15]
["75-79 años",4,9,3,1,8,2,19,10,62,6,20,15,9,38,59,27,7,3,25,38,44,10,4,12,14,6,7,7,5,41,8,17]
["80-84 años",8,7,0,4,12,4,15,9,92,19,25,14,12,49,111,41,11,10,29,52,77,15,3,10,16,7,6,9,2,43,9,27]
["85 años y más",8,5,2,3,6,6,20,6,121,3,22,12,15,44,128,32,11,6,33,49,92,19,3,12,23,7,1,8,4,44,6,14]
["No especificado",0,0,0,0,0,0,0,0,0,0,0,0,0,0,0,0,0,0,0,0,0,0,0,0,0,0,0,0,0,0,0,0]

{"sheet":"15T-GCM-G_Edad_EntFed2022","index":194,"n_rows":22,"n_cols":33,"rows_kept":22,"cut":false,"hidden":true,"merged":[]}
[1,2,3,4,5,6,7,8,9,10,11,12,13,14,15,16,17,18,19,20,21,22,23,24,25,26,27,28,29,30,31,32,33]
["ESTADO","Aguascalientes","Baja California","Baja California Sur","Campeche","Coahuila","Colima","Chiapas","Chihuahua","Ciudad de México","Durango","Guanajuato","Guerrero","Hidalgo","Jalisco","México","Michoacán","Morelos","Nayarit","Nuevo León","Oaxaca","Puebla","Querétaro","Quintana Roo","San Luis Potosí","Sinaloa","Sonora","Tabasco","Tamaulipas","Tlaxcala","Veracruz","Yucatán","Zacatecas"]
["Menores de 1 año",0,0,0,0,0,0,0,0,0,0,0,0,0,0,0,0,0,0,1,0,0,1,0,0,1,0,0,0,0,0,1,0]
["1-4 años",0,0,0,0,0,0,0,0,1,0,1,0,0,0,0,0,0,0,0,0,1,0,0,0,0,0,0,1,0,0,0,0]
["5-9 años",0,0,0,0,0,0,0,0,1,0,0,0,0,0,0,0,1,2,0,0,1,1,0,0,1,0,1,0,1,0,1,1]
["10-14 años",0,0,1,1,1,0,1,1,6,0,3,0,1,1,1,3,0,0,0,2,1,0,0,1,1,0,3,0,1,3,1,1]
["15-19 años",0,1,1,1,3,0,4,2,9,1,8,1,0,6,5,4,3,0,2,1,0,1,0,0,1,0,1,3,2,3,2,0]
["20-24 años",1,4,0,0,2,0,1,3,11,1,5,1,1,5,7,4,0,3,3,0,5,0,0,6,3,6,0,2,2,4,5,1]
["25-29 años",1,3,1,1,3,2,2,0,11,2,4,5,0,13,17,4,3,2,8,1,3,4,1,3,2,1,1,2,1,8,3,2]
["30-34 años",0,4,0,1,5,0,7,5,25,5,3,3,1,8,14,2,2,0,8,3,5,3,1,0,2,2,4,7,0,6,0,2]
["35-39 años",4,5,0,2,3,0,4,5,29,4,10,5,2,6,20,8,2,3,6,5,7,3,2,5,4,6,1,5,2,9,4,3]
["40-44 años",1,10,4,1,10,1,2,4,31,2,10,5,7,15,25,9,3,1,9,9,10,0,3,8,5,8,3,1,2,6,8,4]
["45-49 años",4,12,0,1,8,0,8,10,44,5,7,7,6,16,41,8,3,4,21,5,14,6,8,3,7,6,3,1,3,18,3,3]
["50-54 años",5,13,4,1,7,1,7,12,58,4,14,4,5,23,34,11,6,5,15,9,15,9,3,2,3,13,3,6,1,21,4,3]
["55-59 años",6,9,0,3,15,4,14,14,68,4,24,5,6,23,57,12,7,5,25,10,18,12,6,4,10,17,7,6,1,21,4,9]
["60-64 años",4,15,3,5,12,1,14,13,74,3,15,12,7,33,54,15,2,6,22,16,21,15,3,9,4,11,2,12,4,26,7,4]
["65-69 años",5,10,2,2,13,5,17,5,71,10,19,8,11,52,56,16,9,6,19,17,20,6,1,10,12,8,11,10,5,24,7,4]
["70-74 años",5,16,2,3,19,4,9,19,81,5,20,9,7,31,58,23,12,5,23,19,31,15,5,9,13,17,3,7,2,30,5,11]
["75-79 años",6,9,1,2,11,5,7,14,94,5,23,10,18,42,46,19,7,11,21,21,52,12,10,14,19,11,3,9,3,23,6,18]
["80-84 años",3,9,1,3,12,1,12,18,78,7,15,9,13,30,63,17,8,10,22,33,41,17,6,9,20,7,6,6,6,31,6,7]
["85 años y más",11,10,1,2,21,7,31,18,169,6,31,26,23,67,172,60,14,10,58,81,116,59,4,15,28,13,4,21,4,66,12,29]
["No especificado",0,1,0,0,0,0,0,0,0,0,0,0,0,0,0,0,0,0,0,0,0,0,0,0,0,0,0,0,0,1,0,0]

{"sheet":"15GCM-G-Edad_Ent.Fed","index":195,"n_rows":36,"n_cols":4,"rows_kept":36,"cut":false,"hidden":false,"merged":[[0,0,0,3]]}
["Enfermedades del sistema \nosteomuscular y del tejido conjuntivo"]
["SELECCIONE UN GRUPO DE EDAD"]
["70-74 años","2020","2021","2022"]
["Aguascalientes",{"$f":"VLOOKUP($A$3,Tabla72[],MATCH(TablaA65[[#This Row],[70-74 años]],Tabla72[#Headers],0),FALSE)","v":6},{"$f":"VLOOKUP($A$3,Tabla73[],MATCH(TablaA65[[#This Row],[70-74 años]],Tabla73[#Headers],0),FALSE)","v":0},{"$f":"VLOOKUP($A$3,Tabla74[],MATCH(TablaA65[[#This Row],[70-74 años]],Tabla74[#Headers],0),FALSE)","v":5}]
["Baja California",{"$f":"VLOOKUP($A$3,Tabla72[],MATCH(TablaA65[[#This Row],[70-74 años]],Tabla72[#Headers],0),FALSE)","v":11},{"$f":"VLOOKUP($A$3,Tabla73[],MATCH(TablaA65[[#This Row],[70-74 años]],Tabla73[#Headers],0),FALSE)","v":8},{"$f":"VLOOKUP($A$3,Tabla74[],MATCH(TablaA65[[#This Row],[70-74 años]],Tabla74[#Headers],0),FALSE)","v":16}]
["Baja California Sur",{"$f":"VLOOKUP($A$3,Tabla72[],MATCH(TablaA65[[#This Row],[70-74 años]],Tabla72[#Headers],0),FALSE)","v":1},{"$f":"VLOOKUP($A$3,Tabla73[],MATCH(TablaA65[[#This Row],[70-74 años]],Tabla73[#Headers],0),FALSE)","v":3},{"$f":"VLOOKUP($A$3,Tabla74[],MATCH(TablaA65[[#This Row],[70-74 años]],Tabla74[#Headers],0),FALSE)","v":2}]
["Campeche",{"$f":"VLOOKUP($A$3,Tabla72[],MATCH(TablaA65[[#This Row],[70-74 años]],Tabla72[#Headers],0),FALSE)","v":1},{"$f":"VLOOKUP($A$3,Tabla73[],MATCH(TablaA65[[#This Row],[70-74 años]],Tabla73[#Headers],0),FALSE)","v":3},{"$f":"VLOOKUP($A$3,Tabla74[],MATCH(TablaA65[[#This Row],[70-74 años]],Tabla74[#Headers],0),FALSE)","v":3}]
["Coahuila",{"$f":"VLOOKUP($A$3,Tabla72[],MATCH(TablaA65[[#This Row],[70-74 años]],Tabla72[#Headers],0),FALSE)","v":15},{"$f":"VLOOKUP($A$3,Tabla73[],MATCH(TablaA65[[#This Row],[70-74 años]],Tabla73[#Headers],0),FALSE)","v":15},{"$f":"VLOOKUP($A$3,Tabla74[],MATCH(TablaA65[[#This Row],[70-74 años]],Tabla74[#Headers],0),FALSE)","v":19}]
["Colima",{"$f":"VLOOKUP($A$3,Tabla72[],MATCH(TablaA65[[#This Row],[70-74 años]],Tabla72[#Headers],0),FALSE)","v":3},{"$f":"VLOOKUP($A$3,Tabla73[],MATCH(TablaA65[[#This Row],[70-74 años]],Tabla73[#Headers],0),FALSE)","v":3},{"$f":"VLOOKUP($A$3,Tabla74[],MATCH(TablaA65[[#This Row],[70-74 años]],Tabla74[#Headers],0),FALSE)","v":4}]
["Chiapas",{"$f":"VLOOKUP($A$3,Tabla72[],MATCH(TablaA65[[#This Row],[70-74 años]],Tabla72[#Headers],0),FALSE)","v":19},{"$f":"VLOOKUP($A$3,Tabla73[],MATCH(TablaA65[[#This Row],[70-74 años]],Tabla73[#Headers],0),FALSE)","v":15},{"$f":"VLOOKUP($A$3,Tabla74[],MATCH(TablaA65[[#This Row],[70-74 años]],Tabla74[#Headers],0),FALSE)","v":9}]
["Chihuahua",{"$f":"VLOOKUP($A$3,Tabla72[],MATCH(TablaA65[[#This Row],[70-74 años]],Tabla72[#Headers],0),FALSE)","v":20},{"$f":"VLOOKUP($A$3,Tabla73[],MATCH(TablaA65[[#This Row],[70-74 años]],Tabla73[#Headers],0),FALSE)","v":9},{"$f":"VLOOKUP($A$3,Tabla74[],MATCH(TablaA65[[#This Row],[70-74 años]],Tabla74[#Headers],0),FALSE)","v":19}]
["Ciudad de México",{"$f":"VLOOKUP($A$3,Tabla72[],MATCH(TablaA65[[#This Row],[70-74 años]],Tabla72[#Headers],0),FALSE)","v":63},{"$f":"VLOOKUP($A$3,Tabla73[],MATCH(TablaA65[[#This Row],[70-74 años]],Tabla73[#Headers],0),FALSE)","v":72},{"$f":"VLOOKUP($A$3,Tabla74[],MATCH(TablaA65[[#This Row],[70-74 años]],Tabla74[#Headers],0),FALSE)","v":81}]
["Durango",{"$f":"VLOOKUP($A$3,Tabla72[],MATCH(TablaA65[[#This Row],[70-74 años]],Tabla72[#Headers],0),FALSE)","v":6},{"$f":"VLOOKUP($A$3,Tabla73[],MATCH(TablaA65[[#This Row],[70-74 años]],Tabla73[#Headers],0),FALSE)","v":6},{"$f":"VLOOKUP($A$3,Tabla74[],MATCH(TablaA65[[#This Row],[70-74 años]],Tabla74[#Headers],0),FALSE)","v":5}]
["Guanajuato",{"$f":"VLOOKUP($A$3,Tabla72[],MATCH(TablaA65[[#This Row],[70-74 años]],Tabla72[#Headers],0),FALSE)","v":15},{"$f":"VLOOKUP($A$3,Tabla73[],MATCH(TablaA65[[#This Row],[70-74 años]],Tabla73[#Headers],0),FALSE)","v":11},{"$f":"VLOOKUP($A$3,Tabla74[],MATCH(TablaA65[[#This Row],[70-74 años]],Tabla74[#Headers],0),FALSE)","v":20}]
["Guerrero",{"$f":"VLOOKUP($A$3,Tabla72[],MATCH(TablaA65[[#This Row],[70-74 años]],Tabla72[#Headers],0),FALSE)","v":10},{"$f":"VLOOKUP($A$3,Tabla73[],MATCH(TablaA65[[#This Row],[70-74 años]],Tabla73[#Headers],0),FALSE)","v":10},{"$f":"VLOOKUP($A$3,Tabla74[],MATCH(TablaA65[[#This Row],[70-74 años]],Tabla74[#Headers],0),FALSE)","v":9}]
["Hidalgo",{"$f":"VLOOKUP($A$3,Tabla72[],MATCH(TablaA65[[#This Row],[70-74 años]],Tabla72[#Headers],0),FALSE)","v":10},{"$f":"VLOOKUP($A$3,Tabla73[],MATCH(TablaA65[[#This Row],[70-74 años]],Tabla73[#Headers],0),FALSE)","v":11},{"$f":"VLOOKUP($A$3,Tabla74[],MATCH(TablaA65[[#This Row],[70-74 años]],Tabla74[#Headers],0),FALSE)","v":7}]
["Jalisco",{"$f":"VLOOKUP($A$3,Tabla72[],MATCH(TablaA65[[#This Row],[70-74 años]],Tabla72[#Headers],0),FALSE)","v":33},{"$f":"VLOOKUP($A$3,Tabla73[],MATCH(TablaA65[[#This Row],[70-74 años]],Tabla73[#Headers],0),FALSE)","v":42},{"$f":"VLOOKUP($A$3,Tabla74[],MATCH(TablaA65[[#This Row],[70-74 años]],Tabla74[#Headers],0),FALSE)","v":31}]
["México",{"$f":"VLOOKUP($A$3,Tabla72[],MATCH(TablaA65[[#This Row],[70-74 años]],Tabla72[#Headers],0),FALSE)","v":62},{"$f":"VLOOKUP($A$3,Tabla73[],MATCH(TablaA65[[#This Row],[70-74 años]],Tabla73[#Headers],0),FALSE)","v":63},{"$f":"VLOOKUP($A$3,Tabla74[],MATCH(TablaA65[[#This Row],[70-74 años]],Tabla74[#Headers],0),FALSE)","v":58}]
["Michoacán",{"$f":"VLOOKUP($A$3,Tabla72[],MATCH(TablaA65[[#This Row],[70-74 años]],Tabla72[#Headers],0),FALSE)","v":15},{"$f":"VLOOKUP($A$3,Tabla73[],MATCH(TablaA65[[#This Row],[70-74 años]],Tabla73[#Headers],0),FALSE)","v":25},{"$f":"VLOOKUP($A$3,Tabla74[],MATCH(TablaA65[[#This Row],[70-74 años]],Tabla74[#Headers],0),FALSE)","v":23}]
["Morelos",{"$f":"VLOOKUP($A$3,Tabla72[],MATCH(TablaA65[[#This Row],[70-74 años]],Tabla72[#Headers],0),FALSE)","v":5},{"$f":"VLOOKUP($A$3,Tabla73[],MATCH(TablaA65[[#This Row],[70-74 años]],Tabla73[#Headers],0),FALSE)","v":5},{"$f":"VLOOKUP($A$3,Tabla74[],MATCH(TablaA65[[#This Row],[70-74 años]],Tabla74[#Headers],0),FALSE)","v":12}]
["Nayarit",{"$f":"VLOOKUP($A$3,Tabla72[],MATCH(TablaA65[[#This Row],[70-74 años]],Tabla72[#Headers],0),FALSE)","v":6},{"$f":"VLOOKUP($A$3,Tabla73[],MATCH(TablaA65[[#This Row],[70-74 años]],Tabla73[#Headers],0),FALSE)","v":5},{"$f":"VLOOKUP($A$3,Tabla74[],MATCH(TablaA65[[#This Row],[70-74 años]],Tabla74[#Headers],0),FALSE)","v":5}]
["Nuevo León",{"$f":"VLOOKUP($A$3,Tabla72[],MATCH(TablaA65[[#This Row],[70-74 años]],Tabla72[#Headers],0),FALSE)","v":29},{"$f":"VLOOKUP($A$3,Tabla73[],MATCH(TablaA65[[#This Row],[70-74 años]],Tabla73[#Headers],0),FALSE)","v":25},{"$f":"VLOOKUP($A$3,Tabla74[],MATCH(TablaA65[[#This Row],[70-74 años]],Tabla74[#Headers],0),FALSE)","v":23}]
["Oaxaca",{"$f":"VLOOKUP($A$3,Tabla72[],MATCH(TablaA65[[#This Row],[70-74 años]],Tabla72[#Headers],0),FALSE)","v":21},{"$f":"VLOOKUP($A$3,Tabla73[],MATCH(TablaA65[[#This Row],[70-74 años]],Tabla73[#Headers],0),FALSE)","v":32},{"$f":"VLOOKUP($A$3,Tabla74[],MATCH(TablaA65[[#This Row],[70-74 años]],Tabla74[#Headers],0),FALSE)","v":19}]
["Puebla",{"$f":"VLOOKUP($A$3,Tabla72[],MATCH(TablaA65[[#This Row],[70-74 años]],Tabla72[#Headers],0),FALSE)","v":29},{"$f":"VLOOKUP($A$3,Tabla73[],MATCH(TablaA65[[#This Row],[70-74 años]],Tabla73[#Headers],0),FALSE)","v":36},{"$f":"VLOOKUP($A$3,Tabla74[],MATCH(TablaA65[[#This Row],[70-74 años]],Tabla74[#Headers],0),FALSE)","v":31}]
["Querétaro",{"$f":"VLOOKUP($A$3,Tabla72[],MATCH(TablaA65[[#This Row],[70-74 años]],Tabla72[#Headers],0),FALSE)","v":8},{"$f":"VLOOKUP($A$3,Tabla73[],MATCH(TablaA65[[#This Row],[70-74 años]],Tabla73[#Headers],0),FALSE)","v":14},{"$f":"VLOOKUP($A$3,Tabla74[],MATCH(TablaA65[[#This Row],[70-74 años]],Tabla74[#Headers],0),FALSE)","v":15}]
["Quintana Roo",{"$f":"VLOOKUP($A$3,Tabla72[],MATCH(TablaA65[[#This Row],[70-74 años]],Tabla72[#Headers],0),FALSE)","v":3},{"$f":"VLOOKUP($A$3,Tabla73[],MATCH(TablaA65[[#This Row],[70-74 años]],Tabla73[#Headers],0),FALSE)","v":2},{"$f":"VLOOKUP($A$3,Tabla74[],MATCH(TablaA65[[#This Row],[70-74 años]],Tabla74[#Headers],0),FALSE)","v":5}]
["San Luis Potosí",{"$f":"VLOOKUP($A$3,Tabla72[],MATCH(TablaA65[[#This Row],[70-74 años]],Tabla72[#Headers],0),FALSE)","v":15},{"$f":"VLOOKUP($A$3,Tabla73[],MATCH(TablaA65[[#This Row],[70-74 años]],Tabla73[#Headers],0),FALSE)","v":12},{"$f":"VLOOKUP($A$3,Tabla74[],MATCH(TablaA65[[#This Row],[70-74 años]],Tabla74[#Headers],0),FALSE)","v":9}]
["Sinaloa",{"$f":"VLOOKUP($A$3,Tabla72[],MATCH(TablaA65[[#This Row],[70-74 años]],Tabla72[#Headers],0),FALSE)","v":14},{"$f":"VLOOKUP($A$3,Tabla73[],MATCH(TablaA65[[#This Row],[70-74 años]],Tabla73[#Headers],0),FALSE)","v":9},{"$f":"VLOOKUP($A$3,Tabla74[],MATCH(TablaA65[[#This Row],[70-74 años]],Tabla74[#Headers],0),FALSE)","v":13}]
["Sonora",{"$f":"VLOOKUP($A$3,Tabla72[],MATCH(TablaA65[[#This Row],[70-74 años]],Tabla72[#Headers],0),FALSE)","v":7},{"$f":"VLOOKUP($A$3,Tabla73[],MATCH(TablaA65[[#This Row],[70-74 años]],Tabla73[#Headers],0),FALSE)","v":10},{"$f":"VLOOKUP($A$3,Tabla74[],MATCH(TablaA65[[#This Row],[70-74 años]],Tabla74[#Headers],0),FALSE)","v":17}]
["Tabasco",{"$f":"VLOOKUP($A$3,Tabla72[],MATCH(TablaA65[[#This Row],[70-74 años]],Tabla72[#Headers],0),FALSE)","v":7},{"$f":"VLOOKUP($A$3,Tabla73[],MATCH(TablaA65[[#This Row],[70-74 años]],Tabla73[#Headers],0),FALSE)","v":7},{"$f":"VLOOKUP($A$3,Tabla74[],MATCH(TablaA65[[#This Row],[70-74 años]],Tabla74[#Headers],0),FALSE)","v":3}]
["Tamaulipas",{"$f":"VLOOKUP($A$3,Tabla72[],MATCH(TablaA65[[#This Row],[70-74 años]],Tabla72[#Headers],0),FALSE)","v":9},{"$f":"VLOOKUP($A$3,Tabla73[],MATCH(TablaA65[[#This Row],[70-74 años]],Tabla73[#Headers],0),FALSE)","v":9},{"$f":"VLOOKUP($A$3,Tabla74[],MATCH(TablaA65[[#This Row],[70-74 años]],Tabla74[#Headers],0),FALSE)","v":7}]
["Tlaxcala",{"$f":"VLOOKUP($A$3,Tabla72[],MATCH(TablaA65[[#This Row],[70-74 años]],Tabla72[#Headers],0),FALSE)","v":2},{"$f":"VLOOKUP($A$3,Tabla73[],MATCH(TablaA65[[#This Row],[70-74 años]],Tabla73[#Headers],0),FALSE)","v":5},{"$f":"VLOOKUP($A$3,Tabla74[],MATCH(TablaA65[[#This Row],[70-74 años]],Tabla74[#Headers],0),FALSE)","v":2}]
["Veracruz",{"$f":"VLOOKUP($A$3,Tabla72[],MATCH(TablaA65[[#This Row],[70-74 años]],Tabla72[#Headers],0),FALSE)","v":39},{"$f":"VLOOKUP($A$3,Tabla73[],MATCH(TablaA65[[#This Row],[70-74 años]],Tabla73[#Headers],0),FALSE)","v":33},{"$f":"VLOOKUP($A$3,Tabla74[],MATCH(TablaA65[[#This Row],[70-74 años]],Tabla74[#Headers],0),FALSE)","v":30}]
["Yucatán",{"$f":"VLOOKUP($A$3,Tabla72[],MATCH(TablaA65[[#This Row],[70-74 años]],Tabla72[#Headers],0),FALSE)","v":6},{"$f":"VLOOKUP($A$3,Tabla73[],MATCH(TablaA65[[#This Row],[70-74 años]],Tabla73[#Headers],0),FALSE)","v":9},{"$f":"VLOOKUP($A$3,Tabla74[],MATCH(TablaA65[[#This Row],[70-74 años]],Tabla74[#Headers],0),FALSE)","v":5}]
["Zacatecas",{"$f":"VLOOKUP($A$3,Tabla72[],MATCH(TablaA65[[#This Row],[70-74 años]],Tabla72[#Headers],0),FALSE)","v":12},{"$f":"VLOOKUP($A$3,Tabla73[],MATCH(TablaA65[[#This Row],[70-74 años]],Tabla73[#Headers],0),FALSE)","v":15},{"$f":"VLOOKUP($A$3,Tabla74[],MATCH(TablaA65[[#This Row],[70-74 años]],Tabla74[#Headers],0),FALSE)","v":11}]
["Total",{"$f":"SUM(B4:B35)","v":502},{"$f":"SUM(C4:C35)","v":524},518]

{"sheet":"16T-GCM-G_Edad_EntFed2020","index":196,"n_rows":22,"n_cols":33,"rows_kept":22,"cut":false,"hidden":true,"merged":[]}
[1,2,3,4,5,6,7,8,9,10,11,12,13,14,15,16,17,18,19,20,21,22,23,24,25,26,27,28,29,30,31,32,33]
["ESTADO","Aguascalientes","Baja California","Baja California Sur","Campeche","Coahuila","Colima","Chiapas","Chihuahua","Ciudad de México","Durango","Guanajuato","Guerrero","Hidalgo","Jalisco","México","Michoacán","Morelos","Nayarit","Nuevo León","Oaxaca","Puebla","Querétaro","Quintana Roo","San Luis Potosí","Sinaloa","Sonora","Tabasco","Tamaulipas","Tlaxcala","Veracruz","Yucatán","Zacatecas"]
["Menores de 1 año",0,2,0,0,1,0,5,0,16,1,3,2,4,3,10,3,1,0,3,2,3,3,1,2,0,1,4,0,3,3,1,3]
["1-4 años",0,1,1,0,2,0,3,1,4,2,2,0,1,3,5,0,0,0,1,3,4,0,0,0,0,2,1,2,0,1,2,0]
["5-9 años",0,2,0,0,3,0,3,1,4,0,3,0,0,6,5,1,1,1,1,5,3,3,0,0,1,0,0,2,0,1,0,2]
["10-14 años",0,1,0,0,0,0,10,2,6,0,3,2,3,5,1,1,2,1,3,2,2,0,0,1,1,1,3,1,0,5,0,0]
["15-19 años",3,1,0,0,0,1,19,6,10,3,11,0,4,15,21,2,0,1,5,2,14,2,1,3,3,4,2,5,4,17,4,0]
["20-24 años",7,5,1,3,3,0,22,3,19,0,23,6,7,41,50,10,7,1,3,8,19,5,3,7,5,2,1,6,12,16,4,0]
["25-29 años",7,16,1,2,5,3,33,8,43,2,47,9,24,69,96,22,11,4,9,13,48,16,7,10,6,7,9,2,22,40,3,4]
["30-34 años",11,7,3,5,8,5,35,10,60,4,30,9,19,63,106,17,12,8,13,11,29,8,2,13,3,7,14,15,16,44,3,4]
["35-39 años",5,19,3,5,9,4,40,18,71,3,24,10,18,58,81,24,5,4,18,16,27,13,4,12,4,13,16,5,10,47,6,5]
["40-44 años",7,22,2,7,24,7,42,16,67,10,24,26,20,51,94,27,11,7,27,14,40,16,8,13,9,14,21,27,10,62,25,7]
["45-49 años",12,34,5,13,37,12,61,35,113,8,43,18,20,67,134,36,19,9,53,36,55,17,23,21,14,22,29,33,12,83,31,4]
["50-54 años",9,46,4,12,56,10,79,57,150,11,59,35,29,89,153,36,18,11,87,32,64,36,17,32,20,44,27,39,12,109,43,11]
["55-59 años",19,48,5,11,58,6,99,53,199,18,85,32,31,131,232,41,41,15,101,53,92,36,33,43,36,37,54,74,13,121,50,17]
["60-64 años",15,62,13,17,90,10,131,64,234,25,103,46,33,165,221,60,56,12,120,62,112,37,27,53,45,50,56,95,37,190,73,19]
["65-69 años",23,67,7,24,83,20,155,65,303,23,103,63,51,205,256,89,43,21,119,69,125,26,21,55,60,73,50,78,28,215,57,14]
["70-74 años",25,60,20,16,78,15,159,95,311,31,110,71,52,241,264,101,66,30,123,61,128,52,27,46,38,90,50,89,26,185,81,24]
["75-79 años",32,65,12,25,81,24,178,89,345,40,118,75,68,236,283,106,67,21,133,91,166,37,22,68,64,91,44,82,26,220,67,42]
["80-84 años",37,62,15,22,96,23,156,98,356,39,136,84,65,250,279,133,71,23,131,122,154,51,15,78,79,79,50,96,26,247,71,48]
["85 años y más",61,100,30,24,122,34,244,117,657,47,224,140,113,435,538,210,138,46,215,232,270,101,25,142,102,109,82,155,52,380,106,117]
["No especificado",0,5,1,0,1,0,0,0,2,0,1,0,0,0,1,1,0,0,1,0,2,0,0,0,0,0,0,0,0,1,2,0]

{"sheet":"16T-GCM-G_Edad_EntFed2021","index":197,"n_rows":22,"n_cols":33,"rows_kept":22,"cut":false,"hidden":true,"merged":[]}
[1,2,3,4,5,6,7,8,9,10,11,12,13,14,15,16,17,18,19,20,21,22,23,24,25,26,27,28,29,30,31,32,33]
["ESTADO","Aguascalientes","Baja California","Baja California Sur","Campeche","Coahuila","Colima","Chiapas","Chihuahua","Ciudad de México","Durango","Guanajuato","Guerrero","Hidalgo","Jalisco","México","Michoacán","Morelos","Nayarit","Nuevo León","Oaxaca","Puebla","Querétaro","Quintana Roo","San Luis Potosí","Sinaloa","Sonora","Tabasco","Tamaulipas","Tlaxcala","Veracruz","Yucatán","Zacatecas"]
["Menores de 1 año",4,5,1,0,0,1,6,6,10,1,1,2,3,8,20,3,1,2,4,4,2,1,1,3,3,3,2,0,1,2,1,0]
["1-4 años",0,1,0,0,1,0,7,1,3,2,0,4,0,4,3,1,1,0,4,0,1,1,0,1,0,3,3,0,0,2,1,0]
["5-9 años",0,1,0,0,1,1,3,0,4,1,0,3,1,2,2,3,0,0,1,3,3,3,0,0,1,1,4,0,1,2,0,0]
["10-14 años",2,1,0,0,2,0,10,4,4,0,3,0,2,2,2,1,0,0,3,8,2,1,0,3,0,0,2,1,2,5,3,1]
["15-19 años",1,7,0,1,1,0,15,3,11,1,3,2,4,13,25,7,0,0,5,5,5,6,0,2,2,4,6,9,8,9,0,2]
["20-24 años",7,10,3,0,7,0,20,3,21,3,25,5,7,32,40,12,2,2,9,5,22,3,1,3,2,8,4,4,9,16,7,3]
["25-29 años",9,4,3,1,5,4,27,9,31,1,41,5,16,69,80,18,13,2,10,10,32,13,2,17,3,7,7,11,18,28,4,5]
["30-34 años",11,18,2,2,12,6,27,12,42,1,36,10,14,65,101,17,12,4,7,14,29,11,6,17,7,12,6,13,16,33,10,2]
["35-39 años",6,15,8,4,14,8,40,10,45,4,18,11,10,43,81,29,6,7,20,8,42,5,4,12,8,17,14,15,13,39,19,5]
["40-44 años",10,26,2,9,12,2,44,24,83,6,26,22,11,67,72,26,14,5,36,22,53,10,12,15,13,10,22,29,11,58,21,6]
["45-49 años",7,31,5,7,32,8,62,27,109,4,33,26,15,63,130,34,13,10,50,18,56,21,15,16,18,20,44,40,18,73,28,10]
["50-54 años",18,51,6,13,28,6,74,45,133,16,74,34,21,96,151,57,31,7,63,30,70,27,18,22,28,23,30,45,17,109,30,15]
["55-59 años",19,42,7,13,48,16,103,43,179,23,72,49,36,114,190,67,27,15,85,43,79,27,27,37,27,51,42,57,15,169,45,17]
["60-64 años",20,73,13,22,72,25,157,62,238,20,99,54,38,167,214,71,46,15,80,73,123,41,33,48,51,56,50,88,13,190,62,23]
["65-69 años",15,74,16,19,70,23,133,77,270,22,114,71,53,230,274,97,55,23,77,82,126,54,30,60,48,70,73,70,26,190,73,24]
["70-74 años",32,81,16,30,59,27,156,88,339,45,130,52,47,223,261,95,45,18,121,94,130,52,27,59,60,74,39,74,23,256,76,31]
["75-79 años",33,77,16,25,76,21,172,85,342,51,151,88,55,260,267,121,54,34,139,126,173,48,30,58,71,87,43,98,20,208,74,32]
["80-84 años",29,60,21,20,79,21,146,110,339,39,154,84,53,250,293,111,50,43,116,150,168,44,21,68,69,87,46,101,32,249,92,42]
["85 años y más",51,93,28,33,99,38,235,112,631,45,240,133,93,410,436,241,133,43,191,222,306,101,27,151,85,111,65,127,42,406,88,101]
["No especificado",0,3,0,0,0,0,0,1,1,1,0,0,0,2,0,1,0,1,2,1,1,0,0,0,1,0,0,1,0,0,0,0]

{"sheet":"16T-GCM-G_Edad_EntFed2022","index":198,"n_rows":22,"n_cols":33,"rows_kept":22,"cut":false,"hidden":true,"merged":[]}
[1,2,3,4,5,6,7,8,9,10,11,12,13,14,15,16,17,18,19,20,21,22,23,24,25,26,27,28,29,30,31,32,33]
["ESTADO","Aguascalientes","Baja California","Baja California Sur","Campeche","Coahuila","Colima","Chiapas","Chihuahua","Ciudad de México","Durango","Guanajuato","Guerrero","Hidalgo","Jalisco","México","Michoacán","Morelos","Nayarit","Nuevo León","Oaxaca","Puebla","Querétaro","Quintana Roo","San Luis Potosí","Sinaloa","Sonora","Tabasco","Tamaulipas","Tlaxcala","Veracruz","Yucatán","Zacatecas"]
["Menores de 1 año",3,0,1,0,4,0,5,3,17,1,7,1,3,3,12,5,1,1,6,1,5,1,2,3,3,2,0,1,0,3,2,0]
["1-4 años",0,1,0,0,1,0,5,0,4,0,1,1,3,5,5,2,0,0,5,2,5,1,0,0,1,2,0,1,0,2,0,0]
["5-9 años",0,0,0,0,1,0,2,0,6,0,2,0,1,5,1,2,0,0,2,1,1,0,0,0,0,0,0,1,2,3,1,0]
["10-14 años",0,0,1,0,0,0,8,2,3,1,6,0,0,1,1,4,1,1,1,1,3,1,1,3,1,1,0,0,0,5,2,0]
["15-19 años",4,3,0,1,1,0,13,1,8,1,7,0,2,13,17,7,5,1,3,2,9,5,1,3,1,1,3,3,1,11,0,0]
["20-24 años",8,5,0,1,3,2,17,6,19,4,21,2,4,44,33,9,7,0,7,2,17,6,3,4,4,5,2,3,9,23,3,2]
["25-29 años",8,17,4,0,3,1,13,6,28,1,30,2,14,68,61,11,8,2,9,7,20,12,3,10,6,4,6,3,22,32,3,6]
["30-34 años",13,13,2,4,7,4,33,13,50,5,30,11,20,82,85,19,13,4,15,4,34,4,4,14,1,8,9,11,17,48,10,5]
["35-39 años",5,17,2,6,13,6,36,13,45,3,22,10,16,61,73,23,8,3,19,11,28,9,2,8,4,10,11,9,8,41,8,4]
["40-44 años",6,30,4,4,14,4,35,25,57,5,31,13,18,69,76,23,14,7,34,25,47,17,10,23,11,18,16,21,16,46,24,5]
["45-49 años",10,57,3,9,34,6,44,37,106,9,63,22,27,90,114,33,20,5,51,25,45,16,9,29,13,29,19,36,4,69,23,15]
["50-54 años",12,62,13,9,26,5,60,54,168,12,76,33,30,90,192,38,29,13,87,34,63,35,14,30,18,29,31,55,13,127,30,21]
["55-59 años",14,70,9,12,49,9,80,65,170,24,88,45,35,158,186,66,44,16,109,55,83,37,24,53,23,51,53,75,9,150,36,12]
["60-64 años",21,79,10,15,68,17,122,76,260,31,110,52,63,196,258,64,58,14,120,71,117,51,35,63,33,63,63,75,18,182,58,25]
["65-69 años",29,69,10,19,66,28,117,90,328,36,128,64,49,208,328,85,65,21,137,64,145,65,24,66,49,70,65,81,31,196,56,36]
["70-74 años",32,78,10,22,90,22,125,108,359,35,144,65,60,227,314,93,68,29,164,76,141,77,30,77,80,77,65,84,28,265,77,44]
["75-79 años",34,90,22,17,94,28,124,127,374,47,167,72,49,268,348,96,81,32,152,108,125,59,35,79,81,110,27,112,32,226,71,37]
["80-84 años",34,73,13,21,81,21,147,133,402,39,151,75,57,276,295,113,69,47,131,106,167,58,28,74,77,95,47,95,23,251,81,48]
["85 años y más",84,134,34,38,109,32,231,147,701,58,275,163,99,480,553,226,128,60,248,235,311,109,36,123,128,114,69,168,47,416,96,96]
["No especificado",0,4,1,0,0,0,0,2,2,0,0,0,0,1,3,0,0,3,1,1,1,0,0,0,0,2,2,4,0,0,1,0]

{"sheet":"16GCM-G-Edad_Ent.Fed","index":199,"n_rows":36,"n_cols":4,"rows_kept":36,"cut":false,"hidden":false,"merged":[[0,0,0,3]]}
["Enfermedades del sistema\ngenitourinario"]
["SELECCIONE UN GRUPO DE EDAD"]
["70-74 años","2020","2021","2022"]
["Aguascalientes",{"$f":"VLOOKUP($A$3,Tabla75[],MATCH(TablaA66[[#This Row],[70-74 años]],Tabla75[#Headers],0),FALSE)","v":25},{"$f":"VLOOKUP($A$3,Tabla76[],MATCH(TablaA66[[#This Row],[70-74 años]],Tabla76[#Headers],0),FALSE)","v":32},{"$f":"VLOOKUP($A$3,Tabla77[],MATCH(TablaA66[[#This Row],[70-74 años]],Tabla77[#Headers],0),FALSE)","v":32}]
["Baja California",{"$f":"VLOOKUP($A$3,Tabla75[],MATCH(TablaA66[[#This Row],[70-74 años]],Tabla75[#Headers],0),FALSE)","v":60},{"$f":"VLOOKUP($A$3,Tabla76[],MATCH(TablaA66[[#This Row],[70-74 años]],Tabla76[#Headers],0),FALSE)","v":81},{"$f":"VLOOKUP($A$3,Tabla77[],MATCH(TablaA66[[#This Row],[70-74 años]],Tabla77[#Headers],0),FALSE)","v":78}]
["Baja California Sur",{"$f":"VLOOKUP($A$3,Tabla75[],MATCH(TablaA66[[#This Row],[70-74 años]],Tabla75[#Headers],0),FALSE)","v":20},{"$f":"VLOOKUP($A$3,Tabla76[],MATCH(TablaA66[[#This Row],[70-74 años]],Tabla76[#Headers],0),FALSE)","v":16},{"$f":"VLOOKUP($A$3,Tabla77[],MATCH(TablaA66[[#This Row],[70-74 años]],Tabla77[#Headers],0),FALSE)","v":10}]
["Campeche",{"$f":"VLOOKUP($A$3,Tabla75[],MATCH(TablaA66[[#This Row],[70-74 años]],Tabla75[#Headers],0),FALSE)","v":16},{"$f":"VLOOKUP($A$3,Tabla76[],MATCH(TablaA66[[#This Row],[70-74 años]],Tabla76[#Headers],0),FALSE)","v":30},{"$f":"VLOOKUP($A$3,Tabla77[],MATCH(TablaA66[[#This Row],[70-74 años]],Tabla77[#Headers],0),FALSE)","v":22}]
["Coahuila",{"$f":"VLOOKUP($A$3,Tabla75[],MATCH(TablaA66[[#This Row],[70-74 años]],Tabla75[#Headers],0),FALSE)","v":78},{"$f":"VLOOKUP($A$3,Tabla76[],MATCH(TablaA66[[#This Row],[70-74 años]],Tabla76[#Headers],0),FALSE)","v":59},{"$f":"VLOOKUP($A$3,Tabla77[],MATCH(TablaA66[[#This Row],[70-74 años]],Tabla77[#Headers],0),FALSE)","v":90}]
["Colima",{"$f":"VLOOKUP($A$3,Tabla75[],MATCH(TablaA66[[#This Row],[70-74 años]],Tabla75[#Headers],0),FALSE)","v":15},{"$f":"VLOOKUP($A$3,Tabla76[],MATCH(TablaA66[[#This Row],[70-74 años]],Tabla76[#Headers],0),FALSE)","v":27},{"$f":"VLOOKUP($A$3,Tabla77[],MATCH(TablaA66[[#This Row],[70-74 años]],Tabla77[#Headers],0),FALSE)","v":22}]
["Chiapas",{"$f":"VLOOKUP($A$3,Tabla75[],MATCH(TablaA66[[#This Row],[70-74 años]],Tabla75[#Headers],0),FALSE)","v":159},{"$f":"VLOOKUP($A$3,Tabla76[],MATCH(TablaA66[[#This Row],[70-74 años]],Tabla76[#Headers],0),FALSE)","v":156},{"$f":"VLOOKUP($A$3,Tabla77[],MATCH(TablaA66[[#This Row],[70-74 años]],Tabla77[#Headers],0),FALSE)","v":125}]
["Chihuahua",{"$f":"VLOOKUP($A$3,Tabla75[],MATCH(TablaA66[[#This Row],[70-74 años]],Tabla75[#Headers],0),FALSE)","v":95},{"$f":"VLOOKUP($A$3,Tabla76[],MATCH(TablaA66[[#This Row],[70-74 años]],Tabla76[#Headers],0),FALSE)","v":88},{"$f":"VLOOKUP($A$3,Tabla77[],MATCH(TablaA66[[#This Row],[70-74 años]],Tabla77[#Headers],0),FALSE)","v":108}]
["Ciudad de México",{"$f":"VLOOKUP($A$3,Tabla75[],MATCH(TablaA66[[#This Row],[70-74 años]],Tabla75[#Headers],0),FALSE)","v":311},{"$f":"VLOOKUP($A$3,Tabla76[],MATCH(TablaA66[[#This Row],[70-74 años]],Tabla76[#Headers],0),FALSE)","v":339},{"$f":"VLOOKUP($A$3,Tabla77[],MATCH(TablaA66[[#This Row],[70-74 años]],Tabla77[#Headers],0),FALSE)","v":359}]
["Durango",{"$f":"VLOOKUP($A$3,Tabla75[],MATCH(TablaA66[[#This Row],[70-74 años]],Tabla75[#Headers],0),FALSE)","v":31},{"$f":"VLOOKUP($A$3,Tabla76[],MATCH(TablaA66[[#This Row],[70-74 años]],Tabla76[#Headers],0),FALSE)","v":45},{"$f":"VLOOKUP($A$3,Tabla77[],MATCH(TablaA66[[#This Row],[70-74 años]],Tabla77[#Headers],0),FALSE)","v":35}]
["Guanajuato",{"$f":"VLOOKUP($A$3,Tabla75[],MATCH(TablaA66[[#This Row],[70-74 años]],Tabla75[#Headers],0),FALSE)","v":110},{"$f":"VLOOKUP($A$3,Tabla76[],MATCH(TablaA66[[#This Row],[70-74 años]],Tabla76[#Headers],0),FALSE)","v":130},{"$f":"VLOOKUP($A$3,Tabla77[],MATCH(TablaA66[[#This Row],[70-74 años]],Tabla77[#Headers],0),FALSE)","v":144}]
["Guerrero",{"$f":"VLOOKUP($A$3,Tabla75[],MATCH(TablaA66[[#This Row],[70-74 años]],Tabla75[#Headers],0),FALSE)","v":71},{"$f":"VLOOKUP($A$3,Tabla76[],MATCH(TablaA66[[#This Row],[70-74 años]],Tabla76[#Headers],0),FALSE)","v":52},{"$f":"VLOOKUP($A$3,Tabla77[],MATCH(TablaA66[[#This Row],[70-74 años]],Tabla77[#Headers],0),FALSE)","v":65}]
["Hidalgo",{"$f":"VLOOKUP($A$3,Tabla75[],MATCH(TablaA66[[#This Row],[70-74 años]],Tabla75[#Headers],0),FALSE)","v":52},{"$f":"VLOOKUP($A$3,Tabla76[],MATCH(TablaA66[[#This Row],[70-74 años]],Tabla76[#Headers],0),FALSE)","v":47},{"$f":"VLOOKUP($A$3,Tabla77[],MATCH(TablaA66[[#This Row],[70-74 años]],Tabla77[#Headers],0),FALSE)","v":60}]
["Jalisco",{"$f":"VLOOKUP($A$3,Tabla75[],MATCH(TablaA66[[#This Row],[70-74 años]],Tabla75[#Headers],0),FALSE)","v":241},{"$f":"VLOOKUP($A$3,Tabla76[],MATCH(TablaA66[[#This Row],[70-74 años]],Tabla76[#Headers],0),FALSE)","v":223},{"$f":"VLOOKUP($A$3,Tabla77[],MATCH(TablaA66[[#This Row],[70-74 años]],Tabla77[#Headers],0),FALSE)","v":227}]
["México",{"$f":"VLOOKUP($A$3,Tabla75[],MATCH(TablaA66[[#This Row],[70-74 años]],Tabla75[#Headers],0),FALSE)","v":264},{"$f":"VLOOKUP($A$3,Tabla76[],MATCH(TablaA66[[#This Row],[70-74 años]],Tabla76[#Headers],0),FALSE)","v":261},{"$f":"VLOOKUP($A$3,Tabla77[],MATCH(TablaA66[[#This Row],[70-74 años]],Tabla77[#Headers],0),FALSE)","v":314}]
["Michoacán",{"$f":"VLOOKUP($A$3,Tabla75[],MATCH(TablaA66[[#This Row],[70-74 años]],Tabla75[#Headers],0),FALSE)","v":101},{"$f":"VLOOKUP($A$3,Tabla76[],MATCH(TablaA66[[#This Row],[70-74 años]],Tabla76[#Headers],0),FALSE)","v":95},{"$f":"VLOOKUP($A$3,Tabla77[],MATCH(TablaA66[[#This Row],[70-74 años]],Tabla77[#Headers],0),FALSE)","v":93}]
["Morelos",{"$f":"VLOOKUP($A$3,Tabla75[],MATCH(TablaA66[[#This Row],[70-74 años]],Tabla75[#Headers],0),FALSE)","v":66},{"$f":"VLOOKUP($A$3,Tabla76[],MATCH(TablaA66[[#This Row],[70-74 años]],Tabla76[#Headers],0),FALSE)","v":45},{"$f":"VLOOKUP($A$3,Tabla77[],MATCH(TablaA66[[#This Row],[70-74 años]],Tabla77[#Headers],0),FALSE)","v":68}]
["Nayarit",{"$f":"VLOOKUP($A$3,Tabla75[],MATCH(TablaA66[[#This Row],[70-74 años]],Tabla75[#Headers],0),FALSE)","v":30},{"$f":"VLOOKUP($A$3,Tabla76[],MATCH(TablaA66[[#This Row],[70-74 años]],Tabla76[#Headers],0),FALSE)","v":18},{"$f":"VLOOKUP($A$3,Tabla77[],MATCH(TablaA66[[#This Row],[70-74 años]],Tabla77[#Headers],0),FALSE)","v":29}]
["Nuevo León",{"$f":"VLOOKUP($A$3,Tabla75[],MATCH(TablaA66[[#This Row],[70-74 años]],Tabla75[#Headers],0),FALSE)","v":123},{"$f":"VLOOKUP($A$3,Tabla76[],MATCH(TablaA66[[#This Row],[70-74 años]],Tabla76[#Headers],0),FALSE)","v":121},{"$f":"VLOOKUP($A$3,Tabla77[],MATCH(TablaA66[[#This Row],[70-74 años]],Tabla77[#Headers],0),FALSE)","v":164}]
["Oaxaca",{"$f":"VLOOKUP($A$3,Tabla75[],MATCH(TablaA66[[#This Row],[70-74 años]],Tabla75[#Headers],0),FALSE)","v":61},{"$f":"VLOOKUP($A$3,Tabla76[],MATCH(TablaA66[[#This Row],[70-74 años]],Tabla76[#Headers],0),FALSE)","v":94},{"$f":"VLOOKUP($A$3,Tabla77[],MATCH(TablaA66[[#This Row],[70-74 años]],Tabla77[#Headers],0),FALSE)","v":76}]
["Puebla",{"$f":"VLOOKUP($A$3,Tabla75[],MATCH(TablaA66[[#This Row],[70-74 años]],Tabla75[#Headers],0),FALSE)","v":128},{"$f":"VLOOKUP($A$3,Tabla76[],MATCH(TablaA66[[#This Row],[70-74 años]],Tabla76[#Headers],0),FALSE)","v":130},{"$f":"VLOOKUP($A$3,Tabla77[],MATCH(TablaA66[[#This Row],[70-74 años]],Tabla77[#Headers],0),FALSE)","v":141}]
["Querétaro",{"$f":"VLOOKUP($A$3,Tabla75[],MATCH(TablaA66[[#This Row],[70-74 años]],Tabla75[#Headers],0),FALSE)","v":52},{"$f":"VLOOKUP($A$3,Tabla76[],MATCH(TablaA66[[#This Row],[70-74 años]],Tabla76[#Headers],0),FALSE)","v":52},{"$f":"VLOOKUP($A$3,Tabla77[],MATCH(TablaA66[[#This Row],[70-74 años]],Tabla77[#Headers],0),FALSE)","v":77}]
["Quintana Roo",{"$f":"VLOOKUP($A$3,Tabla75[],MATCH(TablaA66[[#This Row],[70-74 años]],Tabla75[#Headers],0),FALSE)","v":27},{"$f":"VLOOKUP($A$3,Tabla76[],MATCH(TablaA66[[#This Row],[70-74 años]],Tabla76[#Headers],0),FALSE)","v":27},{"$f":"VLOOKUP($A$3,Tabla77[],MATCH(TablaA66[[#This Row],[70-74 años]],Tabla77[#Headers],0),FALSE)","v":30}]
["San Luis Potosí",{"$f":"VLOOKUP($A$3,Tabla75[],MATCH(TablaA66[[#This Row],[70-74 años]],Tabla75[#Headers],0),FALSE)","v":46},{"$f":"VLOOKUP($A$3,Tabla76[],MATCH(TablaA66[[#This Row],[70-74 años]],Tabla76[#Headers],0),FALSE)","v":59},{"$f":"VLOOKUP($A$3,Tabla77[],MATCH(TablaA66[[#This Row],[70-74 años]],Tabla77[#Headers],0),FALSE)","v":77}]
["Sinaloa",{"$f":"VLOOKUP($A$3,Tabla75[],MATCH(TablaA66[[#This Row],[70-74 años]],Tabla75[#Headers],0),FALSE)","v":38},{"$f":"VLOOKUP($A$3,Tabla76[],MATCH(TablaA66[[#This Row],[70-74 años]],Tabla76[#Headers],0),FALSE)","v":60},{"$f":"VLOOKUP($A$3,Tabla77[],MATCH(TablaA66[[#This Row],[70-74 años]],Tabla77[#Headers],0),FALSE)","v":80}]
["Sonora",{"$f":"VLOOKUP($A$3,Tabla75[],MATCH(TablaA66[[#This Row],[70-74 años]],Tabla75[#Headers],0),FALSE)","v":90},{"$f":"VLOOKUP($A$3,Tabla76[],MATCH(TablaA66[[#This Row],[70-74 años]],Tabla76[#Headers],0),FALSE)","v":74},{"$f":"VLOOKUP($A$3,Tabla77[],MATCH(TablaA66[[#This Row],[70-74 años]],Tabla77[#Headers],0),FALSE)","v":77}]
["Tabasco",{"$f":"VLOOKUP($A$3,Tabla75[],MATCH(TablaA66[[#This Row],[70-74 años]],Tabla75[#Headers],0),FALSE)","v":50},{"$f":"VLOOKUP($A$3,Tabla76[],MATCH(TablaA66[[#This Row],[70-74 años]],Tabla76[#Headers],0),FALSE)","v":39},{"$f":"VLOOKUP($A$3,Tabla77[],MATCH(TablaA66[[#This Row],[70-74 años]],Tabla77[#Headers],0),FALSE)","v":65}]
["Tamaulipas",{"$f":"VLOOKUP($A$3,Tabla75[],MATCH(TablaA66[[#This Row],[70-74 años]],Tabla75[#Headers],0),FALSE)","v":89},{"$f":"VLOOKUP($A$3,Tabla76[],MATCH(TablaA66[[#This Row],[70-74 años]],Tabla76[#Headers],0),FALSE)","v":74},{"$f":"VLOOKUP($A$3,Tabla77[],MATCH(TablaA66[[#This Row],[70-74 años]],Tabla77[#Headers],0),FALSE)","v":84}]
["Tlaxcala",{"$f":"VLOOKUP($A$3,Tabla75[],MATCH(TablaA66[[#This Row],[70-74 años]],Tabla75[#Headers],0),FALSE)","v":26},{"$f":"VLOOKUP($A$3,Tabla76[],MATCH(TablaA66[[#This Row],[70-74 años]],Tabla76[#Headers],0),FALSE)","v":23},{"$f":"VLOOKUP($A$3,Tabla77[],MATCH(TablaA66[[#This Row],[70-74 años]],Tabla77[#Headers],0),FALSE)","v":28}]
["Veracruz",{"$f":"VLOOKUP($A$3,Tabla75[],MATCH(TablaA66[[#This Row],[70-74 años]],Tabla75[#Headers],0),FALSE)","v":185},{"$f":"VLOOKUP($A$3,Tabla76[],MATCH(TablaA66[[#This Row],[70-74 años]],Tabla76[#Headers],0),FALSE)","v":256},{"$f":"VLOOKUP($A$3,Tabla77[],MATCH(TablaA66[[#This Row],[70-74 años]],Tabla77[#Headers],0),FALSE)","v":265}]
["Yucatán",{"$f":"VLOOKUP($A$3,Tabla75[],MATCH(TablaA66[[#This Row],[70-74 años]],Tabla75[#Headers],0),FALSE)","v":81},{"$f":"VLOOKUP($A$3,Tabla76[],MATCH(TablaA66[[#This Row],[70-74 años]],Tabla76[#Headers],0),FALSE)","v":76},{"$f":"VLOOKUP($A$3,Tabla77[],MATCH(TablaA66[[#This Row],[70-74 años]],Tabla77[#Headers],0),FALSE)","v":77}]
["Zacatecas",{"$f":"VLOOKUP($A$3,Tabla75[],MATCH(TablaA66[[#This Row],[70-74 años]],Tabla75[#Headers],0),FALSE)","v":24},{"$f":"VLOOKUP($A$3,Tabla76[],MATCH(TablaA66[[#This Row],[70-74 años]],Tabla76[#Headers],0),FALSE)","v":31},{"$f":"VLOOKUP($A$3,Tabla77[],MATCH(TablaA66[[#This Row],[70-74 años]],Tabla77[#Headers],0),FALSE)","v":44}]
["Total",{"$f":"SUM(B4:B35)","v":2765},{"$f":"SUM(C4:C35)","v":2860},3166]

{"sheet":"17T-GCM-G_Edad_EntFed2020","index":200,"n_rows":22,"n_cols":33,"rows_kept":22,"cut":false,"hidden":true,"merged":[]}
[1,2,3,4,5,6,7,8,9,10,11,12,13,14,15,16,17,18,19,20,21,22,23,24,25,26,27,28,29,30,31,32,33]
["ESTADO","Aguascalientes","Baja California","Baja California Sur","Campeche","Coahuila","Colima","Chiapas","Chihuahua","Ciudad de México","Durango","Guanajuato","Guerrero","Hidalgo","Jalisco","México","Michoacán","Morelos","Nayarit","Nuevo León","Oaxaca","Puebla","Querétaro","Quintana Roo","San Luis Potosí","Sinaloa","Sonora","Tabasco","Tamaulipas","Tlaxcala","Veracruz","Yucatán","Zacatecas"]
["Menores de 1 año",0,0,0,0,0,0,0,0,0,0,0,0,0,0,0,0,0,0,0,0,0,0,0,0,0,0,0,0,0,0,0,0]
["1-4 años",0,0,0,0,0,0,0,0,0,0,0,0,0,0,0,0,0,0,0,0,0,0,0,0,0,0,0,0,0,0,0,0]
["5-9 años",0,0,0,0,0,0,0,0,0,0,0,0,0,0,0,0,0,0,0,0,0,0,0,0,0,0,0,0,0,0,0,0]
["10-14 años",0,0,0,0,0,0,1,1,0,0,0,0,0,0,0,1,0,0,0,0,1,0,0,0,0,0,0,1,0,0,0,0]
["15-19 años",2,2,0,1,1,1,8,5,5,1,2,3,3,5,11,5,2,3,4,6,4,1,5,1,5,3,0,5,1,2,0,2]
["20-24 años",4,8,0,1,12,1,10,15,15,3,9,8,3,21,30,5,3,5,9,7,8,1,5,12,5,9,3,7,3,10,1,4]
["25-29 años",1,7,1,1,7,0,24,8,29,1,12,13,2,11,22,14,3,3,10,11,14,2,4,9,7,5,7,6,4,10,6,6]
["30-34 años",6,6,1,1,7,0,18,9,20,2,15,9,4,12,29,15,3,2,6,14,16,4,3,4,7,6,11,11,3,6,6,6]
["35-39 años",4,6,0,3,5,1,12,7,22,4,6,10,2,18,24,8,2,0,10,9,16,4,2,1,7,3,6,5,2,11,7,4]
["40-44 años",0,1,0,2,2,0,1,3,10,2,2,1,0,5,8,2,1,1,1,5,2,0,3,3,2,2,5,3,0,5,2,0]
["45-49 años",0,0,1,0,0,0,0,1,1,0,0,1,0,2,1,0,0,0,1,0,0,0,0,0,1,0,0,0,0,1,0,0]
["50-54 años",0,0,0,0,0,0,0,1,0,0,0,0,0,0,1,0,0,0,0,0,1,0,0,0,0,0,0,0,0,0,0,0]
["55-59 años",0,0,0,0,0,0,0,0,0,0,0,0,0,0,0,0,0,0,0,0,0,0,0,0,0,0,0,0,0,0,0,0]
["60-64 años",0,0,0,0,0,0,0,0,0,0,0,0,0,0,0,0,0,0,0,0,0,0,0,0,0,0,0,0,0,0,0,0]
["65-69 años",0,0,0,0,0,0,0,0,0,0,0,0,0,0,0,0,0,0,0,0,0,0,0,0,0,0,0,0,0,0,0,0]
["70-74 años",0,0,0,0,0,0,0,0,0,0,0,0,0,0,0,0,0,0,0,0,0,0,0,0,0,0,0,0,0,0,0,0]
["75-79 años",0,0,0,0,0,0,0,0,0,0,0,0,0,0,0,0,0,0,0,0,0,0,0,0,0,0,0,0,0,0,0,0]
["80-84 años",0,0,0,0,0,0,0,0,0,0,0,0,0,0,0,0,0,0,0,0,0,0,0,0,0,0,0,0,0,0,0,0]
["85 años y más",0,0,0,0,0,0,0,0,0,0,0,0,0,0,0,0,0,0,0,0,0,0,0,0,0,0,0,0,0,0,0,0]
["No especificado",0,0,0,0,0,0,0,0,0,0,0,0,0,0,0,0,0,0,0,0,0,0,0,0,0,0,0,0,0,0,0,0]

{"sheet":"17T-GCM-G_Edad_EntFed2021","index":201,"n_rows":22,"n_cols":33,"rows_kept":22,"cut":false,"hidden":true,"merged":[]}
[1,2,3,4,5,6,7,8,9,10,11,12,13,14,15,16,17,18,19,20,21,22,23,24,25,26,27,28,29,30,31,32,33]
["ESTADO","Aguascalientes","Baja California","Baja California Sur","Campeche","Coahuila","Colima","Chiapas","Chihuahua","Ciudad de México","Durango","Guanajuato","Guerrero","Hidalgo","Jalisco","México","Michoacán","Morelos","Nayarit","Nuevo León","Oaxaca","Puebla","Querétaro","Quintana Roo","San Luis Potosí","Sinaloa","Sonora","Tabasco","Tamaulipas","Tlaxcala","Veracruz","Yucatán","Zacatecas"]
["Menores de 1 año",0,0,0,0,0,0,0,0,0,0,0,0,0,0,0,0,0,0,0,0,0,0,0,0,0,0,0,0,0,0,0,0]
["1-4 años",0,0,0,0,0,0,0,0,0,0,0,0,0,0,0,0,0,0,0,0,0,0,0,0,0,0,0,0,0,0,0,0]
["5-9 años",0,0,0,0,0,0,0,0,0,0,0,0,0,0,0,0,0,0,0,0,0,0,0,0,0,0,0,0,0,0,0,0]
["10-14 años",0,0,0,0,0,0,1,0,1,0,0,0,0,0,0,2,0,0,0,0,0,0,0,0,0,0,0,0,0,0,0,0]
["15-19 años",2,2,1,3,1,1,5,4,5,2,1,6,5,6,8,6,0,0,2,7,5,1,1,3,6,3,6,0,1,6,2,1]
["20-24 años",0,7,1,1,4,2,16,9,13,4,13,7,7,10,26,10,1,5,8,6,17,3,3,5,8,1,4,9,3,5,7,3]
["25-29 años",4,10,1,2,7,1,12,12,27,4,11,11,10,15,30,10,4,4,16,14,22,4,4,1,8,3,6,9,1,24,7,5]
["30-34 años",0,5,4,2,10,0,11,11,14,2,9,11,8,27,31,6,4,5,13,6,24,4,3,6,5,7,5,13,1,21,8,0]
["35-39 años",3,8,0,1,4,0,14,4,21,4,5,6,2,13,24,13,4,5,13,12,17,4,8,6,11,9,5,8,0,21,6,3]
["40-44 años",2,2,0,1,1,1,10,1,5,1,2,3,2,9,11,3,1,2,5,3,6,2,0,0,2,2,2,4,1,2,0,0]
["45-49 años",3,0,0,1,0,0,0,2,1,0,0,0,0,0,4,1,0,0,0,0,0,1,0,0,0,0,0,1,0,0,0,1]
["50-54 años",0,1,0,0,0,0,0,0,1,0,0,0,0,0,1,0,0,0,0,0,0,0,0,0,0,0,0,0,0,0,0,0]
["55-59 años",0,0,0,0,0,0,0,0,1,0,0,0,0,0,0,0,0,0,0,0,0,0,0,0,0,0,0,0,0,0,0,0]
["60-64 años",0,0,0,0,0,0,0,0,0,0,0,0,0,0,0,0,0,0,0,0,0,0,0,0,0,0,0,0,0,0,0,0]
["65-69 años",0,0,0,0,0,0,0,0,0,0,0,0,0,0,0,0,0,0,0,0,0,0,0,0,0,0,0,0,0,0,0,0]
["70-74 años",0,0,0,0,0,0,0,0,0,0,0,0,0,0,0,0,0,0,0,0,0,0,0,0,0,0,0,0,0,0,0,0]
["75-79 años",0,0,0,0,0,0,0,0,0,0,0,0,0,0,0,0,0,0,0,0,0,0,0,0,0,0,0,0,0,0,0,0]
["80-84 años",0,0,0,0,0,0,0,0,0,0,0,0,0,0,0,0,0,0,0,0,0,0,0,0,0,0,0,0,0,0,0,0]
["85 años y más",0,0,0,0,0,0,0,0,0,0,0,0,0,0,0,0,0,0,0,0,0,0,0,0,0,0,0,0,0,0,0,0]
["No especificado",0,0,0,0,0,0,0,0,0,1,0,0,0,0,0,0,0,0,0,0,0,0,0,0,0,0,0,0,0,0,0,0]

{"sheet":"17T-GCM-G_Edad_EntFed2022","index":202,"n_rows":22,"n_cols":33,"rows_kept":22,"cut":false,"hidden":true,"merged":[]}
[1,2,3,4,5,6,7,8,9,10,11,12,13,14,15,16,17,18,19,20,21,22,23,24,25,26,27,28,29,30,31,32,33]
["ESTADO","Aguascalientes","Baja California","Baja California Sur","Campeche","Coahuila","Colima","Chiapas","Chihuahua","Ciudad de México","Durango","Guanajuato","Guerrero","Hidalgo","Jalisco","México","Michoacán","Morelos","Nayarit","Nuevo León","Oaxaca","Puebla","Querétaro","Quintana Roo","San Luis Potosí","Sinaloa","Sonora","Tabasco","Tamaulipas","Tlaxcala","Veracruz","Yucatán","Zacatecas"]
["Menores de 1 año",0,0,0,0,0,0,0,0,0,0,0,0,0,0,0,0,0,0,0,0,0,0,0,0,0,0,0,0,0,0,0,0]
["1-4 años",0,0,0,0,0,0,0,0,0,0,0,0,0,0,0,0,0,0,0,0,0,0,0,0,0,0,0,0,0,0,0,0]
["5-9 años",0,0,0,0,0,0,0,0,0,0,0,0,0,0,0,0,0,0,0,0,0,0,0,0,0,0,0,0,0,0,0,0]
["10-14 años",0,0,0,0,0,0,0,0,0,0,0,2,0,1,0,1,0,0,0,0,0,0,0,0,0,0,0,0,0,0,0,0]
["15-19 años",1,2,0,0,2,2,7,6,3,3,3,4,0,5,5,4,0,3,4,2,3,3,2,2,5,1,2,0,0,8,1,0]
["20-24 años",1,9,0,0,11,1,8,12,9,8,8,5,6,9,20,5,0,1,8,5,6,0,1,3,4,6,5,2,1,10,2,0]
["25-29 años",2,7,0,2,4,0,12,6,11,9,5,8,4,17,22,10,2,5,7,18,14,5,2,5,0,4,8,8,6,16,2,2]
["30-34 años",0,6,1,0,2,0,10,5,16,12,13,5,5,14,16,7,2,4,13,11,11,2,1,6,3,6,6,7,3,12,4,2]
["35-39 años",2,3,1,1,1,1,4,5,12,10,6,9,1,5,15,6,2,3,7,4,3,2,4,2,1,1,4,2,5,5,1,4]
["40-44 años",0,2,0,0,1,0,1,2,7,0,0,3,0,6,8,3,0,1,4,0,1,1,0,0,0,1,1,0,0,4,1,0]
["45-49 años",0,0,0,0,1,0,0,0,2,0,0,0,0,0,1,1,0,0,1,1,1,0,0,0,0,0,0,1,0,0,0,0]
["50-54 años",0,0,0,0,0,0,0,0,0,0,0,0,0,0,0,0,0,0,0,0,0,0,0,0,0,0,0,0,0,0,0,0]
["55-59 años",0,0,0,0,0,0,0,0,0,0,0,0,0,0,0,0,0,0,0,0,0,0,0,0,0,0,0,1,0,0,0,0]
["60-64 años",0,0,0,0,0,0,0,0,0,0,0,0,0,0,0,0,0,0,0,0,0,0,0,0,0,0,0,0,0,0,0,0]
["65-69 años",0,0,0,0,0,0,0,0,0,0,0,0,0,0,0,0,0,0,1,0,0,0,0,0,0,0,0,0,0,0,0,0]
["70-74 años",0,0,0,0,0,0,0,0,0,0,0,0,0,0,0,0,0,0,0,0,0,0,0,0,0,0,0,0,0,0,0,0]
["75-79 años",0,0,0,0,0,0,0,0,0,0,0,0,0,0,0,0,0,0,0,0,0,0,0,0,0,0,0,0,0,0,0,0]
["80-84 años",0,0,0,0,0,0,0,0,0,0,0,0,0,0,0,0,0,0,0,0,0,0,0,0,0,0,0,0,0,0,0,0]
["85 años y más",0,0,0,0,0,0,0,0,0,0,0,0,0,0,0,1,0,0,0,0,0,0,0,0,0,0,0,0,0,0,0,0]
["No especificado",0,0,0,0,0,0,0,0,0,0,0,0,0,0,0,0,0,0,0,0,0,0,0,0,0,0,0,0,0,0,0,0]

{"sheet":"17GCM-G-Edad_Ent.Fed","index":203,"n_rows":36,"n_cols":4,"rows_kept":36,"cut":false,"hidden":false,"merged":[[0,0,0,3]]}
["Embarazo, parto y puerperio"]
["SELECCIONE UN GRUPO DE EDAD"]
["50-54 años","2020","2021","2022"]
["Aguascalientes",{"$f":"VLOOKUP($A$3,Tabla78[],MATCH(TablaA67[[#This Row],[50-54 años]],Tabla78[#Headers],0),FALSE)","v":0},{"$f":"VLOOKUP($A$3,Tabla79[],MATCH(TablaA67[[#This Row],[50-54 años]],Tabla79[#Headers],0),FALSE)","v":0},{"$f":"VLOOKUP($A$3,Tabla80[],MATCH(TablaA67[[#This Row],[50-54 años]],Tabla80[#Headers],0),FALSE)","v":0}]
["Baja California",{"$f":"VLOOKUP($A$3,Tabla78[],MATCH(TablaA67[[#This Row],[50-54 años]],Tabla78[#Headers],0),FALSE)","v":0},{"$f":"VLOOKUP($A$3,Tabla79[],MATCH(TablaA67[[#This Row],[50-54 años]],Tabla79[#Headers],0),FALSE)","v":1},{"$f":"VLOOKUP($A$3,Tabla80[],MATCH(TablaA67[[#This Row],[50-54 años]],Tabla80[#Headers],0),FALSE)","v":0}]
["Baja California Sur",{"$f":"VLOOKUP($A$3,Tabla78[],MATCH(TablaA67[[#This Row],[50-54 años]],Tabla78[#Headers],0),FALSE)","v":0},{"$f":"VLOOKUP($A$3,Tabla79[],MATCH(TablaA67[[#This Row],[50-54 años]],Tabla79[#Headers],0),FALSE)","v":0},{"$f":"VLOOKUP($A$3,Tabla80[],MATCH(TablaA67[[#This Row],[50-54 años]],Tabla80[#Headers],0),FALSE)","v":0}]
["Campeche",{"$f":"VLOOKUP($A$3,Tabla78[],MATCH(TablaA67[[#This Row],[50-54 años]],Tabla78[#Headers],0),FALSE)","v":0},{"$f":"VLOOKUP($A$3,Tabla79[],MATCH(TablaA67[[#This Row],[50-54 años]],Tabla79[#Headers],0),FALSE)","v":0},{"$f":"VLOOKUP($A$3,Tabla80[],MATCH(TablaA67[[#This Row],[50-54 años]],Tabla80[#Headers],0),FALSE)","v":0}]
["Coahuila",{"$f":"VLOOKUP($A$3,Tabla78[],MATCH(TablaA67[[#This Row],[50-54 años]],Tabla78[#Headers],0),FALSE)","v":0},{"$f":"VLOOKUP($A$3,Tabla79[],MATCH(TablaA67[[#This Row],[50-54 años]],Tabla79[#Headers],0),FALSE)","v":0},{"$f":"VLOOKUP($A$3,Tabla80[],MATCH(TablaA67[[#This Row],[50-54 años]],Tabla80[#Headers],0),FALSE)","v":0}]
["Colima",{"$f":"VLOOKUP($A$3,Tabla78[],MATCH(TablaA67[[#This Row],[50-54 años]],Tabla78[#Headers],0),FALSE)","v":0},{"$f":"VLOOKUP($A$3,Tabla79[],MATCH(TablaA67[[#This Row],[50-54 años]],Tabla79[#Headers],0),FALSE)","v":0},{"$f":"VLOOKUP($A$3,Tabla80[],MATCH(TablaA67[[#This Row],[50-54 años]],Tabla80[#Headers],0),FALSE)","v":0}]
["Chiapas",{"$f":"VLOOKUP($A$3,Tabla78[],MATCH(TablaA67[[#This Row],[50-54 años]],Tabla78[#Headers],0),FALSE)","v":0},{"$f":"VLOOKUP($A$3,Tabla79[],MATCH(TablaA67[[#This Row],[50-54 años]],Tabla79[#Headers],0),FALSE)","v":0},{"$f":"VLOOKUP($A$3,Tabla80[],MATCH(TablaA67[[#This Row],[50-54 años]],Tabla80[#Headers],0),FALSE)","v":0}]
["Chihuahua",{"$f":"VLOOKUP($A$3,Tabla78[],MATCH(TablaA67[[#This Row],[50-54 años]],Tabla78[#Headers],0),FALSE)","v":1},{"$f":"VLOOKUP($A$3,Tabla79[],MATCH(TablaA67[[#This Row],[50-54 años]],Tabla79[#Headers],0),FALSE)","v":0},{"$f":"VLOOKUP($A$3,Tabla80[],MATCH(TablaA67[[#This Row],[50-54 años]],Tabla80[#Headers],0),FALSE)","v":0}]
["Ciudad de México",{"$f":"VLOOKUP($A$3,Tabla78[],MATCH(TablaA67[[#This Row],[50-54 años]],Tabla78[#Headers],0),FALSE)","v":0},{"$f":"VLOOKUP($A$3,Tabla79[],MATCH(TablaA67[[#This Row],[50-54 años]],Tabla79[#Headers],0),FALSE)","v":1},{"$f":"VLOOKUP($A$3,Tabla80[],MATCH(TablaA67[[#This Row],[50-54 años]],Tabla80[#Headers],0),FALSE)","v":0}]
["Durango",{"$f":"VLOOKUP($A$3,Tabla78[],MATCH(TablaA67[[#This Row],[50-54 años]],Tabla78[#Headers],0),FALSE)","v":0},{"$f":"VLOOKUP($A$3,Tabla79[],MATCH(TablaA67[[#This Row],[50-54 años]],Tabla79[#Headers],0),FALSE)","v":0},{"$f":"VLOOKUP($A$3,Tabla80[],MATCH(TablaA67[[#This Row],[50-54 años]],Tabla80[#Headers],0),FALSE)","v":0}]
["Guanajuato",{"$f":"VLOOKUP($A$3,Tabla78[],MATCH(TablaA67[[#This Row],[50-54 años]],Tabla78[#Headers],0),FALSE)","v":0},{"$f":"VLOOKUP($A$3,Tabla79[],MATCH(TablaA67[[#This Row],[50-54 años]],Tabla79[#Headers],0),FALSE)","v":0},{"$f":"VLOOKUP($A$3,Tabla80[],MATCH(TablaA67[[#This Row],[50-54 años]],Tabla80[#Headers],0),FALSE)","v":0}]
["Guerrero",{"$f":"VLOOKUP($A$3,Tabla78[],MATCH(TablaA67[[#This Row],[50-54 años]],Tabla78[#Headers],0),FALSE)","v":0},{"$f":"VLOOKUP($A$3,Tabla79[],MATCH(TablaA67[[#This Row],[50-54 años]],Tabla79[#Headers],0),FALSE)","v":0},{"$f":"VLOOKUP($A$3,Tabla80[],MATCH(TablaA67[[#This Row],[50-54 años]],Tabla80[#Headers],0),FALSE)","v":0}]
["Hidalgo",{"$f":"VLOOKUP($A$3,Tabla78[],MATCH(TablaA67[[#This Row],[50-54 años]],Tabla78[#Headers],0),FALSE)","v":0},{"$f":"VLOOKUP($A$3,Tabla79[],MATCH(TablaA67[[#This Row],[50-54 años]],Tabla79[#Headers],0),FALSE)","v":0},{"$f":"VLOOKUP($A$3,Tabla80[],MATCH(TablaA67[[#This Row],[50-54 años]],Tabla80[#Headers],0),FALSE)","v":0}]
["Jalisco",{"$f":"VLOOKUP($A$3,Tabla78[],MATCH(TablaA67[[#This Row],[50-54 años]],Tabla78[#Headers],0),FALSE)","v":0},{"$f":"VLOOKUP($A$3,Tabla79[],MATCH(TablaA67[[#This Row],[50-54 años]],Tabla79[#Headers],0),FALSE)","v":0},{"$f":"VLOOKUP($A$3,Tabla80[],MATCH(TablaA67[[#This Row],[50-54 años]],Tabla80[#Headers],0),FALSE)","v":0}]
["México",{"$f":"VLOOKUP($A$3,Tabla78[],MATCH(TablaA67[[#This Row],[50-54 años]],Tabla78[#Headers],0),FALSE)","v":1},{"$f":"VLOOKUP($A$3,Tabla79[],MATCH(TablaA67[[#This Row],[50-54 años]],Tabla79[#Headers],0),FALSE)","v":1},{"$f":"VLOOKUP($A$3,Tabla80[],MATCH(TablaA67[[#This Row],[50-54 años]],Tabla80[#Headers],0),FALSE)","v":0}]
["Michoacán",{"$f":"VLOOKUP($A$3,Tabla78[],MATCH(TablaA67[[#This Row],[50-54 años]],Tabla78[#Headers],0),FALSE)","v":0},{"$f":"VLOOKUP($A$3,Tabla79[],MATCH(TablaA67[[#This Row],[50-54 años]],Tabla79[#Headers],0),FALSE)","v":0},{"$f":"VLOOKUP($A$3,Tabla80[],MATCH(TablaA67[[#This Row],[50-54 años]],Tabla80[#Headers],0),FALSE)","v":0}]
["Morelos",{"$f":"VLOOKUP($A$3,Tabla78[],MATCH(TablaA67[[#This Row],[50-54 años]],Tabla78[#Headers],0),FALSE)","v":0},{"$f":"VLOOKUP($A$3,Tabla79[],MATCH(TablaA67[[#This Row],[50-54 años]],Tabla79[#Headers],0),FALSE)","v":0},{"$f":"VLOOKUP($A$3,Tabla80[],MATCH(TablaA67[[#This Row],[50-54 años]],Tabla80[#Headers],0),FALSE)","v":0}]
["Nayarit",{"$f":"VLOOKUP($A$3,Tabla78[],MATCH(TablaA67[[#This Row],[50-54 años]],Tabla78[#Headers],0),FALSE)","v":0},{"$f":"VLOOKUP($A$3,Tabla79[],MATCH(TablaA67[[#This Row],[50-54 años]],Tabla79[#Headers],0),FALSE)","v":0},{"$f":"VLOOKUP($A$3,Tabla80[],MATCH(TablaA67[[#This Row],[50-54 años]],Tabla80[#Headers],0),FALSE)","v":0}]
["Nuevo León",{"$f":"VLOOKUP($A$3,Tabla78[],MATCH(TablaA67[[#This Row],[50-54 años]],Tabla78[#Headers],0),FALSE)","v":0},{"$f":"VLOOKUP($A$3,Tabla79[],MATCH(TablaA67[[#This Row],[50-54 años]],Tabla79[#Headers],0),FALSE)","v":0},{"$f":"VLOOKUP($A$3,Tabla80[],MATCH(TablaA67[[#This Row],[50-54 años]],Tabla80[#Headers],0),FALSE)","v":0}]
["Oaxaca",{"$f":"VLOOKUP($A$3,Tabla78[],MATCH(TablaA67[[#This Row],[50-54 años]],Tabla78[#Headers],0),FALSE)","v":0},{"$f":"VLOOKUP($A$3,Tabla79[],MATCH(TablaA67[[#This Row],[50-54 años]],Tabla79[#Headers],0),FALSE)","v":0},{"$f":"VLOOKUP($A$3,Tabla80[],MATCH(TablaA67[[#This Row],[50-54 años]],Tabla80[#Headers],0),FALSE)","v":0}]
["Puebla",{"$f":"VLOOKUP($A$3,Tabla78[],MATCH(TablaA67[[#This Row],[50-54 años]],Tabla78[#Headers],0),FALSE)","v":1},{"$f":"VLOOKUP($A$3,Tabla79[],MATCH(TablaA67[[#This Row],[50-54 años]],Tabla79[#Headers],0),FALSE)","v":0},{"$f":"VLOOKUP($A$3,Tabla80[],MATCH(TablaA67[[#This Row],[50-54 años]],Tabla80[#Headers],0),FALSE)","v":0}]
["Querétaro",{"$f":"VLOOKUP($A$3,Tabla78[],MATCH(TablaA67[[#This Row],[50-54 años]],Tabla78[#Headers],0),FALSE)","v":0},{"$f":"VLOOKUP($A$3,Tabla79[],MATCH(TablaA67[[#This Row],[50-54 años]],Tabla79[#Headers],0),FALSE)","v":0},{"$f":"VLOOKUP($A$3,Tabla80[],MATCH(TablaA67[[#This Row],[50-54 años]],Tabla80[#Headers],0),FALSE)","v":0}]
["Quintana Roo",{"$f":"VLOOKUP($A$3,Tabla78[],MATCH(TablaA67[[#This Row],[50-54 años]],Tabla78[#Headers],0),FALSE)","v":0},{"$f":"VLOOKUP($A$3,Tabla79[],MATCH(TablaA67[[#This Row],[50-54 años]],Tabla79[#Headers],0),FALSE)","v":0},{"$f":"VLOOKUP($A$3,Tabla80[],MATCH(TablaA67[[#This Row],[50-54 años]],Tabla80[#Headers],0),FALSE)","v":0}]
["San Luis Potosí",{"$f":"VLOOKUP($A$3,Tabla78[],MATCH(TablaA67[[#This Row],[50-54 años]],Tabla78[#Headers],0),FALSE)","v":0},{"$f":"VLOOKUP($A$3,Tabla79[],MATCH(TablaA67[[#This Row],[50-54 años]],Tabla79[#Headers],0),FALSE)","v":0},{"$f":"VLOOKUP($A$3,Tabla80[],MATCH(TablaA67[[#This Row],[50-54 años]],Tabla80[#Headers],0),FALSE)","v":0}]
["Sinaloa",{"$f":"VLOOKUP($A$3,Tabla78[],MATCH(TablaA67[[#This Row],[50-54 años]],Tabla78[#Headers],0),FALSE)","v":0},{"$f":"VLOOKUP($A$3,Tabla79[],MATCH(TablaA67[[#This Row],[50-54 años]],Tabla79[#Headers],0),FALSE)","v":0},{"$f":"VLOOKUP($A$3,Tabla80[],MATCH(TablaA67[[#This Row],[50-54 años]],Tabla80[#Headers],0),FALSE)","v":0}]
["Sonora",{"$f":"VLOOKUP($A$3,Tabla78[],MATCH(TablaA67[[#This Row],[50-54 años]],Tabla78[#Headers],0),FALSE)","v":0},{"$f":"VLOOKUP($A$3,Tabla79[],MATCH(TablaA67[[#This Row],[50-54 años]],Tabla79[#Headers],0),FALSE)","v":0},{"$f":"VLOOKUP($A$3,Tabla80[],MATCH(TablaA67[[#This Row],[50-54 años]],Tabla80[#Headers],0),FALSE)","v":0}]
["Tabasco",{"$f":"VLOOKUP($A$3,Tabla78[],MATCH(TablaA67[[#This Row],[50-54 años]],Tabla78[#Headers],0),FALSE)","v":0},{"$f":"VLOOKUP($A$3,Tabla79[],MATCH(TablaA67[[#This Row],[50-54 años]],Tabla79[#Headers],0),FALSE)","v":0},{"$f":"VLOOKUP($A$3,Tabla80[],MATCH(TablaA67[[#This Row],[50-54 años]],Tabla80[#Headers],0),FALSE)","v":0}]
["Tamaulipas",{"$f":"VLOOKUP($A$3,Tabla78[],MATCH(TablaA67[[#This Row],[50-54 años]],Tabla78[#Headers],0),FALSE)","v":0},{"$f":"VLOOKUP($A$3,Tabla79[],MATCH(TablaA67[[#This Row],[50-54 años]],Tabla79[#Headers],0),FALSE)","v":0},{"$f":"VLOOKUP($A$3,Tabla80[],MATCH(TablaA67[[#This Row],[50-54 años]],Tabla80[#Headers],0),FALSE)","v":0}]
["Tlaxcala",{"$f":"VLOOKUP($A$3,Tabla78[],MATCH(TablaA67[[#This Row],[50-54 años]],Tabla78[#Headers],0),FALSE)","v":0},{"$f":"VLOOKUP($A$3,Tabla79[],MATCH(TablaA67[[#This Row],[50-54 años]],Tabla79[#Headers],0),FALSE)","v":0},{"$f":"VLOOKUP($A$3,Tabla80[],MATCH(TablaA67[[#This Row],[50-54 años]],Tabla80[#Headers],0),FALSE)","v":0}]
["Veracruz",{"$f":"VLOOKUP($A$3,Tabla78[],MATCH(TablaA67[[#This Row],[50-54 años]],Tabla78[#Headers],0),FALSE)","v":0},{"$f":"VLOOKUP($A$3,Tabla79[],MATCH(TablaA67[[#This Row],[50-54 años]],Tabla79[#Headers],0),FALSE)","v":0},{"$f":"VLOOKUP($A$3,Tabla80[],MATCH(TablaA67[[#This Row],[50-54 años]],Tabla80[#Headers],0),FALSE)","v":0}]
["Yucatán",{"$f":"VLOOKUP($A$3,Tabla78[],MATCH(TablaA67[[#This Row],[50-54 años]],Tabla78[#Headers],0),FALSE)","v":0},{"$f":"VLOOKUP($A$3,Tabla79[],MATCH(TablaA67[[#This Row],[50-54 años]],Tabla79[#Headers],0),FALSE)","v":0},{"$f":"VLOOKUP($A$3,Tabla80[],MATCH(TablaA67[[#This Row],[50-54 años]],Tabla80[#Headers],0),FALSE)","v":0}]
["Zacatecas",{"$f":"VLOOKUP($A$3,Tabla78[],MATCH(TablaA67[[#This Row],[50-54 años]],Tabla78[#Headers],0),FALSE)","v":0},{"$f":"VLOOKUP($A$3,Tabla79[],MATCH(TablaA67[[#This Row],[50-54 años]],Tabla79[#Headers],0),FALSE)","v":0},{"$f":"VLOOKUP($A$3,Tabla80[],MATCH(TablaA67[[#This Row],[50-54 años]],Tabla80[#Headers],0),FALSE)","v":0}]
["Total",{"$f":"SUM(B4:B35)","v":3},{"$f":"SUM(C4:C35)","v":3},0]

{"sheet":"18T-GCM-G_Edad_EntFed2020","index":204,"n_rows":22,"n_cols":33,"rows_kept":22,"cut":false,"hidden":true,"merged":[]}
[1,2,3,4,5,6,7,8,9,10,11,12,13,14,15,16,17,18,19,20,21,22,23,24,25,26,27,28,29,30,31,32,33]
["ESTADO","Aguascalientes","Baja California","Baja California Sur","Campeche","Coahuila","Colima","Chiapas","Chihuahua","Ciudad de México","Durango","Guanajuato","Guerrero","Hidalgo","Jalisco","México","Michoacán","Morelos","Nayarit","Nuevo León","Oaxaca","Puebla","Querétaro","Quintana Roo","San Luis Potosí","Sinaloa","Sonora","Tabasco","Tamaulipas","Tlaxcala","Veracruz","Yucatán","Zacatecas"]
["Menores de 1 año",117,250,66,86,307,49,450,405,854,142,477,214,183,743,1288,264,123,56,394,280,725,185,131,182,159,173,326,320,130,707,171,132]
["1-4 años",0,0,0,0,0,0,0,0,0,0,0,0,0,0,0,0,0,0,0,0,0,0,0,0,0,0,0,0,0,0,0,0]
["5-9 años",0,0,0,0,0,0,0,0,0,0,0,0,0,0,0,0,0,0,0,0,0,0,0,0,0,0,0,0,0,0,0,0]
["10-14 años",0,0,0,0,0,0,0,0,0,0,0,0,0,0,0,0,0,0,0,0,0,0,0,0,0,0,0,0,0,0,0,0]
["15-19 años",0,0,0,0,0,0,0,0,0,0,0,0,0,0,0,0,0,0,0,0,0,0,0,0,0,0,0,0,0,0,0,0]
["20-24 años",0,0,0,0,0,0,0,0,0,0,0,0,0,0,0,0,0,0,0,0,0,0,0,0,0,0,0,0,0,0,0,0]
["25-29 años",0,0,0,0,0,0,0,0,0,0,0,0,0,0,0,0,0,0,0,0,0,0,0,0,0,0,0,0,0,0,0,0]
["30-34 años",0,0,0,0,0,0,0,0,0,0,0,0,0,0,0,0,0,0,0,0,0,0,0,0,0,0,0,0,0,0,0,0]
["35-39 años",0,0,0,0,0,0,0,0,0,0,0,0,0,0,0,0,0,0,0,0,0,0,0,0,0,0,0,0,0,0,0,0]
["40-44 años",0,0,0,0,0,0,0,0,0,0,0,0,0,0,0,0,0,0,0,0,0,0,0,0,0,0,0,0,0,0,0,0]
["45-49 años",0,0,0,0,0,0,0,0,0,0,0,0,0,0,0,0,0,0,0,0,0,0,0,0,0,0,0,0,0,0,0,0]
["50-54 años",0,0,0,0,0,0,0,0,0,0,0,0,0,0,0,0,0,0,0,0,0,0,0,0,0,0,0,0,0,0,0,0]
["55-59 años",0,0,0,0,0,0,0,0,0,0,0,0,0,0,0,0,0,0,0,0,0,0,0,0,0,0,0,0,0,0,0,0]
["60-64 años",0,0,0,0,0,0,0,0,0,0,0,0,0,0,0,0,0,0,0,0,0,0,0,0,0,0,0,0,0,0,0,0]
["65-69 años",0,0,0,0,0,0,0,0,0,0,0,0,0,0,0,0,0,0,0,0,0,0,0,0,0,0,0,0,0,0,0,0]
["70-74 años",0,0,0,0,0,0,0,0,0,0,0,0,0,0,0,0,0,0,0,0,0,0,0,0,0,0,0,0,0,0,0,0]
["75-79 años",0,0,0,0,0,0,0,0,0,0,0,0,0,0,0,0,0,0,0,0,0,0,0,0,0,0,0,0,0,0,0,0]
["80-84 años",0,0,0,0,0,0,0,0,0,0,0,0,0,0,0,0,0,0,0,0,0,0,0,0,0,0,0,0,0,0,0,0]
["85 años y más",0,0,0,0,0,0,0,0,0,0,0,0,0,0,0,0,0,0,0,0,0,0,0,0,0,0,0,0,0,0,0,0]
["No especificado",0,0,0,0,0,0,0,0,0,0,0,0,0,0,0,0,0,0,0,0,0,0,0,0,0,0,0,0,0,0,0,0]

{"sheet":"18T-GCM-G_Edad_EntFed2021","index":205,"n_rows":22,"n_cols":33,"rows_kept":22,"cut":false,"hidden":true,"merged":[]}
[1,2,3,4,5,6,7,8,9,10,11,12,13,14,15,16,17,18,19,20,21,22,23,24,25,26,27,28,29,30,31,32,33]
["ESTADO","Aguascalientes","Baja California","Baja California Sur","Campeche","Coahuila","Colima","Chiapas","Chihuahua","Ciudad de México","Durango","Guanajuato","Guerrero","Hidalgo","Jalisco","México","Michoacán","Morelos","Nayarit","Nuevo León","Oaxaca","Puebla","Querétaro","Quintana Roo","San Luis Potosí","Sinaloa","Sonora","Tabasco","Tamaulipas","Tlaxcala","Veracruz","Yucatán","Zacatecas"]
["Menores de 1 año",137,228,62,76,356,44,639,424,763,223,449,295,257,649,1172,393,135,91,398,315,639,188,124,207,224,179,264,380,98,665,170,115]
["1-4 años",0,0,0,0,0,0,0,0,0,0,0,0,0,0,0,0,0,0,0,0,0,0,0,0,0,0,0,0,0,0,0,0]
["5-9 años",0,0,0,0,0,0,0,0,0,0,0,0,0,0,0,0,0,0,0,0,0,0,0,0,0,0,0,0,0,0,0,0]
["10-14 años",0,0,0,0,0,0,0,0,0,0,0,0,0,0,0,0,0,0,0,0,0,0,0,0,0,0,0,0,0,0,0,0]
["15-19 años",0,0,0,0,0,0,0,0,0,0,0,0,0,0,0,0,0,0,0,0,0,0,0,0,0,0,0,0,0,0,0,0]
["20-24 años",0,0,0,0,0,0,0,0,0,0,0,0,0,0,0,0,0,0,0,0,0,0,0,0,0,0,0,0,0,0,0,0]
["25-29 años",0,0,0,0,0,0,0,0,0,0,0,0,0,0,0,0,0,0,0,0,0,0,0,0,0,0,0,0,0,0,0,0]
["30-34 años",0,0,0,0,0,0,0,0,0,0,0,0,0,0,0,0,0,0,0,0,0,0,0,0,0,0,0,0,0,0,0,0]
["35-39 años",0,0,0,0,0,0,0,0,0,0,0,0,0,0,0,0,0,0,0,0,0,0,0,0,0,0,0,0,0,0,0,0]
["40-44 años",0,0,0,0,0,0,0,0,0,0,0,0,0,0,0,0,0,0,0,0,0,0,0,0,0,0,0,0,0,0,0,0]
["45-49 años",0,0,0,0,0,0,0,0,0,0,0,0,0,0,0,0,0,0,0,0,0,0,0,0,0,0,0,0,0,0,0,0]
["50-54 años",0,0,0,0,0,0,0,0,0,0,0,0,0,0,0,0,0,0,0,0,0,0,0,0,0,0,0,0,0,0,0,0]
["55-59 años",0,0,0,0,0,0,0,0,0,0,0,0,0,0,0,0,0,0,0,0,0,0,0,0,0,0,0,0,0,0,0,0]
["60-64 años",0,0,0,0,0,0,0,0,0,0,0,0,0,0,0,0,0,0,0,0,0,0,0,0,0,0,0,0,0,0,0,0]
["65-69 años",0,0,0,0,0,0,0,0,0,0,0,0,0,0,0,0,0,0,0,0,0,0,0,0,0,0,0,0,0,0,0,0]
["70-74 años",0,0,0,0,0,0,0,0,0,0,0,0,0,0,0,0,0,0,0,0,0,0,0,0,0,0,0,0,0,0,0,0]
["75-79 años",0,0,0,0,0,0,0,0,0,0,0,0,0,0,0,0,0,0,0,0,0,0,0,0,0,0,0,0,0,0,0,0]
["80-84 años",0,0,0,0,0,0,0,0,0,0,0,0,0,0,0,0,0,0,0,0,0,0,0,0,0,0,0,0,0,0,0,0]
["85 años y más",0,0,0,0,0,0,0,0,0,0,0,0,0,0,0,0,0,0,0,0,0,0,0,0,0,0,0,0,0,0,0,0]
["No especificado",0,0,0,0,0,0,0,0,0,0,0,0,0,0,0,0,0,0,0,0,0,0,0,0,0,0,0,0,0,0,0,0]

{"sheet":"18T-GCM-G_Edad_EntFed2022","index":206,"n_rows":22,"n_cols":33,"rows_kept":22,"cut":false,"hidden":true,"merged":[]}
[1,2,3,4,5,6,7,8,9,10,11,12,13,14,15,16,17,18,19,20,21,22,23,24,25,26,27,28,29,30,31,32,33]
["ESTADO","Aguascalientes","Baja California","Baja California Sur","Campeche","Coahuila","Colima","Chiapas","Chihuahua","Ciudad de México","Durango","Guanajuato","Guerrero","Hidalgo","Jalisco","México","Michoacán","Morelos","Nayarit","Nuevo León","Oaxaca","Puebla","Querétaro","Quintana Roo","San Luis Potosí","Sinaloa","Sonora","Tabasco","Tamaulipas","Tlaxcala","Veracruz","Yucatán","Zacatecas"]
["Menores de 1 año",121,242,58,75,334,49,627,392,826,188,445,303,239,637,1188,404,127,87,408,289,602,189,121,217,221,191,240,336,96,697,147,84]
["1-4 años",0,0,0,0,0,0,0,0,0,0,0,0,0,0,0,0,0,0,0,0,0,0,0,0,0,0,0,0,0,0,0,0]
["5-9 años",0,0,0,0,0,0,0,0,0,0,0,0,0,0,0,0,0,0,0,0,0,0,0,0,0,0,0,0,0,0,0,0]
["10-14 años",0,0,0,0,0,0,0,0,0,0,0,0,0,0,0,0,0,0,0,0,0,0,0,0,0,0,0,0,0,0,0,0]
["15-19 años",0,0,0,0,0,0,0,0,0,0,0,0,0,0,0,0,0,0,0,0,0,0,0,0,0,0,0,0,0,0,0,0]
["20-24 años",0,0,0,0,0,0,0,0,0,0,0,0,0,0,0,0,0,0,0,0,0,0,0,0,0,0,0,0,0,0,0,0]
["25-29 años",0,0,0,0,0,0,0,0,0,0,0,0,0,0,0,0,0,0,0,0,0,0,0,0,0,0,0,0,0,0,0,0]
["30-34 años",0,0,0,0,0,0,0,0,0,0,0,0,0,0,0,0,0,0,0,0,0,0,0,0,0,0,0,0,0,0,0,0]
["35-39 años",0,0,0,0,0,0,0,0,0,0,0,0,0,0,0,0,0,0,0,0,0,0,0,0,0,0,0,0,0,0,0,0]
["40-44 años",0,0,0,0,0,0,0,0,0,0,0,0,0,0,0,0,0,0,0,0,0,0,0,0,0,0,0,0,0,0,0,0]
["45-49 años",0,0,0,0,0,0,0,0,0,0,0,0,0,0,0,0,0,0,0,0,0,0,0,0,0,0,0,0,0,0,0,0]
["50-54 años",0,0,0,0,0,0,0,0,0,0,0,0,0,0,0,0,0,0,0,0,0,0,0,0,0,0,0,0,0,0,0,0]
["55-59 años",0,0,0,0,0,0,0,0,0,0,0,0,0,0,0,0,0,0,0,0,0,0,0,0,0,0,0,0,0,0,0,0]
["60-64 años",0,0,0,0,0,0,0,0,0,0,0,0,0,0,0,0,0,0,0,0,0,0,0,0,0,0,0,0,0,0,0,0]
["65-69 años",0,0,0,0,0,0,0,0,0,0,0,0,0,0,0,0,0,0,0,0,0,0,0,0,0,0,0,0,0,0,0,0]
["70-74 años",0,0,0,0,0,0,0,0,0,0,0,0,0,0,0,0,0,0,0,0,0,0,0,0,0,0,0,0,0,0,0,0]
["75-79 años",0,0,0,0,0,0,0,0,0,0,0,0,0,0,0,0,0,0,0,0,0,0,0,0,0,0,0,0,0,0,0,0]
["80-84 años",0,0,0,0,0,0,0,0,0,0,0,0,0,0,0,0,0,0,0,0,0,0,0,0,0,0,0,0,0,0,0,0]
["85 años y más",0,0,0,0,0,0,0,0,0,0,0,0,0,0,0,0,0,0,0,0,0,0,0,0,0,0,0,0,0,0,0,0]
["No especificado",0,0,0,0,0,0,0,0,0,0,0,0,0,0,0,0,0,0,0,0,0,0,0,0,0,0,0,0,0,0,0,0]

{"sheet":"18GCM-G-Edad_Ent.Fed","index":207,"n_rows":36,"n_cols":4,"rows_kept":36,"cut":false,"hidden":false,"merged":[[0,0,0,3]]}
["Ciertas afecciones originadas\nen el periodo perinatal"]
[]
["Menores de 1 año","2020","2021","2022"]
["Aguascalientes",{"$f":"VLOOKUP($A$3,Tabla81[],MATCH(TablaA68[[#This Row],[Menores de 1 año]],Tabla81[#Headers],0),FALSE)","v":117},{"$f":"VLOOKUP($A$3,Tabla82[],MATCH(TablaA68[[#This Row],[Menores de 1 año]],Tabla82[#Headers],0),FALSE)","v":137},{"$f":"VLOOKUP($A$3,Tabla83[],MATCH(TablaA68[[#This Row],[Menores de 1 año]],Tabla83[#Headers],0),FALSE)","v":121}]
["Baja California",{"$f":"VLOOKUP($A$3,Tabla81[],MATCH(TablaA68[[#This Row],[Menores de 1 año]],Tabla81[#Headers],0),FALSE)","v":250},{"$f":"VLOOKUP($A$3,Tabla82[],MATCH(TablaA68[[#This Row],[Menores de 1 año]],Tabla82[#Headers],0),FALSE)","v":228},{"$f":"VLOOKUP($A$3,Tabla83[],MATCH(TablaA68[[#This Row],[Menores de 1 año]],Tabla83[#Headers],0),FALSE)","v":242}]
["Baja California Sur",{"$f":"VLOOKUP($A$3,Tabla81[],MATCH(TablaA68[[#This Row],[Menores de 1 año]],Tabla81[#Headers],0),FALSE)","v":66},{"$f":"VLOOKUP($A$3,Tabla82[],MATCH(TablaA68[[#This Row],[Menores de 1 año]],Tabla82[#Headers],0),FALSE)","v":62},{"$f":"VLOOKUP($A$3,Tabla83[],MATCH(TablaA68[[#This Row],[Menores de 1 año]],Tabla83[#Headers],0),FALSE)","v":58}]
["Campeche",{"$f":"VLOOKUP($A$3,Tabla81[],MATCH(TablaA68[[#This Row],[Menores de 1 año]],Tabla81[#Headers],0),FALSE)","v":86},{"$f":"VLOOKUP($A$3,Tabla82[],MATCH(TablaA68[[#This Row],[Menores de 1 año]],Tabla82[#Headers],0),FALSE)","v":76},{"$f":"VLOOKUP($A$3,Tabla83[],MATCH(TablaA68[[#This Row],[Menores de 1 año]],Tabla83[#Headers],0),FALSE)","v":75}]
["Coahuila",{"$f":"VLOOKUP($A$3,Tabla81[],MATCH(TablaA68[[#This Row],[Menores de 1 año]],Tabla81[#Headers],0),FALSE)","v":307},{"$f":"VLOOKUP($A$3,Tabla82[],MATCH(TablaA68[[#This Row],[Menores de 1 año]],Tabla82[#Headers],0),FALSE)","v":356},{"$f":"VLOOKUP($A$3,Tabla83[],MATCH(TablaA68[[#This Row],[Menores de 1 año]],Tabla83[#Headers],0),FALSE)","v":334}]
["Colima",{"$f":"VLOOKUP($A$3,Tabla81[],MATCH(TablaA68[[#This Row],[Menores de 1 año]],Tabla81[#Headers],0),FALSE)","v":49},{"$f":"VLOOKUP($A$3,Tabla82[],MATCH(TablaA68[[#This Row],[Menores de 1 año]],Tabla82[#Headers],0),FALSE)","v":44},{"$f":"VLOOKUP($A$3,Tabla83[],MATCH(TablaA68[[#This Row],[Menores de 1 año]],Tabla83[#Headers],0),FALSE)","v":49}]
["Chiapas",{"$f":"VLOOKUP($A$3,Tabla81[],MATCH(TablaA68[[#This Row],[Menores de 1 año]],Tabla81[#Headers],0),FALSE)","v":450},{"$f":"VLOOKUP($A$3,Tabla82[],MATCH(TablaA68[[#This Row],[Menores de 1 año]],Tabla82[#Headers],0),FALSE)","v":639},{"$f":"VLOOKUP($A$3,Tabla83[],MATCH(TablaA68[[#This Row],[Menores de 1 año]],Tabla83[#Headers],0),FALSE)","v":627}]
["Chihuahua",{"$f":"VLOOKUP($A$3,Tabla81[],MATCH(TablaA68[[#This Row],[Menores de 1 año]],Tabla81[#Headers],0),FALSE)","v":405},{"$f":"VLOOKUP($A$3,Tabla82[],MATCH(TablaA68[[#This Row],[Menores de 1 año]],Tabla82[#Headers],0),FALSE)","v":424},{"$f":"VLOOKUP($A$3,Tabla83[],MATCH(TablaA68[[#This Row],[Menores de 1 año]],Tabla83[#Headers],0),FALSE)","v":392}]
["Ciudad de México",{"$f":"VLOOKUP($A$3,Tabla81[],MATCH(TablaA68[[#This Row],[Menores de 1 año]],Tabla81[#Headers],0),FALSE)","v":854},{"$f":"VLOOKUP($A$3,Tabla82[],MATCH(TablaA68[[#This Row],[Menores de 1 año]],Tabla82[#Headers],0),FALSE)","v":763},{"$f":"VLOOKUP($A$3,Tabla83[],MATCH(TablaA68[[#This Row],[Menores de 1 año]],Tabla83[#Headers],0),FALSE)","v":826}]
["Durango",{"$f":"VLOOKUP($A$3,Tabla81[],MATCH(TablaA68[[#This Row],[Menores de 1 año]],Tabla81[#Headers],0),FALSE)","v":142},{"$f":"VLOOKUP($A$3,Tabla82[],MATCH(TablaA68[[#This Row],[Menores de 1 año]],Tabla82[#Headers],0),FALSE)","v":223},{"$f":"VLOOKUP($A$3,Tabla83[],MATCH(TablaA68[[#This Row],[Menores de 1 año]],Tabla83[#Headers],0),FALSE)","v":188}]
["Guanajuato",{"$f":"VLOOKUP($A$3,Tabla81[],MATCH(TablaA68[[#This Row],[Menores de 1 año]],Tabla81[#Headers],0),FALSE)","v":477},{"$f":"VLOOKUP($A$3,Tabla82[],MATCH(TablaA68[[#This Row],[Menores de 1 año]],Tabla82[#Headers],0),FALSE)","v":449},{"$f":"VLOOKUP($A$3,Tabla83[],MATCH(TablaA68[[#This Row],[Menores de 1 año]],Tabla83[#Headers],0),FALSE)","v":445}]
["Guerrero",{"$f":"VLOOKUP($A$3,Tabla81[],MATCH(TablaA68[[#This Row],[Menores de 1 año]],Tabla81[#Headers],0),FALSE)","v":214},{"$f":"VLOOKUP($A$3,Tabla82[],MATCH(TablaA68[[#This Row],[Menores de 1 año]],Tabla82[#Headers],0),FALSE)","v":295},{"$f":"VLOOKUP($A$3,Tabla83[],MATCH(TablaA68[[#This Row],[Menores de 1 año]],Tabla83[#Headers],0),FALSE)","v":303}]
["Hidalgo",{"$f":"VLOOKUP($A$3,Tabla81[],MATCH(TablaA68[[#This Row],[Menores de 1 año]],Tabla81[#Headers],0),FALSE)","v":183},{"$f":"VLOOKUP($A$3,Tabla82[],MATCH(TablaA68[[#This Row],[Menores de 1 año]],Tabla82[#Headers],0),FALSE)","v":257},{"$f":"VLOOKUP($A$3,Tabla83[],MATCH(TablaA68[[#This Row],[Menores de 1 año]],Tabla83[#Headers],0),FALSE)","v":239}]
["Jalisco",{"$f":"VLOOKUP($A$3,Tabla81[],MATCH(TablaA68[[#This Row],[Menores de 1 año]],Tabla81[#Headers],0),FALSE)","v":743},{"$f":"VLOOKUP($A$3,Tabla82[],MATCH(TablaA68[[#This Row],[Menores de 1 año]],Tabla82[#Headers],0),FALSE)","v":649},{"$f":"VLOOKUP($A$3,Tabla83[],MATCH(TablaA68[[#This Row],[Menores de 1 año]],Tabla83[#Headers],0),FALSE)","v":637}]
["México",{"$f":"VLOOKUP($A$3,Tabla81[],MATCH(TablaA68[[#This Row],[Menores de 1 año]],Tabla81[#Headers],0),FALSE)","v":1288},{"$f":"VLOOKUP($A$3,Tabla82[],MATCH(TablaA68[[#This Row],[Menores de 1 año]],Tabla82[#Headers],0),FALSE)","v":1172},{"$f":"VLOOKUP($A$3,Tabla83[],MATCH(TablaA68[[#This Row],[Menores de 1 año]],Tabla83[#Headers],0),FALSE)","v":1188}]
["Michoacán",{"$f":"VLOOKUP($A$3,Tabla81[],MATCH(TablaA68[[#This Row],[Menores de 1 año]],Tabla81[#Headers],0),FALSE)","v":264},{"$f":"VLOOKUP($A$3,Tabla82[],MATCH(TablaA68[[#This Row],[Menores de 1 año]],Tabla82[#Headers],0),FALSE)","v":393},{"$f":"VLOOKUP($A$3,Tabla83[],MATCH(TablaA68[[#This Row],[Menores de 1 año]],Tabla83[#Headers],0),FALSE)","v":404}]
["Morelos",{"$f":"VLOOKUP($A$3,Tabla81[],MATCH(TablaA68[[#This Row],[Menores de 1 año]],Tabla81[#Headers],0),FALSE)","v":123},{"$f":"VLOOKUP($A$3,Tabla82[],MATCH(TablaA68[[#This Row],[Menores de 1 año]],Tabla82[#Headers],0),FALSE)","v":135},{"$f":"VLOOKUP($A$3,Tabla83[],MATCH(TablaA68[[#This Row],[Menores de 1 año]],Tabla83[#Headers],0),FALSE)","v":127}]
["Nayarit",{"$f":"VLOOKUP($A$3,Tabla81[],MATCH(TablaA68[[#This Row],[Menores de 1 año]],Tabla81[#Headers],0),FALSE)","v":56},{"$f":"VLOOKUP($A$3,Tabla82[],MATCH(TablaA68[[#This Row],[Menores de 1 año]],Tabla82[#Headers],0),FALSE)","v":91},{"$f":"VLOOKUP($A$3,Tabla83[],MATCH(TablaA68[[#This Row],[Menores de 1 año]],Tabla83[#Headers],0),FALSE)","v":87}]
["Nuevo León",{"$f":"VLOOKUP($A$3,Tabla81[],MATCH(TablaA68[[#This Row],[Menores de 1 año]],Tabla81[#Headers],0),FALSE)","v":394},{"$f":"VLOOKUP($A$3,Tabla82[],MATCH(TablaA68[[#This Row],[Menores de 1 año]],Tabla82[#Headers],0),FALSE)","v":398},{"$f":"VLOOKUP($A$3,Tabla83[],MATCH(TablaA68[[#This Row],[Menores de 1 año]],Tabla83[#Headers],0),FALSE)","v":408}]
["Oaxaca",{"$f":"VLOOKUP($A$3,Tabla81[],MATCH(TablaA68[[#This Row],[Menores de 1 año]],Tabla81[#Headers],0),FALSE)","v":280},{"$f":"VLOOKUP($A$3,Tabla82[],MATCH(TablaA68[[#This Row],[Menores de 1 año]],Tabla82[#Headers],0),FALSE)","v":315},{"$f":"VLOOKUP($A$3,Tabla83[],MATCH(TablaA68[[#This Row],[Menores de 1 año]],Tabla83[#Headers],0),FALSE)","v":289}]
["Puebla",{"$f":"VLOOKUP($A$3,Tabla81[],MATCH(TablaA68[[#This Row],[Menores de 1 año]],Tabla81[#Headers],0),FALSE)","v":725},{"$f":"VLOOKUP($A$3,Tabla82[],MATCH(TablaA68[[#This Row],[Menores de 1 año]],Tabla82[#Headers],0),FALSE)","v":639},{"$f":"VLOOKUP($A$3,Tabla83[],MATCH(TablaA68[[#This Row],[Menores de 1 año]],Tabla83[#Headers],0),FALSE)","v":602}]
["Querétaro",{"$f":"VLOOKUP($A$3,Tabla81[],MATCH(TablaA68[[#This Row],[Menores de 1 año]],Tabla81[#Headers],0),FALSE)","v":185},{"$f":"VLOOKUP($A$3,Tabla82[],MATCH(TablaA68[[#This Row],[Menores de 1 año]],Tabla82[#Headers],0),FALSE)","v":188},{"$f":"VLOOKUP($A$3,Tabla83[],MATCH(TablaA68[[#This Row],[Menores de 1 año]],Tabla83[#Headers],0),FALSE)","v":189}]
["Quintana Roo",{"$f":"VLOOKUP($A$3,Tabla81[],MATCH(TablaA68[[#This Row],[Menores de 1 año]],Tabla81[#Headers],0),FALSE)","v":131},{"$f":"VLOOKUP($A$3,Tabla82[],MATCH(TablaA68[[#This Row],[Menores de 1 año]],Tabla82[#Headers],0),FALSE)","v":124},{"$f":"VLOOKUP($A$3,Tabla83[],MATCH(TablaA68[[#This Row],[Menores de 1 año]],Tabla83[#Headers],0),FALSE)","v":121}]
["San Luis Potosí",{"$f":"VLOOKUP($A$3,Tabla81[],MATCH(TablaA68[[#This Row],[Menores de 1 año]],Tabla81[#Headers],0),FALSE)","v":182},{"$f":"VLOOKUP($A$3,Tabla82[],MATCH(TablaA68[[#This Row],[Menores de 1 año]],Tabla82[#Headers],0),FALSE)","v":207},{"$f":"VLOOKUP($A$3,Tabla83[],MATCH(TablaA68[[#This Row],[Menores de 1 año]],Tabla83[#Headers],0),FALSE)","v":217}]
["Sinaloa",{"$f":"VLOOKUP($A$3,Tabla81[],MATCH(TablaA68[[#This Row],[Menores de 1 año]],Tabla81[#Headers],0),FALSE)","v":159},{"$f":"VLOOKUP($A$3,Tabla82[],MATCH(TablaA68[[#This Row],[Menores de 1 año]],Tabla82[#Headers],0),FALSE)","v":224},{"$f":"VLOOKUP($A$3,Tabla83[],MATCH(TablaA68[[#This Row],[Menores de 1 año]],Tabla83[#Headers],0),FALSE)","v":221}]
["Sonora",{"$f":"VLOOKUP($A$3,Tabla81[],MATCH(TablaA68[[#This Row],[Menores de 1 año]],Tabla81[#Headers],0),FALSE)","v":173},{"$f":"VLOOKUP($A$3,Tabla82[],MATCH(TablaA68[[#This Row],[Menores de 1 año]],Tabla82[#Headers],0),FALSE)","v":179},{"$f":"VLOOKUP($A$3,Tabla83[],MATCH(TablaA68[[#This Row],[Menores de 1 año]],Tabla83[#Headers],0),FALSE)","v":191}]
["Tabasco",{"$f":"VLOOKUP($A$3,Tabla81[],MATCH(TablaA68[[#This Row],[Menores de 1 año]],Tabla81[#Headers],0),FALSE)","v":326},{"$f":"VLOOKUP($A$3,Tabla82[],MATCH(TablaA68[[#This Row],[Menores de 1 año]],Tabla82[#Headers],0),FALSE)","v":264},{"$f":"VLOOKUP($A$3,Tabla83[],MATCH(TablaA68[[#This Row],[Menores de 1 año]],Tabla83[#Headers],0),FALSE)","v":240}]
["Tamaulipas",{"$f":"VLOOKUP($A$3,Tabla81[],MATCH(TablaA68[[#This Row],[Menores de 1 año]],Tabla81[#Headers],0),FALSE)","v":320},{"$f":"VLOOKUP($A$3,Tabla82[],MATCH(TablaA68[[#This Row],[Menores de 1 año]],Tabla82[#Headers],0),FALSE)","v":380},{"$f":"VLOOKUP($A$3,Tabla83[],MATCH(TablaA68[[#This Row],[Menores de 1 año]],Tabla83[#Headers],0),FALSE)","v":336}]
["Tlaxcala",{"$f":"VLOOKUP($A$3,Tabla81[],MATCH(TablaA68[[#This Row],[Menores de 1 año]],Tabla81[#Headers],0),FALSE)","v":130},{"$f":"VLOOKUP($A$3,Tabla82[],MATCH(TablaA68[[#This Row],[Menores de 1 año]],Tabla82[#Headers],0),FALSE)","v":98},{"$f":"VLOOKUP($A$3,Tabla83[],MATCH(TablaA68[[#This Row],[Menores de 1 año]],Tabla83[#Headers],0),FALSE)","v":96}]
["Veracruz",{"$f":"VLOOKUP($A$3,Tabla81[],MATCH(TablaA68[[#This Row],[Menores de 1 año]],Tabla81[#Headers],0),FALSE)","v":707},{"$f":"VLOOKUP($A$3,Tabla82[],MATCH(TablaA68[[#This Row],[Menores de 1 año]],Tabla82[#Headers],0),FALSE)","v":665},{"$f":"VLOOKUP($A$3,Tabla83[],MATCH(TablaA68[[#This Row],[Menores de 1 año]],Tabla83[#Headers],0),FALSE)","v":697}]
["Yucatán",{"$f":"VLOOKUP($A$3,Tabla81[],MATCH(TablaA68[[#This Row],[Menores de 1 año]],Tabla81[#Headers],0),FALSE)","v":171},{"$f":"VLOOKUP($A$3,Tabla82[],MATCH(TablaA68[[#This Row],[Menores de 1 año]],Tabla82[#Headers],0),FALSE)","v":170},{"$f":"VLOOKUP($A$3,Tabla83[],MATCH(TablaA68[[#This Row],[Menores de 1 año]],Tabla83[#Headers],0),FALSE)","v":147}]
["Zacatecas",{"$f":"VLOOKUP($A$3,Tabla81[],MATCH(TablaA68[[#This Row],[Menores de 1 año]],Tabla81[#Headers],0),FALSE)","v":132},{"$f":"VLOOKUP($A$3,Tabla82[],MATCH(TablaA68[[#This Row],[Menores de 1 año]],Tabla82[#Headers],0),FALSE)","v":115},{"$f":"VLOOKUP($A$3,Tabla83[],MATCH(TablaA68[[#This Row],[Menores de 1 año]],Tabla83[#Headers],0),FALSE)","v":84}]
["Total",{"$f":"SUM(B4:B35)","v":10089},{"$f":"SUM(C4:C35)","v":10359},10180]

{"sheet":"19T-GCM-G_Edad_EntFed2020","index":208,"n_rows":22,"n_cols":33,"rows_kept":22,"cut":false,"hidden":true,"merged":[]}
[1,2,3,4,5,6,7,8,9,10,11,12,13,14,15,16,17,18,19,20,21,22,23,24,25,26,27,28,29,30,31,32,33]
["ESTADO","Aguascalientes","Baja California","Baja California Sur","Campeche","Coahuila","Colima","Chiapas","Chihuahua","Ciudad de México","Durango","Guanajuato","Guerrero","Hidalgo","Jalisco","México","Michoacán","Morelos","Nayarit","Nuevo León","Oaxaca","Puebla","Querétaro","Quintana Roo","San Luis Potosí","Sinaloa","Sonora","Tabasco","Tamaulipas","Tlaxcala","Veracruz","Yucatán","Zacatecas"]
["Menores de 1 año",46,136,25,28,126,16,170,128,613,43,286,66,70,392,509,129,48,25,276,131,379,98,54,103,56,79,137,115,57,278,101,42]
["1-4 años",3,20,3,5,20,0,48,8,90,12,33,21,11,45,67,26,10,2,32,24,45,15,4,8,8,11,21,10,10,44,11,7]
["5-9 años",2,6,1,1,8,0,14,3,28,3,14,7,6,18,17,3,3,1,12,6,18,1,4,3,0,1,3,1,4,20,2,2]
["10-14 años",0,4,3,2,4,0,10,4,29,0,13,7,1,18,19,11,5,3,6,8,23,3,4,1,2,3,4,6,5,19,3,1]
["15-19 años",4,4,3,2,2,1,25,10,26,2,15,6,4,20,30,9,4,0,4,10,18,4,2,6,2,5,13,4,8,17,2,4]
["20-24 años",7,9,1,1,4,1,20,10,29,3,18,7,5,17,45,7,6,2,8,10,25,2,1,3,5,5,6,3,9,23,3,2]
["25-29 años",3,4,1,1,8,1,20,1,30,1,19,6,4,11,43,6,7,5,9,3,18,4,3,3,0,5,3,1,5,26,2,1]
["30-34 años",6,6,0,1,6,1,8,7,27,2,8,6,8,9,40,10,8,0,5,9,18,8,4,8,2,3,1,3,4,14,3,1]
["35-39 años",2,6,0,3,1,0,7,5,22,3,6,2,5,13,25,4,3,0,3,4,9,3,1,3,5,1,4,1,2,14,2,1]
["40-44 años",3,7,0,0,4,0,7,5,15,2,4,4,7,6,13,7,2,0,4,4,10,1,0,3,0,4,1,7,2,14,1,1]
["45-49 años",3,8,1,0,0,0,10,4,16,1,3,1,4,4,31,5,2,1,9,4,4,4,3,1,5,4,1,3,1,12,0,4]
["50-54 años",1,9,1,2,4,0,6,2,19,0,6,1,2,7,15,4,1,1,9,5,7,2,1,1,5,3,4,3,0,10,2,0]
["55-59 años",2,4,0,3,3,0,7,9,21,2,3,2,2,13,15,1,4,1,5,3,8,0,1,1,2,0,5,3,0,18,1,0]
["60-64 años",0,2,2,2,4,0,9,4,7,1,2,4,0,6,13,4,2,0,5,4,3,0,0,1,2,4,1,2,0,6,3,1]
["65-69 años",4,1,0,0,1,0,3,1,6,0,1,5,2,3,10,5,1,1,3,4,8,2,0,0,3,1,0,1,0,2,1,2]
["70-74 años",1,0,0,0,3,1,3,3,2,1,1,2,2,2,5,2,1,0,3,3,3,2,1,1,2,1,0,0,2,8,3,0]
["75-79 años",1,1,0,2,0,0,4,3,3,0,1,1,0,2,5,2,2,0,5,2,5,0,1,1,2,0,0,0,0,5,0,0]
["80-84 años",4,0,0,1,2,0,1,3,4,0,1,2,2,3,3,2,2,0,2,4,2,0,0,0,1,0,1,2,0,4,0,1]
["85 años y más",1,0,0,1,0,0,2,4,9,1,0,4,4,5,4,8,0,1,3,2,11,1,1,1,3,3,0,3,1,10,1,3]
["No especificado",0,0,0,0,0,0,1,0,0,0,0,0,0,0,0,0,0,0,1,0,0,0,0,0,1,0,0,0,0,0,0,0]

{"sheet":"19T-GCM-G_Edad_EntFed2021","index":209,"n_rows":22,"n_cols":33,"rows_kept":22,"cut":false,"hidden":true,"merged":[]}
[1,2,3,4,5,6,7,8,9,10,11,12,13,14,15,16,17,18,19,20,21,22,23,24,25,26,27,28,29,30,31,32,33]
["ESTADO","Aguascalientes","Baja California","Baja California Sur","Campeche","Coahuila","Colima","Chiapas","Chihuahua","Ciudad de México","Durango","Guanajuato","Guerrero","Hidalgo","Jalisco","México","Michoacán","Morelos","Nayarit","Nuevo León","Oaxaca","Puebla","Querétaro","Quintana Roo","San Luis Potosí","Sinaloa","Sonora","Tabasco","Tamaulipas","Tlaxcala","Veracruz","Yucatán","Zacatecas"]
["Menores de 1 año",51,117,21,32,133,21,241,145,530,60,238,95,50,425,409,156,53,28,281,133,307,86,50,124,70,94,137,115,58,252,82,51]
["1-4 años",9,12,2,6,17,1,73,13,81,13,46,21,15,48,65,20,7,2,30,28,71,16,11,15,14,11,15,19,9,43,16,11]
["5-9 años",0,5,0,1,1,0,12,5,29,2,14,6,2,13,19,9,3,0,11,10,24,7,4,2,5,2,7,2,4,12,3,2]
["10-14 años",2,9,0,0,6,1,17,5,16,3,10,5,3,15,21,6,4,1,7,6,22,6,7,5,3,4,7,3,5,14,2,3]
["15-19 años",3,5,1,2,2,1,20,5,31,1,11,4,6,13,20,10,1,0,10,8,21,3,2,3,1,3,10,2,3,18,2,1]
["20-24 años",4,5,1,2,5,1,17,3,20,1,14,4,1,8,36,9,1,1,12,8,25,1,2,7,2,4,12,4,7,14,6,2]
["25-29 años",5,6,0,1,5,1,14,8,24,5,16,9,6,7,41,9,3,2,7,10,25,5,4,8,3,4,6,2,5,15,4,2]
["30-34 años",5,5,0,1,1,1,11,5,19,1,7,3,7,9,34,11,1,3,10,8,16,6,3,9,4,0,8,1,4,19,4,2]
["35-39 años",1,6,0,1,5,0,10,5,7,0,9,5,5,8,22,11,2,0,5,4,12,4,1,3,1,3,1,3,3,22,4,0]
["40-44 años",0,3,0,0,3,3,7,3,16,2,10,1,0,11,20,8,1,1,4,6,5,3,1,2,2,2,2,2,1,13,1,2]
["45-49 años",1,3,0,0,3,1,5,6,15,0,10,1,3,9,16,6,2,2,3,7,6,1,1,4,4,2,1,4,0,10,2,3]
["50-54 años",1,7,1,0,1,1,4,2,13,0,1,4,0,8,13,6,2,2,2,2,8,2,0,2,1,1,3,0,1,13,2,3]
["55-59 años",2,3,1,0,2,2,4,2,15,1,9,1,2,7,11,4,1,1,2,5,3,1,1,1,4,5,3,3,0,4,1,0]
["60-64 años",0,4,2,1,0,2,6,7,10,0,5,0,0,5,12,2,0,0,6,9,5,2,1,1,2,3,2,0,3,7,2,0]
["65-69 años",1,3,1,1,2,0,4,2,14,0,2,3,1,4,8,1,2,3,5,3,4,3,0,0,2,2,0,1,1,5,0,1]
["70-74 años",0,1,0,0,0,0,3,1,4,0,0,0,1,4,5,4,0,0,0,4,7,0,0,0,1,5,4,0,0,8,1,1]
["75-79 años",0,2,0,0,1,0,2,3,2,1,3,0,1,1,3,3,3,0,6,2,2,2,0,0,0,2,1,2,1,7,1,1]
["80-84 años",0,1,1,0,0,0,0,2,11,1,1,1,0,3,8,3,1,0,1,1,3,0,1,0,1,3,0,2,0,3,2,0]
["85 años y más",1,2,0,0,2,0,3,2,11,0,2,3,1,3,9,5,0,0,4,6,5,0,1,0,1,1,0,0,2,10,0,0]
["No especificado",0,0,1,0,1,0,0,0,0,0,0,0,0,0,0,0,0,0,0,0,0,0,0,0,0,0,0,0,0,0,0,0]

{"sheet":"19T-GCM-G_Edad_EntFed2022","index":210,"n_rows":22,"n_cols":33,"rows_kept":22,"cut":false,"hidden":true,"merged":[]}
[1,2,3,4,5,6,7,8,9,10,11,12,13,14,15,16,17,18,19,20,21,22,23,24,25,26,27,28,29,30,31,32,33]
["ESTADO","Aguascalientes","Baja California","Baja California Sur","Campeche","Coahuila","Colima","Chiapas","Chihuahua","Ciudad de México","Durango","Guanajuato","Guerrero","Hidalgo","Jalisco","México","Michoacán","Morelos","Nayarit","Nuevo León","Oaxaca","Puebla","Querétaro","Quintana Roo","San Luis Potosí","Sinaloa","Sonora","Tabasco","Tamaulipas","Tlaxcala","Veracruz","Yucatán","Zacatecas"]
["Menores de 1 año",45,125,24,35,116,19,229,130,545,74,265,97,67,379,429,166,63,33,259,120,358,87,48,124,87,66,109,141,68,263,88,47]
["1-4 años",12,18,1,7,28,1,61,10,104,6,22,23,10,58,77,22,17,4,42,25,75,15,3,14,11,10,20,10,11,41,11,6]
["5-9 años",2,7,1,4,8,1,14,6,30,4,11,4,5,26,19,6,2,2,10,10,23,5,1,3,3,2,8,6,4,11,6,2]
["10-14 años",1,3,3,0,7,1,14,4,24,1,13,2,7,18,14,7,2,2,12,14,22,5,6,2,2,6,9,3,7,22,7,5]
["15-19 años",0,5,0,1,2,1,19,2,19,1,10,5,4,14,36,12,2,3,8,11,21,5,2,8,3,5,6,2,4,34,6,3]
["20-24 años",1,5,0,2,1,0,12,6,15,0,14,5,5,8,33,5,5,2,5,9,30,3,3,6,4,3,10,5,8,14,5,0]
["25-29 años",4,6,0,3,8,3,14,10,20,0,16,3,7,13,45,6,2,3,6,12,14,10,1,10,1,4,3,4,6,15,5,3]
["30-34 años",3,3,0,2,4,0,5,8,22,1,11,5,6,13,27,6,7,1,4,5,6,4,3,4,2,4,1,1,3,15,6,1]
["35-39 años",1,9,0,1,1,1,4,3,11,0,10,4,4,8,21,7,1,1,9,4,7,2,3,9,3,3,4,2,1,10,3,1]
["40-44 años",0,4,0,2,3,0,5,5,15,1,3,3,0,6,18,3,3,0,3,5,9,5,4,5,2,2,3,3,1,14,1,0]
["45-49 años",4,3,1,0,3,0,7,1,15,1,8,1,5,13,20,5,0,1,4,5,5,3,1,2,2,6,2,3,0,13,1,1]
["50-54 años",0,3,2,1,5,0,1,4,9,0,6,5,4,7,13,5,1,0,10,5,8,1,0,3,2,4,6,6,4,8,2,0]
["55-59 años",1,4,1,1,2,3,6,4,15,1,3,1,3,6,13,5,2,1,7,3,4,3,1,2,5,2,1,2,1,5,1,2]
["60-64 años",1,2,1,1,0,1,7,4,13,0,3,1,2,6,6,6,2,2,6,3,4,2,2,2,2,0,3,3,0,7,1,1]
["65-69 años",0,2,1,1,3,0,2,0,11,1,3,3,6,2,7,1,0,0,1,3,5,0,1,1,0,1,1,4,1,7,0,0]
["70-74 años",0,2,0,0,1,0,3,3,6,0,0,3,3,6,4,4,0,2,2,2,2,0,1,0,1,0,1,0,0,5,1,2]
["75-79 años",0,2,0,0,0,0,3,2,4,0,3,4,3,1,9,4,1,1,1,2,1,2,0,0,2,1,0,1,0,8,0,0]
["80-84 años",1,3,0,0,0,0,1,2,2,1,0,2,2,3,2,1,2,0,1,2,1,2,1,0,1,1,0,2,1,7,0,0]
["85 años y más",2,1,0,1,1,0,1,3,5,0,3,1,2,1,9,4,1,0,2,5,5,0,0,0,2,1,3,0,0,9,0,1]
["No especificado",0,0,0,0,1,0,0,0,0,1,0,0,0,0,3,1,0,1,0,1,0,0,0,0,1,0,0,0,0,0,0,1]

{"sheet":"19GCM-G-Edad_Ent.Fed","index":211,"n_rows":36,"n_cols":4,"rows_kept":36,"cut":false,"hidden":false,"merged":[[0,0,0,3]]}
["Malformaciones congénitas, \ndeformidades y anomalías cromosómicas"]
["SELECCIONE UN GRUPO DE EDAD"]
["55-59 años","2020","2021","2022"]
["Aguascalientes",{"$f":"VLOOKUP($A$3,Tabla84[],MATCH(TablaA69[[#This Row],[55-59 años]],Tabla84[#Headers],0),FALSE)","v":2},{"$f":"VLOOKUP($A$3,Tabla85[],MATCH(TablaA69[[#This Row],[55-59 años]],Tabla85[#Headers],0),FALSE)","v":2},{"$f":"VLOOKUP($A$3,Tabla86[],MATCH(TablaA69[[#This Row],[55-59 años]],Tabla86[#Headers],0),FALSE)","v":1}]
["Baja California",{"$f":"VLOOKUP($A$3,Tabla84[],MATCH(TablaA69[[#This Row],[55-59 años]],Tabla84[#Headers],0),FALSE)","v":4},{"$f":"VLOOKUP($A$3,Tabla85[],MATCH(TablaA69[[#This Row],[55-59 años]],Tabla85[#Headers],0),FALSE)","v":3},{"$f":"VLOOKUP($A$3,Tabla86[],MATCH(TablaA69[[#This Row],[55-59 años]],Tabla86[#Headers],0),FALSE)","v":4}]
["Baja California Sur",{"$f":"VLOOKUP($A$3,Tabla84[],MATCH(TablaA69[[#This Row],[55-59 años]],Tabla84[#Headers],0),FALSE)","v":0},{"$f":"VLOOKUP($A$3,Tabla85[],MATCH(TablaA69[[#This Row],[55-59 años]],Tabla85[#Headers],0),FALSE)","v":1},{"$f":"VLOOKUP($A$3,Tabla86[],MATCH(TablaA69[[#This Row],[55-59 años]],Tabla86[#Headers],0),FALSE)","v":1}]
["Campeche",{"$f":"VLOOKUP($A$3,Tabla84[],MATCH(TablaA69[[#This Row],[55-59 años]],Tabla84[#Headers],0),FALSE)","v":3},{"$f":"VLOOKUP($A$3,Tabla85[],MATCH(TablaA69[[#This Row],[55-59 años]],Tabla85[#Headers],0),FALSE)","v":0},{"$f":"VLOOKUP($A$3,Tabla86[],MATCH(TablaA69[[#This Row],[55-59 años]],Tabla86[#Headers],0),FALSE)","v":1}]
["Coahuila",{"$f":"VLOOKUP($A$3,Tabla84[],MATCH(TablaA69[[#This Row],[55-59 años]],Tabla84[#Headers],0),FALSE)","v":3},{"$f":"VLOOKUP($A$3,Tabla85[],MATCH(TablaA69[[#This Row],[55-59 años]],Tabla85[#Headers],0),FALSE)","v":2},{"$f":"VLOOKUP($A$3,Tabla86[],MATCH(TablaA69[[#This Row],[55-59 años]],Tabla86[#Headers],0),FALSE)","v":2}]
["Colima",{"$f":"VLOOKUP($A$3,Tabla84[],MATCH(TablaA69[[#This Row],[55-59 años]],Tabla84[#Headers],0),FALSE)","v":0},{"$f":"VLOOKUP($A$3,Tabla85[],MATCH(TablaA69[[#This Row],[55-59 años]],Tabla85[#Headers],0),FALSE)","v":2},{"$f":"VLOOKUP($A$3,Tabla86[],MATCH(TablaA69[[#This Row],[55-59 años]],Tabla86[#Headers],0),FALSE)","v":3}]
["Chiapas",{"$f":"VLOOKUP($A$3,Tabla84[],MATCH(TablaA69[[#This Row],[55-59 años]],Tabla84[#Headers],0),FALSE)","v":7},{"$f":"VLOOKUP($A$3,Tabla85[],MATCH(TablaA69[[#This Row],[55-59 años]],Tabla85[#Headers],0),FALSE)","v":4},{"$f":"VLOOKUP($A$3,Tabla86[],MATCH(TablaA69[[#This Row],[55-59 años]],Tabla86[#Headers],0),FALSE)","v":6}]
["Chihuahua",{"$f":"VLOOKUP($A$3,Tabla84[],MATCH(TablaA69[[#This Row],[55-59 años]],Tabla84[#Headers],0),FALSE)","v":9},{"$f":"VLOOKUP($A$3,Tabla85[],MATCH(TablaA69[[#This Row],[55-59 años]],Tabla85[#Headers],0),FALSE)","v":2},{"$f":"VLOOKUP($A$3,Tabla86[],MATCH(TablaA69[[#This Row],[55-59 años]],Tabla86[#Headers],0),FALSE)","v":4}]
["Ciudad de México",{"$f":"VLOOKUP($A$3,Tabla84[],MATCH(TablaA69[[#This Row],[55-59 años]],Tabla84[#Headers],0),FALSE)","v":21},{"$f":"VLOOKUP($A$3,Tabla85[],MATCH(TablaA69[[#This Row],[55-59 años]],Tabla85[#Headers],0),FALSE)","v":15},{"$f":"VLOOKUP($A$3,Tabla86[],MATCH(TablaA69[[#This Row],[55-59 años]],Tabla86[#Headers],0),FALSE)","v":15}]
["Durango",{"$f":"VLOOKUP($A$3,Tabla84[],MATCH(TablaA69[[#This Row],[55-59 años]],Tabla84[#Headers],0),FALSE)","v":2},{"$f":"VLOOKUP($A$3,Tabla85[],MATCH(TablaA69[[#This Row],[55-59 años]],Tabla85[#Headers],0),FALSE)","v":1},{"$f":"VLOOKUP($A$3,Tabla86[],MATCH(TablaA69[[#This Row],[55-59 años]],Tabla86[#Headers],0),FALSE)","v":1}]
["Guanajuato",{"$f":"VLOOKUP($A$3,Tabla84[],MATCH(TablaA69[[#This Row],[55-59 años]],Tabla84[#Headers],0),FALSE)","v":3},{"$f":"VLOOKUP($A$3,Tabla85[],MATCH(TablaA69[[#This Row],[55-59 años]],Tabla85[#Headers],0),FALSE)","v":9},{"$f":"VLOOKUP($A$3,Tabla86[],MATCH(TablaA69[[#This Row],[55-59 años]],Tabla86[#Headers],0),FALSE)","v":3}]
["Guerrero",{"$f":"VLOOKUP($A$3,Tabla84[],MATCH(TablaA69[[#This Row],[55-59 años]],Tabla84[#Headers],0),FALSE)","v":2},{"$f":"VLOOKUP($A$3,Tabla85[],MATCH(TablaA69[[#This Row],[55-59 años]],Tabla85[#Headers],0),FALSE)","v":1},{"$f":"VLOOKUP($A$3,Tabla86[],MATCH(TablaA69[[#This Row],[55-59 años]],Tabla86[#Headers],0),FALSE)","v":1}]
["Hidalgo",{"$f":"VLOOKUP($A$3,Tabla84[],MATCH(TablaA69[[#This Row],[55-59 años]],Tabla84[#Headers],0),FALSE)","v":2},{"$f":"VLOOKUP($A$3,Tabla85[],MATCH(TablaA69[[#This Row],[55-59 años]],Tabla85[#Headers],0),FALSE)","v":2},{"$f":"VLOOKUP($A$3,Tabla86[],MATCH(TablaA69[[#This Row],[55-59 años]],Tabla86[#Headers],0),FALSE)","v":3}]
["Jalisco",{"$f":"VLOOKUP($A$3,Tabla84[],MATCH(TablaA69[[#This Row],[55-59 años]],Tabla84[#Headers],0),FALSE)","v":13},{"$f":"VLOOKUP($A$3,Tabla85[],MATCH(TablaA69[[#This Row],[55-59 años]],Tabla85[#Headers],0),FALSE)","v":7},{"$f":"VLOOKUP($A$3,Tabla86[],MATCH(TablaA69[[#This Row],[55-59 años]],Tabla86[#Headers],0),FALSE)","v":6}]
["México",{"$f":"VLOOKUP($A$3,Tabla84[],MATCH(TablaA69[[#This Row],[55-59 años]],Tabla84[#Headers],0),FALSE)","v":15},{"$f":"VLOOKUP($A$3,Tabla85[],MATCH(TablaA69[[#This Row],[55-59 años]],Tabla85[#Headers],0),FALSE)","v":11},{"$f":"VLOOKUP($A$3,Tabla86[],MATCH(TablaA69[[#This Row],[55-59 años]],Tabla86[#Headers],0),FALSE)","v":13}]
["Michoacán",{"$f":"VLOOKUP($A$3,Tabla84[],MATCH(TablaA69[[#This Row],[55-59 años]],Tabla84[#Headers],0),FALSE)","v":1},{"$f":"VLOOKUP($A$3,Tabla85[],MATCH(TablaA69[[#This Row],[55-59 años]],Tabla85[#Headers],0),FALSE)","v":4},{"$f":"VLOOKUP($A$3,Tabla86[],MATCH(TablaA69[[#This Row],[55-59 años]],Tabla86[#Headers],0),FALSE)","v":5}]
["Morelos",{"$f":"VLOOKUP($A$3,Tabla84[],MATCH(TablaA69[[#This Row],[55-59 años]],Tabla84[#Headers],0),FALSE)","v":4},{"$f":"VLOOKUP($A$3,Tabla85[],MATCH(TablaA69[[#This Row],[55-59 años]],Tabla85[#Headers],0),FALSE)","v":1},{"$f":"VLOOKUP($A$3,Tabla86[],MATCH(TablaA69[[#This Row],[55-59 años]],Tabla86[#Headers],0),FALSE)","v":2}]
["Nayarit",{"$f":"VLOOKUP($A$3,Tabla84[],MATCH(TablaA69[[#This Row],[55-59 años]],Tabla84[#Headers],0),FALSE)","v":1},{"$f":"VLOOKUP($A$3,Tabla85[],MATCH(TablaA69[[#This Row],[55-59 años]],Tabla85[#Headers],0),FALSE)","v":1},{"$f":"VLOOKUP($A$3,Tabla86[],MATCH(TablaA69[[#This Row],[55-59 años]],Tabla86[#Headers],0),FALSE)","v":1}]
["Nuevo León",{"$f":"VLOOKUP($A$3,Tabla84[],MATCH(TablaA69[[#This Row],[55-59 años]],Tabla84[#Headers],0),FALSE)","v":5},{"$f":"VLOOKUP($A$3,Tabla85[],MATCH(TablaA69[[#This Row],[55-59 años]],Tabla85[#Headers],0),FALSE)","v":2},{"$f":"VLOOKUP($A$3,Tabla86[],MATCH(TablaA69[[#This Row],[55-59 años]],Tabla86[#Headers],0),FALSE)","v":7}]
["Oaxaca",{"$f":"VLOOKUP($A$3,Tabla84[],MATCH(TablaA69[[#This Row],[55-59 años]],Tabla84[#Headers],0),FALSE)","v":3},{"$f":"VLOOKUP($A$3,Tabla85[],MATCH(TablaA69[[#This Row],[55-59 años]],Tabla85[#Headers],0),FALSE)","v":5},{"$f":"VLOOKUP($A$3,Tabla86[],MATCH(TablaA69[[#This Row],[55-59 años]],Tabla86[#Headers],0),FALSE)","v":3}]
["Puebla",{"$f":"VLOOKUP($A$3,Tabla84[],MATCH(TablaA69[[#This Row],[55-59 años]],Tabla84[#Headers],0),FALSE)","v":8},{"$f":"VLOOKUP($A$3,Tabla85[],MATCH(TablaA69[[#This Row],[55-59 años]],Tabla85[#Headers],0),FALSE)","v":3},{"$f":"VLOOKUP($A$3,Tabla86[],MATCH(TablaA69[[#This Row],[55-59 años]],Tabla86[#Headers],0),FALSE)","v":4}]
["Querétaro",{"$f":"VLOOKUP($A$3,Tabla84[],MATCH(TablaA69[[#This Row],[55-59 años]],Tabla84[#Headers],0),FALSE)","v":0},{"$f":"VLOOKUP($A$3,Tabla85[],MATCH(TablaA69[[#This Row],[55-59 años]],Tabla85[#Headers],0),FALSE)","v":1},{"$f":"VLOOKUP($A$3,Tabla86[],MATCH(TablaA69[[#This Row],[55-59 años]],Tabla86[#Headers],0),FALSE)","v":3}]
["Quintana Roo",{"$f":"VLOOKUP($A$3,Tabla84[],MATCH(TablaA69[[#This Row],[55-59 años]],Tabla84[#Headers],0),FALSE)","v":1},{"$f":"VLOOKUP($A$3,Tabla85[],MATCH(TablaA69[[#This Row],[55-59 años]],Tabla85[#Headers],0),FALSE)","v":1},{"$f":"VLOOKUP($A$3,Tabla86[],MATCH(TablaA69[[#This Row],[55-59 años]],Tabla86[#Headers],0),FALSE)","v":1}]
["San Luis Potosí",{"$f":"VLOOKUP($A$3,Tabla84[],MATCH(TablaA69[[#This Row],[55-59 años]],Tabla84[#Headers],0),FALSE)","v":1},{"$f":"VLOOKUP($A$3,Tabla85[],MATCH(TablaA69[[#This Row],[55-59 años]],Tabla85[#Headers],0),FALSE)","v":1},{"$f":"VLOOKUP($A$3,Tabla86[],MATCH(TablaA69[[#This Row],[55-59 años]],Tabla86[#Headers],0),FALSE)","v":2}]
["Sinaloa",{"$f":"VLOOKUP($A$3,Tabla84[],MATCH(TablaA69[[#This Row],[55-59 años]],Tabla84[#Headers],0),FALSE)","v":2},{"$f":"VLOOKUP($A$3,Tabla85[],MATCH(TablaA69[[#This Row],[55-59 años]],Tabla85[#Headers],0),FALSE)","v":4},{"$f":"VLOOKUP($A$3,Tabla86[],MATCH(TablaA69[[#This Row],[55-59 años]],Tabla86[#Headers],0),FALSE)","v":5}]
["Sonora",{"$f":"VLOOKUP($A$3,Tabla84[],MATCH(TablaA69[[#This Row],[55-59 años]],Tabla84[#Headers],0),FALSE)","v":0},{"$f":"VLOOKUP($A$3,Tabla85[],MATCH(TablaA69[[#This Row],[55-59 años]],Tabla85[#Headers],0),FALSE)","v":5},{"$f":"VLOOKUP($A$3,Tabla86[],MATCH(TablaA69[[#This Row],[55-59 años]],Tabla86[#Headers],0),FALSE)","v":2}]
["Tabasco",{"$f":"VLOOKUP($A$3,Tabla84[],MATCH(TablaA69[[#This Row],[55-59 años]],Tabla84[#Headers],0),FALSE)","v":5},{"$f":"VLOOKUP($A$3,Tabla85[],MATCH(TablaA69[[#This Row],[55-59 años]],Tabla85[#Headers],0),FALSE)","v":3},{"$f":"VLOOKUP($A$3,Tabla86[],MATCH(TablaA69[[#This Row],[55-59 años]],Tabla86[#Headers],0),FALSE)","v":1}]
["Tamaulipas",{"$f":"VLOOKUP($A$3,Tabla84[],MATCH(TablaA69[[#This Row],[55-59 años]],Tabla84[#Headers],0),FALSE)","v":3},{"$f":"VLOOKUP($A$3,Tabla85[],MATCH(TablaA69[[#This Row],[55-59 años]],Tabla85[#Headers],0),FALSE)","v":3},{"$f":"VLOOKUP($A$3,Tabla86[],MATCH(TablaA69[[#This Row],[55-59 años]],Tabla86[#Headers],0),FALSE)","v":2}]
["Tlaxcala",{"$f":"VLOOKUP($A$3,Tabla84[],MATCH(TablaA69[[#This Row],[55-59 años]],Tabla84[#Headers],0),FALSE)","v":0},{"$f":"VLOOKUP($A$3,Tabla85[],MATCH(TablaA69[[#This Row],[55-59 años]],Tabla85[#Headers],0),FALSE)","v":0},{"$f":"VLOOKUP($A$3,Tabla86[],MATCH(TablaA69[[#This Row],[55-59 años]],Tabla86[#Headers],0),FALSE)","v":1}]
["Veracruz",{"$f":"VLOOKUP($A$3,Tabla84[],MATCH(TablaA69[[#This Row],[55-59 años]],Tabla84[#Headers],0),FALSE)","v":18},{"$f":"VLOOKUP($A$3,Tabla85[],MATCH(TablaA69[[#This Row],[55-59 años]],Tabla85[#Headers],0),FALSE)","v":4},{"$f":"VLOOKUP($A$3,Tabla86[],MATCH(TablaA69[[#This Row],[55-59 años]],Tabla86[#Headers],0),FALSE)","v":5}]
["Yucatán",{"$f":"VLOOKUP($A$3,Tabla84[],MATCH(TablaA69[[#This Row],[55-59 años]],Tabla84[#Headers],0),FALSE)","v":1},{"$f":"VLOOKUP($A$3,Tabla85[],MATCH(TablaA69[[#This Row],[55-59 años]],Tabla85[#Headers],0),FALSE)","v":1},{"$f":"VLOOKUP($A$3,Tabla86[],MATCH(TablaA69[[#This Row],[55-59 años]],Tabla86[#Headers],0),FALSE)","v":1}]
["Zacatecas",{"$f":"VLOOKUP($A$3,Tabla84[],MATCH(TablaA69[[#This Row],[55-59 años]],Tabla84[#Headers],0),FALSE)","v":0},{"$f":"VLOOKUP($A$3,Tabla85[],MATCH(TablaA69[[#This Row],[55-59 años]],Tabla85[#Headers],0),FALSE)","v":0},{"$f":"VLOOKUP($A$3,Tabla86[],MATCH(TablaA69[[#This Row],[55-59 años]],Tabla86[#Headers],0),FALSE)","v":2}]
["Total",{"$f":"SUM(B4:B35)","v":139},{"$f":"SUM(C4:C35)","v":101},111]

{"sheet":"20T-GCM-G_Edad_EntFed2020","index":212,"n_rows":22,"n_cols":33,"rows_kept":22,"cut":false,"hidden":true,"merged":[]}
[1,2,3,4,5,6,7,8,9,10,11,12,13,14,15,16,17,18,19,20,21,22,23,24,25,26,27,28,29,30,31,32,33]
["ESTADO","Aguascalientes","Baja California","Baja California Sur","Campeche","Coahuila","Colima","Chiapas","Chihuahua","Ciudad de México","Durango","Guanajuato","Guerrero","Hidalgo","Jalisco","México","Michoacán","Morelos","Nayarit","Nuevo León","Oaxaca","Puebla","Querétaro","Quintana Roo","San Luis Potosí","Sinaloa","Sonora","Tabasco","Tamaulipas","Tlaxcala","Veracruz","Yucatán","Zacatecas"]
["Menores de 1 año",3,11,3,2,8,2,42,11,1,6,39,11,16,23,46,18,12,3,8,24,135,7,10,11,7,19,15,10,11,27,6,6]
["1-4 años",0,1,0,0,1,0,15,0,1,1,2,4,0,2,11,2,1,0,0,2,2,0,2,0,2,1,0,0,0,3,1,0]
["5-9 años",0,2,0,0,0,0,9,3,0,0,0,1,0,1,0,1,0,0,1,2,0,0,0,0,0,2,0,0,0,3,0,0]
["10-14 años",0,0,0,0,0,0,10,2,0,0,0,2,0,1,3,0,0,0,0,1,3,0,1,0,0,2,1,0,0,3,0,1]
["15-19 años",0,4,0,0,2,2,11,2,2,0,0,5,2,3,1,2,1,1,3,2,4,1,1,0,0,0,1,1,1,3,2,3]
["20-24 años",0,12,0,2,5,1,13,4,4,0,1,13,2,8,2,1,0,1,1,3,3,1,1,0,6,3,0,3,0,6,1,2]
["25-29 años",2,6,1,0,3,0,19,1,1,0,1,9,4,3,2,1,1,3,2,7,1,3,2,0,8,7,5,1,2,3,0,2]
["30-34 años",0,6,1,1,1,1,24,5,2,1,1,6,1,4,1,2,1,1,1,8,6,1,0,2,6,15,1,1,0,4,4,2]
["35-39 años",0,7,0,2,5,0,21,5,2,2,1,5,1,8,2,3,2,4,3,2,5,0,1,1,9,7,2,5,1,7,0,2]
["40-44 años",0,5,0,1,2,2,21,5,3,5,3,13,4,6,1,1,0,1,3,12,4,4,0,3,9,7,5,6,1,6,1,3]
["45-49 años",0,15,1,0,2,1,22,4,5,7,4,6,1,6,3,3,3,3,6,10,2,1,2,3,5,10,7,6,3,7,4,5]
["50-54 años",2,11,1,4,4,0,33,7,3,8,1,14,1,9,5,5,3,2,6,15,2,0,2,1,9,4,6,9,2,10,3,3]
["55-59 años",1,19,2,6,3,0,38,13,7,7,4,13,2,8,3,3,7,0,6,22,7,3,2,6,5,9,12,9,1,12,1,2]
["60-64 años",0,14,0,4,16,1,50,22,10,3,3,19,5,15,3,6,8,1,5,22,6,0,2,4,8,14,11,27,0,19,5,3]
["65-69 años",1,10,0,11,8,0,88,15,6,12,5,17,5,13,3,10,11,7,2,20,12,2,8,4,8,11,11,7,1,25,12,3]
["70-74 años",2,13,1,9,46,3,142,22,9,13,5,41,1,20,2,15,14,4,8,44,20,14,15,22,6,12,33,13,3,34,15,6]
["75-79 años",0,5,1,26,76,3,229,20,6,16,11,41,16,23,7,27,5,2,10,90,25,18,25,30,13,12,40,30,5,59,29,13]
["80-84 años",3,12,2,44,118,10,332,25,2,16,20,59,25,39,14,52,14,17,24,173,71,23,18,49,21,15,64,45,15,117,51,8]
["85 años y más",22,46,8,176,361,90,742,116,7,51,118,229,80,312,64,268,60,63,95,635,279,106,95,164,64,44,301,174,101,378,203,85]
["No especificado",0,19,0,0,0,0,3,3,5,4,0,0,0,19,6,0,0,3,4,0,4,3,1,0,2,10,0,0,0,1,2,2]

{"sheet":"20T-GCM-G_Edad_EntFed2021","index":213,"n_rows":22,"n_cols":33,"rows_kept":22,"cut":false,"hidden":true,"merged":[]}
[1,2,3,4,5,6,7,8,9,10,11,12,13,14,15,16,17,18,19,20,21,22,23,24,25,26,27,28,29,30,31,32,33]
["ESTADO","Aguascalientes","Baja California","Baja California Sur","Campeche","Coahuila","Colima","Chiapas","Chihuahua","Ciudad de México","Durango","Guanajuato","Guerrero","Hidalgo","Jalisco","México","Michoacán","Morelos","Nayarit","Nuevo León","Oaxaca","Puebla","Querétaro","Quintana Roo","San Luis Potosí","Sinaloa","Sonora","Tabasco","Tamaulipas","Tlaxcala","Veracruz","Yucatán","Zacatecas"]
["Menores de 1 año",1,7,0,4,9,4,46,11,24,8,33,4,16,19,31,28,7,3,9,25,136,9,3,14,7,19,19,6,20,38,8,5]
["1-4 años",1,0,0,0,0,1,20,0,2,4,0,2,1,0,7,3,1,1,0,5,8,0,0,0,2,0,3,0,0,7,2,0]
["5-9 años",0,0,0,0,1,0,11,0,2,0,0,0,1,1,1,0,1,0,0,0,0,0,0,0,0,1,0,1,0,1,0,0]
["10-14 años",0,0,0,0,0,0,10,0,1,0,0,2,0,2,1,0,0,0,0,4,1,0,0,0,0,1,0,2,0,1,0,1]
["15-19 años",0,4,0,0,2,0,11,3,6,1,1,3,0,1,1,0,1,0,1,1,3,1,0,3,1,0,1,1,0,3,1,2]
["20-24 años",0,12,0,0,3,3,20,3,13,3,4,6,2,5,2,0,0,0,0,4,0,0,0,1,5,2,4,2,0,4,1,0]
["25-29 años",2,9,0,1,3,1,17,1,12,4,0,4,1,6,5,3,0,1,4,5,4,0,1,1,4,3,12,2,1,6,1,3]
["30-34 años",0,15,0,3,1,0,14,1,14,0,0,9,2,4,0,2,1,1,3,6,3,1,0,3,0,4,7,1,2,5,1,2]
["35-39 años",1,12,0,1,2,0,18,4,20,5,2,5,1,7,1,2,3,1,3,7,2,1,0,4,5,4,9,2,0,9,1,3]
["40-44 años",0,7,0,0,1,0,22,5,22,5,2,14,2,7,2,6,1,2,1,12,4,1,1,1,8,4,13,5,0,11,1,3]
["45-49 años",2,9,2,0,11,2,27,6,25,7,3,11,1,6,2,7,2,1,1,12,9,3,2,3,9,5,10,3,2,10,4,3]
["50-54 años",1,12,0,2,2,0,36,11,31,7,4,13,0,10,4,7,2,0,1,8,6,2,2,5,11,5,13,2,2,11,1,4]
["55-59 años",0,14,0,3,6,1,33,6,18,18,5,14,0,13,3,7,2,1,6,13,9,1,1,6,8,8,16,9,1,9,6,1]
["60-64 años",0,13,0,2,8,1,56,11,23,9,4,15,6,23,4,11,2,3,5,19,6,1,6,2,3,12,15,9,2,18,3,6]
["65-69 años",1,5,2,3,26,4,75,17,25,7,6,15,1,28,4,12,1,1,8,38,5,2,5,12,10,12,22,12,3,24,2,8]
["70-74 años",2,6,0,7,39,8,131,19,23,24,7,37,9,33,5,31,4,6,9,75,17,8,5,12,15,16,37,19,3,39,21,6]
["75-79 años",1,4,0,26,68,7,233,19,13,28,16,47,9,56,10,35,7,8,6,100,31,12,10,26,13,22,51,27,4,59,27,12]
["80-84 años",4,7,1,57,91,21,356,27,17,35,22,70,29,77,5,85,6,17,15,218,82,26,30,38,24,34,96,58,16,119,62,20]
["85 años y más",42,36,8,190,288,139,788,84,26,68,128,218,112,400,57,326,29,102,92,840,328,116,103,153,72,72,374,207,97,440,266,73]
["No especificado",0,38,1,0,1,0,0,0,3,4,1,4,0,2,2,8,7,3,1,1,0,4,1,0,5,6,0,8,0,1,0,4]

{"sheet":"20T-GCM-G_Edad_EntFed2022","index":214,"n_rows":22,"n_cols":33,"rows_kept":22,"cut":false,"hidden":true,"merged":[]}
[1,2,3,4,5,6,7,8,9,10,11,12,13,14,15,16,17,18,19,20,21,22,23,24,25,26,27,28,29,30,31,32,33]
["ESTADO","Aguascalientes","Baja California","Baja California Sur","Campeche","Coahuila","Colima","Chiapas","Chihuahua","Ciudad de México","Durango","Guanajuato","Guerrero","Hidalgo","Jalisco","México","Michoacán","Morelos","Nayarit","Nuevo León","Oaxaca","Puebla","Querétaro","Quintana Roo","San Luis Potosí","Sinaloa","Sonora","Tabasco","Tamaulipas","Tlaxcala","Veracruz","Yucatán","Zacatecas"]
["Menores de 1 año",3,11,6,5,8,7,45,9,15,6,34,5,18,34,26,17,17,7,3,23,154,2,11,13,14,26,20,7,20,35,7,4]
["1-4 años",0,1,0,0,2,2,23,0,1,2,0,0,2,1,5,5,0,3,1,5,3,0,1,0,1,2,4,0,0,1,0,3]
["5-9 años",0,0,0,0,0,0,6,1,0,0,0,0,1,2,3,1,0,0,0,0,1,0,0,1,1,0,2,0,0,0,0,0]
["10-14 años",0,0,0,1,0,0,10,1,2,0,1,3,0,1,2,1,0,1,0,1,0,0,0,0,0,0,2,0,1,0,2,0]
["15-19 años",0,6,0,1,2,0,26,5,3,0,1,10,3,6,2,1,0,1,0,1,1,3,0,0,2,4,1,0,0,3,0,0]
["20-24 años",0,10,0,0,4,0,23,1,6,7,4,10,1,5,0,1,0,4,1,2,1,2,0,4,4,4,1,2,1,4,0,3]
["25-29 años",0,17,1,1,0,1,18,2,17,7,2,7,0,6,3,1,1,4,2,6,3,1,1,3,5,5,2,1,0,7,2,2]
["30-34 años",1,21,1,0,4,0,15,3,11,2,0,8,2,4,2,2,2,0,4,3,6,0,1,1,6,4,4,2,0,6,1,3]
["35-39 años",0,16,0,1,6,0,16,5,22,3,0,4,0,7,3,3,1,1,3,8,5,0,1,5,7,7,5,2,3,5,3,1]
["40-44 años",1,20,0,1,6,0,20,3,15,2,1,5,1,5,4,5,0,2,4,5,4,2,1,2,7,7,6,4,0,7,2,2]
["45-49 años",3,27,1,2,7,1,24,13,28,5,1,10,4,11,3,3,0,2,4,9,3,0,2,4,6,4,11,3,1,15,2,3]
["50-54 años",0,17,0,0,6,2,31,6,17,5,5,10,2,8,6,9,1,1,3,4,5,2,2,2,13,5,8,9,1,13,4,3]
["55-59 años",0,17,2,2,5,2,31,10,19,9,1,16,2,14,1,8,2,8,6,9,5,4,4,2,12,7,7,21,0,14,6,3]
["60-64 años",2,12,1,2,11,1,44,7,21,8,2,18,5,24,3,7,0,6,2,20,10,2,1,7,18,14,11,13,1,7,7,3]
["65-69 años",3,12,2,6,11,3,69,13,18,10,5,19,5,15,3,15,0,7,4,13,6,3,5,3,9,10,11,14,2,16,7,1]
["70-74 años",3,9,1,5,25,11,103,26,15,8,7,26,12,26,5,15,2,9,6,37,13,6,5,11,10,25,28,19,1,28,25,8]
["75-79 años",3,10,1,13,46,10,149,30,16,18,8,39,12,41,3,33,2,11,10,86,26,10,19,15,20,24,34,28,4,53,42,12]
["80-84 años",8,9,1,29,68,30,237,41,6,21,29,53,21,72,5,68,6,15,24,182,45,24,29,31,16,22,70,60,8,79,75,13]
["85 años y más",35,36,12,137,183,138,656,107,39,54,149,237,145,330,32,258,16,122,73,668,216,139,93,144,82,91,249,234,76,419,327,92]
["No especificado",0,54,2,0,1,2,0,4,4,5,1,11,0,0,2,2,0,5,0,0,7,0,0,0,0,3,2,4,0,1,1,3]

{"sheet":"20GCM-G-Edad_Ent.Fed","index":215,"n_rows":36,"n_cols":4,"rows_kept":36,"cut":false,"hidden":false,"merged":[[0,0,0,3]]}
["Síntomas, signos y hallazgos anormales \nclínicos y de laboratorio, no clasificados en otra parte"]
["SELECCIONE UN GRUPO DE EDAD"]
["80-84 años","2020","2021","2022"]
["Aguascalientes",{"$f":"VLOOKUP($A$3,Tabla87[],MATCH(TablaA70[[#This Row],[80-84 años]],Tabla87[#Headers],0),FALSE)","v":3},{"$f":"VLOOKUP($A$3,Tabla88[],MATCH(TablaA70[[#This Row],[80-84 años]],Tabla88[#Headers],0),FALSE)","v":4},{"$f":"VLOOKUP($A$3,Tabla89[],MATCH(TablaA70[[#This Row],[80-84 años]],Tabla89[#Headers],0),FALSE)","v":8}]
["Baja California",{"$f":"VLOOKUP($A$3,Tabla87[],MATCH(TablaA70[[#This Row],[80-84 años]],Tabla87[#Headers],0),FALSE)","v":12},{"$f":"VLOOKUP($A$3,Tabla88[],MATCH(TablaA70[[#This Row],[80-84 años]],Tabla88[#Headers],0),FALSE)","v":7},{"$f":"VLOOKUP($A$3,Tabla89[],MATCH(TablaA70[[#This Row],[80-84 años]],Tabla89[#Headers],0),FALSE)","v":9}]
["Baja California Sur",{"$f":"VLOOKUP($A$3,Tabla87[],MATCH(TablaA70[[#This Row],[80-84 años]],Tabla87[#Headers],0),FALSE)","v":2},{"$f":"VLOOKUP($A$3,Tabla88[],MATCH(TablaA70[[#This Row],[80-84 años]],Tabla88[#Headers],0),FALSE)","v":1},{"$f":"VLOOKUP($A$3,Tabla89[],MATCH(TablaA70[[#This Row],[80-84 años]],Tabla89[#Headers],0),FALSE)","v":1}]
["Campeche",{"$f":"VLOOKUP($A$3,Tabla87[],MATCH(TablaA70[[#This Row],[80-84 años]],Tabla87[#Headers],0),FALSE)","v":44},{"$f":"VLOOKUP($A$3,Tabla88[],MATCH(TablaA70[[#This Row],[80-84 años]],Tabla88[#Headers],0),FALSE)","v":57},{"$f":"VLOOKUP($A$3,Tabla89[],MATCH(TablaA70[[#This Row],[80-84 años]],Tabla89[#Headers],0),FALSE)","v":29}]
["Coahuila",{"$f":"VLOOKUP($A$3,Tabla87[],MATCH(TablaA70[[#This Row],[80-84 años]],Tabla87[#Headers],0),FALSE)","v":118},{"$f":"VLOOKUP($A$3,Tabla88[],MATCH(TablaA70[[#This Row],[80-84 años]],Tabla88[#Headers],0),FALSE)","v":91},{"$f":"VLOOKUP($A$3,Tabla89[],MATCH(TablaA70[[#This Row],[80-84 años]],Tabla89[#Headers],0),FALSE)","v":68}]
["Colima",{"$f":"VLOOKUP($A$3,Tabla87[],MATCH(TablaA70[[#This Row],[80-84 años]],Tabla87[#Headers],0),FALSE)","v":10},{"$f":"VLOOKUP($A$3,Tabla88[],MATCH(TablaA70[[#This Row],[80-84 años]],Tabla88[#Headers],0),FALSE)","v":21},{"$f":"VLOOKUP($A$3,Tabla89[],MATCH(TablaA70[[#This Row],[80-84 años]],Tabla89[#Headers],0),FALSE)","v":30}]
["Chiapas",{"$f":"VLOOKUP($A$3,Tabla87[],MATCH(TablaA70[[#This Row],[80-84 años]],Tabla87[#Headers],0),FALSE)","v":332},{"$f":"VLOOKUP($A$3,Tabla88[],MATCH(TablaA70[[#This Row],[80-84 años]],Tabla88[#Headers],0),FALSE)","v":356},{"$f":"VLOOKUP($A$3,Tabla89[],MATCH(TablaA70[[#This Row],[80-84 años]],Tabla89[#Headers],0),FALSE)","v":237}]
["Chihuahua",{"$f":"VLOOKUP($A$3,Tabla87[],MATCH(TablaA70[[#This Row],[80-84 años]],Tabla87[#Headers],0),FALSE)","v":25},{"$f":"VLOOKUP($A$3,Tabla88[],MATCH(TablaA70[[#This Row],[80-84 años]],Tabla88[#Headers],0),FALSE)","v":27},{"$f":"VLOOKUP($A$3,Tabla89[],MATCH(TablaA70[[#This Row],[80-84 años]],Tabla89[#Headers],0),FALSE)","v":41}]
["Ciudad de México",{"$f":"VLOOKUP($A$3,Tabla87[],MATCH(TablaA70[[#This Row],[80-84 años]],Tabla87[#Headers],0),FALSE)","v":2},{"$f":"VLOOKUP($A$3,Tabla88[],MATCH(TablaA70[[#This Row],[80-84 años]],Tabla88[#Headers],0),FALSE)","v":17},{"$f":"VLOOKUP($A$3,Tabla89[],MATCH(TablaA70[[#This Row],[80-84 años]],Tabla89[#Headers],0),FALSE)","v":6}]
["Durango",{"$f":"VLOOKUP($A$3,Tabla87[],MATCH(TablaA70[[#This Row],[80-84 años]],Tabla87[#Headers],0),FALSE)","v":16},{"$f":"VLOOKUP($A$3,Tabla88[],MATCH(TablaA70[[#This Row],[80-84 años]],Tabla88[#Headers],0),FALSE)","v":35},{"$f":"VLOOKUP($A$3,Tabla89[],MATCH(TablaA70[[#This Row],[80-84 años]],Tabla89[#Headers],0),FALSE)","v":21}]
["Guanajuato",{"$f":"VLOOKUP($A$3,Tabla87[],MATCH(TablaA70[[#This Row],[80-84 años]],Tabla87[#Headers],0),FALSE)","v":20},{"$f":"VLOOKUP($A$3,Tabla88[],MATCH(TablaA70[[#This Row],[80-84 años]],Tabla88[#Headers],0),FALSE)","v":22},{"$f":"VLOOKUP($A$3,Tabla89[],MATCH(TablaA70[[#This Row],[80-84 años]],Tabla89[#Headers],0),FALSE)","v":29}]
["Guerrero",{"$f":"VLOOKUP($A$3,Tabla87[],MATCH(TablaA70[[#This Row],[80-84 años]],Tabla87[#Headers],0),FALSE)","v":59},{"$f":"VLOOKUP($A$3,Tabla88[],MATCH(TablaA70[[#This Row],[80-84 años]],Tabla88[#Headers],0),FALSE)","v":70},{"$f":"VLOOKUP($A$3,Tabla89[],MATCH(TablaA70[[#This Row],[80-84 años]],Tabla89[#Headers],0),FALSE)","v":53}]
["Hidalgo",{"$f":"VLOOKUP($A$3,Tabla87[],MATCH(TablaA70[[#This Row],[80-84 años]],Tabla87[#Headers],0),FALSE)","v":25},{"$f":"VLOOKUP($A$3,Tabla88[],MATCH(TablaA70[[#This Row],[80-84 años]],Tabla88[#Headers],0),FALSE)","v":29},{"$f":"VLOOKUP($A$3,Tabla89[],MATCH(TablaA70[[#This Row],[80-84 años]],Tabla89[#Headers],0),FALSE)","v":21}]
["Jalisco",{"$f":"VLOOKUP($A$3,Tabla87[],MATCH(TablaA70[[#This Row],[80-84 años]],Tabla87[#Headers],0),FALSE)","v":39},{"$f":"VLOOKUP($A$3,Tabla88[],MATCH(TablaA70[[#This Row],[80-84 años]],Tabla88[#Headers],0),FALSE)","v":77},{"$f":"VLOOKUP($A$3,Tabla89[],MATCH(TablaA70[[#This Row],[80-84 años]],Tabla89[#Headers],0),FALSE)","v":72}]
["México",{"$f":"VLOOKUP($A$3,Tabla87[],MATCH(TablaA70[[#This Row],[80-84 años]],Tabla87[#Headers],0),FALSE)","v":14},{"$f":"VLOOKUP($A$3,Tabla88[],MATCH(TablaA70[[#This Row],[80-84 años]],Tabla88[#Headers],0),FALSE)","v":5},{"$f":"VLOOKUP($A$3,Tabla89[],MATCH(TablaA70[[#This Row],[80-84 años]],Tabla89[#Headers],0),FALSE)","v":5}]
["Michoacán",{"$f":"VLOOKUP($A$3,Tabla87[],MATCH(TablaA70[[#This Row],[80-84 años]],Tabla87[#Headers],0),FALSE)","v":52},{"$f":"VLOOKUP($A$3,Tabla88[],MATCH(TablaA70[[#This Row],[80-84 años]],Tabla88[#Headers],0),FALSE)","v":85},{"$f":"VLOOKUP($A$3,Tabla89[],MATCH(TablaA70[[#This Row],[80-84 años]],Tabla89[#Headers],0),FALSE)","v":68}]
["Morelos",{"$f":"VLOOKUP($A$3,Tabla87[],MATCH(TablaA70[[#This Row],[80-84 años]],Tabla87[#Headers],0),FALSE)","v":14},{"$f":"VLOOKUP($A$3,Tabla88[],MATCH(TablaA70[[#This Row],[80-84 años]],Tabla88[#Headers],0),FALSE)","v":6},{"$f":"VLOOKUP($A$3,Tabla89[],MATCH(TablaA70[[#This Row],[80-84 años]],Tabla89[#Headers],0),FALSE)","v":6}]
["Nayarit",{"$f":"VLOOKUP($A$3,Tabla87[],MATCH(TablaA70[[#This Row],[80-84 años]],Tabla87[#Headers],0),FALSE)","v":17},{"$f":"VLOOKUP($A$3,Tabla88[],MATCH(TablaA70[[#This Row],[80-84 años]],Tabla88[#Headers],0),FALSE)","v":17},{"$f":"VLOOKUP($A$3,Tabla89[],MATCH(TablaA70[[#This Row],[80-84 años]],Tabla89[#Headers],0),FALSE)","v":15}]
["Nuevo León",{"$f":"VLOOKUP($A$3,Tabla87[],MATCH(TablaA70[[#This Row],[80-84 años]],Tabla87[#Headers],0),FALSE)","v":24},{"$f":"VLOOKUP($A$3,Tabla88[],MATCH(TablaA70[[#This Row],[80-84 años]],Tabla88[#Headers],0),FALSE)","v":15},{"$f":"VLOOKUP($A$3,Tabla89[],MATCH(TablaA70[[#This Row],[80-84 años]],Tabla89[#Headers],0),FALSE)","v":24}]
["Oaxaca",{"$f":"VLOOKUP($A$3,Tabla87[],MATCH(TablaA70[[#This Row],[80-84 años]],Tabla87[#Headers],0),FALSE)","v":173},{"$f":"VLOOKUP($A$3,Tabla88[],MATCH(TablaA70[[#This Row],[80-84 años]],Tabla88[#Headers],0),FALSE)","v":218},{"$f":"VLOOKUP($A$3,Tabla89[],MATCH(TablaA70[[#This Row],[80-84 años]],Tabla89[#Headers],0),FALSE)","v":182}]
["Puebla",{"$f":"VLOOKUP($A$3,Tabla87[],MATCH(TablaA70[[#This Row],[80-84 años]],Tabla87[#Headers],0),FALSE)","v":71},{"$f":"VLOOKUP($A$3,Tabla88[],MATCH(TablaA70[[#This Row],[80-84 años]],Tabla88[#Headers],0),FALSE)","v":82},{"$f":"VLOOKUP($A$3,Tabla89[],MATCH(TablaA70[[#This Row],[80-84 años]],Tabla89[#Headers],0),FALSE)","v":45}]
["Querétaro",{"$f":"VLOOKUP($A$3,Tabla87[],MATCH(TablaA70[[#This Row],[80-84 años]],Tabla87[#Headers],0),FALSE)","v":23},{"$f":"VLOOKUP($A$3,Tabla88[],MATCH(TablaA70[[#This Row],[80-84 años]],Tabla88[#Headers],0),FALSE)","v":26},{"$f":"VLOOKUP($A$3,Tabla89[],MATCH(TablaA70[[#This Row],[80-84 años]],Tabla89[#Headers],0),FALSE)","v":24}]
["Quintana Roo",{"$f":"VLOOKUP($A$3,Tabla87[],MATCH(TablaA70[[#This Row],[80-84 años]],Tabla87[#Headers],0),FALSE)","v":18},{"$f":"VLOOKUP($A$3,Tabla88[],MATCH(TablaA70[[#This Row],[80-84 años]],Tabla88[#Headers],0),FALSE)","v":30},{"$f":"VLOOKUP($A$3,Tabla89[],MATCH(TablaA70[[#This Row],[80-84 años]],Tabla89[#Headers],0),FALSE)","v":29}]
["San Luis Potosí",{"$f":"VLOOKUP($A$3,Tabla87[],MATCH(TablaA70[[#This Row],[80-84 años]],Tabla87[#Headers],0),FALSE)","v":49},{"$f":"VLOOKUP($A$3,Tabla88[],MATCH(TablaA70[[#This Row],[80-84 años]],Tabla88[#Headers],0),FALSE)","v":38},{"$f":"VLOOKUP($A$3,Tabla89[],MATCH(TablaA70[[#This Row],[80-84 años]],Tabla89[#Headers],0),FALSE)","v":31}]
["Sinaloa",{"$f":"VLOOKUP($A$3,Tabla87[],MATCH(TablaA70[[#This Row],[80-84 años]],Tabla87[#Headers],0),FALSE)","v":21},{"$f":"VLOOKUP($A$3,Tabla88[],MATCH(TablaA70[[#This Row],[80-84 años]],Tabla88[#Headers],0),FALSE)","v":24},{"$f":"VLOOKUP($A$3,Tabla89[],MATCH(TablaA70[[#This Row],[80-84 años]],Tabla89[#Headers],0),FALSE)","v":16}]
["Sonora",{"$f":"VLOOKUP($A$3,Tabla87[],MATCH(TablaA70[[#This Row],[80-84 años]],Tabla87[#Headers],0),FALSE)","v":15},{"$f":"VLOOKUP($A$3,Tabla88[],MATCH(TablaA70[[#This Row],[80-84 años]],Tabla88[#Headers],0),FALSE)","v":34},{"$f":"VLOOKUP($A$3,Tabla89[],MATCH(TablaA70[[#This Row],[80-84 años]],Tabla89[#Headers],0),FALSE)","v":22}]
["Tabasco",{"$f":"VLOOKUP($A$3,Tabla87[],MATCH(TablaA70[[#This Row],[80-84 años]],Tabla87[#Headers],0),FALSE)","v":64},{"$f":"VLOOKUP($A$3,Tabla88[],MATCH(TablaA70[[#This Row],[80-84 años]],Tabla88[#Headers],0),FALSE)","v":96},{"$f":"VLOOKUP($A$3,Tabla89[],MATCH(TablaA70[[#This Row],[80-84 años]],Tabla89[#Headers],0),FALSE)","v":70}]
["Tamaulipas",{"$f":"VLOOKUP($A$3,Tabla87[],MATCH(TablaA70[[#This Row],[80-84 años]],Tabla87[#Headers],0),FALSE)","v":45},{"$f":"VLOOKUP($A$3,Tabla88[],MATCH(TablaA70[[#This Row],[80-84 años]],Tabla88[#Headers],0),FALSE)","v":58},{"$f":"VLOOKUP($A$3,Tabla89[],MATCH(TablaA70[[#This Row],[80-84 años]],Tabla89[#Headers],0),FALSE)","v":60}]
["Tlaxcala",{"$f":"VLOOKUP($A$3,Tabla87[],MATCH(TablaA70[[#This Row],[80-84 años]],Tabla87[#Headers],0),FALSE)","v":15},{"$f":"VLOOKUP($A$3,Tabla88[],MATCH(TablaA70[[#This Row],[80-84 años]],Tabla88[#Headers],0),FALSE)","v":16},{"$f":"VLOOKUP($A$3,Tabla89[],MATCH(TablaA70[[#This Row],[80-84 años]],Tabla89[#Headers],0),FALSE)","v":8}]
["Veracruz",{"$f":"VLOOKUP($A$3,Tabla87[],MATCH(TablaA70[[#This Row],[80-84 años]],Tabla87[#Headers],0),FALSE)","v":117},{"$f":"VLOOKUP($A$3,Tabla88[],MATCH(TablaA70[[#This Row],[80-84 años]],Tabla88[#Headers],0),FALSE)","v":119},{"$f":"VLOOKUP($A$3,Tabla89[],MATCH(TablaA70[[#This Row],[80-84 años]],Tabla89[#Headers],0),FALSE)","v":79}]
["Yucatán",{"$f":"VLOOKUP($A$3,Tabla87[],MATCH(TablaA70[[#This Row],[80-84 años]],Tabla87[#Headers],0),FALSE)","v":51},{"$f":"VLOOKUP($A$3,Tabla88[],MATCH(TablaA70[[#This Row],[80-84 años]],Tabla88[#Headers],0),FALSE)","v":62},{"$f":"VLOOKUP($A$3,Tabla89[],MATCH(TablaA70[[#This Row],[80-84 años]],Tabla89[#Headers],0),FALSE)","v":75}]
["Zacatecas",{"$f":"VLOOKUP($A$3,Tabla87[],MATCH(TablaA70[[#This Row],[80-84 años]],Tabla87[#Headers],0),FALSE)","v":8},{"$f":"VLOOKUP($A$3,Tabla88[],MATCH(TablaA70[[#This Row],[80-84 años]],Tabla88[#Headers],0),FALSE)","v":20},{"$f":"VLOOKUP($A$3,Tabla89[],MATCH(TablaA70[[#This Row],[80-84 años]],Tabla89[#Headers],0),FALSE)","v":13}]
["Total",{"$f":"SUM(B4:B35)","v":1498},{"$f":"SUM(C4:C35)","v":1765},1397]

{"sheet":"Mpal. 20","index":216,"n_rows":127,"n_cols":62,"rows_kept":127,"cut":false,"hidden":true,"merged":[]}
[1,2,3,4,5,6,7,8,9,10,11,12,13,14,15,16,17,18,19,20,21,22,23,24,25,26,27,28,29,30,31,32,33,34,35,36,37,38,39,40,41,42,43,44,45,46,47,48,49,50,51,52,53,54,55,56,57,58,59,60,61,62]
["ESTADO","CVE_MUN","Enfermedades del sistema circulatorio","Hombres 1","Mujeres 1","Asignación provisoria de nuevas afecciones de etiología incierta o de uso emergente, sin especificación","Hombres 2","Mujeres 2","Enfermedades endocrinas, nutricionales y metabólicas","Hombres 3","Mujeres 3","Tumores (neoplasias)","Hombres 4","Mujeres 4","Enfermedades del sistema respiratorio","Hombres 5","Mujeres 5","Causas externas de morbilidad y de mortalidad","Hombres 6","Mujeres 6","Ciertas enfermedades infecciosas y parasitarias","Hombres 7","Mujeres 7","Enfermedades de la sangre y de los órganos hematopoyéticos, y ciertos trastornos que afectan el mecanismo de la inmunidad","Hombres 8","Mujeres 8","Trastornos mentales y del comportamiento","Hombres 9","Mujeres 9","Enfermedades del sistema nervioso","Hombres 10","Mujeres 10","Enfermedades del ojo y sus anexos","Hombres 11","Mujeres 11","Enfermedades del oído y de la apófisis mastoides","Hombres 12","Mujeres 12","Enfermedades del sistema digestivo","Hombres 13","Mujeres 13","Enfermedades de la piel y del tejido subcutáneo","Hombres 14","Mujeres 14","Enfermedades del sistema osteomuscular y del tejido conjuntivo","Hombres 15","Mujeres 15","Enfermedades del sistema genitourinario","Hombres 16","Mujeres 16","Embarazo, parto y puerperio","Hombres 17","Mujeres 17","Ciertas afecciones originadas en el periodo perinatal","Hombres 18","Mujeres 18","Malformaciones congénitas, deformidades y anomalías cromosómicas","Hombres 19","Mujeres 19","Síntomas, signos y hallazgos anormales clínicos y de laboratorio, no clasificados en otra parte","Hombres 20","Mujeres 20"]
["Acacoyagua","001",68,36,32,8,4,4,10,1,9,18,9,9,8,5,3,13,11,2,5,2,3,2,2,0,0,0,0,0,0,0,"ND","ND","ND",0,0,0,14,10,4,0,0,0,0,0,0,5,2,3,0,"NA",0,3,0,3,2,1,1,1,1,0]
["Acala","002",52,32,20,24,10,14,60,35,25,21,9,12,28,14,14,5,4,1,9,5,4,0,0,0,1,1,0,3,1,2,"ND","ND","ND",0,0,0,25,13,12,0,0,0,3,0,3,20,12,8,0,"NA",0,2,2,0,0,0,0,9,5,4]
["Acapetahua","003",64,35,29,21,11,10,56,29,27,28,17,11,16,9,7,8,6,2,6,2,4,0,0,0,1,1,0,3,0,3,"ND","ND","ND",1,1,0,24,14,10,0,0,0,4,1,3,8,4,4,0,"NA",0,2,0,2,3,1,2,18,11,7]
["Altamirano","004",54,32,22,4,3,1,25,13,12,21,14,7,11,3,8,4,4,0,6,4,2,2,0,2,0,0,0,3,3,0,"ND","ND","ND",0,0,0,10,8,2,0,0,0,3,2,1,1,0,1,0,"NA",0,1,1,0,1,1,0,3,2,1]
["Amatán","005",42,20,22,1,1,0,33,18,15,11,5,6,8,5,3,5,4,1,2,0,2,2,2,0,0,0,0,2,1,1,"ND","ND","ND",0,0,0,10,5,5,0,0,0,0,0,0,5,3,2,0,"NA",0,0,0,0,1,0,1,12,9,3]
["Amatenango de la Frontera","006",61,38,23,3,3,0,27,11,16,30,15,15,14,10,4,0,0,0,6,3,3,2,0,2,2,1,1,9,5,4,"ND","ND","ND",0,0,0,26,20,6,0,0,0,0,0,0,12,4,8,1,"NA",1,3,3,0,3,1,2,17,8,9]
["Amatenango del Valle","007",41,25,16,0,0,0,6,2,4,2,1,1,0,0,0,0,0,0,4,2,2,1,1,0,0,0,0,0,0,0,"ND","ND","ND",0,0,0,0,0,0,0,0,0,0,0,0,2,1,1,1,"NA",1,0,0,0,0,0,0,1,1,0]
["Ángel Albino Corzo","008",40,20,20,12,9,3,30,12,18,22,9,13,21,14,7,6,5,1,7,2,5,2,0,2,3,3,0,6,6,0,"ND","ND","ND",0,0,0,18,11,7,0,0,0,1,0,1,6,3,3,0,"NA",0,2,1,1,3,1,2,9,5,4]
["Arriaga","009",123,55,68,24,16,8,110,55,55,40,21,19,35,25,10,3,3,0,16,9,7,1,1,0,1,1,0,5,4,1,"ND","ND","ND",0,0,0,32,17,15,0,0,0,4,2,2,18,9,9,0,"NA",0,2,0,2,1,0,1,12,7,5]
["Bejucal de Ocampo","010",7,5,2,1,0,1,1,1,0,5,3,2,0,0,0,0,0,0,0,0,0,0,0,0,0,0,0,4,2,2,"ND","ND","ND",0,0,0,11,8,3,0,0,0,0,0,0,6,5,1,0,"NA",0,1,1,0,0,0,0,5,3,2]
["Bella Vista","011",39,16,23,0,0,0,14,4,10,24,8,16,6,2,4,1,1,0,1,1,0,3,1,2,0,0,0,2,0,2,"ND","ND","ND",0,0,0,22,12,10,0,0,0,0,0,0,2,2,0,0,"NA",0,0,0,0,0,0,0,7,1,6]
["Berriozábal","012",51,33,18,25,21,4,76,35,41,36,18,18,27,19,8,2,1,1,15,9,6,0,0,0,5,4,1,7,4,3,"ND","ND","ND",0,0,0,31,18,13,0,0,0,4,1,3,6,4,2,0,"NA",0,9,7,2,3,2,1,3,3,0]
["Bochil","013",44,31,13,17,9,8,33,15,18,15,7,8,18,12,6,4,3,1,9,7,2,2,1,1,2,2,0,3,1,2,"ND","ND","ND",0,0,0,24,16,8,0,0,0,2,2,0,8,4,4,1,"NA",1,7,4,3,5,3,2,8,1,7]
["El Bosque","014",53,30,23,1,1,0,20,6,14,9,4,5,8,5,3,3,1,2,4,2,2,1,1,0,0,0,0,1,1,0,"ND","ND","ND",0,0,0,13,11,2,0,0,0,0,0,0,1,1,0,0,"NA",0,1,0,1,6,3,3,5,2,3]
["Cacahoatán","015",69,41,28,26,21,5,63,23,40,29,15,14,15,8,7,6,4,2,17,15,2,2,0,2,2,2,0,7,6,1,"ND","ND","ND",0,0,0,78,49,29,0,0,0,2,1,1,31,16,15,1,"NA",1,3,1,2,5,4,1,18,10,8]
["Catazajá","016",86,54,32,5,4,1,34,15,19,10,5,5,10,3,7,3,2,1,1,1,0,0,0,0,0,0,0,1,0,1,"ND","ND","ND",0,0,0,6,2,4,0,0,0,0,0,0,2,2,0,0,"NA",0,1,1,0,0,0,0,8,4,4]
["Cintalapa de Figueroa","017",241,134,107,35,28,7,131,57,74,74,31,43,67,45,22,24,22,2,21,13,8,8,5,3,6,6,0,23,14,9,"ND","ND","ND",0,0,0,67,40,27,0,0,0,5,4,1,14,7,7,0,"NA",0,6,4,2,4,3,1,8,2,6]
["Coapilla","018",14,9,5,0,0,0,13,5,8,11,6,5,4,1,3,1,0,1,1,0,1,0,0,0,0,0,0,2,2,0,"ND","ND","ND",0,0,0,8,5,3,0,0,0,0,0,0,8,6,2,1,"NA",1,0,0,0,1,0,1,1,0,1]
["Comitán de Domínguez","019",274,150,124,182,135,47,235,113,122,128,60,68,114,67,47,154,126,28,25,15,10,12,5,7,9,8,1,19,9,10,"ND","ND","ND",0,0,0,94,58,36,1,0,1,11,4,7,51,29,22,7,"NA",7,59,32,27,27,12,15,115,62,53]
["La Concordia","020",112,66,46,11,10,1,62,26,36,49,29,20,41,27,14,4,4,0,5,4,1,0,0,0,0,0,0,9,5,4,"ND","ND","ND",0,0,0,31,15,16,0,0,0,1,0,1,13,9,4,2,"NA",2,0,0,0,3,2,1,1,0,1]
["Copainalá","021",75,39,36,5,5,0,19,10,9,25,14,11,23,13,10,5,4,1,4,3,1,1,0,1,1,1,0,3,1,2,"ND","ND","ND",0,0,0,12,6,6,0,0,0,1,1,0,5,3,2,0,"NA",0,1,0,1,0,0,0,10,9,1]
["Chalchihuitán","022",4,3,1,0,0,0,19,10,9,9,6,3,6,5,1,0,0,0,21,14,7,0,0,0,0,0,0,1,1,0,"ND","ND","ND",0,0,0,18,13,5,0,0,0,0,0,0,3,2,1,0,"NA",0,0,0,0,0,0,0,26,19,7]
["Chamula","023",69,37,32,1,1,0,39,21,18,15,8,7,80,35,45,1,1,0,83,39,44,0,0,0,0,0,0,3,1,2,"ND","ND","ND",0,0,0,82,61,21,0,0,0,1,0,1,24,13,11,0,"NA",0,0,0,0,0,0,0,8,1,7]
["Chanal","024",29,13,16,2,1,1,9,3,6,4,3,1,9,6,3,2,0,2,11,7,4,0,0,0,0,0,0,1,0,1,"ND","ND","ND",0,0,0,5,3,2,0,0,0,0,0,0,1,0,1,0,"NA",0,5,2,3,1,1,0,4,2,2]
["Chapultenango","025",6,3,3,1,1,0,4,2,2,1,0,1,2,1,1,1,1,0,1,1,0,0,0,0,0,0,0,0,0,0,"ND","ND","ND",0,0,0,6,4,2,0,0,0,0,0,0,1,1,0,0,"NA",0,1,1,0,0,0,0,9,3,6]
["Chenalhó","026",59,32,27,0,0,0,24,13,11,14,7,7,60,28,32,2,1,1,37,12,25,5,2,3,9,5,4,2,2,0,"ND","ND","ND",0,0,0,20,11,9,0,0,0,2,1,1,1,0,1,2,"NA",2,0,0,0,1,1,0,16,13,3]
["Chiapa de Corzo","027",313,201,112,61,43,18,221,110,111,71,24,47,66,42,24,3,3,0,23,14,9,7,1,6,3,2,1,3,3,0,"ND","ND","ND",0,0,0,67,45,22,0,0,0,2,1,1,32,17,15,0,"NA",0,6,2,4,5,2,3,6,2,4]
["Chiapilla","028",32,18,14,3,0,3,17,10,7,2,0,2,5,5,0,0,0,0,2,1,1,1,1,0,0,0,0,1,0,1,"ND","ND","ND",0,0,0,6,3,3,0,0,0,0,0,0,0,0,0,0,"NA",0,1,0,1,0,0,0,3,2,1]
["Chicoasén","029",9,6,3,1,0,1,3,2,1,3,2,1,7,2,5,0,0,0,0,0,0,0,0,0,1,0,1,0,0,0,"ND","ND","ND",0,0,0,7,4,3,0,0,0,0,0,0,1,1,0,0,"NA",0,0,0,0,1,1,0,0,0,0]
["Chicomuselo","030",49,30,19,4,3,1,23,14,9,32,19,13,20,14,6,6,6,0,6,4,2,2,0,2,2,1,1,2,0,2,"ND","ND","ND",0,0,0,15,9,6,0,0,0,1,1,0,6,6,0,0,"NA",0,0,0,0,1,1,0,5,2,3]
["Chilón","031",95,52,43,2,2,0,77,35,42,48,19,29,24,16,8,18,16,2,5,5,0,9,5,4,0,0,0,8,2,6,"ND","ND","ND",0,0,0,43,30,13,0,0,0,0,0,0,12,6,6,0,"NA",0,1,1,0,8,3,5,161,83,78]
["Escuintla","032",96,56,40,7,5,2,30,11,19,30,20,10,15,7,8,13,10,3,1,1,0,3,2,1,1,1,0,2,1,1,"ND","ND","ND",0,0,0,20,12,8,0,0,0,0,0,0,5,5,0,1,"NA",1,1,1,0,3,2,1,26,19,7]
["Francisco León","033",8,2,6,0,0,0,7,5,2,6,5,1,5,3,2,1,1,0,1,1,0,0,0,0,0,0,0,1,0,1,"ND","ND","ND",0,0,0,0,0,0,0,0,0,0,0,0,1,1,0,1,"NA",1,0,0,0,0,0,0,3,3,0]
["Frontera Comalapa","034",108,63,45,18,14,4,94,43,51,52,24,28,36,22,14,15,12,3,7,5,2,3,1,2,2,2,0,7,2,5,"ND","ND","ND",0,0,0,45,29,16,1,0,1,0,0,0,13,10,3,2,"NA",2,4,2,2,5,3,2,42,29,13]
["Frontera Hidalgo","035",27,16,11,5,3,2,41,16,25,13,5,8,5,3,2,1,0,1,1,1,0,3,1,2,0,0,0,3,1,2,"ND","ND","ND",0,0,0,19,13,6,0,0,0,1,1,0,11,8,3,1,"NA",1,2,1,1,0,0,0,8,6,2]
["La Grandeza","036",18,11,7,1,1,0,11,6,5,9,5,4,0,0,0,1,1,0,1,1,0,1,1,0,0,0,0,0,0,0,"ND","ND","ND",0,0,0,4,3,1,0,0,0,1,0,1,1,0,1,0,"NA",0,1,1,0,0,0,0,4,0,4]
["Huehuetán","037",82,54,28,29,16,13,79,42,37,35,20,15,29,19,10,5,5,0,12,7,5,4,2,2,0,0,0,9,5,4,"ND","ND","ND",0,0,0,57,27,30,0,0,0,3,2,1,10,4,6,0,"NA",0,0,0,0,2,2,0,0,0,0]
["Huixtán","038",37,27,10,4,3,1,37,21,16,21,8,13,18,14,4,1,1,0,5,5,0,3,1,2,7,7,0,6,3,3,"ND","ND","ND",0,0,0,17,8,9,0,0,0,0,0,0,13,8,5,0,"NA",0,0,0,0,3,2,1,31,16,15]
["Huitiupán","039",30,19,11,0,0,0,25,6,19,11,7,4,14,7,7,4,3,1,6,1,5,0,0,0,0,0,0,2,2,0,"ND","ND","ND",0,0,0,16,11,5,0,0,0,0,0,0,8,4,4,0,"NA",0,0,0,0,1,0,1,23,16,7]
["Huixtla","040",95,53,42,74,43,31,90,51,39,41,26,15,63,28,35,17,16,1,15,9,6,3,2,1,13,11,2,2,0,2,"ND","ND","ND",0,0,0,76,51,25,0,0,0,3,1,2,22,15,7,1,"NA",1,8,2,6,3,2,1,2,1,1]
["La Independencia","041",13,7,6,3,2,1,62,33,29,18,11,7,7,4,3,2,2,0,4,2,2,3,3,0,1,1,0,6,5,1,"ND","ND","ND",0,0,0,26,22,4,1,0,1,2,1,1,19,10,9,0,"NA",0,0,0,0,0,0,0,112,59,53]
["Ixhuatán","042",33,15,18,0,0,0,13,7,6,5,3,2,4,1,3,0,0,0,3,2,1,1,1,0,0,0,0,0,0,0,"ND","ND","ND",0,0,0,4,4,0,0,0,0,0,0,0,2,0,2,0,"NA",0,1,1,0,0,0,0,0,0,0]
["Ixtacomitán","043",27,20,7,4,3,1,18,5,13,3,2,1,6,3,3,0,0,0,1,1,0,1,1,0,0,0,0,1,1,0,"ND","ND","ND",0,0,0,6,3,3,0,0,0,0,0,0,2,2,0,0,"NA",0,1,1,0,0,0,0,3,1,2]
["Ixtapa","044",71,35,36,3,1,2,37,18,19,14,6,8,6,5,1,0,0,0,4,2,2,0,0,0,0,0,0,2,1,1,"ND","ND","ND",0,0,0,14,10,4,0,0,0,2,0,2,3,0,3,0,"NA",0,0,0,0,3,1,2,0,0,0]
["Ixtapangajoya","045",11,7,4,0,0,0,16,8,8,1,0,1,5,3,2,0,0,0,1,1,0,1,1,0,0,0,0,0,0,0,"ND","ND","ND",0,0,0,2,1,1,1,1,0,0,0,0,0,0,0,0,"NA",0,0,0,0,0,0,0,1,0,1]
["Jiquipilas","046",157,92,65,21,14,7,84,45,39,72,45,27,32,17,15,11,9,2,7,3,4,1,1,0,0,0,0,3,3,0,"ND","ND","ND",0,0,0,27,15,12,0,0,0,0,0,0,11,7,4,1,"NA",1,2,0,2,4,4,0,16,10,6]
["Jitotol","047",23,10,13,2,2,0,15,4,11,19,11,8,12,6,6,1,0,1,5,2,3,0,0,0,1,1,0,2,2,0,"ND","ND","ND",0,0,0,8,5,3,0,0,0,0,0,0,5,1,4,3,"NA",3,5,3,2,5,3,2,9,3,6]
["Juárez","048",84,42,42,8,5,3,54,24,30,19,9,10,34,18,16,5,2,3,3,2,1,0,0,0,0,0,0,4,2,2,"ND","ND","ND",0,0,0,12,5,7,0,0,0,3,0,3,6,4,2,0,"NA",0,0,0,0,2,2,0,1,1,0]
["Larráinzar","049",27,8,19,0,0,0,3,1,2,5,0,5,19,12,7,0,0,0,8,5,3,0,0,0,2,2,0,3,2,1,"ND","ND","ND",0,0,0,17,9,8,0,0,0,0,0,0,3,1,2,2,"NA",2,1,1,0,5,2,3,17,7,10]
["La Libertad","050",8,5,3,3,2,1,14,6,8,4,2,2,4,1,3,1,1,0,0,0,0,0,0,0,0,0,0,1,1,0,"ND","ND","ND",0,0,0,3,3,0,0,0,0,0,0,0,2,0,2,0,"NA",0,0,0,0,0,0,0,3,2,1]
["Mapastepec","051",62,40,22,23,15,8,96,42,54,53,28,25,22,14,8,12,10,2,6,5,1,70,42,28,0,0,0,4,3,1,"ND","ND","ND",0,0,0,40,26,14,1,0,1,1,0,1,3,2,1,0,"NA",0,7,4,3,6,4,2,0,0,0]
["Las Margaritas","052",77,47,30,29,20,9,105,47,58,50,21,29,34,15,19,8,5,3,14,10,4,5,2,3,8,7,1,13,6,7,"ND","ND","ND",0,0,0,36,25,11,3,1,2,2,1,1,26,15,11,0,"NA",0,4,2,2,3,1,2,173,108,65]
["Mazapa de Madero","053",18,9,9,2,1,1,8,6,2,9,4,5,5,4,1,0,0,0,0,0,0,2,2,0,0,0,0,5,1,4,"ND","ND","ND",0,0,0,9,5,4,0,0,0,1,1,0,4,2,2,1,"NA",1,2,1,1,1,1,0,7,4,3]
["Mazatán","054",67,35,32,11,10,1,63,33,30,29,16,13,20,9,11,3,1,2,6,3,3,1,1,0,5,4,1,3,2,1,"ND","ND","ND",0,0,0,29,19,10,0,0,0,3,0,3,25,19,6,1,"NA",1,3,2,1,4,3,1,5,1,4]
["Metapa","055",15,7,8,7,2,5,11,5,6,5,0,5,5,4,1,0,0,0,3,2,1,1,1,0,0,0,0,0,0,0,"ND","ND","ND",0,0,0,2,1,1,0,0,0,0,0,0,6,4,2,0,"NA",0,1,1,0,2,1,1,0,0,0]
["Mitontic","056",20,11,9,0,0,0,7,2,5,2,0,2,0,0,0,3,2,1,1,1,0,0,0,0,0,0,0,2,2,0,"ND","ND","ND",0,0,0,6,3,3,0,0,0,0,0,0,3,1,2,0,"NA",0,0,0,0,5,5,0,0,0,0]
["Motozintla","057",133,88,45,19,17,2,71,37,34,60,33,27,24,16,8,4,3,1,7,5,2,6,3,3,4,1,3,5,2,3,"ND","ND","ND",0,0,0,64,40,24,0,0,0,1,0,1,18,13,5,1,"NA",1,8,4,4,7,2,5,19,8,11]
["Nicolás Ruíz","058",10,4,6,2,2,0,3,1,2,2,1,1,7,6,1,0,0,0,0,0,0,0,0,0,0,0,0,2,2,0,"ND","ND","ND",0,0,0,5,3,2,0,0,0,1,0,1,4,2,2,0,"NA",0,0,0,0,1,1,0,2,1,1]
["Ocosingo","059",156,95,61,35,29,6,116,52,64,72,37,35,54,37,17,30,28,2,28,16,12,9,5,4,1,0,1,24,16,8,"ND","ND","ND",0,0,0,71,40,31,0,0,0,2,1,1,14,11,3,9,"NA",9,23,12,11,36,21,15,187,111,76]
["Ocotepec","060",27,23,4,0,0,0,18,7,11,9,4,5,5,4,1,1,0,1,1,0,1,0,0,0,0,0,0,5,4,1,"ND","ND","ND",0,0,0,11,4,7,0,0,0,0,0,0,2,1,1,1,"NA",1,1,1,0,8,4,4,7,3,4]
["Ocozocoautla de Espinosa","061",219,125,94,39,23,16,110,45,65,74,34,40,52,31,21,2,1,1,18,12,6,2,0,2,0,0,0,7,3,4,"ND","ND","ND",0,0,0,63,37,26,0,0,0,1,1,0,23,12,11,1,"NA",1,15,10,5,5,4,1,5,2,3]
["Ostuacán","062",46,28,18,3,3,0,29,14,15,11,5,6,12,10,2,9,8,1,3,1,2,0,0,0,0,0,0,1,1,0,"ND","ND","ND",0,0,0,7,3,4,0,0,0,1,0,1,1,1,0,0,"NA",0,2,2,0,1,1,0,3,3,0]
["Osumacinta","063",12,6,6,1,1,0,3,1,2,2,1,1,3,2,1,0,0,0,0,0,0,0,0,0,0,0,0,0,0,0,"ND","ND","ND",0,0,0,2,2,0,0,0,0,0,0,0,0,0,0,0,"NA",0,0,0,0,0,0,0,2,2,0]
["Oxchuc","064",67,35,32,4,4,0,54,31,23,25,9,16,52,27,25,2,2,0,11,5,6,2,2,0,3,2,1,9,3,6,"ND","ND","ND",0,0,0,17,11,6,0,0,0,2,0,2,22,16,6,0,"NA",0,5,4,1,5,4,1,67,43,24]
["Palenque","065",318,183,135,41,31,10,131,73,58,70,29,41,41,27,14,68,60,8,21,18,3,18,11,7,0,0,0,8,6,2,"ND","ND","ND",0,0,0,50,36,14,0,0,0,1,0,1,12,6,6,1,"NA",1,2,0,2,3,2,1,20,12,8]
["Pantelhó","066",20,10,10,0,0,0,19,8,11,6,4,2,11,9,2,0,0,0,5,3,2,0,0,0,0,0,0,3,2,1,"ND","ND","ND",0,0,0,14,8,6,0,0,0,1,0,1,4,4,0,1,"NA",1,0,0,0,1,1,0,65,33,32]
["Pantepec","067",25,9,16,1,1,0,16,8,8,7,3,4,10,5,5,0,0,0,1,0,1,0,0,0,0,0,0,1,1,0,"ND","ND","ND",0,0,0,7,5,2,0,0,0,0,0,0,2,1,1,1,"NA",1,4,2,2,2,1,1,2,2,0]
["Pichucalco","068",82,54,28,38,29,9,45,18,27,20,10,10,17,9,8,11,8,3,4,2,2,2,2,0,2,2,0,2,1,1,"ND","ND","ND",0,0,0,26,20,6,0,0,0,2,1,1,6,6,0,1,"NA",1,3,3,0,1,1,0,2,1,1]
["Pijijiapan","069",174,98,76,45,31,14,112,49,63,65,35,30,21,10,11,33,27,6,8,3,5,3,0,3,1,1,0,7,5,2,"ND","ND","ND",0,0,0,41,26,15,0,0,0,3,0,3,15,9,6,0,"NA",0,0,0,0,1,1,0,0,0,0]
["El Porvenir","070",32,16,16,4,4,0,3,1,2,14,10,4,3,0,3,2,2,0,1,0,1,1,1,0,0,0,0,3,3,0,"ND","ND","ND",0,0,0,18,13,5,0,0,0,0,0,0,2,2,0,0,"NA",0,4,4,0,1,0,1,4,1,3]
["Villa Comaltitlán","071",73,46,27,2,1,1,48,23,25,38,24,14,20,15,5,11,10,1,3,3,0,6,3,3,0,0,0,1,1,0,"ND","ND","ND",0,0,0,24,12,12,0,0,0,1,0,1,8,6,2,0,"NA",0,2,1,1,1,1,0,8,4,4]
["Pueblo Nuevo Solistahuacán","072",39,20,19,2,1,1,32,14,18,15,8,7,14,11,3,5,4,1,2,1,1,3,1,2,1,1,0,4,3,1,"ND","ND","ND",0,0,0,12,6,6,0,0,0,1,0,1,11,8,3,0,"NA",0,4,4,0,6,2,4,10,5,5]
["Rayón","073",11,7,4,2,2,0,12,6,6,9,3,6,8,4,4,1,1,0,2,2,0,0,0,0,0,0,0,1,0,1,"ND","ND","ND",0,0,0,3,1,2,0,0,0,0,0,0,0,0,0,0,"NA",0,0,0,0,0,0,0,1,1,0]
["Reforma","074",82,49,33,8,6,2,70,34,36,16,9,7,42,26,16,61,52,9,8,5,3,1,0,1,0,0,0,1,1,0,"ND","ND","ND",0,0,0,16,9,7,0,0,0,0,0,0,6,2,4,0,"NA",0,0,0,0,3,0,3,2,2,0]
["Las Rosas","075",52,31,21,4,4,0,84,45,39,23,10,13,24,14,10,1,1,0,3,2,1,1,0,1,3,1,2,4,3,1,"ND","ND","ND",0,0,0,24,13,11,1,1,0,1,0,1,17,8,9,0,"NA",0,0,0,0,1,0,1,2,1,1]
["Sabanilla","076",20,15,5,2,2,0,20,8,12,21,9,12,11,8,3,0,0,0,9,6,3,6,5,1,0,0,0,3,2,1,"ND","ND","ND",0,0,0,15,7,8,0,0,0,4,2,2,4,4,0,0,"NA",0,0,0,0,1,1,0,12,7,5]
["Salto de Agua","077",112,61,51,8,7,1,31,16,15,23,8,15,9,6,3,8,7,1,7,5,2,1,0,1,1,1,0,2,0,2,"ND","ND","ND",0,0,0,14,9,5,1,0,1,1,1,0,2,1,1,0,"NA",0,0,0,0,1,1,0,3,1,2]
["San Cristóbal de Las Casas","078",286,162,124,61,45,16,214,135,79,104,50,54,98,56,42,156,125,31,32,18,14,9,3,6,8,7,1,16,6,10,"ND","ND","ND",0,0,0,89,63,26,3,3,0,5,2,3,57,32,25,3,"NA",3,22,10,12,11,6,5,46,22,24]
["San Fernando","079",70,43,27,25,19,6,79,32,47,38,14,24,40,28,12,2,1,1,8,2,6,1,0,1,1,1,0,5,2,3,"ND","ND","ND",0,0,0,22,9,13,0,0,0,0,0,0,22,15,7,0,"NA",0,6,4,2,1,1,0,2,0,2]
["Siltepec","080",91,60,31,5,3,2,22,13,9,29,12,17,14,12,2,3,3,0,8,4,4,0,0,0,0,0,0,5,5,0,"ND","ND","ND",0,0,0,22,17,5,1,0,1,1,0,1,4,1,3,0,"NA",0,0,0,0,4,3,1,10,8,2]
["Simojovel","081",42,21,21,1,1,0,21,5,16,11,6,5,26,20,6,10,8,2,8,4,4,5,4,1,1,1,0,2,2,0,"ND","ND","ND",0,0,0,22,11,11,0,0,0,1,0,1,2,1,1,1,"NA",1,1,1,0,1,1,0,21,13,8]
["Sitalá","082",13,6,7,0,0,0,7,6,1,1,0,1,1,1,0,2,2,0,0,0,0,0,0,0,0,0,0,0,0,0,"ND","ND","ND",0,0,0,6,5,1,0,0,0,0,0,0,3,1,2,1,"NA",1,0,0,0,1,0,1,2,1,1]
["Socoltenango","083",87,42,45,8,5,3,10,6,4,7,4,3,5,1,4,2,2,0,2,1,1,1,0,1,0,0,0,1,0,1,"ND","ND","ND",0,0,0,5,3,2,1,0,1,0,0,0,3,0,3,0,"NA",0,0,0,0,2,1,1,5,2,3]
["Solosuchiapa","084",17,12,5,0,0,0,12,4,8,2,0,2,13,9,4,0,0,0,1,1,0,1,0,1,1,1,0,0,0,0,"ND","ND","ND",0,0,0,6,2,4,0,0,0,0,0,0,6,4,2,0,"NA",0,0,0,0,1,1,0,3,0,3]
["Soyaló","085",18,11,7,2,2,0,11,5,6,10,6,4,11,4,7,1,1,0,3,2,1,0,0,0,0,0,0,1,0,1,"ND","ND","ND",0,0,0,7,7,0,0,0,0,1,1,0,0,0,0,0,"NA",0,2,1,1,0,0,0,3,2,1]
["Suchiapa","086",48,26,22,32,23,9,26,10,16,17,11,6,14,7,7,1,0,1,11,7,4,4,4,0,7,4,3,1,1,0,"ND","ND","ND",0,0,0,20,11,9,1,0,1,2,1,1,6,3,3,0,"NA",0,2,1,1,3,3,0,5,1,4]
["Suchiate","087",73,45,28,14,10,4,74,33,41,35,19,16,13,8,5,7,7,0,7,2,5,6,2,4,3,3,0,3,1,2,"ND","ND","ND",1,1,0,40,24,16,0,0,0,0,0,0,44,24,20,1,"NA",1,3,2,1,2,2,0,23,15,8]
["Sunuapa","088",6,3,3,2,0,2,3,1,2,2,1,1,0,0,0,0,0,0,0,0,0,0,0,0,0,0,0,0,0,0,"ND","ND","ND",0,0,0,4,1,3,0,0,0,0,0,0,2,2,0,0,"NA",0,0,0,0,0,0,0,0,0,0]
["Tapachula","089",594,338,256,468,343,125,519,279,240,340,167,173,291,190,101,381,321,60,105,70,35,23,12,11,13,8,5,46,33,13,"ND","ND","ND",0,0,0,335,212,123,4,1,3,19,6,13,145,74,71,3,"NA",3,61,41,20,33,17,16,20,9,11]
["Tapalapa","090",8,4,4,0,0,0,3,2,1,1,1,0,2,2,0,1,1,0,2,0,2,0,0,0,0,0,0,1,0,1,"ND","ND","ND",0,0,0,5,3,2,0,0,0,0,0,0,1,0,1,0,"NA",0,1,0,1,0,0,0,0,0,0]
["Tapilula","091",36,24,12,3,2,1,22,9,13,9,6,3,5,3,2,2,2,0,1,0,1,0,0,0,0,0,0,0,0,0,"ND","ND","ND",0,0,0,8,7,1,0,0,0,1,0,1,1,1,0,0,"NA",0,1,0,1,1,0,1,0,0,0]
["Tecpatán","092",80,51,29,5,4,1,53,23,30,19,11,8,8,5,3,0,0,0,8,3,5,2,0,2,0,0,0,2,0,2,"ND","ND","ND",0,0,0,7,1,6,0,0,0,0,0,0,6,5,1,0,"NA",0,0,0,0,1,1,0,0,0,0]
["Tenejapa","093",46,21,25,0,0,0,34,22,12,21,10,11,49,25,24,1,1,0,22,9,13,3,2,1,0,0,0,6,3,3,"ND","ND","ND",1,0,1,47,25,22,0,0,0,1,0,1,22,12,10,0,"NA",0,5,4,1,2,2,0,17,9,8]
["Teopisca","094",59,31,28,0,0,0,54,31,23,31,16,15,31,21,10,4,3,1,4,1,3,3,2,1,0,0,0,3,2,1,"ND","ND","ND",0,0,0,30,16,14,0,0,0,0,0,0,23,16,7,3,"NA",3,1,1,0,2,2,0,19,10,9]
["Tila","096",131,64,67,14,12,2,28,15,13,22,13,9,54,32,22,8,6,2,19,12,7,7,3,4,3,3,0,8,5,3,"ND","ND","ND",0,0,0,41,24,17,0,0,0,3,0,3,25,14,11,3,"NA",3,0,0,0,1,0,1,2,1,1]
["Tonalá","097",401,226,175,74,51,23,214,95,119,108,66,42,83,46,37,106,87,19,24,17,7,5,2,3,1,1,0,13,7,6,"ND","ND","ND",0,0,0,45,31,14,1,1,0,1,1,0,28,16,12,2,"NA",2,3,3,0,3,2,1,12,6,6]
["Totolapa","098",15,13,2,0,0,0,13,9,4,7,4,3,5,3,2,0,0,0,1,1,0,0,0,0,0,0,0,2,2,0,"ND","ND","ND",0,0,0,2,1,1,0,0,0,0,0,0,1,0,1,0,"NA",0,0,0,0,0,0,0,4,1,3]
["La Trinitaria","099",142,78,64,17,12,5,216,118,98,46,19,27,12,9,3,7,7,0,5,4,1,7,2,5,1,1,0,9,3,6,"ND","ND","ND",0,0,0,57,42,15,3,0,3,4,0,4,33,20,13,1,"NA",1,0,0,0,6,4,2,9,5,4]
["Tumbalá","100",77,36,41,2,2,0,17,6,11,36,19,17,22,8,14,1,1,0,2,2,0,0,0,0,1,1,0,2,1,1,"ND","ND","ND",0,0,0,15,5,10,0,0,0,0,0,0,12,4,8,0,"NA",0,1,1,0,2,0,2,3,1,2]
["Tuxtla Gutiérrez","101",1024,564,460,814,527,287,922,483,439,492,220,272,477,331,146,286,232,54,138,97,41,51,29,22,17,11,6,54,40,14,"ND","ND","ND",1,1,0,351,208,143,6,2,4,25,9,16,161,96,65,3,"NA",3,69,45,24,33,16,17,30,18,12]
["Tuxtla Chico","102",112,66,46,14,10,4,74,31,43,41,14,27,29,14,15,5,4,1,9,5,4,5,3,2,1,1,0,7,5,2,"ND","ND","ND",0,0,0,40,25,15,1,0,1,0,0,0,21,13,8,1,"NA",1,6,4,2,5,3,2,2,2,0]
["Tuzantán","103",130,80,50,9,3,6,40,23,17,19,12,7,11,8,3,2,1,1,5,3,2,1,0,1,5,5,0,2,2,0,"ND","ND","ND",0,0,0,19,9,10,0,0,0,1,1,0,2,2,0,0,"NA",0,4,2,2,1,1,0,0,0,0]
["Tzimol","104",28,13,15,1,1,0,31,13,18,17,5,12,13,11,2,1,1,0,2,2,0,0,0,0,2,2,0,4,2,2,"ND","ND","ND",0,0,0,15,11,4,0,0,0,1,0,1,6,3,3,0,"NA",0,0,0,0,3,2,1,21,12,9]
["Unión Juárez","105",20,10,10,3,1,2,16,4,12,11,3,8,5,3,2,0,0,0,2,2,0,0,0,0,0,0,0,6,3,3,"ND","ND","ND",0,0,0,27,20,7,0,0,0,0,0,0,6,5,1,0,"NA",0,1,1,0,0,0,0,8,4,4]
["Venustiano Carranza","106",249,148,101,34,23,11,75,26,49,61,26,35,31,24,7,3,3,0,12,6,6,1,0,1,1,0,1,7,4,3,"ND","ND","ND",0,0,0,60,37,23,2,1,1,1,0,1,23,13,10,2,"NA",2,6,2,4,4,1,3,1,1,0]
["Villa Corzo","107",151,75,76,17,13,4,130,58,72,57,35,22,66,40,26,4,2,2,10,6,4,3,0,3,6,4,2,7,3,4,"ND","ND","ND",0,0,0,61,40,21,1,1,0,5,3,2,18,12,6,1,"NA",1,6,3,3,5,5,0,7,5,2]
["Villaflores","108",322,192,130,40,24,16,250,120,130,111,58,53,113,69,44,58,48,10,27,15,12,7,4,3,4,3,1,17,8,9,"ND","ND","ND",0,0,0,76,49,27,3,2,1,2,1,1,38,23,15,1,"NA",1,10,5,5,7,4,3,20,8,12]
["Yajalón","109",40,20,20,1,0,1,28,11,17,26,10,16,14,11,3,32,28,4,9,7,2,5,1,4,1,0,1,5,3,2,"ND","ND","ND",0,0,0,19,12,7,1,1,0,1,1,0,13,8,5,0,"NA",0,1,1,0,0,0,0,27,19,8]
["San Lucas","110",20,12,8,1,1,0,16,2,14,6,2,4,4,2,2,0,0,0,2,2,0,0,0,0,0,0,0,0,0,0,"ND","ND","ND",0,0,0,12,4,8,0,0,0,0,0,0,1,1,0,0,"NA",0,0,0,0,1,1,0,7,3,4]
["Zinacantán","111",38,24,14,2,2,0,59,35,24,21,8,13,16,9,7,0,0,0,28,19,9,0,0,0,0,0,0,4,3,1,"ND","ND","ND",0,0,0,33,24,9,0,0,0,4,2,2,23,14,9,0,"NA",0,0,0,0,1,0,1,35,17,18]
["San Juan Cancuc","112",22,13,9,0,0,0,19,6,13,10,3,7,9,5,4,0,0,0,17,9,8,0,0,0,0,0,0,0,0,0,"ND","ND","ND",0,0,0,10,9,1,0,0,0,0,0,0,14,11,3,0,"NA",0,0,0,0,0,0,0,34,20,14]
["Aldama","113",8,4,4,0,0,0,2,2,0,4,2,2,5,4,1,0,0,0,4,3,1,0,0,0,0,0,0,0,0,0,"ND","ND","ND",0,0,0,7,4,3,0,0,0,0,0,0,0,0,0,1,"NA",1,0,0,0,0,0,0,9,4,5]
["Benemérito de las Américas","114",45,29,16,8,5,3,11,9,2,7,4,3,23,16,7,16,11,5,2,1,1,0,0,0,0,0,0,1,1,0,"ND","ND","ND",0,0,0,3,2,1,0,0,0,0,0,0,2,2,0,0,"NA",0,1,0,1,2,2,0,5,1,4]
["Maravilla Tenejapa","115",16,12,4,0,0,0,26,13,13,4,0,4,10,7,3,0,0,0,7,4,3,0,0,0,0,0,0,1,0,1,"ND","ND","ND",0,0,0,8,4,4,1,1,0,0,0,0,4,2,2,1,"NA",1,0,0,0,0,0,0,11,5,6]
["Marqués de Comillas","116",21,19,2,2,2,0,11,8,3,4,2,2,6,5,1,4,4,0,1,1,0,0,0,0,0,0,0,1,1,0,"ND","ND","ND",0,0,0,4,2,2,0,0,0,0,0,0,1,1,0,0,"NA",0,1,0,1,1,0,1,0,0,0]
["Montecristo de Guerrero","117",8,4,4,1,1,0,5,3,2,4,2,2,3,1,2,0,0,0,3,2,1,0,0,0,0,0,0,0,0,0,"ND","ND","ND",0,0,0,6,4,2,0,0,0,0,0,0,1,1,0,0,"NA",0,1,1,0,1,1,0,0,0,0]
["San Andrés Duraznal","118",0,0,0,0,0,0,0,0,0,0,0,0,0,0,0,0,0,0,0,0,0,0,0,0,0,0,0,0,0,0,"ND","ND","ND",0,0,0,1,1,0,0,0,0,0,0,0,0,0,0,0,"NA",0,0,0,0,0,0,0,0,0,0]
["Santiago el Pinar","119",2,1,1,0,0,0,4,2,2,1,0,1,1,1,0,0,0,0,0,0,0,0,0,0,0,0,0,1,1,0,"ND","ND","ND",0,0,0,0,0,0,0,0,0,1,0,1,2,1,1,0,"NA",0,0,0,0,0,0,0,14,7,7]
["Capitán Luis Ángel Vidal","120",0,0,0,0,0,0,0,0,0,0,0,0,0,0,0,0,0,0,0,0,0,0,0,0,0,0,0,0,0,0,"ND","ND","ND",0,0,0,0,0,0,0,0,0,0,0,0,0,0,0,0,"NA",0,0,0,0,0,0,0,0,0,0]
["Rincón Chamula San Pedro","121",10,4,6,0,0,0,14,3,11,3,2,1,0,0,0,0,0,0,6,4,2,0,0,0,0,0,0,0,0,0,"ND","ND","ND",0,0,0,5,4,1,0,0,0,0,0,0,2,1,1,0,"NA",0,0,0,0,5,3,2,2,1,1]
["El Parral","122",33,16,17,9,7,2,47,26,21,15,7,8,10,8,2,0,0,0,2,1,1,4,2,2,1,1,0,2,1,1,"ND","ND","ND",0,0,0,19,9,10,0,0,0,3,0,3,2,1,1,0,"NA",0,1,1,0,0,0,0,1,0,1]
["Emiliano Zapata","123",37,21,16,15,12,3,29,11,18,13,7,6,12,6,6,1,1,0,0,0,0,0,0,0,0,0,0,2,2,0,"ND","ND","ND",0,0,0,6,4,2,0,0,0,0,0,0,2,1,1,0,"NA",0,0,0,0,2,2,0,3,2,1]
["Mezcalapa","124",77,48,29,6,3,3,46,26,20,8,5,3,9,7,2,1,1,0,4,4,0,0,0,0,0,0,0,0,0,0,"ND","ND","ND",0,0,0,10,6,4,1,0,1,0,0,0,4,3,1,0,"NA",0,1,0,1,0,0,0,3,3,0]
["Honduras de la Sierra","125",0,0,0,0,0,0,0,0,0,0,0,0,0,0,0,0,0,0,0,0,0,0,0,0,0,0,0,0,0,0,"ND","ND","ND",0,0,0,0,0,0,0,0,0,0,0,0,0,0,0,0,"NA",0,0,0,0,0,0,0,0,0,0]
["Belisario Domínguez","126",0,0,0,0,0,0,0,0,0,0,0,0,0,0,0,0,0,0,0,0,0,0,0,0,0,0,0,0,0,0,"ND","ND","ND",0,0,0,0,0,0,0,0,0,0,0,0,0,0,0,0,"NA",0,0,0,0,0,0,0,0,0,0]

{"sheet":"Mpal. 21","index":217,"n_rows":126,"n_cols":62,"rows_kept":126,"cut":false,"hidden":true,"merged":[]}
["ESTADO","CVE_MUN","Enfermedades del sistema circulatorio","Hombres 1","Mujeres 1","Asignación provisoria de nuevas afecciones de etiología incierta o de uso emergente, sin especificación","Hombres 2","Mujeres 2","Enfermedades endocrinas, nutricionales y metabólicas","Hombres 3","Mujeres 3","Tumores (neoplasias)","Hombres 4","Mujeres 4","Enfermedades del sistema respiratorio","Hombres 5","Mujeres 5","Causas externas de morbilidad y de mortalidad","Hombres 6","Mujeres 6","Ciertas enfermedades infecciosas y parasitarias","Hombres 7","Mujeres 7","Enfermedades de la sangre y de los órganos hematopoyéticos, y ciertos trastornos que afectan el mecanismo de la inmunidad","Hombres 8","Mujeres 8","Trastornos mentales y del comportamiento","Hombres 9","Mujeres 9","Enfermedades del sistema nervioso","Hombres 10","Mujeres 10","Enfermedades del ojo y sus anexos","Hombres 11","Mujeres 11","Enfermedades del oído y de la apófisis mastoides","Hombres 12","Mujeres 12","Enfermedades del sistema digestivo","Hombres 13","Mujeres 13","Enfermedades de la piel y del tejido subcutáneo","Hombres 14","Mujeres 14","Enfermedades del sistema osteomuscular y del tejido conjuntivo","Hombres 15","Mujeres 15","Enfermedades del sistema genitourinario","Hombres 16","Mujeres 16","Embarazo, parto y puerperio","Hombres 17","Mujeres 17","Ciertas afecciones originadas en el periodo perinatal","Hombres 18","Mujeres 18","Malformaciones congénitas, deformidades y anomalías cromosómicas","Hombres 19","Mujeres 19","Síntomas, signos y hallazgos anormales clínicos y de laboratorio, no clasificados en otra parte","Hombres 20","Mujeres 20"]
["Acacoyagua","001",68,41,27,6,4,2,17,4,13,18,8,10,15,14,1,11,8,3,3,3,0,4,2,2,0,0,0,1,1,0,0,0,0,"ND","ND","ND",12,8,4,0,0,0,0,0,0,4,1,3,0,"NA",0,3,0,3,1,1,0,1,1,0]
["Acala","002",51,36,15,9,6,3,30,10,20,19,10,9,11,6,5,6,3,3,5,4,1,1,0,1,0,0,0,5,2,3,0,0,0,"ND","ND","ND",13,8,5,1,1,0,1,0,1,6,3,3,1,"NA",1,4,2,2,3,2,1,3,2,1]
["Acapetahua","003",84,48,36,30,22,8,52,33,19,36,16,20,17,12,5,20,14,6,7,5,2,6,6,0,2,1,1,1,0,1,0,0,0,"ND","ND","ND",26,14,12,0,0,0,0,0,0,14,4,10,0,"NA",0,4,2,2,2,1,1,3,3,0]
["Altamirano","004",42,17,25,5,3,2,23,11,12,15,11,4,19,12,7,3,3,0,4,2,2,4,3,1,0,0,0,3,2,1,0,0,0,"ND","ND","ND",10,6,4,1,0,1,0,0,0,2,1,1,3,"NA",3,13,7,6,3,0,3,7,1,6]
["Amatán","005",43,25,18,0,0,0,21,12,9,12,6,6,4,0,4,5,3,2,2,1,1,1,0,1,0,0,0,0,0,0,0,0,0,"ND","ND","ND",9,6,3,0,0,0,0,0,0,5,5,0,1,"NA",1,0,0,0,0,0,0,12,5,7]
["Amatenango de la Frontera","006",72,44,28,15,9,6,40,14,26,25,14,11,24,16,8,1,0,1,3,2,1,0,0,0,0,0,0,6,3,3,0,0,0,"ND","ND","ND",20,12,8,0,0,0,3,1,2,14,8,6,0,"NA",0,2,2,0,1,0,1,13,4,9]
["Amatenango del Valle","007",37,19,18,1,1,0,3,1,2,1,1,0,5,4,1,0,0,0,10,5,5,1,1,0,0,0,0,1,1,0,0,0,0,"ND","ND","ND",3,2,1,0,0,0,0,0,0,3,3,0,0,"NA",0,0,0,0,0,0,0,13,8,5]
["Ángel Albino Corzo","008",29,22,7,12,8,4,29,15,14,16,6,10,25,18,7,3,2,1,14,7,7,1,1,0,0,0,0,5,3,2,0,0,0,"ND","ND","ND",19,10,9,1,1,0,0,0,0,6,3,3,0,"NA",0,1,0,1,2,2,0,20,16,4]
["Arriaga","009",135,78,57,22,9,13,115,49,66,46,19,27,30,18,12,3,2,1,0,0,0,3,2,1,3,2,1,4,3,1,0,0,0,"ND","ND","ND",47,27,20,5,4,1,2,0,2,18,11,7,0,"NA",0,0,0,0,2,1,1,5,3,2]
["Bejucal de Ocampo","010",13,10,3,0,0,0,1,0,1,3,1,2,2,1,1,0,0,0,1,0,1,0,0,0,1,1,0,1,1,0,0,0,0,"ND","ND","ND",16,5,11,0,0,0,0,0,0,3,1,2,0,"NA",0,0,0,0,1,1,0,3,0,3]
["Bella Vista","011",63,37,26,6,5,1,19,6,13,23,9,14,7,4,3,0,0,0,12,10,2,3,1,2,1,1,0,1,1,0,0,0,0,"ND","ND","ND",18,12,6,1,0,1,0,0,0,12,6,6,0,"NA",0,0,0,0,1,1,0,5,4,1]
["Berriozábal","012",51,31,20,36,23,13,70,33,37,43,21,22,18,10,8,6,3,3,2,2,0,2,1,1,1,1,0,2,2,0,0,0,0,"ND","ND","ND",36,20,16,1,1,0,1,0,1,9,5,4,1,"NA",1,4,2,2,3,3,0,2,0,2]
["Bochil","013",28,16,12,7,7,0,29,8,21,18,9,9,27,19,8,4,3,1,4,4,0,2,0,2,0,0,0,2,0,2,0,0,0,"ND","ND","ND",31,18,13,0,0,0,0,0,0,6,2,4,0,"NA",0,24,9,15,7,2,5,15,7,8]
["El Bosque","014",58,31,27,1,1,0,15,3,12,9,5,4,9,4,5,0,0,0,5,2,3,0,0,0,0,0,0,3,2,1,0,0,0,"ND","ND","ND",21,9,12,0,0,0,0,0,0,2,0,2,0,"NA",0,1,1,0,5,2,3,6,3,3]
["Cacahoatán","015",93,52,41,28,16,12,50,24,26,46,21,25,29,14,15,1,1,0,1,1,0,2,1,1,1,1,0,14,10,4,0,0,0,"ND","ND","ND",80,44,36,1,1,0,1,0,1,24,14,10,0,"NA",0,5,3,2,6,2,4,29,20,9]
["Catazajá","016",75,42,33,1,1,0,21,8,13,10,6,4,9,5,4,0,0,0,0,0,0,1,1,0,0,0,0,2,0,2,0,0,0,"ND","ND","ND",4,1,3,0,0,0,2,1,1,1,1,0,0,"NA",0,0,0,0,0,0,0,12,7,5]
["Cintalapa de Figueroa","017",361,192,169,87,47,40,126,55,71,78,44,34,43,22,21,14,12,2,0,0,0,9,5,4,4,3,1,9,6,3,0,0,0,"ND","ND","ND",48,32,16,1,1,0,2,1,1,21,9,12,1,"NA",1,11,8,3,4,2,2,16,4,12]
["Coapilla","018",18,8,10,2,2,0,16,9,7,4,3,1,2,0,2,1,1,0,2,1,1,0,0,0,2,0,2,2,1,1,0,0,0,"ND","ND","ND",12,9,3,0,0,0,1,0,1,5,2,3,0,"NA",0,1,1,0,3,1,2,0,0,0]
["Comitán de Domínguez","019",217,117,100,154,91,63,173,89,84,140,70,70,79,42,37,156,123,33,6,5,1,7,3,4,12,12,0,27,11,16,0,0,0,"ND","ND","ND",80,50,30,5,2,3,11,4,7,47,25,22,4,"NA",4,34,23,11,29,13,16,125,70,55]
["La Concordia","020",162,100,62,27,16,11,49,25,24,40,25,15,41,25,16,0,0,0,1,1,0,1,0,1,2,1,1,6,4,2,0,0,0,"ND","ND","ND",26,10,16,0,0,0,0,0,0,20,13,7,1,"NA",1,0,0,0,0,0,0,7,5,2]
["Copainalá","021",65,32,33,13,7,6,23,10,13,16,6,10,19,9,10,9,8,1,1,1,0,0,0,0,0,0,0,0,0,0,0,0,0,"ND","ND","ND",18,6,12,1,1,0,0,0,0,7,3,4,0,"NA",0,3,0,3,2,0,2,1,0,1]
["Chalchihuitán","022",3,0,3,0,0,0,22,9,13,7,1,6,9,6,3,0,0,0,26,16,10,0,0,0,0,0,0,2,2,0,0,0,0,"ND","ND","ND",21,12,9,0,0,0,0,0,0,2,1,1,0,"NA",0,4,3,1,0,0,0,27,17,10]
["Chamula","023",54,27,27,1,0,1,59,30,29,20,6,14,156,82,74,0,0,0,7,3,4,1,0,1,1,0,1,0,0,0,0,0,0,"ND","ND","ND",59,45,14,0,0,0,3,0,3,24,9,15,1,"NA",1,1,1,0,0,0,0,4,1,3]
["Chanal","024",22,13,9,4,3,1,13,8,5,10,3,7,10,7,3,1,1,0,4,3,1,0,0,0,1,1,0,4,2,2,0,0,0,"ND","ND","ND",6,2,4,0,0,0,3,0,3,4,2,2,0,"NA",0,2,1,1,0,0,0,19,14,5]
["Chapultenango","025",4,2,2,0,0,0,14,5,9,3,1,2,2,1,1,1,1,0,27,12,15,1,1,0,0,0,0,0,0,0,0,0,0,"ND","ND","ND",4,3,1,0,0,0,1,0,1,0,0,0,0,"NA",0,2,1,1,0,0,0,5,4,1]
["Chenalhó","026",50,34,16,1,1,0,29,16,13,15,5,10,95,55,40,0,0,0,71,39,32,1,1,0,1,1,0,2,0,2,0,0,0,"ND","ND","ND",17,11,6,0,0,0,1,1,"",7,4,3,2,"NA",2,0,0,0,1,1,0,17,8,9]
["Chiapa de Corzo","027",232,119,113,43,27,16,129,59,70,101,50,51,34,19,15,8,5,3,5,3,2,32,19,13,2,0,2,4,2,2,0,0,0,"ND","ND","ND",78,53,25,0,0,0,5,3,2,29,11,18,1,"NA",1,4,2,2,4,2,2,1,1,0]
["Chiapilla","028",13,10,3,0,0,0,11,2,9,2,1,1,4,2,2,0,0,0,1,0,1,0,0,0,0,0,0,0,0,0,0,0,0,"ND","ND","ND",5,0,5,0,0,0,0,0,0,1,1,0,0,"NA",0,0,0,0,0,0,0,1,1,0]
["Chicoasén","029",11,5,6,3,2,1,7,3,4,3,1,2,2,2,0,0,0,0,34,20,14,0,0,0,1,1,0,1,0,1,0,0,0,"ND","ND","ND",2,1,1,0,0,0,0,0,0,1,1,0,0,"NA",0,0,0,0,1,0,1,0,0,0]
["Chicomuselo","030",81,36,45,23,14,9,36,17,19,32,18,14,26,15,11,2,2,0,11,8,3,3,1,2,2,2,0,3,3,0,0,0,0,"ND","ND","ND",23,17,6,1,0,1,1,0,1,6,4,2,0,"NA",0,0,0,0,4,1,3,7,3,4]
["Chilón","031",142,78,64,3,3,0,114,50,64,49,19,30,35,19,16,29,26,3,2,2,0,4,1,3,1,1,0,6,4,2,0,0,0,"ND","ND","ND",35,20,15,0,0,0,2,0,2,10,6,4,1,"NA",1,1,1,0,9,3,6,170,90,80]
["Escuintla","032",89,51,38,18,11,7,43,25,18,30,17,13,12,7,5,20,19,1,13,7,6,1,1,0,1,1,0,3,1,2,0,0,0,"ND","ND","ND",25,11,14,0,0,0,0,0,0,10,7,3,1,"NA",1,1,1,0,3,1,2,16,9,7]
["Francisco León","033",14,11,3,2,1,1,9,7,2,4,1,3,4,3,1,0,0,0,6,1,5,1,1,0,0,0,0,0,0,0,0,0,0,"ND","ND","ND",4,2,2,0,0,0,0,0,0,3,0,3,0,"NA",0,2,1,1,0,0,0,2,1,1]
["Frontera Comalapa","034",128,73,55,46,27,19,105,46,59,51,22,29,40,21,19,8,8,0,4,2,2,4,3,1,0,0,0,4,1,3,0,0,0,"ND","ND","ND",42,25,17,0,0,0,4,3,1,17,8,9,1,"NA",1,3,1,2,4,1,3,45,26,19]
["Frontera Hidalgo","035",32,19,13,8,5,3,32,15,17,9,7,2,7,3,4,0,0,0,15,12,3,1,1,0,1,1,0,1,0,1,0,0,0,"ND","ND","ND",19,16,3,0,0,0,1,1,"",18,11,7,0,"NA",0,1,1,0,2,1,1,1,1,0]
["La Grandeza","036",21,15,6,4,2,2,4,4,0,7,6,1,0,0,0,0,0,0,8,6,2,0,0,0,0,0,0,2,2,0,0,0,0,"ND","ND","ND",14,9,5,0,0,0,0,0,0,1,1,0,0,"NA",0,1,1,0,2,1,1,5,3,2]
["Huehuetán","037",103,55,48,28,22,6,64,23,41,41,16,25,36,24,12,2,1,1,1,0,1,9,4,5,0,0,0,3,2,1,0,0,0,"ND","ND","ND",46,27,19,1,0,1,2,2,"",14,7,7,0,"NA",0,2,0,2,1,0,1,1,1,0]
["Huixtán","038",41,22,19,2,2,0,30,10,20,14,10,4,22,13,9,0,0,0,2,2,0,3,1,2,11,11,0,5,1,4,0,0,0,"ND","ND","ND",18,9,9,0,0,0,2,1,1,15,7,8,2,"NA",2,3,2,1,4,4,0,69,38,31]
["Huitiupán","039",35,19,16,2,1,1,18,11,7,4,1,3,13,7,6,0,0,0,2,0,2,2,1,1,1,1,0,1,0,1,0,0,0,"ND","ND","ND",9,6,3,0,0,0,0,0,0,7,5,2,0,"NA",0,0,0,0,1,1,0,15,9,6]
["Huixtla","040",86,50,36,75,39,36,95,41,54,48,25,23,60,33,27,20,17,3,1,1,0,1,1,0,2,2,0,4,3,1,0,0,0,"ND","ND","ND",79,49,30,0,0,0,5,1,4,22,15,7,0,"NA",0,17,8,9,6,2,4,5,2,3]
["La Independencia","041",37,15,22,22,15,7,144,71,73,19,10,9,4,1,3,1,1,0,1,0,1,1,1,0,1,1,0,0,0,0,0,0,0,"ND","ND","ND",22,20,2,0,0,0,0,0,0,5,2,3,0,"NA",0,1,1,0,0,0,0,39,20,19]
["Ixhuatán","042",31,17,14,4,2,2,8,3,5,9,5,4,3,1,2,1,1,0,5,4,1,0,0,0,0,0,0,1,1,0,0,0,0,"ND","ND","ND",4,3,1,0,0,0,0,0,0,1,0,1,1,"NA",1,0,0,0,0,0,0,1,0,1]
["Ixtacomitán","043",30,21,9,4,4,0,17,8,9,12,5,7,10,6,4,0,0,0,9,4,5,0,0,0,2,2,0,1,1,0,0,0,0,"ND","ND","ND",5,5,0,0,0,0,0,0,0,5,2,3,0,"NA",0,2,1,1,0,0,0,3,1,2]
["Ixtapa","044",62,33,29,2,1,1,34,15,19,23,12,11,3,3,0,0,0,0,4,4,0,1,1,0,0,0,0,3,2,1,0,0,0,"ND","ND","ND",13,9,4,0,0,0,1,0,1,2,1,1,0,"NA",0,0,0,0,2,1,1,1,1,0]
["Ixtapangajoya","045",12,5,7,0,0,0,13,7,6,2,2,0,1,0,1,0,0,0,7,3,4,0,0,0,0,0,0,0,0,0,0,0,0,"ND","ND","ND",2,1,1,0,0,0,1,1,"",1,0,1,0,"NA",0,0,0,0,0,0,0,0,0,0]
["Jiquipilas","046",141,81,60,35,18,17,81,35,46,60,34,26,29,16,13,12,10,2,1,1,0,4,2,2,0,0,0,1,1,0,0,0,0,"ND","ND","ND",32,19,13,0,0,0,3,1,2,1,1,0,1,"NA",1,1,1,0,2,0,2,17,8,9]
["Jitotol","047",20,7,13,4,3,1,17,6,11,14,9,5,13,10,3,2,1,1,5,5,0,1,0,1,2,1,1,7,4,3,0,0,0,"ND","ND","ND",14,7,7,0,0,0,1,1,"",5,3,2,1,"NA",1,6,3,3,3,1,2,4,2,2]
["Juárez","048",66,39,27,25,9,16,34,14,20,15,8,7,18,12,6,3,3,0,22,16,6,1,1,0,0,0,0,5,3,2,0,0,0,"ND","ND","ND",10,6,4,0,0,0,1,0,1,7,5,2,0,"NA",0,1,1,0,0,0,0,0,0,0]
["Larráinzar","049",47,29,18,0,0,0,8,3,5,16,6,10,31,20,11,2,2,0,2,1,1,3,1,2,0,0,0,0,0,0,0,0,0,"ND","ND","ND",8,6,2,0,0,0,0,0,0,5,1,4,0,"NA",0,1,1,0,4,3,1,20,9,11]
["La Libertad","050",8,4,4,2,1,1,9,2,7,8,4,4,4,1,3,1,0,1,5,2,3,2,1,1,0,0,0,1,1,0,0,0,0,"ND","ND","ND",3,2,1,1,1,0,0,0,0,2,2,0,0,"NA",0,0,0,0,0,0,0,4,2,2]
["Mapastepec","051",79,47,32,13,8,5,104,54,50,50,31,19,20,13,7,6,6,0,18,12,6,28,16,12,0,0,0,8,2,6,0,0,0,"ND","ND","ND",20,17,3,0,0,0,2,1,1,5,5,0,0,"NA",0,4,2,2,3,2,1,0,0,0]
["Las Margaritas","052",88,55,33,25,19,6,115,52,63,61,29,32,24,17,7,11,7,4,19,13,6,9,7,2,4,3,1,19,9,10,0,0,0,"ND","ND","ND",28,20,8,0,0,0,2,0,2,16,11,5,3,"NA",3,7,3,4,8,4,4,235,144,91]
["Mazapa de Madero","053",22,14,8,11,6,5,10,5,5,9,3,6,8,4,4,0,0,0,16,9,7,0,0,0,0,0,0,0,0,0,0,0,0,"ND","ND","ND",11,9,2,0,0,0,0,0,0,1,0,1,0,"NA",0,3,1,2,0,0,0,9,4,5]
["Mazatán","054",71,37,34,31,18,13,53,24,29,41,20,21,15,11,4,9,4,5,25,17,8,5,5,0,0,0,0,4,4,0,0,0,0,"ND","ND","ND",22,14,8,2,1,1,1,1,"",19,9,10,1,"NA",1,3,1,2,2,1,1,6,4,2]
["Metapa","055",18,8,10,10,6,4,14,5,9,11,5,6,3,1,2,0,0,0,1,1,0,1,1,0,0,0,0,1,1,0,0,0,0,"ND","ND","ND",7,4,3,0,0,0,1,1,"",14,11,3,0,"NA",0,0,0,0,0,0,0,0,0,0]
["Mitontic","056",12,4,8,0,0,0,7,4,3,0,0,0,6,5,1,0,0,0,5,4,1,2,0,2,0,0,0,0,0,0,0,0,0,"ND","ND","ND",7,3,4,0,0,0,0,0,0,0,0,0,0,"NA",0,0,0,0,2,1,1,1,0,1]
["Motozintla","057",120,72,48,41,28,13,86,43,43,57,29,28,32,19,13,8,7,1,2,2,0,1,0,1,3,2,1,13,10,3,1,1,0,"ND","ND","ND",79,50,29,1,0,1,1,0,1,21,11,10,1,"NA",1,6,2,4,11,6,5,14,9,5]
["Nicolás Ruíz","058",8,5,3,0,0,0,8,2,6,3,2,1,4,4,0,0,0,0,14,7,7,0,0,0,1,0,1,1,1,0,0,0,0,"ND","ND","ND",4,1,3,0,0,0,0,0,0,1,0,1,0,"NA",0,3,3,0,1,1,0,3,1,2]
["Ocosingo","059",207,125,82,11,6,5,160,72,88,88,48,40,68,46,22,23,20,3,7,3,4,3,1,2,2,2,0,15,11,4,0,0,0,"ND","ND","ND",66,34,32,1,1,0,3,1,2,29,14,15,5,"NA",5,30,18,12,33,20,13,189,117,72]
["Ocotepec","060",23,9,14,0,0,0,6,4,2,3,2,1,1,1,0,0,0,0,1,0,1,1,0,1,0,0,0,1,1,0,0,0,0,"ND","ND","ND",11,6,5,0,0,0,0,0,0,8,4,4,1,"NA",1,2,1,1,10,7,3,10,4,6]
["Ocozocoautla de Espinosa","061",213,110,103,24,12,12,140,57,83,69,34,35,40,25,15,3,1,2,10,9,1,3,2,1,0,0,0,8,3,5,0,0,0,"ND","ND","ND",56,31,25,1,0,1,1,1,"",18,14,4,2,"NA",2,20,11,9,15,9,6,6,0,6]
["Ostuacán","062",53,38,15,7,5,2,30,16,14,12,4,8,12,7,5,3,1,2,3,1,2,1,1,0,0,0,0,0,0,0,0,0,0,"ND","ND","ND",13,8,5,0,0,0,1,0,1,6,4,2,0,"NA",0,1,1,0,0,0,0,1,1,0]
["Osumacinta","063",13,10,3,1,1,0,3,1,2,3,2,1,3,3,0,0,0,0,1,0,1,0,0,0,0,0,0,0,0,0,0,0,0,"ND","ND","ND",5,4,1,0,0,0,0,0,0,2,1,1,0,"NA",0,0,0,0,0,0,0,1,1,0]
["Oxchuc","064",55,31,24,3,2,1,55,27,28,30,12,18,40,20,20,2,2,0,6,5,1,2,2,0,0,0,0,3,3,0,0,0,0,"ND","ND","ND",30,23,7,1,0,1,2,0,2,18,11,7,1,"NA",1,1,0,1,1,1,0,69,38,31]
["Palenque","065",381,217,164,9,5,4,141,76,65,76,39,37,71,50,21,77,65,12,48,30,18,7,2,5,2,2,0,12,7,5,0,0,0,"ND","ND","ND",45,25,20,0,0,0,4,1,3,21,12,9,0,"NA",0,24,11,13,14,8,6,19,10,9]
["Pantelhó","066",21,12,9,0,0,0,7,2,5,4,3,1,2,2,0,0,0,0,7,5,2,1,0,1,0,0,0,2,1,1,0,0,0,"ND","ND","ND",8,4,4,0,0,0,0,0,0,0,0,0,0,"NA",0,0,0,0,1,0,1,5,1,4]
["Pantepec","067",25,15,10,1,1,0,18,6,12,2,2,0,8,4,4,0,0,0,6,4,2,1,1,0,0,0,0,0,0,0,0,0,0,"ND","ND","ND",8,5,3,0,0,0,0,0,0,0,0,0,0,"NA",0,2,1,1,1,0,1,2,0,2]
["Pichucalco","068",55,26,29,15,8,7,31,17,14,13,10,3,16,8,8,7,7,0,7,4,3,0,0,0,1,1,0,4,1,3,0,0,0,"ND","ND","ND",20,10,10,0,0,0,1,1,"",2,2,0,0,"NA",0,9,6,3,4,2,2,2,2,0]
["Pijijiapan","069",164,95,69,48,26,22,100,42,58,57,31,26,13,9,4,23,19,4,2,2,0,4,3,1,1,0,1,5,3,2,0,0,0,"ND","ND","ND",44,28,16,0,0,0,1,1,"",18,13,5,1,"NA",1,1,0,1,1,1,0,0,0,0]
["El Porvenir","070",21,14,7,6,6,0,2,0,2,10,6,4,2,2,0,0,0,0,6,3,3,0,0,0,0,0,0,3,2,1,0,0,0,"ND","ND","ND",15,9,6,0,0,0,1,0,1,6,4,2,0,"NA",0,1,0,1,4,2,2,8,4,4]
["Villa Comaltitlán","071",78,49,29,13,7,6,54,24,30,33,20,13,22,11,11,15,11,4,2,2,0,4,3,1,1,1,0,1,0,1,0,0,0,"ND","ND","ND",24,16,8,0,0,0,0,0,0,7,4,3,1,"NA",1,2,2,0,1,0,1,3,1,2]
["Pueblo Nuevo Solistahuacán","072",41,23,18,2,1,1,37,16,21,8,6,2,23,14,9,3,3,0,1,0,1,0,0,0,0,0,0,1,0,1,0,0,0,"ND","ND","ND",19,9,10,0,0,0,0,0,0,4,3,1,0,"NA",0,3,1,2,12,6,6,5,1,4]
["Rayón","073",18,11,7,2,1,1,7,4,3,5,3,2,9,5,4,0,0,0,2,1,1,0,0,0,0,0,0,0,0,0,0,0,0,"ND","ND","ND",2,1,1,0,0,0,0,0,0,3,1,2,0,"NA",0,0,0,0,0,0,0,2,2,0]
["Reforma","074",77,45,32,19,14,5,38,16,22,37,19,18,31,18,13,93,74,19,4,3,1,1,0,1,1,1,0,1,0,1,0,0,0,"ND","ND","ND",7,5,2,0,0,0,1,0,1,12,7,5,0,"NA",0,0,0,0,0,0,0,7,5,2]
["Las Rosas","075",50,29,21,17,9,8,78,32,46,12,3,9,21,16,5,2,2,0,1,0,1,2,2,0,0,0,0,3,2,1,0,0,0,"ND","ND","ND",20,14,6,1,1,0,0,0,0,9,4,5,1,"NA",1,0,0,0,0,0,0,20,11,9]
["Sabanilla","076",27,14,13,4,1,3,26,14,12,26,17,9,12,8,4,1,1,0,6,2,4,2,0,2,0,0,0,3,2,1,0,0,0,"ND","ND","ND",8,7,1,0,0,0,0,0,0,2,0,2,0,"NA",0,0,0,0,1,0,1,22,9,13]
["Salto de Agua","077",143,84,59,8,6,2,24,10,14,17,7,10,7,4,3,4,4,0,0,0,0,2,2,0,0,0,0,6,4,2,0,0,0,"ND","ND","ND",14,9,5,1,0,1,0,0,0,7,5,2,0,"NA",0,1,1,0,3,2,1,3,2,1]
["San Cristóbal de Las Casas","078",244,141,103,54,32,22,211,106,105,111,48,63,104,58,46,186,153,33,3,2,1,8,3,5,18,18,0,13,5,8,0,0,0,"ND","ND","ND",119,86,33,2,1,1,4,2,2,51,25,26,3,"NA",3,98,50,48,37,20,17,50,23,27]
["San Fernando","079",82,58,24,26,19,7,69,28,41,28,13,15,27,15,12,6,5,1,0,0,0,5,3,2,2,1,1,0,0,0,0,0,0,"ND","ND","ND",26,14,12,0,0,0,0,0,0,6,4,2,1,"NA",1,4,3,1,2,1,1,5,1,4]
["Siltepec","080",101,57,44,2,2,0,6,4,2,30,14,16,6,5,1,3,3,0,10,6,4,0,0,0,0,0,0,5,4,1,0,0,0,"ND","ND","ND",28,18,10,0,0,0,0,0,0,8,5,3,1,"NA",1,2,2,0,0,0,0,11,8,3]
["Simojovel","081",35,16,19,4,4,0,29,10,19,14,7,7,25,14,11,2,1,1,17,9,8,1,0,1,0,0,0,2,1,1,0,0,0,"ND","ND","ND",16,7,9,0,0,0,0,0,0,7,5,2,0,"NA",0,0,0,0,2,1,1,19,9,10]
["Sitalá","082",10,7,3,0,0,0,6,3,3,5,2,3,4,2,2,0,0,0,1,1,0,1,0,1,1,1,0,0,0,0,0,0,0,"ND","ND","ND",7,3,4,0,0,0,0,0,0,0,0,0,0,"NA",0,0,0,0,1,1,0,5,1,4]
["Socoltenango","083",118,72,46,9,4,5,8,3,5,8,2,6,7,4,3,2,1,1,3,2,1,0,0,0,0,0,0,1,0,1,0,0,0,"ND","ND","ND",4,3,1,0,0,0,0,0,0,0,0,0,1,"NA",1,1,0,1,0,0,0,1,1,0]
["Solosuchiapa","084",19,9,10,2,2,0,12,4,8,2,2,0,9,5,4,0,0,0,5,4,1,2,0,2,0,0,0,1,1,0,0,0,0,"ND","ND","ND",5,4,1,0,0,0,0,0,0,1,1,0,0,"NA",0,0,0,0,1,1,0,0,0,0]
["Soyaló","085",9,4,5,2,2,0,18,10,8,11,6,5,12,9,3,0,0,0,131,80,51,1,1,0,1,1,0,0,0,0,0,0,0,"ND","ND","ND",7,2,5,1,0,1,0,0,0,1,0,1,1,"NA",1,4,3,1,0,0,0,3,3,0]
["Suchiapa","086",33,17,16,16,11,5,20,5,15,28,15,13,11,7,4,1,0,1,7,6,1,2,1,1,5,5,0,1,1,0,0,0,0,"ND","ND","ND",12,8,4,1,0,1,0,0,0,4,2,2,0,"NA",0,3,3,0,2,2,0,7,4,3]
["Suchiate","087",94,45,49,16,8,8,115,53,62,34,15,19,13,9,4,13,11,2,11,7,4,0,0,0,1,1,0,2,0,2,0,0,0,"ND","ND","ND",31,24,7,0,0,0,0,0,0,19,9,10,0,"NA",0,1,1,0,6,4,2,15,9,6]
["Sunuapa","088",4,2,2,1,1,0,2,1,1,0,0,0,1,1,0,0,0,0,2,1,1,0,0,0,0,0,0,2,2,0,0,0,0,"ND","ND","ND",2,1,1,0,0,0,0,0,0,0,0,0,0,"NA",0,0,0,0,0,0,0,2,2,0]
["Tapachula","089",735,419,316,521,314,207,541,262,279,278,132,146,203,104,99,390,308,82,4,2,2,21,8,13,6,4,2,29,21,8,0,0,0,"ND","ND","ND",389,264,125,12,4,8,8,2,6,139,80,59,3,"NA",3,57,35,22,27,17,10,31,20,11]
["Tapalapa","090",2,1,1,0,0,0,4,1,3,5,3,2,4,2,2,1,0,1,10,8,2,0,0,0,0,0,0,0,0,0,0,0,0,"ND","ND","ND",1,1,0,1,1,0,0,0,0,2,0,2,0,"NA",0,1,0,1,0,0,0,0,0,0]
["Tapilula","091",31,19,12,1,1,0,14,7,7,11,3,8,8,3,5,4,3,1,19,14,5,0,0,0,0,0,0,4,2,2,0,0,0,"ND","ND","ND",5,4,1,0,0,0,0,0,0,2,0,2,0,"NA",0,0,0,0,0,0,0,2,2,0]
["Tecpatán","092",69,38,31,13,8,5,45,10,35,15,9,6,17,13,4,2,0,2,27,20,7,0,0,0,0,0,0,2,2,0,0,0,0,"ND","ND","ND",11,4,7,0,0,0,1,0,1,8,4,4,1,"NA",1,1,1,0,3,1,2,1,1,0]
["Tenejapa","093",20,9,11,3,2,1,44,24,20,28,10,18,96,59,37,0,0,0,8,7,1,0,0,0,0,0,0,10,5,5,0,0,0,"ND","ND","ND",24,19,5,0,0,0,0,0,0,37,14,23,1,"NA",1,3,2,1,0,0,0,31,16,15]
["Teopisca","094",48,33,15,7,4,3,64,31,33,28,12,16,47,33,14,4,3,1,0,0,0,2,2,0,0,0,0,3,2,1,0,0,0,"ND","ND","ND",30,21,9,2,2,0,1,1,"",12,8,4,0,"NA",0,1,1,0,8,3,5,13,7,6]
["Tila","096",167,97,70,1,1,0,36,18,18,20,7,13,52,35,17,9,5,4,28,18,10,2,1,1,2,2,0,5,4,1,0,0,0,"ND","ND","ND",51,29,22,1,1,0,9,2,7,12,6,6,0,"NA",0,0,0,0,2,2,0,0,0,0]
["Tonalá","097",322,183,139,142,87,55,218,104,114,114,55,59,75,34,41,82,75,7,11,4,7,8,4,4,2,2,0,7,4,3,0,0,0,"ND","ND","ND",77,46,31,1,0,1,7,1,6,25,17,8,1,"NA",1,7,3,4,8,3,5,3,1,2]
["Totolapa","098",16,8,8,3,1,2,13,1,12,2,1,1,4,3,1,1,0,1,3,2,1,0,0,0,0,0,0,2,1,1,0,0,0,"ND","ND","ND",3,1,2,0,0,0,0,0,0,1,0,1,0,"NA",0,0,0,0,1,0,1,2,1,1]
["La Trinitaria","099",281,149,132,29,15,14,215,105,110,48,32,16,12,4,8,2,2,0,12,6,6,6,2,4,1,1,0,5,3,2,0,0,0,"ND","ND","ND",66,52,14,0,0,0,1,0,1,35,16,19,1,"NA",1,1,0,1,12,7,5,15,6,9]
["Tumbalá","100",82,35,47,1,1,0,11,4,7,29,15,14,15,7,8,0,0,0,3,3,0,0,0,0,0,0,0,6,5,1,0,0,0,"ND","ND","ND",18,10,8,0,0,0,0,0,0,9,6,3,0,"NA",0,1,1,0,5,3,2,4,3,1]
["Tuxtla Gutiérrez","101",1024,579,445,861,540,321,654,329,325,555,246,309,443,266,177,388,313,75,0,0,0,116,61,55,20,15,5,72,41,31,0,0,0,"ND","ND","ND",407,247,160,8,5,3,20,6,14,176,91,85,6,"NA",6,94,58,36,43,26,17,31,14,17]
["Tuxtla Chico","102",135,73,62,30,16,14,68,32,36,43,11,32,27,13,14,4,4,0,3,2,1,3,1,2,0,0,0,6,3,3,0,0,0,"ND","ND","ND",76,31,45,0,0,0,1,1,"",28,21,7,1,"NA",1,6,1,5,2,1,1,5,2,3]
["Tuzantán","103",57,38,19,20,8,12,56,30,26,22,10,12,22,10,12,3,2,1,0,0,0,7,3,4,0,0,0,4,2,2,0,0,0,"ND","ND","ND",39,23,16,0,0,0,2,1,1,8,3,5,2,"NA",2,2,2,0,1,1,0,7,3,4]
["Tzimol","104",31,14,17,5,3,2,25,6,19,20,9,11,3,1,2,3,2,1,0,0,0,1,0,1,1,1,0,6,1,5,0,0,0,"ND","ND","ND",12,8,4,0,0,0,0,0,0,4,3,1,0,"NA",0,0,0,0,2,2,0,15,8,7]
["Unión Juárez","105",31,17,14,8,6,2,23,13,10,15,9,6,10,5,5,1,0,1,2,1,1,0,0,0,0,0,0,0,0,0,0,0,0,"ND","ND","ND",18,14,4,0,0,0,3,1,2,4,2,2,0,"NA",0,1,0,1,1,1,0,7,5,2]
["Venustiano Carranza","106",191,109,82,30,14,16,68,27,41,51,33,18,37,18,19,2,1,1,4,2,2,1,1,0,1,0,1,3,1,2,0,0,0,"ND","ND","ND",59,42,17,1,1,0,2,0,2,27,16,11,0,"NA",0,13,10,3,7,3,4,4,0,4]
["Villa Corzo","107",146,81,65,35,18,17,114,52,62,69,34,35,63,42,21,7,6,1,1,0,1,4,1,3,9,9,0,10,7,3,0,0,0,"ND","ND","ND",52,35,17,0,0,0,7,0,7,18,12,6,1,"NA",1,5,1,4,2,2,0,5,1,4]
["Villaflores","108",280,149,131,70,47,23,171,70,101,119,68,51,74,45,29,61,49,12,2,1,1,10,4,6,5,3,2,11,6,5,0,0,0,"ND","ND","ND",80,57,23,1,0,1,6,4,2,34,22,12,1,"NA",1,16,6,10,7,6,1,19,11,8]
["Yajalón","109",75,40,35,6,2,4,27,10,17,9,6,3,36,21,15,32,27,5,3,2,1,5,3,2,3,2,1,3,1,2,0,0,0,"ND","ND","ND",21,12,9,0,0,0,1,0,1,5,3,2,0,"NA",0,11,5,6,4,1,3,60,33,27]
["San Lucas","110",19,10,9,1,1,0,15,2,13,6,3,3,2,1,1,2,0,2,24,14,10,0,0,0,2,2,0,1,0,1,0,0,0,"ND","ND","ND",7,5,2,0,0,0,0,0,0,0,0,0,0,"NA",0,0,0,0,0,0,0,2,1,1]
["Zinacantán","111",58,34,24,2,1,1,60,31,29,28,15,13,11,9,2,0,0,0,0,0,0,5,2,3,2,2,0,5,4,1,0,0,0,"ND","ND","ND",36,27,9,1,0,1,3,2,1,23,13,10,1,"NA",1,0,0,0,0,0,0,53,23,30]
["San Juan Cancuc","112",9,7,2,0,0,0,28,18,10,2,1,1,11,4,7,0,0,0,5,4,1,0,0,0,0,0,0,0,0,0,0,0,0,"ND","ND","ND",15,5,10,0,0,0,0,0,0,13,9,4,0,"NA",0,1,1,0,0,0,0,19,9,10]
["Aldama","113",3,1,2,0,0,0,8,4,4,0,0,0,3,1,2,0,0,0,5,2,3,0,0,0,0,0,0,0,0,0,0,0,0,"ND","ND","ND",1,1,0,0,0,0,0,0,0,0,0,0,0,"NA",0,0,0,0,0,0,0,7,4,3]
["Benemérito de las Américas","114",52,33,19,7,6,1,20,10,10,4,1,3,17,11,6,17,14,3,11,10,1,2,1,1,0,0,0,3,1,2,0,0,0,"ND","ND","ND",4,3,1,0,0,0,0,0,0,4,1,3,0,"NA",0,11,5,6,1,1,0,0,0,0]
["Maravilla Tenejapa","115",2,2,0,2,1,1,16,8,8,7,4,3,6,4,2,1,0,1,1,1,0,2,1,1,0,0,0,2,1,1,0,0,0,"ND","ND","ND",5,2,3,0,0,0,0,0,0,1,0,1,0,"NA",0,0,0,0,1,0,1,4,1,3]
["Marqués de Comillas","116",19,12,7,3,1,2,13,4,9,12,4,8,8,3,5,14,13,1,0,0,0,2,0,2,0,0,0,0,0,0,0,0,0,"ND","ND","ND",4,3,1,0,0,0,0,0,0,0,0,0,0,"NA",0,3,1,2,1,1,0,0,0,0]
["Montecristo de Guerrero","117",18,9,9,0,0,0,3,1,2,5,3,2,9,7,2,0,0,0,11,8,3,0,0,0,0,0,0,0,0,0,0,0,0,"ND","ND","ND",10,8,2,1,1,0,1,1,"",0,0,0,0,"NA",0,0,0,0,0,0,0,1,1,0]
["San Andrés Duraznal","118",1,1,0,0,0,0,0,0,0,0,0,0,1,0,1,0,0,0,117,86,31,0,0,0,0,0,0,0,0,0,0,0,0,"ND","ND","ND",0,0,0,0,0,0,0,0,0,0,0,0,0,"NA",0,0,0,0,0,0,0,2,2,0]
["Santiago el Pinar","119",0,0,0,0,0,0,3,2,1,0,0,0,4,2,2,0,0,0,10,3,7,0,0,0,0,0,0,0,0,0,0,0,0,"ND","ND","ND",0,0,0,0,0,0,0,0,0,0,0,0,0,"NA",0,0,0,0,0,0,0,15,6,9]
["Capitán Luis Ángel Vidal","120",0,0,0,0,0,0,0,0,0,0,0,0,0,0,0,0,0,0,17,13,4,0,0,0,0,0,0,0,0,0,0,0,0,"ND","ND","ND",0,0,0,0,0,0,0,0,0,0,0,0,0,"NA",0,0,0,0,0,0,0,0,0,0]
["Rincón Chamula San Pedro","121",8,5,3,1,1,0,10,6,4,3,0,3,2,0,2,0,0,0,8,4,4,0,0,0,0,0,0,1,1,0,0,0,0,"ND","ND","ND",3,3,0,0,0,0,0,0,0,1,0,1,0,"NA",0,0,0,0,2,1,1,1,1,0]
["El Parral","122",33,14,19,21,9,12,41,17,24,16,9,7,16,9,7,1,1,0,9,5,4,1,0,1,0,0,0,1,0,1,0,0,0,"ND","ND","ND",13,9,4,0,0,0,1,1,"",1,0,1,0,"NA",0,0,0,0,3,2,1,6,4,2]
["Emiliano Zapata","123",27,23,4,6,3,3,20,11,9,3,1,2,5,4,1,1,1,0,1,1,0,0,0,0,0,0,0,0,0,0,0,0,0,"ND","ND","ND",10,3,7,0,0,0,0,0,0,5,3,2,0,"NA",0,1,0,1,1,0,1,1,0,1]
["Mezcalapa","124",85,51,34,6,5,1,41,16,25,11,7,4,10,6,4,4,3,1,3,3,0,0,0,0,0,0,0,7,4,3,0,0,0,"ND","ND","ND",10,8,2,0,0,0,1,0,1,3,2,1,2,"NA",2,1,0,1,2,1,1,0,0,0]
["Honduras de la Sierra","125",18,13,5,8,0,4,5,5,0,12,4,8,5,4,1,1,0,1,3,1,2,0,0,0,1,1,0,1,1,0,0,0,0,"ND","ND","ND",7,5,2,0,0,0,0,0,0,0,0,0,0,"NA",0,0,0,0,0,0,0,1,0,1]
["Belisario Domínguez","126",0,0,0,0,0,0,0,0,0,0,0,0,0,0,0,0,0,0,0,0,0,0,0,0,0,0,0,0,0,0,0,0,0,"ND","ND","ND",0,0,0,0,0,0,0,0,0,0,0,0,0,"NA",0,0,0,0,0,0,0,0,0,0]

{"sheet":"Mpal. 22","index":218,"n_rows":126,"n_cols":62,"rows_kept":126,"cut":false,"hidden":true,"merged":[]}
["ESTADO","CVE_MUN","Enfermedades del sistema circulatorio","Hombres 1","Mujeres 1","Asignación provisoria de nuevas afecciones de etiología incierta o de uso emergente, sin especificación","Hombres 2","Mujeres 2","Enfermedades endocrinas, nutricionales y metabólicas","Hombres 3","Mujeres 3","Tumores (neoplasias)","Hombres 4","Mujeres 4","Enfermedades del sistema respiratorio","Hombres 5","Mujeres 5","Causas externas de morbilidad y de mortalidad","Hombres 6","Mujeres 6","Ciertas enfermedades infecciosas y parasitarias","Hombres 7","Mujeres 7","Enfermedades de la sangre y de los órganos hematopoyéticos, y ciertos trastornos que afectan el mecanismo de la inmunidad","Hombres 8","Mujeres 8","Trastornos mentales y del comportamiento","Hombres 9","Mujeres 9","Enfermedades del sistema nervioso","Hombres 10","Mujeres 10","Enfermedades del ojo y sus anexos","Hombres 11","Mujeres 11","Enfermedades del oído y de la apófisis mastoides","Hombres 12","Mujeres 12","Enfermedades del sistema digestivo","Hombres 13","Mujeres 13","Enfermedades de la piel y del tejido subcutáneo","Hombres 14","Mujeres 14","Enfermedades del sistema osteomuscular y del tejido conjuntivo","Hombres 15","Mujeres 15","Enfermedades del sistema genitourinario","Hombres 16","Mujeres 16","Embarazo, parto y puerperio","Hombres 17","Mujeres 17","Ciertas afecciones originadas en el periodo perinatal","Hombres 18","Mujeres 18","Malformaciones congénitas, deformidades y anomalías cromosómicas","Hombres 19","Mujeres 19","Síntomas, signos y hallazgos anormales clínicos y de laboratorio, no clasificados en otra parte","Hombres 20","Mujeres 20"]
["Acacoyagua","001",26,15,11,0,0,0,24,6,18,10,8,2,5,3,2,6,5,1,4,1,3,0,0,0,0,0,0,2,1,1,"ND","ND","ND","ND","ND","ND",21,12,9,3,3,0,0,0,0,4,2,2,0,"NA",0,1,1,"",1,1,0,2,2,0]
["Acala","002",48,33,15,2,0,2,44,16,28,21,11,10,5,3,2,0,0,0,3,3,0,3,2,1,0,0,0,2,0,2,"ND","ND","ND","ND","ND","ND",20,12,8,0,0,0,3,1,2,5,0,5,0,"NA",0,2,2,"",0,0,0,2,1,1]
["Acapetahua","003",99,51,48,1,1,0,28,14,14,31,13,18,16,10,6,13,11,2,2,1,1,2,2,0,0,0,0,3,3,0,"ND","ND","ND","ND","ND","ND",21,13,8,0,0,0,0,0,0,6,4,2,0,"NA",0,3,1,2,3,0,3,0,0,0]
["Altamirano","004",43,24,19,2,1,1,17,9,8,21,11,10,2,1,1,8,5,3,5,3,2,0,0,0,0,0,0,2,1,1,"ND","ND","ND","ND","ND","ND",15,6,9,0,0,0,0,0,0,3,1,2,1,"NA",1,14,9,5,4,1,3,2,0,2]
["Amatán","005",38,15,23,1,1,0,36,15,21,7,4,3,4,3,1,1,1,0,2,1,1,3,1,2,0,0,0,3,3,0,"ND","ND","ND","ND","ND","ND",9,6,3,0,0,0,0,0,0,0,0,0,0,"NA",0,0,0,0,1,0,1,12,8,4]
["Amatenango de la Frontera","006",56,30,26,0,0,0,23,12,11,23,8,15,13,9,4,0,0,0,5,2,3,2,2,0,2,1,1,7,6,1,"ND","ND","ND","ND","ND","ND",18,14,4,0,0,0,4,3,1,6,6,0,0,"NA",0,4,4,"",1,0,1,7,3,4]
["Amatenango del Valle","007",33,18,15,0,0,0,13,5,8,1,0,1,1,0,1,1,1,0,0,0,0,0,0,0,0,0,0,1,0,1,"ND","ND","ND","ND","ND","ND",2,1,1,0,0,0,1,0,1,1,1,0,1,"NA",1,1,1,"",0,0,0,9,6,3]
["Ángel Albino Corzo","008",37,17,20,1,0,1,33,17,16,23,10,13,13,8,5,6,4,2,10,8,2,2,1,1,0,0,0,5,5,0,"ND","ND","ND","ND","ND","ND",23,12,11,1,0,1,1,1,0,2,2,0,0,"NA",0,4,1,3,2,2,0,13,9,4]
["Arriaga","009",88,46,42,6,3,3,74,42,32,57,27,30,31,20,11,9,8,1,4,0,4,2,1,1,2,2,0,5,3,2,"ND","ND","ND","ND","ND","ND",43,25,18,2,1,1,1,1,0,11,7,4,0,"NA",0,5,3,2,2,1,1,7,3,4]
["Bejucal de Ocampo","010",9,5,4,0,0,0,5,3,2,7,4,3,1,1,0,1,1,0,2,1,1,1,1,0,0,0,0,2,1,1,"ND","ND","ND","ND","ND","ND",12,8,4,1,1,0,1,0,1,0,0,0,0,"NA",0,0,0,0,1,1,0,2,1,1]
["Bella Vista","011",40,20,20,0,0,0,18,3,15,17,10,7,11,10,1,2,1,1,4,4,0,1,0,1,1,1,0,1,1,0,"ND","ND","ND","ND","ND","ND",12,8,4,0,0,0,0,0,0,9,4,5,0,"NA",0,0,0,0,1,1,0,12,6,6]
["Berriozábal","012",38,23,15,0,0,0,63,29,34,46,20,26,9,7,2,5,3,2,5,4,1,1,0,1,1,1,0,4,3,1,"ND","ND","ND","ND","ND","ND",25,17,8,0,0,0,2,1,1,5,4,1,1,"NA",1,4,2,2,4,3,1,2,1,1]
["Bochil","013",19,9,10,0,0,0,24,7,17,16,9,7,25,12,13,3,3,0,3,1,2,0,0,0,2,2,0,5,2,3,"ND","ND","ND","ND","ND","ND",18,10,8,0,0,0,0,0,0,0,0,0,0,"NA",0,16,6,10,7,3,4,57,29,28]
["El Bosque","014",35,23,12,2,1,1,14,4,10,10,5,5,8,5,3,0,0,0,0,0,0,1,0,1,0,0,0,4,1,3,"ND","ND","ND","ND","ND","ND",13,10,3,0,0,0,0,0,0,4,1,3,0,"NA",0,2,1,1,1,0,1,6,6,0]
["Cacahoatán","015",68,37,31,1,0,1,65,27,38,39,19,20,24,10,14,2,1,1,6,1,5,0,0,0,0,0,0,5,5,0,"ND","ND","ND","ND","ND","ND",68,37,31,0,0,0,2,1,1,31,18,13,1,"NA",1,6,3,3,7,4,3,18,7,11]
["Catazajá","016",63,33,30,1,0,1,22,7,15,12,5,7,3,0,3,3,3,0,9,9,0,0,0,0,2,2,0,0,0,0,"ND","ND","ND","ND","ND","ND",5,5,0,0,0,0,0,0,0,3,0,3,0,"NA",0,0,0,0,1,0,1,16,8,8]
["Cintalapa de Figueroa","017",254,130,124,4,4,0,100,40,60,57,23,34,22,14,8,7,5,2,5,1,4,3,1,2,0,0,0,5,3,2,"ND","ND","ND","ND","ND","ND",41,27,14,1,1,0,4,1,3,9,5,4,0,"NA",0,6,3,3,1,1,0,22,13,9]
["Coapilla","018",21,13,8,0,0,0,7,3,4,5,2,3,0,0,0,1,1,0,9,9,0,0,0,0,2,1,1,0,0,0,"ND","ND","ND","ND","ND","ND",5,4,1,0,0,0,0,0,0,5,3,2,0,"NA",0,0,0,0,1,0,1,0,0,0]
["Comitán de Domínguez","019",207,122,85,6,6,0,153,64,89,111,57,54,54,34,20,125,92,33,17,7,10,6,2,4,10,7,3,10,6,4,"ND","ND","ND","ND","ND","ND",86,62,24,2,0,2,12,6,6,35,16,19,1,"NA",1,36,20,16,29,16,13,102,51,51]
["La Concordia","020",103,52,51,3,2,1,59,22,37,44,21,23,10,4,6,3,3,0,4,2,2,1,1,0,1,1,0,3,2,1,"ND","ND","ND","ND","ND","ND",34,21,13,1,1,0,1,0,1,6,2,4,1,"NA",1,0,0,0,0,0,0,1,1,0]
["Copainalá","021",75,46,29,2,0,2,22,6,16,23,9,14,11,6,5,3,2,1,6,6,0,0,0,0,0,0,0,2,1,1,"ND","ND","ND","ND","ND","ND",13,9,4,0,0,0,0,0,0,1,0,1,0,"NA",0,1,1,"",1,0,1,1,1,0]
["Chalchihuitán","022",10,4,6,0,0,0,22,11,11,4,2,2,4,3,1,0,0,0,23,14,9,1,1,0,2,1,1,3,2,1,"ND","ND","ND","ND","ND","ND",18,14,4,0,0,0,0,0,0,0,0,0,0,"NA",0,1,0,1,1,0,1,30,18,12]
["Chamula","023",50,25,25,1,0,1,63,27,36,16,7,9,134,72,62,0,0,0,28,1,27,0,0,0,0,0,0,1,0,1,"ND","ND","ND","ND","ND","ND",59,36,23,1,0,1,0,0,0,17,7,10,2,"NA",2,1,1,"",0,0,0,1,0,1]
["Chanal","024",30,14,16,0,0,0,8,4,4,10,4,6,8,2,6,0,0,0,1,0,1,0,0,0,1,1,0,3,1,2,"ND","ND","ND","ND","ND","ND",9,9,0,0,0,0,0,0,0,3,2,1,0,"NA",0,3,2,1,9,5,4,9,4,5]
["Chapultenango","025",22,8,14,0,0,0,6,5,1,4,1,3,3,2,1,2,2,0,16,14,2,0,0,0,0,0,0,0,0,0,"ND","ND","ND","ND","ND","ND",2,0,2,1,0,1,0,0,0,1,1,0,0,"NA",0,0,0,0,2,1,1,0,0,0]
["Chenalhó","026",47,22,25,0,0,0,25,9,16,20,8,12,80,46,34,0,0,0,21,8,13,2,2,0,1,1,0,1,0,1,"ND","ND","ND","ND","ND","ND",10,3,7,0,0,0,0,0,0,6,5,1,1,"NA",1,1,1,"",2,1,1,16,11,5]
["Chiapa de Corzo","027",129,58,71,6,4,2,103,46,57,57,25,32,16,9,7,4,4,0,5,3,2,53,28,25,1,1,0,2,2,0,"ND","ND","ND","ND","ND","ND",55,39,16,4,0,4,4,2,2,14,7,7,0,"NA",0,10,6,4,6,3,3,0,0,0]
["Chiapilla","028",19,10,9,0,0,0,7,2,5,2,1,1,1,1,0,0,0,0,0,0,0,0,0,0,0,0,0,0,0,0,"ND","ND","ND","ND","ND","ND",0,0,0,0,0,0,0,0,0,3,2,1,0,"NA",0,0,0,0,0,0,0,1,0,1]
["Chicoasén","029",13,7,6,0,0,0,3,1,2,2,1,1,1,1,0,0,0,0,0,0,0,0,0,0,0,0,0,1,0,1,"ND","ND","ND","ND","ND","ND",2,1,1,0,0,0,0,0,0,0,0,0,0,"NA",0,1,1,"",0,0,0,0,0,0]
["Chicomuselo","030",56,34,22,5,4,1,17,9,8,32,10,22,16,12,4,3,0,3,4,3,1,2,0,2,1,0,1,6,5,1,"ND","ND","ND","ND","ND","ND",17,11,6,0,0,0,1,1,0,4,4,0,0,"NA",0,0,0,0,0,0,0,7,3,4]
["Chilón","031",204,109,95,0,0,0,130,62,68,47,24,23,18,10,8,28,25,3,7,4,3,0,0,0,3,3,0,6,3,3,"ND","ND","ND","ND","ND","ND",31,16,15,0,0,0,0,0,0,8,7,1,0,"NA",0,0,0,0,8,3,5,57,26,31]
["Escuintla","032",68,48,20,1,1,0,21,15,6,28,14,14,18,11,7,19,16,3,4,1,3,1,1,0,0,0,0,2,2,0,"ND","ND","ND","ND","ND","ND",17,8,9,1,0,1,0,0,0,9,4,5,0,"NA",0,2,0,2,0,0,0,30,17,13]
["Francisco León","033",7,3,4,0,0,0,8,3,5,2,1,1,2,0,2,1,1,0,2,1,1,0,0,0,0,0,0,0,0,0,"ND","ND","ND","ND","ND","ND",0,0,0,0,0,0,0,0,0,0,0,0,0,"NA",0,2,2,"",0,0,0,1,0,1]
["Frontera Comalapa","034",88,55,33,2,2,0,71,34,37,66,29,37,26,23,3,13,13,0,5,3,2,1,0,1,1,1,0,5,4,1,"ND","ND","ND","ND","ND","ND",53,29,24,0,0,0,1,1,0,15,12,3,1,"NA",1,5,4,1,5,4,1,40,24,16]
["Frontera Hidalgo","035",32,19,13,1,0,1,32,20,12,8,5,3,6,3,3,0,0,0,5,1,4,2,0,2,0,0,0,1,1,0,"ND","ND","ND","ND","ND","ND",17,8,9,0,0,0,1,0,1,19,13,6,0,"NA",0,0,0,0,3,3,0,0,0,0]
["La Grandeza","036",12,9,3,0,0,0,8,5,3,7,4,3,1,1,0,0,0,0,4,4,0,0,0,0,0,0,0,1,1,0,"ND","ND","ND","ND","ND","ND",6,6,0,0,0,0,0,0,0,1,0,1,0,"NA",0,0,0,0,1,0,1,7,3,4]
["Huehuetán","037",75,43,32,3,3,0,65,20,45,23,10,13,16,4,12,3,2,1,7,4,3,5,1,4,0,0,0,2,1,1,"ND","ND","ND","ND","ND","ND",50,36,14,1,0,1,1,1,0,17,7,10,0,"NA",0,2,1,1,1,0,1,1,1,0]
["Huixtán","038",28,18,10,0,0,0,19,5,14,14,5,9,15,10,5,0,0,0,0,0,0,6,3,3,6,6,0,2,2,0,"ND","ND","ND","ND","ND","ND",16,12,4,0,0,0,1,0,1,6,3,3,0,"NA",0,0,0,0,3,2,1,42,23,19]
["Huitiupán","039",55,30,25,0,0,0,10,4,6,8,4,4,15,7,8,0,0,0,13,10,3,0,0,0,0,0,0,2,1,1,"ND","ND","ND","ND","ND","ND",11,4,7,0,0,0,0,0,0,5,3,2,0,"NA",0,0,0,0,0,0,0,20,13,7]
["Huixtla","040",88,53,35,3,1,2,72,31,41,39,16,23,41,22,19,15,10,5,7,1,6,1,1,0,1,1,0,7,3,4,"ND","ND","ND","ND","ND","ND",63,53,10,1,1,0,1,1,0,22,15,7,0,"NA",0,12,9,3,4,2,2,7,2,5]
["La Independencia","041",87,48,39,1,1,0,83,36,47,30,10,20,12,8,4,4,4,0,1,1,0,0,0,0,4,4,0,4,4,0,"ND","ND","ND","ND","ND","ND",9,6,3,0,0,0,2,1,1,10,5,5,0,"NA",0,0,0,0,1,0,1,1,0,1]
["Ixhuatán","042",38,20,18,0,0,0,11,5,6,3,2,1,3,2,1,1,1,0,0,0,0,0,0,0,0,0,0,0,0,0,"ND","ND","ND","ND","ND","ND",5,1,4,0,0,0,0,0,0,1,0,1,0,"NA",0,0,0,0,0,0,0,1,1,0]
["Ixtacomitán","043",12,7,5,1,0,1,16,8,8,5,2,3,14,11,3,0,0,0,1,1,0,0,0,0,0,0,0,1,0,1,"ND","ND","ND","ND","ND","ND",6,4,2,0,0,0,0,0,0,0,0,0,0,"NA",0,0,0,0,0,0,0,5,3,2]
["Ixtapa","044",53,29,24,0,0,0,25,6,19,16,8,8,2,1,1,1,1,0,2,2,0,0,0,0,0,0,0,8,6,2,"ND","ND","ND","ND","ND","ND",21,11,10,0,0,0,0,0,0,1,1,0,0,"NA",0,0,0,0,1,1,0,0,0,0]
["Ixtapangajoya","045",15,10,5,1,0,1,7,4,3,5,2,3,4,1,3,0,0,0,0,0,0,0,0,0,0,0,0,0,0,0,"ND","ND","ND","ND","ND","ND",3,2,1,0,0,0,0,0,0,0,0,0,0,"NA",0,0,0,0,1,1,0,1,1,0]
["Jiquipilas","046",122,68,54,3,2,1,64,27,37,49,22,27,12,10,2,5,4,1,13,11,2,2,0,2,0,0,0,5,1,4,"ND","ND","ND","ND","ND","ND",25,18,7,1,1,0,0,0,0,4,2,2,0,"NA",0,1,1,"",0,0,0,21,10,11]
["Jitotol","047",20,7,13,2,1,1,24,17,7,11,6,5,16,12,4,1,0,1,7,2,5,2,1,1,3,2,1,4,3,1,"ND","ND","ND","ND","ND","ND",11,7,4,0,0,0,0,0,0,6,4,2,0,"NA",0,7,5,2,3,1,2,5,3,2]
["Juárez","048",56,34,22,1,1,0,40,16,24,14,7,7,7,4,3,2,2,0,6,6,0,0,0,0,1,1,0,1,1,0,"ND","ND","ND","ND","ND","ND",8,5,3,0,0,0,0,0,0,3,2,1,0,"NA",0,1,1,"",1,1,0,1,1,0]
["Larráinzar","049",49,26,23,1,1,0,6,4,2,9,1,8,20,7,13,0,0,0,7,1,6,1,0,1,1,1,0,3,1,2,"ND","ND","ND","ND","ND","ND",17,13,4,0,0,0,0,0,0,4,2,2,2,"NA",2,0,0,0,2,1,1,17,10,7]
["La Libertad","050",20,11,9,0,0,0,14,5,9,7,4,3,0,0,0,3,2,1,5,5,0,0,0,0,0,0,0,1,1,0,"ND","ND","ND","ND","ND","ND",3,1,2,0,0,0,0,0,0,2,2,0,0,"NA",0,0,0,0,1,1,0,2,1,1]
["Mapastepec","051",64,42,22,3,1,2,65,28,37,59,29,30,10,5,5,8,8,0,20,17,3,52,30,22,0,0,0,7,5,2,"ND","ND","ND","ND","ND","ND",31,17,14,3,1,2,1,0,1,4,2,2,0,"NA",0,9,4,5,3,2,1,0,0,0]
["Las Margaritas","052",61,38,23,4,3,1,84,36,48,48,22,26,13,11,2,5,5,0,19,9,10,6,3,3,6,6,0,22,11,11,"ND","ND","ND","ND","ND","ND",50,36,14,1,1,0,3,1,2,8,3,5,2,"NA",2,13,7,6,9,3,6,188,110,78]
["Mazapa de Madero","053",13,8,5,0,0,0,8,3,5,8,3,5,6,4,2,0,0,0,0,0,0,1,0,1,0,0,0,1,1,0,"ND","ND","ND","ND","ND","ND",14,12,2,0,0,0,0,0,0,5,3,2,0,"NA",0,0,0,0,0,0,0,10,7,3]
["Mazatán","054",58,32,26,1,1,0,31,15,16,45,18,27,18,11,7,8,6,2,1,0,1,1,1,0,2,2,0,0,0,0,"ND","ND","ND","ND","ND","ND",26,15,11,1,0,1,2,1,1,27,17,10,0,"NA",0,1,1,"",2,0,2,10,4,6]
["Metapa","055",25,13,12,0,0,0,9,5,4,6,3,3,4,2,2,0,0,0,8,7,1,0,0,0,0,0,0,1,1,0,"ND","ND","ND","ND","ND","ND",9,5,4,0,0,0,0,0,0,5,1,4,0,"NA",0,1,0,1,0,0,0,1,0,1]
["Mitontic","056",17,11,6,0,0,0,11,7,4,2,2,0,5,3,2,0,0,0,0,0,0,1,0,1,0,0,0,1,0,1,"ND","ND","ND","ND","ND","ND",4,2,2,1,1,0,0,0,0,3,3,0,0,"NA",0,0,0,0,0,0,0,0,0,0]
["Motozintla","057",104,53,51,0,0,0,55,21,34,75,27,48,31,18,13,6,5,1,9,8,1,4,3,1,8,7,1,13,12,1,"ND","ND","ND","ND","ND","ND",87,63,24,0,0,0,1,1,0,12,7,5,2,"NA",2,15,7,8,9,6,3,36,16,20]
["Nicolás Ruíz","058",6,2,4,0,0,0,5,3,2,0,0,0,1,1,0,0,0,0,0,0,0,0,0,0,0,0,0,3,2,1,"ND","ND","ND","ND","ND","ND",1,0,1,0,0,0,1,0,1,0,0,0,0,"NA",0,0,0,0,0,0,0,0,0,0]
["Ocosingo","059",209,122,87,1,1,0,140,70,70,107,48,59,38,22,16,28,22,6,5,1,4,5,0,5,4,4,0,21,9,12,"ND","ND","ND","ND","ND","ND",67,48,19,0,0,0,4,2,2,17,12,5,2,"NA",2,38,20,18,16,10,6,56,32,24]
["Ocotepec","060",34,20,14,1,0,1,6,1,5,10,8,2,0,0,0,0,0,0,0,0,0,0,0,0,0,0,0,2,2,0,"ND","ND","ND","ND","ND","ND",2,2,0,0,0,0,0,0,0,4,0,4,0,"NA",0,3,2,1,10,2,8,6,3,3]
["Ocozocoautla de Espinosa","061",222,118,104,2,2,0,42,18,24,21,12,9,9,4,5,5,3,2,5,3,2,2,1,1,0,0,0,1,1,0,"ND","ND","ND","ND","ND","ND",51,36,15,1,1,0,0,0,0,11,5,6,1,"NA",1,12,6,6,7,2,5,0,0,0]
["Ostuacán","062",38,23,15,0,0,0,21,13,8,10,7,3,7,4,3,1,1,0,1,1,0,1,0,1,2,2,0,2,2,0,"ND","ND","ND","ND","ND","ND",8,5,3,0,0,0,0,0,0,2,1,1,0,"NA",0,0,0,0,1,1,0,1,1,0]
["Osumacinta","063",1,1,0,0,0,0,2,0,2,3,0,3,0,0,0,0,0,0,0,0,0,0,0,0,0,0,0,0,0,0,"ND","ND","ND","ND","ND","ND",2,0,2,0,0,0,0,0,0,1,0,1,0,"NA",0,0,0,0,0,0,0,0,0,0]
["Oxchuc","064",40,24,16,0,0,0,29,14,15,28,16,12,30,20,10,1,0,1,9,8,1,3,3,0,0,0,0,1,1,0,"ND","ND","ND","ND","ND","ND",23,18,5,1,1,0,0,0,0,13,9,4,0,"NA",0,1,0,1,3,1,2,135,79,56]
["Palenque","065",334,176,158,3,2,1,109,43,66,58,24,34,33,16,17,93,73,20,6,3,3,8,3,5,3,3,0,8,4,4,"ND","ND","ND","ND","ND","ND",51,31,20,0,0,0,1,1,0,13,7,6,0,"NA",0,28,18,10,10,4,6,11,6,5]
["Pantelhó","066",7,5,2,1,0,1,2,0,2,0,0,0,1,1,0,0,0,0,0,0,0,0,0,0,0,0,0,1,1,0,"ND","ND","ND","ND","ND","ND",1,0,1,0,0,0,0,0,0,0,0,0,0,"NA",0,1,1,"",0,0,0,0,0,0]
["Pantepec","067",18,9,9,0,0,0,12,2,10,9,2,7,6,2,4,0,0,0,3,3,0,0,0,0,0,0,0,1,0,1,"ND","ND","ND","ND","ND","ND",3,1,2,0,0,0,0,0,0,6,4,2,0,"NA",0,3,1,2,0,0,0,4,1,3]
["Pichucalco","068",52,34,18,2,1,1,37,17,20,22,14,8,11,9,2,7,5,2,7,6,1,0,0,0,0,0,0,1,0,1,"ND","ND","ND","ND","ND","ND",7,4,3,0,0,0,1,0,1,6,2,4,0,"NA",0,12,9,3,4,3,1,4,3,1]
["Pijijiapan","069",123,69,54,6,5,1,64,33,31,54,29,25,23,15,8,20,18,2,1,1,0,6,4,2,1,1,0,11,3,8,"ND","ND","ND","ND","ND","ND",33,19,14,1,1,0,2,2,0,16,7,9,0,"NA",0,1,1,"",1,0,1,2,2,0]
["El Porvenir","070",25,6,19,1,0,1,5,2,3,9,4,5,5,2,3,2,2,0,5,3,2,0,0,0,2,2,0,1,1,0,"ND","ND","ND","ND","ND","ND",8,5,3,0,0,0,0,0,0,3,2,1,0,"NA",0,1,0,1,4,2,2,9,4,5]
["Villa Comaltitlán","071",59,33,26,1,0,1,30,10,20,29,20,9,19,12,7,12,10,2,2,1,1,0,0,0,0,0,0,3,2,1,"ND","ND","ND","ND","ND","ND",21,13,8,0,0,0,0,0,0,9,6,3,0,"NA",0,0,0,0,3,3,0,5,4,1]
["Pueblo Nuevo Solistahuacán","072",27,11,16,0,0,0,22,10,12,13,6,7,9,6,3,5,5,0,2,2,0,2,0,2,0,0,0,0,0,0,"ND","ND","ND","ND","ND","ND",15,10,5,0,0,0,0,0,0,5,4,1,1,"NA",1,2,1,1,7,2,5,2,0,2]
["Rayón","073",21,8,13,0,0,0,15,5,10,4,2,2,10,5,5,0,0,0,7,7,0,2,1,1,1,1,0,2,0,2,"ND","ND","ND","ND","ND","ND",3,3,0,0,0,0,2,1,1,0,0,0,0,"NA",0,0,0,0,1,0,1,4,1,3]
["Reforma","074",52,32,20,5,3,2,51,17,34,24,10,14,13,6,7,89,75,14,2,1,1,0,0,0,0,0,0,1,0,1,"ND","ND","ND","ND","ND","ND",20,15,5,0,0,0,0,0,0,6,3,3,0,"NA",0,4,3,1,2,1,1,9,3,6]
["Las Rosas","075",41,22,19,1,1,0,42,12,30,26,12,14,10,6,4,3,2,1,3,3,0,4,2,2,0,0,0,2,1,1,"ND","ND","ND","ND","ND","ND",31,16,15,1,1,0,0,0,0,7,2,5,2,"NA",2,1,0,1,2,1,1,3,1,2]
["Sabanilla","076",29,16,13,0,0,0,22,9,13,17,9,8,7,4,3,0,0,0,3,2,1,1,1,0,1,0,1,5,3,2,"ND","ND","ND","ND","ND","ND",14,10,4,0,0,0,1,0,1,2,1,1,0,"NA",0,0,0,0,0,0,0,9,5,4]
["Salto de Agua","077",96,51,45,0,0,0,26,12,14,23,14,9,3,3,0,4,4,0,13,12,1,2,1,1,0,0,0,1,1,0,"ND","ND","ND","ND","ND","ND",12,8,4,0,0,0,0,0,0,3,2,1,0,"NA",0,0,0,0,2,1,1,5,4,1]
["San Cristóbal de las Casas","078",218,121,97,12,9,3,136,63,73,111,48,63,60,38,22,135,108,27,14,1,13,4,2,2,18,18,0,16,7,9,"ND","ND","ND","ND","ND","ND",114,82,32,3,1,2,5,1,4,43,19,24,4,"NA",4,97,61,36,25,14,11,57,25,32]
["San Fernando","079",50,31,19,3,3,0,48,18,30,22,9,13,19,14,5,3,3,0,3,3,0,1,1,0,1,1,0,3,1,2,"ND","ND","ND","ND","ND","ND",28,13,15,0,0,0,1,1,0,10,9,1,1,"NA",1,6,3,3,3,1,2,2,1,1]
["Siltepec","080",65,38,27,1,0,1,11,5,6,20,11,9,8,5,3,0,0,0,13,8,5,1,1,0,1,0,1,3,2,1,"ND","ND","ND","ND","ND","ND",15,9,6,0,0,0,2,1,1,7,6,1,0,"NA",0,2,1,1,2,2,0,11,7,4]
["Simojovel","081",43,22,21,0,0,0,27,11,16,18,4,14,16,9,7,5,4,1,8,2,6,1,0,1,0,0,0,3,0,3,"ND","ND","ND","ND","ND","ND",13,9,4,0,0,0,1,0,1,4,4,0,1,"NA",1,1,1,"",3,1,2,18,5,13]
["Sitalá","082",14,7,7,0,0,0,6,0,6,3,1,2,4,2,2,0,0,0,0,0,0,0,0,0,0,0,0,0,0,0,"ND","ND","ND","ND","ND","ND",4,3,1,0,0,0,0,0,0,5,2,3,0,"NA",0,0,0,0,0,0,0,1,1,0]
["Socoltenango","083",89,38,51,3,1,2,1,1,0,2,2,0,4,2,2,0,0,0,0,0,0,1,1,0,0,0,0,1,1,0,"ND","ND","ND","ND","ND","ND",0,0,0,0,0,0,0,0,0,1,0,1,0,"NA",0,1,0,1,0,0,0,0,0,0]
["Solosuchiapa","084",20,12,8,0,0,0,6,4,2,8,5,3,7,2,5,0,0,0,2,1,1,0,0,0,1,0,1,1,1,0,"ND","ND","ND","ND","ND","ND",7,6,1,0,0,0,0,0,0,1,0,1,0,"NA",0,1,1,"",0,0,0,0,0,0]
["Soyaló","085",12,7,5,0,0,0,13,5,8,9,8,1,3,1,2,0,0,0,4,3,1,1,1,0,1,1,0,1,0,1,"ND","ND","ND","ND","ND","ND",16,10,6,0,0,0,0,0,0,1,1,0,0,"NA",0,1,0,1,1,0,1,2,0,2]
["Suchiapa","086",25,10,15,1,0,1,21,5,16,18,6,12,7,3,4,1,1,0,4,3,1,6,2,4,3,3,0,3,1,2,"ND","ND","ND","ND","ND","ND",15,8,7,0,0,0,0,0,0,1,0,1,0,"NA",0,1,1,"",3,2,1,3,1,2]
["Suchiate","087",65,39,26,2,1,1,83,46,37,20,10,10,15,10,5,13,12,1,54,52,2,5,3,2,1,1,0,0,0,0,"ND","ND","ND","ND","ND","ND",29,23,6,0,0,0,1,0,1,13,8,5,0,"NA",0,3,1,2,5,4,1,10,8,2]
["Sunuapa","088",3,2,1,1,1,0,6,3,3,2,1,1,0,0,0,0,0,0,0,0,0,0,0,0,0,0,0,1,1,0,"ND","ND","ND","ND","ND","ND",0,0,0,0,0,0,0,0,0,0,0,0,0,"NA",0,0,0,0,0,0,0,0,0,0]
["Tapachula","089",711,362,349,39,25,14,340,172,168,281,138,143,151,91,60,401,337,64,32,1,31,10,4,6,3,1,2,35,22,13,"ND","ND","ND","ND","ND","ND",323,204,119,13,5,8,12,2,10,119,59,60,2,"NA",2,68,38,30,21,13,8,19,7,12]
["Tapalapa","090",3,0,3,0,0,0,3,0,3,1,0,1,3,1,2,0,0,0,0,0,0,0,0,0,0,0,0,0,0,0,"ND","ND","ND","ND","ND","ND",8,4,4,0,0,0,0,0,0,1,0,1,0,"NA",0,0,0,0,0,0,0,0,0,0]
["Tapilula","091",26,17,9,0,0,0,15,2,13,11,6,5,4,3,1,1,0,1,5,4,1,1,1,0,0,0,0,0,0,0,"ND","ND","ND","ND","ND","ND",8,6,2,0,0,0,1,1,0,1,0,1,1,"NA",1,2,1,1,0,0,0,0,0,0]
["Tecpatán","092",56,26,30,0,0,0,26,11,15,16,5,11,5,4,1,2,2,0,14,14,0,0,0,0,0,0,0,1,0,1,"ND","ND","ND","ND","ND","ND",11,4,7,0,0,0,1,0,1,1,1,0,0,"NA",0,3,1,2,0,0,0,1,1,0]
["Tenejapa","093",17,11,6,0,0,0,31,17,14,12,7,5,51,26,25,0,0,0,18,1,17,0,0,0,0,0,0,1,1,0,"ND","ND","ND","ND","ND","ND",25,12,13,0,0,0,0,0,0,64,34,30,0,"NA",0,0,0,0,1,0,1,50,22,28]
["Teopisca","094",60,30,30,0,0,0,43,15,28,22,11,11,12,8,4,6,5,1,8,6,2,6,1,5,1,1,0,4,0,4,"ND","ND","ND","ND","ND","ND",19,12,7,0,0,0,2,1,1,15,7,8,0,"NA",0,0,0,0,9,4,5,14,8,6]
["Tila","096",134,73,61,0,0,0,42,18,24,26,8,18,35,20,15,4,2,2,16,13,3,1,1,0,0,0,0,5,3,2,"ND","ND","ND","ND","ND","ND",43,26,17,0,0,0,8,6,2,11,7,4,2,"NA",2,0,0,0,2,1,1,2,0,2]
["Tonalá","097",263,122,141,14,10,4,153,71,82,107,64,43,40,19,21,136,115,21,6,0,6,6,5,1,1,1,0,13,10,3,"ND","ND","ND","ND","ND","ND",50,32,18,4,3,1,4,3,1,21,9,12,0,"NA",0,9,7,2,3,0,3,5,2,3]
["Totolapa","098",11,5,6,0,0,0,12,6,6,4,3,1,1,0,1,1,0,1,0,0,0,0,0,0,0,0,0,0,0,0,"ND","ND","ND","ND","ND","ND",7,2,5,0,0,0,0,0,0,0,0,0,0,"NA",0,0,0,0,1,1,0,4,1,3]
["La Trinitaria","099",131,81,50,2,2,0,164,77,87,16,4,12,12,2,10,9,8,1,3,2,1,0,0,0,0,0,0,5,3,2,"ND","ND","ND","ND","ND","ND",75,58,17,0,0,0,0,0,0,63,28,35,0,"NA",0,0,0,0,5,3,2,20,15,5]
["Tumbalá","100",78,40,38,2,1,1,12,4,8,17,11,6,15,7,8,1,1,0,107,105,2,0,0,0,1,0,1,5,3,2,"ND","ND","ND","ND","ND","ND",14,7,7,0,0,0,0,0,0,14,4,10,1,"NA",1,4,2,2,6,4,2,2,1,1]
["Tuxtla Gutiérrez","101",1027,557,470,134,82,52,657,321,336,567,272,295,255,150,105,398,329,69,61,9,52,153,67,86,19,7,12,82,40,42,"ND","ND","ND","ND","ND","ND",384,240,144,17,8,9,27,9,18,150,74,76,5,"NA",5,68,43,25,63,34,29,25,13,12]
["Tuxtla Chico","102",98,52,46,1,1,0,52,29,23,30,14,16,18,12,6,2,1,1,7,2,5,3,2,1,2,2,0,9,5,4,"ND","ND","ND","ND","ND","ND",52,31,21,2,1,1,1,1,0,24,14,10,0,"NA",0,5,1,4,4,3,1,4,2,2]
["Tuzantán","103",43,24,19,1,1,0,49,23,26,30,17,13,12,10,2,1,0,1,6,2,4,9,8,1,0,0,0,4,0,4,"ND","ND","ND","ND","ND","ND",25,15,10,1,1,0,1,1,0,9,7,2,0,"NA",0,1,1,"",3,2,1,8,7,1]
["Tzimol","104",41,28,13,1,1,0,18,5,13,13,6,7,3,2,1,0,0,0,4,1,3,0,0,0,2,1,1,3,1,2,"ND","ND","ND","ND","ND","ND",9,5,4,0,0,0,1,0,1,5,3,2,0,"NA",0,0,0,0,1,0,1,11,7,4]
["Unión Juárez","105",54,36,18,1,0,1,10,4,6,22,13,9,10,3,7,1,0,1,11,9,2,0,0,0,0,0,0,2,2,0,"ND","ND","ND","ND","ND","ND",20,13,7,2,1,1,1,0,1,4,0,4,0,"NA",0,1,1,"",0,0,0,2,0,2]
["Venustiano Carranza","106",156,81,75,5,3,2,55,24,31,47,25,22,14,6,8,1,1,0,10,10,0,2,2,0,0,0,0,9,4,5,"ND","ND","ND","ND","ND","ND",35,24,11,1,1,0,1,0,1,20,12,8,0,"NA",0,8,4,4,4,3,1,4,1,3]
["Villa Corzo","107",98,52,46,4,2,2,101,43,58,42,22,20,14,9,5,3,2,1,17,14,3,3,2,1,5,2,3,12,7,5,"ND","ND","ND","ND","ND","ND",43,27,16,0,0,0,1,0,1,10,6,4,1,"NA",1,1,1,"",2,0,2,11,6,5]
["Villaflores","108",195,96,99,4,3,1,136,56,80,89,41,48,44,22,22,80,69,11,9,1,8,5,1,4,0,0,0,22,12,10,"ND","ND","ND","ND","ND","ND",62,33,29,2,0,2,1,0,1,25,11,14,0,"NA",0,16,7,9,9,6,3,7,3,4]
["Yajalón","109",59,35,24,0,0,0,10,3,7,6,3,3,14,7,7,51,45,6,13,12,1,0,0,0,7,7,0,2,1,1,"ND","ND","ND","ND","ND","ND",12,9,3,0,0,0,1,1,0,2,0,2,0,"NA",0,15,9,6,2,2,0,66,21,45]
["San Lucas","110",23,14,9,0,0,0,11,5,6,4,2,2,3,1,2,0,0,0,0,0,0,3,2,1,0,0,0,0,0,0,"ND","ND","ND","ND","ND","ND",6,4,2,0,0,0,0,0,0,3,2,1,0,"NA",0,0,0,0,0,0,0,0,0,0]
["Zinacantán","111",48,29,19,1,1,0,29,17,12,20,9,11,15,9,6,2,2,0,8,0,8,1,1,0,3,3,0,6,4,2,"ND","ND","ND","ND","ND","ND",28,21,7,0,0,0,1,0,1,20,7,13,1,"NA",1,3,2,1,0,0,0,30,13,17]
["San Juan Cancuc","112",22,15,7,0,0,0,20,9,11,0,0,0,46,24,22,0,0,0,3,2,1,0,0,0,0,0,0,0,0,0,"ND","ND","ND","ND","ND","ND",15,7,8,0,0,0,0,0,0,9,8,1,0,"NA",0,0,0,0,0,0,0,9,8,1]
["Aldama","113",2,0,2,0,0,0,9,5,4,2,1,1,4,2,2,0,0,0,2,0,2,0,0,0,0,0,0,0,0,0,"ND","ND","ND","ND","ND","ND",0,0,0,0,0,0,0,0,0,0,0,0,0,"NA",0,0,0,0,0,0,0,6,3,3]
["Benemérito de las Américas","114",40,20,20,2,2,0,18,8,10,6,3,3,1,1,0,22,20,2,4,3,1,0,0,0,0,0,0,3,1,2,"ND","ND","ND","ND","ND","ND",3,3,0,0,0,0,0,0,0,1,0,1,0,"NA",0,4,2,2,0,0,0,1,0,1]
["Maravilla Tenejapa","115",12,8,4,1,1,0,16,8,8,5,1,4,2,1,1,0,0,0,1,1,0,1,1,0,0,0,0,0,0,0,"ND","ND","ND","ND","ND","ND",3,2,1,0,0,0,0,0,0,6,5,1,0,"NA",0,0,0,0,3,1,2,2,2,0]
["Marqués de Comillas","116",20,7,13,0,0,0,6,4,2,3,2,1,4,4,0,11,11,0,0,0,0,0,0,0,0,0,0,0,0,0,"ND","ND","ND","ND","ND","ND",3,2,1,0,0,0,0,0,0,0,0,0,0,"NA",0,1,1,"",0,0,0,0,0,0]
["Montecristo de Guerrero","117",19,8,11,0,0,0,3,1,2,3,2,1,4,2,2,0,0,0,2,1,1,0,0,0,0,0,0,2,2,0,"ND","ND","ND","ND","ND","ND",7,4,3,0,0,0,0,0,0,2,1,1,0,"NA",0,1,1,"",1,1,0,0,0,0]
["San Andrés Duraznal","118",1,0,1,0,0,0,0,0,0,0,0,0,1,1,0,0,0,0,0,0,0,0,0,0,0,0,0,0,0,0,"ND","ND","ND","ND","ND","ND",0,0,0,0,0,0,0,0,0,0,0,0,0,"NA",0,0,0,0,0,0,0,0,0,0]
["Santiago el Pinar","119",1,0,1,0,0,0,2,0,2,1,0,1,0,0,0,0,0,0,2,2,0,0,0,0,0,0,0,0,0,0,"ND","ND","ND","ND","ND","ND",1,0,1,0,0,0,0,0,0,0,0,0,0,"NA",0,0,0,0,0,0,0,7,6,1]
["Rincón Chamula San Pedro","121",10,6,4,0,0,0,11,2,9,1,0,1,3,2,1,0,0,0,2,1,1,1,1,0,0,0,0,0,0,0,"ND","ND","ND","ND","ND","ND",5,4,1,0,0,0,0,0,0,0,0,0,0,"NA",0,0,0,0,0,0,0,2,1,1]
["El Parral","122",31,19,12,0,0,0,26,10,16,14,8,6,10,8,2,0,0,0,1,0,1,1,1,0,0,0,0,4,2,2,"ND","ND","ND","ND","ND","ND",8,5,3,0,0,0,2,1,1,5,2,3,0,"NA",0,1,1,"",5,2,3,2,1,1]
["Emiliano Zapata","123",24,13,11,2,1,1,12,9,3,7,3,4,3,1,2,0,0,0,6,4,2,1,0,1,0,0,0,1,1,0,"ND","ND","ND","ND","ND","ND",9,2,7,0,0,0,0,0,0,6,4,2,0,"NA",0,0,0,0,0,0,0,0,0,0]
["Mezcalapa","124",56,34,22,3,2,1,26,14,12,14,8,6,5,2,3,2,2,0,3,1,2,0,0,0,0,0,0,1,0,1,"ND","ND","ND","ND","ND","ND",10,4,6,0,0,0,0,0,0,4,2,2,0,"NA",0,1,1,"",0,0,0,0,0,0]
["Honduras de la Sierra","125",6,3,3,0,0,0,4,0,4,5,2,3,0,0,0,2,0,2,1,0,1,0,0,0,0,0,0,0,0,0,"ND","ND","ND","ND","ND","ND",6,4,2,0,0,0,1,0,1,1,1,0,1,"NA",1,2,0,2,1,1,0,2,1,1]
["Belisario Domínguez","126",null,null,null,null,null,null,null,null,null,null,null,null,null,null,null,null,null,null,null,null,null,0,0,0,0,0,0,0,0,0,"ND","ND","ND","ND","ND","ND",0,0,0,0,0,0,0,0,0,0,0,0,0,"NA",0,0,0,0,1,1,0,0,0,0]
[null,null,null,null,null,null,null,null,null,null,null,null,null,null,null,null,null,null,null,null,null,null,null,0,0,0,0,0,0,0,0,0,"ND","ND","ND","ND","ND","ND",0,0,0,0,0,0,0,0,0,0,0,0,0,"NA",0,0,0,0,0,0,0,0,0,0]

{"sheet":"Comp.Anual-M","index":219,"n_rows":24,"n_cols":4,"rows_kept":24,"cut":false,"hidden":false,"merged":[[0,0,0,3]]}
["Mortalidad Municipal"]
["SELECCIONE UN MUNICIPIO"]
["Altamirano","2020","2021","2022"]
["Enfermedades del sistema circulatorio",{"$f":"VLOOKUP($A$3,Tabla6[],3,0)","v":54},{"$f":"VLOOKUP($A$3,Tabla7[],3,0)","v":42},{"$f":"VLOOKUP($A$3,Tabla8[],3,0)","v":43}]
["Asignación provisoria de nuevas afecciones de etiología incierta o de uso emergente, sin especificación",{"$f":"VLOOKUP($A$3,Tabla6[],6,0)","v":4},{"$f":"VLOOKUP($A$3,Tabla7[],6,0)","v":5},{"$f":"VLOOKUP($A$3,Tabla8[],6,0)","v":2}]
["Enfermedades endocrinas, nutricionales y metabólicas",{"$f":"VLOOKUP($A$3,Tabla6[],9,0)","v":25},{"$f":"VLOOKUP($A$3,Tabla7[],9,0)","v":23},{"$f":"VLOOKUP($A$3,Tabla8[],9,0)","v":17}]
["Tumores (neoplasias)",{"$f":"VLOOKUP($A$3,Tabla6[],12,0)","v":21},{"$f":"VLOOKUP($A$3,Tabla7[],12,0)","v":15},{"$f":"VLOOKUP($A$3,Tabla8[],12,0)","v":21}]
["Enfermedades del sistema respiratorio",{"$f":"VLOOKUP($A$3,Tabla6[],15,0)","v":11},{"$f":"VLOOKUP($A$3,Tabla7[],15,0)","v":19},{"$f":"VLOOKUP($A$3,Tabla8[],15,0)","v":2}]
["Causas externas de morbilidad y de mortalidad",{"$f":"VLOOKUP($A$3,Tabla6[],18,0)","v":4},{"$f":"VLOOKUP($A$3,Tabla7[],18,0)","v":3},{"$f":"VLOOKUP($A$3,Tabla8[],18,0)","v":8}]
["Ciertas enfermedades infecciosas y parasitarias",{"$f":"VLOOKUP($A$3,Tabla6[],21,0)","v":6},{"$f":"VLOOKUP($A$3,Tabla7[],21,0)","v":4},{"$f":"VLOOKUP($A$3,Tabla8[],21,0)","v":5}]
["Enfermedades de la sangre y de los órganos hematopoyéticos, y ciertos trastornos que afectan el mecanismo de la inmunidad",{"$f":"VLOOKUP($A$3,Tabla6[],24,0)","v":2},{"$f":"VLOOKUP($A$3,Tabla7[],24,0)","v":4},{"$f":"VLOOKUP($A$3,Tabla8[],24,0)","v":0}]
["Trastornos mentales y del comportamiento",{"$f":"VLOOKUP($A$3,Tabla6[],27,0)","v":0},{"$f":"VLOOKUP($A$3,Tabla7[],27,0)","v":0},{"$f":"VLOOKUP($A$3,Tabla8[],27,0)","v":0}]
["Enfermedades del sistema nervioso",{"$f":"VLOOKUP($A$3,Tabla6[],30,0)","v":3},{"$f":"VLOOKUP($A$3,Tabla7[],30,0)","v":3},{"$f":"VLOOKUP($A$3,Tabla8[],30,0)","v":2}]
["Enfermedades del ojo y sus anexos",{"$f":"VLOOKUP($A$3,Tabla6[],33,0)","v":"ND"},{"$f":"VLOOKUP($A$3,Tabla7[],33,0)","v":0},{"$f":"VLOOKUP($A$3,Tabla8[],33,0)","v":"ND"}]
["Enfermedades del oído y de la apófisis mastoides",{"$f":"VLOOKUP($A$3,Tabla6[],36,0)","v":0},{"$f":"VLOOKUP($A$3,Tabla7[],36,0)","v":"ND"},{"$f":"VLOOKUP($A$3,Tabla8[],36,0)","v":"ND"}]
["Enfermedades del sistema digestivo",{"$f":"VLOOKUP($A$3,Tabla6[],39,0)","v":10},{"$f":"VLOOKUP($A$3,Tabla7[],39,0)","v":10},{"$f":"VLOOKUP($A$3,Tabla8[],39,0)","v":15}]
["Enfermedades de la piel y del tejido subcutáneo",{"$f":"VLOOKUP($A$3,Tabla6[],42,0)","v":0},{"$f":"VLOOKUP($A$3,Tabla7[],42,0)","v":1},{"$f":"VLOOKUP($A$3,Tabla8[],42,0)","v":0}]
["Enfermedades del sistema osteomuscular y del tejido conjuntivo",{"$f":"VLOOKUP($A$3,Tabla6[],45,0)","v":3},{"$f":"VLOOKUP($A$3,Tabla7[],45,0)","v":0},{"$f":"VLOOKUP($A$3,Tabla8[],45,0)","v":0}]
["Enfermedades del sistema genitourinario",{"$f":"VLOOKUP($A$3,Tabla6[],48,0)","v":1},{"$f":"VLOOKUP($A$3,Tabla7[],48,0)","v":2},{"$f":"VLOOKUP($A$3,Tabla8[],48,0)","v":3}]
["Embarazo, parto y puerperio",{"$f":"VLOOKUP($A$3,Tabla6[],51,0)","v":0},{"$f":"VLOOKUP($A$3,Tabla7[],51,0)","v":3},{"$f":"VLOOKUP($A$3,Tabla8[],51,0)","v":1}]
["Ciertas afecciones originadas en el periodo perinatal",{"$f":"VLOOKUP($A$3,Tabla6[],54,0)","v":1},{"$f":"VLOOKUP($A$3,Tabla7[],54,0)","v":13},{"$f":"VLOOKUP($A$3,Tabla8[],54,0)","v":14}]
["Malformaciones congénitas, deformidades y anomalías cromosómicas",{"$f":"VLOOKUP($A$3,Tabla6[],57,0)","v":1},{"$f":"VLOOKUP($A$3,Tabla7[],57,0)","v":3},{"$f":"VLOOKUP($A$3,Tabla8[],57,0)","v":4}]
["Síntomas, signos y hallazgos anormales clínicos y de laboratorio, no clasificados en otra parte",{"$f":"VLOOKUP($A$3,Tabla6[],60,0)","v":3},{"$f":"VLOOKUP($A$3,Tabla7[],60,0)","v":7},{"$f":"VLOOKUP($A$3,Tabla8[],60,0)","v":2}]
["Total",{"$f":"SUM(B4:B23)","v":149},{"$f":"SUM(C4:C23)","v":157},{"$f":"SUM(D4:D23)","v":139}]

{"sheet":"GCMxAño-M","index":220,"n_rows":24,"n_cols":5,"rows_kept":24,"cut":false,"hidden":false,"merged":[[0,0,0,4]]}
["Grandes Causas de Mortalidad"]
[null,"SELECCIONE UN MUNICIPIO"]
["ID","Tzimol","2020","2021","2022"]
[1,"Enfermedades del sistema circulatorio",{"$f":"VLOOKUP($B$3,Tabla6[],MATCH(B4,Tabla6[#Headers],0),FALSE)","v":28},{"$f":"VLOOKUP($B$3,Tabla7[],MATCH(B4,Tabla7[#Headers],0),FALSE)","v":31},{"$f":"VLOOKUP($B$3,Tabla8[],MATCH(B4,Tabla8[#Headers],0),FALSE)","v":41}]
[2,"Asignación provisoria de nuevas afecciones de etiología incierta o de uso emergente, sin especificación",{"$f":"VLOOKUP($B$3,Tabla6[],MATCH(B5,Tabla6[#Headers],0),FALSE)","v":1},{"$f":"VLOOKUP($B$3,Tabla7[],MATCH(B5,Tabla7[#Headers],0),FALSE)","v":5},{"$f":"VLOOKUP($B$3,Tabla8[],MATCH(B5,Tabla8[#Headers],0),FALSE)","v":1}]
[3,"Enfermedades endocrinas, nutricionales y metabólicas",{"$f":"VLOOKUP($B$3,Tabla6[],MATCH(B6,Tabla6[#Headers],0),FALSE)","v":31},{"$f":"VLOOKUP($B$3,Tabla7[],MATCH(B6,Tabla7[#Headers],0),FALSE)","v":25},{"$f":"VLOOKUP($B$3,Tabla8[],MATCH(B6,Tabla8[#Headers],0),FALSE)","v":18}]
[4,"Tumores (neoplasias)",{"$f":"VLOOKUP($B$3,Tabla6[],MATCH(B7,Tabla6[#Headers],0),FALSE)","v":17},{"$f":"VLOOKUP($B$3,Tabla7[],MATCH(B7,Tabla7[#Headers],0),FALSE)","v":20},{"$f":"VLOOKUP($B$3,Tabla8[],MATCH(B7,Tabla8[#Headers],0),FALSE)","v":13}]
[5,"Enfermedades del sistema respiratorio",{"$f":"VLOOKUP($B$3,Tabla6[],MATCH(B8,Tabla6[#Headers],0),FALSE)","v":13},{"$f":"VLOOKUP($B$3,Tabla7[],MATCH(B8,Tabla7[#Headers],0),FALSE)","v":3},{"$f":"VLOOKUP($B$3,Tabla8[],MATCH(B8,Tabla8[#Headers],0),FALSE)","v":3}]
[6,"Causas externas de morbilidad y de mortalidad",{"$f":"VLOOKUP($B$3,Tabla6[],MATCH(B9,Tabla6[#Headers],0),FALSE)","v":1},{"$f":"VLOOKUP($B$3,Tabla7[],MATCH(B9,Tabla7[#Headers],0),FALSE)","v":3},{"$f":"VLOOKUP($B$3,Tabla8[],MATCH(B9,Tabla8[#Headers],0),FALSE)","v":0}]
[7,"Ciertas enfermedades infecciosas y parasitarias",{"$f":"VLOOKUP($B$3,Tabla6[],MATCH(B10,Tabla6[#Headers],0),FALSE)","v":2},{"$f":"VLOOKUP($B$3,Tabla7[],MATCH(B10,Tabla7[#Headers],0),FALSE)","v":0},{"$f":"VLOOKUP($B$3,Tabla8[],MATCH(B10,Tabla8[#Headers],0),FALSE)","v":4}]
[8,"Enfermedades de la sangre y de los órganos hematopoyéticos, y ciertos trastornos que afectan el mecanismo de la inmunidad",{"$f":"VLOOKUP($B$3,Tabla6[],MATCH(B11,Tabla6[#Headers],0),FALSE)","v":0},{"$f":"VLOOKUP($B$3,Tabla7[],MATCH(B11,Tabla7[#Headers],0),FALSE)","v":1},{"$f":"VLOOKUP($B$3,Tabla8[],MATCH(B11,Tabla8[#Headers],0),FALSE)","v":0}]
[9,"Trastornos mentales y del comportamiento",{"$f":"VLOOKUP($B$3,Tabla6[],MATCH(B12,Tabla6[#Headers],0),FALSE)","v":2},{"$f":"VLOOKUP($B$3,Tabla7[],MATCH(B12,Tabla7[#Headers],0),FALSE)","v":1},{"$f":"VLOOKUP($B$3,Tabla8[],MATCH(B12,Tabla8[#Headers],0),FALSE)","v":2}]
[10,"Enfermedades del sistema nervioso",{"$f":"VLOOKUP($B$3,Tabla6[],MATCH(B13,Tabla6[#Headers],0),FALSE)","v":4},{"$f":"VLOOKUP($B$3,Tabla7[],MATCH(B13,Tabla7[#Headers],0),FALSE)","v":6},{"$f":"VLOOKUP($B$3,Tabla8[],MATCH(B13,Tabla8[#Headers],0),FALSE)","v":3}]
[11,"Enfermedades del ojo y sus anexos",{"$f":"VLOOKUP($B$3,Tabla6[],MATCH(B14,Tabla6[#Headers],0),FALSE)","v":"ND"},{"$f":"VLOOKUP($B$3,Tabla7[],MATCH(B14,Tabla7[#Headers],0),FALSE)","v":0},{"$f":"VLOOKUP($B$3,Tabla8[],MATCH(B14,Tabla8[#Headers],0),FALSE)","v":"ND"}]
[12,"Enfermedades del oído y de la apófisis mastoides",{"$f":"VLOOKUP($B$3,Tabla6[],MATCH(B15,Tabla6[#Headers],0),FALSE)","v":0},{"$f":"VLOOKUP($B$3,Tabla7[],MATCH(B15,Tabla7[#Headers],0),FALSE)","v":"ND"},{"$f":"VLOOKUP($B$3,Tabla8[],MATCH(B15,Tabla8[#Headers],0),FALSE)","v":"ND"}]
[13,"Enfermedades del sistema digestivo",{"$f":"VLOOKUP($B$3,Tabla6[],MATCH(B16,Tabla6[#Headers],0),FALSE)","v":15},{"$f":"VLOOKUP($B$3,Tabla7[],MATCH(B16,Tabla7[#Headers],0),FALSE)","v":12},{"$f":"VLOOKUP($B$3,Tabla8[],MATCH(B16,Tabla8[#Headers],0),FALSE)","v":9}]
[14,"Enfermedades de la piel y del tejido subcutáneo",{"$f":"VLOOKUP($B$3,Tabla6[],MATCH(B17,Tabla6[#Headers],0),FALSE)","v":0},{"$f":"VLOOKUP($B$3,Tabla7[],MATCH(B17,Tabla7[#Headers],0),FALSE)","v":0},{"$f":"VLOOKUP($B$3,Tabla8[],MATCH(B17,Tabla8[#Headers],0),FALSE)","v":0}]
[15,"Enfermedades del sistema osteomuscular y del tejido conjuntivo",{"$f":"VLOOKUP($B$3,Tabla6[],MATCH(B18,Tabla6[#Headers],0),FALSE)","v":1},{"$f":"VLOOKUP($B$3,Tabla7[],MATCH(B18,Tabla7[#Headers],0),FALSE)","v":0},{"$f":"VLOOKUP($B$3,Tabla8[],MATCH(B18,Tabla8[#Headers],0),FALSE)","v":1}]
[16,"Enfermedades del sistema genitourinario",{"$f":"VLOOKUP($B$3,Tabla6[],MATCH(B19,Tabla6[#Headers],0),FALSE)","v":6},{"$f":"VLOOKUP($B$3,Tabla7[],MATCH(B19,Tabla7[#Headers],0),FALSE)","v":4},{"$f":"VLOOKUP($B$3,Tabla8[],MATCH(B19,Tabla8[#Headers],0),FALSE)","v":5}]
[17,"Embarazo, parto y puerperio",{"$f":"VLOOKUP($B$3,Tabla6[],MATCH(B20,Tabla6[#Headers],0),FALSE)","v":0},{"$f":"VLOOKUP($B$3,Tabla7[],MATCH(B20,Tabla7[#Headers],0),FALSE)","v":0},{"$f":"VLOOKUP($B$3,Tabla8[],MATCH(B20,Tabla8[#Headers],0),FALSE)","v":0}]
[18,"Ciertas afecciones originadas en el periodo perinatal",{"$f":"VLOOKUP($B$3,Tabla6[],MATCH(B21,Tabla6[#Headers],0),FALSE)","v":0},{"$f":"VLOOKUP($B$3,Tabla7[],MATCH(B21,Tabla7[#Headers],0),FALSE)","v":0},{"$f":"VLOOKUP($B$3,Tabla8[],MATCH(B21,Tabla8[#Headers],0),FALSE)","v":0}]
[19,"Malformaciones congénitas, deformidades y anomalías cromosómicas",{"$f":"VLOOKUP($B$3,Tabla6[],MATCH(B22,Tabla6[#Headers],0),FALSE)","v":3},{"$f":"VLOOKUP($B$3,Tabla7[],MATCH(B22,Tabla7[#Headers],0),FALSE)","v":2},{"$f":"VLOOKUP($B$3,Tabla8[],MATCH(B22,Tabla8[#Headers],0),FALSE)","v":1}]
[20,"Síntomas, signos y hallazgos anormales clínicos y de laboratorio, no clasificados en otra parte",{"$f":"VLOOKUP($B$3,Tabla6[],MATCH(B23,Tabla6[#Headers],0),FALSE)","v":21},{"$f":"VLOOKUP($B$3,Tabla7[],MATCH(B23,Tabla7[#Headers],0),FALSE)","v":15},{"$f":"VLOOKUP($B$3,Tabla8[],MATCH(B23,Tabla8[#Headers],0),FALSE)","v":11}]
[null,"Total",{"$f":"SUM(C4:C23)","v":145},{"$f":"SUM(D4:D23)","v":128},{"$f":"SUM(E4:E23)","v":112}]

{"sheet":"Mpal.GGxSexo","index":221,"n_rows":25,"n_cols":8,"rows_kept":25,"cut":false,"hidden":false,"merged":[[2,0,3,0],[0,0,0,7],[2,2,2,3],[2,4,2,5],[2,6,2,7],[2,1,3,1]]}
["Grandes Causas de Mortalidad por Sexo"]
[null,"SELECCIONE UN MUNICIPIO"]
["ID","Huixtán",2020,null,2021,null,2022]
[null,null,"Hombres","Mujeres","Hombres","Mujeres","Hombres","Mujeres"]
[1,"Enfermedades del sistema circulatorio",{"$f":"VLOOKUP($B$3,Tabla6[],4,0)","v":27},{"$f":"VLOOKUP($B$3,Tabla6[],5,0)","v":10},{"$f":"VLOOKUP($B$3,Tabla7[],4,FALSE)","v":22},{"$f":"VLOOKUP($B$3,Tabla7[],5,FALSE)","v":19},{"$f":"VLOOKUP($B$3,Tabla8[],4,FALSE)","v":18},{"$f":"VLOOKUP($B$3,Tabla8[],5,FALSE)","v":10}]
[2,"Asignación provisoria de nuevas afecciones de etiología incierta o de uso emergente, sin especificación",{"$f":"VLOOKUP($B$3,Tabla6[],7,0)","v":3},{"$f":"VLOOKUP($B$3,Tabla6[],8,FALSE)","v":1},{"$f":"VLOOKUP($B$3,Tabla7[],7,FALSE)","v":2},{"$f":"VLOOKUP($B$3,Tabla7[],8,FALSE)","v":0},{"$f":"VLOOKUP($B$3,Tabla8[],7,FALSE)","v":0},{"$f":"VLOOKUP($B$3,Tabla8[],8,FALSE)","v":0}]
[3,"Enfermedades endocrinas, nutricionales y metabólicas",{"$f":"VLOOKUP($B$3,Tabla6[],10,0)","v":21},{"$f":"VLOOKUP($B$3,Tabla6[],11,FALSE)","v":16},{"$f":"VLOOKUP($B$3,Tabla7[],10,FALSE)","v":10},{"$f":"VLOOKUP($B$3,Tabla7[],11,FALSE)","v":20},{"$f":"VLOOKUP($B$3,Tabla8[],10,FALSE)","v":5},{"$f":"VLOOKUP($B$3,Tabla8[],11,FALSE)","v":14}]
[4,"Tumores (neoplasias)",{"$f":"VLOOKUP($B$3,Tabla6[],13,0)","v":8},{"$f":"VLOOKUP($B$3,Tabla6[],14,FALSE)","v":13},{"$f":"VLOOKUP($B$3,Tabla7[],13,FALSE)","v":10},{"$f":"VLOOKUP($B$3,Tabla7[],14,FALSE)","v":4},{"$f":"VLOOKUP($B$3,Tabla8[],13,FALSE)","v":5},{"$f":"VLOOKUP($B$3,Tabla8[],14,FALSE)","v":9}]
[5,"Enfermedades del sistema respiratorio",{"$f":"VLOOKUP($B$3,Tabla6[],16,0)","v":14},{"$f":"VLOOKUP($B$3,Tabla6[],17,FALSE)","v":4},{"$f":"VLOOKUP($B$3,Tabla7[],16,FALSE)","v":13},{"$f":"VLOOKUP($B$3,Tabla7[],17,FALSE)","v":9},{"$f":"VLOOKUP($B$3,Tabla8[],16,FALSE)","v":10},{"$f":"VLOOKUP($B$3,Tabla8[],17,FALSE)","v":5}]
[6,"Causas externas de morbilidad y de mortalidad",{"$f":"VLOOKUP($B$3,Tabla6[],19,0)","v":1},{"$f":"VLOOKUP($B$3,Tabla6[],20,FALSE)","v":0},{"$f":"VLOOKUP($B$3,Tabla7[],19,FALSE)","v":0},{"$f":"VLOOKUP($B$3,Tabla7[],20,FALSE)","v":0},{"$f":"VLOOKUP($B$3,Tabla8[],19,FALSE)","v":0},{"$f":"VLOOKUP($B$3,Tabla8[],20,FALSE)","v":0}]
[7,"Ciertas enfermedades infecciosas y parasitarias",{"$f":"VLOOKUP($B$3,Tabla6[],22,0)","v":5},{"$f":"VLOOKUP($B$3,Tabla6[],23,FALSE)","v":0},{"$f":"VLOOKUP($B$3,Tabla7[],22,FALSE)","v":2},{"$f":"VLOOKUP($B$3,Tabla7[],23,FALSE)","v":0},{"$f":"VLOOKUP($B$3,Tabla8[],22,FALSE)","v":0},{"$f":"VLOOKUP($B$3,Tabla8[],23,FALSE)","v":0}]
[8,"Enfermedades de la sangre y de los órganos hematopoyéticos, y ciertos trastornos que afectan el mecanismo de la inmunidad",{"$f":"VLOOKUP($B$3,Tabla6[],25,0)","v":1},{"$f":"VLOOKUP($B$3,Tabla6[],26,FALSE)","v":2},{"$f":"VLOOKUP($B$3,Tabla7[],25,FALSE)","v":1},{"$f":"VLOOKUP($B$3,Tabla7[],26,FALSE)","v":2},{"$f":"VLOOKUP($B$3,Tabla8[],25,FALSE)","v":3},{"$f":"VLOOKUP($B$3,Tabla8[],26,FALSE)","v":3}]
[9,"Trastornos mentales y del comportamiento",{"$f":"VLOOKUP($B$3,Tabla6[],28,0)","v":7},{"$f":"VLOOKUP($B$3,Tabla6[],29,FALSE)","v":0},{"$f":"VLOOKUP($B$3,Tabla7[],28,FALSE)","v":11},{"$f":"VLOOKUP($B$3,Tabla7[],29,FALSE)","v":0},{"$f":"VLOOKUP($B$3,Tabla8[],28,FALSE)","v":6},{"$f":"VLOOKUP($B$3,Tabla8[],29,FALSE)","v":0}]
[10,"Enfermedades del sistema nervioso",{"$f":"VLOOKUP($B$3,Tabla6[],31,0)","v":3},{"$f":"VLOOKUP($B$3,Tabla6[],32,FALSE)","v":3},{"$f":"VLOOKUP($B$3,Tabla7[],31,FALSE)","v":1},{"$f":"VLOOKUP($B$3,Tabla7[],32,FALSE)","v":4},{"$f":"VLOOKUP($B$3,Tabla8[],31,FALSE)","v":2},{"$f":"VLOOKUP($B$3,Tabla8[],32,FALSE)","v":0}]
[11,"Enfermedades del ojo y sus anexos",{"$f":"VLOOKUP($B$3,Tabla6[],34,0)","v":"ND"},{"$f":"VLOOKUP($B$3,Tabla6[],35,FALSE)","v":"ND"},{"$f":"VLOOKUP($B$3,Tabla7[],34,FALSE)","v":0},{"$f":"VLOOKUP($B$3,Tabla7[],35,FALSE)","v":0},{"$f":"VLOOKUP($B$3,Tabla8[],34,FALSE)","v":"ND"},{"$f":"VLOOKUP($B$3,Tabla8[],35,FALSE)","v":"ND"}]
[12,"Enfermedades del oído y de la apófisis mastoides",{"$f":"VLOOKUP($B$3,Tabla6[],37,0)","v":0},{"$f":"VLOOKUP($B$3,Tabla6[],38,FALSE)","v":0},{"$f":"VLOOKUP($B$3,Tabla7[],37,FALSE)","v":"ND"},{"$f":"VLOOKUP($B$3,Tabla7[],38,FALSE)","v":"ND"},{"$f":"VLOOKUP($B$3,Tabla8[],37,FALSE)","v":"ND"},{"$f":"VLOOKUP($B$3,Tabla8[],38,FALSE)","v":"ND"}]
[13,"Enfermedades del sistema digestivo",{"$f":"VLOOKUP($B$3,Tabla6[],40,0)","v":8},{"$f":"VLOOKUP($B$3,Tabla6[],41,FALSE)","v":9},{"$f":"VLOOKUP($B$3,Tabla7[],40,FALSE)","v":9},{"$f":"VLOOKUP($B$3,Tabla7[],41,FALSE)","v":9},{"$f":"VLOOKUP($B$3,Tabla8[],40,FALSE)","v":12},{"$f":"VLOOKUP($B$3,Tabla8[],41,FALSE)","v":4}]
[14,"Enfermedades de la piel y del tejido subcutáneo",{"$f":"VLOOKUP($B$3,Tabla6[],43,0)","v":0},{"$f":"VLOOKUP($B$3,Tabla6[],44,FALSE)","v":0},{"$f":"VLOOKUP($B$3,Tabla7[],43,FALSE)","v":0},{"$f":"VLOOKUP($B$3,Tabla7[],44,FALSE)","v":0},{"$f":"VLOOKUP($B$3,Tabla8[],43,FALSE)","v":0},{"$f":"VLOOKUP($B$3,Tabla8[],44,FALSE)","v":0}]
[15,"Enfermedades del sistema osteomuscular y del tejido conjuntivo",{"$f":"VLOOKUP($B$3,Tabla6[],46,0)","v":0},{"$f":"VLOOKUP($B$3,Tabla6[],47,FALSE)","v":0},{"$f":"VLOOKUP($B$3,Tabla7[],46,FALSE)","v":1},{"$f":"VLOOKUP($B$3,Tabla7[],47,FALSE)","v":1},{"$f":"VLOOKUP($B$3,Tabla8[],46,FALSE)","v":0},{"$f":"VLOOKUP($B$3,Tabla8[],47,FALSE)","v":1}]
[16,"Enfermedades del sistema genitourinario",{"$f":"VLOOKUP($B$3,Tabla6[],49,0)","v":8},{"$f":"VLOOKUP($B$3,Tabla6[],50,FALSE)","v":5},{"$f":"VLOOKUP($B$3,Tabla7[],49,FALSE)","v":7},{"$f":"VLOOKUP($B$3,Tabla7[],50,FALSE)","v":8},{"$f":"VLOOKUP($B$3,Tabla8[],49,FALSE)","v":3},{"$f":"VLOOKUP($B$3,Tabla8[],50,FALSE)","v":3}]
[17,"Embarazo, parto y puerperio",{"$f":"VLOOKUP($B$3,Tabla6[],52,0)","v":"NA"},{"$f":"VLOOKUP($B$3,Tabla6[],53,FALSE)","v":0},{"$f":"VLOOKUP($B$3,Tabla7[],52,FALSE)","v":"NA"},{"$f":"VLOOKUP($B$3,Tabla7[],53,FALSE)","v":2},{"$f":"VLOOKUP($B$3,Tabla8[],52,FALSE)","v":"NA"},{"$f":"VLOOKUP($B$3,Tabla8[],53,FALSE)","v":0}]
[18,"Ciertas afecciones originadas en el periodo perinatal",{"$f":"VLOOKUP($B$3,Tabla6[],55,0)","v":0},{"$f":"VLOOKUP($B$3,Tabla6[],56,FALSE)","v":0},{"$f":"VLOOKUP($B$3,Tabla7[],55,FALSE)","v":2},{"$f":"VLOOKUP($B$3,Tabla7[],56,FALSE)","v":1},{"$f":"VLOOKUP($B$3,Tabla8[],55,FALSE)","v":0},{"$f":"VLOOKUP($B$3,Tabla8[],56,FALSE)","v":0}]
[19,"Malformaciones congénitas, deformidades y anomalías cromosómicas",{"$f":"VLOOKUP($B$3,Tabla6[],58,0)","v":2},{"$f":"VLOOKUP($B$3,Tabla6[],59,FALSE)","v":1},{"$f":"VLOOKUP($B$3,Tabla7[],58,FALSE)","v":4},{"$f":"VLOOKUP($B$3,Tabla7[],59,FALSE)","v":0},{"$f":"VLOOKUP($B$3,Tabla8[],58,FALSE)","v":2},{"$f":"VLOOKUP($B$3,Tabla8[],59,FALSE)","v":1}]
[20,"Síntomas, signos y hallazgos anormales clínicos y de laboratorio, no clasificados en otra parte",{"$f":"VLOOKUP($B$3,Tabla6[],61,0)","v":16},{"$f":"VLOOKUP($B$3,Tabla6[],62,FALSE)","v":15},{"$f":"VLOOKUP($B$3,Tabla7[],61,FALSE)","v":38},{"$f":"VLOOKUP($B$3,Tabla7[],62,FALSE)","v":31},{"$f":"VLOOKUP($B$3,Tabla8[],61,FALSE)","v":23},{"$f":"VLOOKUP($B$3,Tabla8[],62,FALSE)","v":19}]
[null,"Total",{"$f":"SUM(C5:C24)","v":124},79,133,110,89,69]